{"text_format":"1","workbook":"xlsx","n_sheets":41,"sheets":["マクロのセキュリティ警告・設定","設定シート","初めてお使いになる前に","操作手順","データシート","操作シート","胃①","胃①-2","大腸①","大腸①-2","肺①","肺①-2","前立腺①","前立腺①-2","乳①","乳①-2","骨①","骨①-2","肝炎①","肝炎①-2","胃②-1","胃②-2","胃②-3","肺②-1","肺②-2","肺②-3","前立腺②-1","前立腺②-2","前立腺②-3","乳②-1","乳②-2","乳②-3","大腸②-注腸","大腸②-内視鏡","骨②-1","骨②-2","骨②-3","DATA_PATIENT","STATISTICS","カナ変換","改訂履歴"],"not_rendered":{"charts":0,"images":5,"macros":1,"external_links":0,"defined_names":1,"comments":0,"pivot_tables":0},"unopened":[],"bounds":{"document_bytes":16777216,"sheet_cells":100000,"rows_first":2000,"rows_last":500,"rows_between":2000,"halvings":0,"cell_chars":16384,"cell_head_chars":4096},"cells_cut":0,"cells_raw":0,"read":"whole","date_system":"1900"}

{"sheet":"マクロのセキュリティ警告・設定","index":0,"n_rows":42,"n_cols":2,"rows_kept":42,"cut":false,"hidden":false,"merged":[]}
["■マクロのセキュリティ設定（マクロが利用できない場合、確認してください。以下はエクセル2013の場合。）"]
[]
[1,"マクロを使用するため、次の表示が出た場合、□「コンテンツの有効化」をクリックしてください。"]
[]
[]
[]
[]
[]
[]
[]
[]
[]
[]
[]
[]
[]
[]
[]
[]
[]
[]
[]
[]
[]
["■マクロのセキュリティ設定（マクロが利用できない場合、確認してください。以下はエクセル2013の場合。）"]
[]
[1,"□「開発」タブ＞□「コード」＞□「マクロのセキュリティ」"]
[]
[]
[]
[]
[]
[]
[]
[]
[]
[]
[]
[]
[]
[]
[2,"「セキュリティセンター」＞□「マクロの設定」＞□「警告を表示してすべてのマクロを無効にする」＞□「OK」"]

{"sheet":"設定シート","index":1,"n_rows":10,"n_cols":38,"rows_kept":10,"cut":false,"hidden":false,"merged":[]}
["■年度末日の設定"]
[null,"西暦",2023,"（例：令和４年度の場合は「2023」）"]
[null,"月",3]
[null,"日",31]
[]
["■検診機関の設定"]
[null,"医療機関コード",null,null,null,null,null,null,null,null,null,null,null,null,null,null,null,null,null,null,null,null,null,null,null,null,{"$f":"MID(REPT(\"　\",8-LEN($C7)) &$C7,COLUMN()-25,1)","v":"　"},{"$f":"MID(REPT(\"　\",8-LEN($C7)) &$C7,COLUMN()-25,1)","v":"　"},"　","　","　","　","　","","","","",""]
[null,"医療機関名"]
[null,"電話番号"]
[null,"担当医師名",null,"（※ここで入力した担当医師名が問診票に印刷されます。）"]

{"sheet":"初めてお使いになる前に","index":2,"n_rows":8,"n_cols":2,"rows_kept":8,"cut":false,"hidden":false,"merged":[]}
["■初めてお使いになる前に設定"]
[]
["□設定1（エクセルに設定する。初回又は変更時。）"]
[1,"エクセルのSheet「設定シート」に移動してください。"]
[2,"■セル【C2】に年度末の西暦を入力してください。"]
[null,"例：平成31年度の場合は「2020」）"]
[3,"■セル【C2～C10】に【医療機関コード】【医療機関名】【電話番号】【担当医師名】を入力してください。"]
[null,"※ここで入力した担当医師名が問診票に印刷されます。"]

{"sheet":"操作手順","index":3,"n_rows":32,"n_cols":3,"rows_kept":32,"cut":false,"hidden":false,"merged":[]}
["はじめに","エクセルファイルを開いたら、編集を有効にしマクロのコンテンツを有効化してください。"]
[]
[]
["手順1","「設定シート」を入力してください。"]
[null,1,"年度末日を入力してください。"]
[null,2,"検診機関情報を入力してください。"]
[]
[]
["手順2","「データシート」を入力してください。"]
[null,"【利用例】","DICOMデータ等から前年度の受診者の氏名・住所・生年月日を出力して「入力シート」の該当するセルに貼り付ける。"]
[null,null,"＞【予約を受けたら】or【受診日当日】＞「Ctrl」＋「F」で受診者を検索し、検診受診日と受診券番号及びその他必要な項目を入力して印刷する。"]
[null,null,"※その他＞胃がん検診（内視鏡）の画像をJPEG等で提出する検診機関は、このデータを利用（コピー）して画像提出用フォルダの作成ファイルに活用することも可能です。"]
[]
[]
["手順3","「操作シート」で印刷してください。"]
[null,1,"受診券番号を入力してください。"]
[null,2,"氏名が「#N/A」エラーの場合、「データシート」に入力（登録）してください。"]
[null,3,"印刷したい検診の問診票のボタンをクリックしてください。"]
[]
[]
["注意事項","※1：","このファイルはデスクトップに保存してご利用ください。"]
[null,"※2：","年齢は、検診日年齢を印刷する設定になっています。"]
[null,"※3：","氏名が長い方の場合、印刷が切れる場合があります。"]
[null,"※4：","2年目以降の場合、受診者情報（特に検診年月日・自己負担金など）を確認してから印刷してください。"]
[]
[null,"※5：","本ファイルのデータシートに個人情報を入力した後は、読み取りパスワードの設定をすることを推奨いたします。"]
[null,"     ","【例】アルファベットの大文字小文字及び数字で10桁以上など。"]
[]
[null,"※6：","このファイルの内容を変更・追加した場合、ファイルを保存すると自動でバックアップファイルが作成されます。"]
[]
[null,"※7：","OSやExcelの種類やバージョンによって、印刷する場所の調整が必要な場合があります。"]
[null,"※8：","印刷初期設定では、問診票を縦に差し込む向きになっています。"]

{"sheet":"データシート","index":4,"n_rows":3004,"n_cols":23,"rows_kept":3004,"cut":false,"hidden":false,"merged":[]}
["非操作","必須","必須","修正有=入力","必須","非操作","必須","非操作","必須",null,null,"必須","非操作","必須","非操作","非操作","必須","非操作","該当=必須","該当=胃","非操作","該当=骨"]
["整理","受診券番号","氏名","ふりがな","検診年月日","受診券番号","〒","市町村","住所1","住所2","電話番号","性別","性別","生年月日","受診日年齢","年度内年齢","自己負担金No","自己負担金","非課税No","検査法","乳","身長cm","体重kg"]
[{"$f":"ROW()-2","v":1},null,null,{"$f":"PHONETIC(C3)","v":""},null,{"$f":"TEXT(B3,\"0000000\")","v":"0000000"},null,"福島市",null,null,null,null,{"$f":"IF(L3=1,\"男\",IF(L3=2,\"女\",\"\"))","v":""},null,{"$f":"IF(OR(E3=\"\",N3=\"\"),\"\",DATEDIF(N3,E3,\"Y\"))","v":""},{"$f":"IF(N3=\"\",\"\",DATEDIF(N3,DATE(設定シート!$C$2,設定シート!$C$3,設定シート!$C$4),\"Y\"))","v":""},{"$f":"IF(P3=\"\",\"\",IF(P3<=69,1,IF(P3>=70,2,\"\")))","v":""},{"$f":"IF(OR(Q3=1,Q3=\"1\"),\"有料\",IF(OR(Q3=2,Q3=\"2\"),\"70・後\",IF(Q3=3,\"生保\",IF(Q3=4,\"非課税\",\"\"))))","v":""},null,null,{"$f":"IF(AND(L3=2,P3>=60),\"一単独\",IF(AND(L3=2,P3>=50,P3<60),\"一併用\",IF(AND(L3=2,P3>=40,P3<50),\"二併用\",\"\")))","v":""}]
[{"$f":"ROW()-2","v":2},null,null,"",null,"0000000",null,"福島市",null,null,null,null,"",null,"",{"$f":"IF(N4=\"\",\"\",DATEDIF(N4,DATE(設定シート!$C$2,設定シート!$C$3,設定シート!$C$4),\"Y\"))","v":""},"","",null,null,""]
[3,null,null,"",null,"0000000",null,"福島市",null,null,null,null,"",null,"",{"$f":"IF(N5=\"\",\"\",DATEDIF(N5,DATE(設定シート!$C$2,設定シート!$C$3,設定シート!$C$4),\"Y\"))","v":""},"","",null,null,""]
[4,null,null,"",null,"0000000",null,"福島市",null,null,null,null,"",null,"",{"$f":"IF(N6=\"\",\"\",DATEDIF(N6,DATE(設定シート!$C$2,設定シート!$C$3,設定シート!$C$4),\"Y\"))","v":""},"","",null,null,""]
[5,null,null,"",null,"0000000",null,"福島市",null,null,null,null,"",null,"",{"$f":"IF(N7=\"\",\"\",DATEDIF(N7,DATE(設定シート!$C$2,設定シート!$C$3,設定シート!$C$4),\"Y\"))","v":""},"","",null,null,""]
[6,null,null,"",null,"0000000",null,"福島市",null,null,null,null,"",null,"",{"$f":"IF(N8=\"\",\"\",DATEDIF(N8,DATE(設定シート!$C$2,設定シート!$C$3,設定シート!$C$4),\"Y\"))","v":""},"","",null,null,""]
[7,null,null,"",null,"0000000",null,"福島市",null,null,null,null,"",null,"",{"$f":"IF(N9=\"\",\"\",DATEDIF(N9,DATE(設定シート!$C$2,設定シート!$C$3,設定シート!$C$4),\"Y\"))","v":""},"","",null,null,""]
[8,null,null,"",null,"0000000",null,"福島市",null,null,null,null,"",null,"",{"$f":"IF(N10=\"\",\"\",DATEDIF(N10,DATE(設定シート!$C$2,設定シート!$C$3,設定シート!$C$4),\"Y\"))","v":""},"","",null,null,""]
[9,null,null,"",null,"0000000",null,"福島市",null,null,null,null,"",null,"",{"$f":"IF(N11=\"\",\"\",DATEDIF(N11,DATE(設定シート!$C$2,設定シート!$C$3,設定シート!$C$4),\"Y\"))","v":""},"","",null,null,""]
[10,null,null,"",null,"0000000",null,"福島市",null,null,null,null,"",null,"",{"$f":"IF(N12=\"\",\"\",DATEDIF(N12,DATE(設定シート!$C$2,設定シート!$C$3,設定シート!$C$4),\"Y\"))","v":""},"","",null,null,""]
[11,null,null,"",null,"0000000",null,"福島市",null,null,null,null,"",null,"",{"$f":"IF(N13=\"\",\"\",DATEDIF(N13,DATE(設定シート!$C$2,設定シート!$C$3,設定シート!$C$4),\"Y\"))","v":""},"","",null,null,""]
[12,null,null,"",null,"0000000",null,"福島市",null,null,null,null,"",null,"",{"$f":"IF(N14=\"\",\"\",DATEDIF(N14,DATE(設定シート!$C$2,設定シート!$C$3,設定シート!$C$4),\"Y\"))","v":""},"","",null,null,""]
[13,null,null,"",null,"0000000",null,"福島市",null,null,null,null,"",null,"",{"$f":"IF(N15=\"\",\"\",DATEDIF(N15,DATE(設定シート!$C$2,設定シート!$C$3,設定シート!$C$4),\"Y\"))","v":""},"","",null,null,""]
[14,null,null,"",null,"0000000",null,"福島市",null,null,null,null,"",null,"",{"$f":"IF(N16=\"\",\"\",DATEDIF(N16,DATE(設定シート!$C$2,設定シート!$C$3,設定シート!$C$4),\"Y\"))","v":""},"","",null,null,""]
[15,null,null,"",null,"0000000",null,"福島市",null,null,null,null,"",null,"",{"$f":"IF(N17=\"\",\"\",DATEDIF(N17,DATE(設定シート!$C$2,設定シート!$C$3,設定シート!$C$4),\"Y\"))","v":""},"","",null,null,""]
[16,null,null,"",null,"0000000",null,"福島市",null,null,null,null,"",null,"",{"$f":"IF(N18=\"\",\"\",DATEDIF(N18,DATE(設定シート!$C$2,設定シート!$C$3,設定シート!$C$4),\"Y\"))","v":""},"","",null,null,""]
[17,null,null,"",null,"0000000",null,"福島市",null,null,null,null,"",null,"",{"$f":"IF(N19=\"\",\"\",DATEDIF(N19,DATE(設定シート!$C$2,設定シート!$C$3,設定シート!$C$4),\"Y\"))","v":""},"","",null,null,""]
[18,null,null,"",null,"0000000",null,"福島市",null,null,null,null,"",null,"",{"$f":"IF(N20=\"\",\"\",DATEDIF(N20,DATE(設定シート!$C$2,設定シート!$C$3,設定シート!$C$4),\"Y\"))","v":""},"","",null,null,""]
[19,null,null,"",null,"0000000",null,"福島市",null,null,null,null,"",null,"",{"$f":"IF(N21=\"\",\"\",DATEDIF(N21,DATE(設定シート!$C$2,設定シート!$C$3,設定シート!$C$4),\"Y\"))","v":""},"","",null,null,""]
[20,null,null,"",null,"0000000",null,"福島市",null,null,null,null,"",null,"",{"$f":"IF(N22=\"\",\"\",DATEDIF(N22,DATE(設定シート!$C$2,設定シート!$C$3,設定シート!$C$4),\"Y\"))","v":""},"","",null,null,""]
[21,null,null,"",null,"0000000",null,"福島市",null,null,null,null,"",null,"",{"$f":"IF(N23=\"\",\"\",DATEDIF(N23,DATE(設定シート!$C$2,設定シート!$C$3,設定シート!$C$4),\"Y\"))","v":""},"","",null,null,""]
[22,null,null,"",null,"0000000",null,"福島市",null,null,null,null,"",null,"",{"$f":"IF(N24=\"\",\"\",DATEDIF(N24,DATE(設定シート!$C$2,設定シート!$C$3,設定シート!$C$4),\"Y\"))","v":""},"","",null,null,""]
[23,null,null,"",null,"0000000",null,"福島市",null,null,null,null,"",null,"",{"$f":"IF(N25=\"\",\"\",DATEDIF(N25,DATE(設定シート!$C$2,設定シート!$C$3,設定シート!$C$4),\"Y\"))","v":""},"","",null,null,""]
[24,null,null,"",null,"0000000",null,"福島市",null,null,null,null,"",null,"",{"$f":"IF(N26=\"\",\"\",DATEDIF(N26,DATE(設定シート!$C$2,設定シート!$C$3,設定シート!$C$4),\"Y\"))","v":""},"","",null,null,""]
[25,null,null,"",null,"0000000",null,"福島市",null,null,null,null,"",null,"",{"$f":"IF(N27=\"\",\"\",DATEDIF(N27,DATE(設定シート!$C$2,設定シート!$C$3,設定シート!$C$4),\"Y\"))","v":""},"","",null,null,""]
[26,null,null,"",null,"0000000",null,"福島市",null,null,null,null,"",null,"",{"$f":"IF(N28=\"\",\"\",DATEDIF(N28,DATE(設定シート!$C$2,設定シート!$C$3,設定シート!$C$4),\"Y\"))","v":""},"","",null,null,""]
[27,null,null,"",null,"0000000",null,"福島市",null,null,null,null,"",null,"",{"$f":"IF(N29=\"\",\"\",DATEDIF(N29,DATE(設定シート!$C$2,設定シート!$C$3,設定シート!$C$4),\"Y\"))","v":""},"","",null,null,""]
[28,null,null,"",null,"0000000",null,"福島市",null,null,null,null,"",null,"",{"$f":"IF(N30=\"\",\"\",DATEDIF(N30,DATE(設定シート!$C$2,設定シート!$C$3,設定シート!$C$4),\"Y\"))","v":""},"","",null,null,""]
[29,null,null,"",null,"0000000",null,"福島市",null,null,null,null,"",null,"",{"$f":"IF(N31=\"\",\"\",DATEDIF(N31,DATE(設定シート!$C$2,設定シート!$C$3,設定シート!$C$4),\"Y\"))","v":""},"","",null,null,""]
[30,null,null,"",null,"0000000",null,"福島市",null,null,null,null,"",null,"",{"$f":"IF(N32=\"\",\"\",DATEDIF(N32,DATE(設定シート!$C$2,設定シート!$C$3,設定シート!$C$4),\"Y\"))","v":""},"","",null,null,""]
[31,null,null,"",null,"0000000",null,"福島市",null,null,null,null,"",null,"",{"$f":"IF(N33=\"\",\"\",DATEDIF(N33,DATE(設定シート!$C$2,設定シート!$C$3,設定シート!$C$4),\"Y\"))","v":""},"","",null,null,""]
[32,null,null,"",null,"0000000",null,"福島市",null,null,null,null,"",null,"",{"$f":"IF(N34=\"\",\"\",DATEDIF(N34,DATE(設定シート!$C$2,設定シート!$C$3,設定シート!$C$4),\"Y\"))","v":""},"","",null,null,""]
[33,null,null,"",null,"0000000",null,"福島市",null,null,null,null,"",null,"",{"$f":"IF(N35=\"\",\"\",DATEDIF(N35,DATE(設定シート!$C$2,設定シート!$C$3,設定シート!$C$4),\"Y\"))","v":""},"","",null,null,""]
[34,null,null,"",null,"0000000",null,"福島市",null,null,null,null,"",null,"",{"$f":"IF(N36=\"\",\"\",DATEDIF(N36,DATE(設定シート!$C$2,設定シート!$C$3,設定シート!$C$4),\"Y\"))","v":""},"","",null,null,""]
[35,null,null,"",null,"0000000",null,"福島市",null,null,null,null,"",null,"",{"$f":"IF(N37=\"\",\"\",DATEDIF(N37,DATE(設定シート!$C$2,設定シート!$C$3,設定シート!$C$4),\"Y\"))","v":""},"","",null,null,""]
[36,null,null,"",null,"0000000",null,"福島市",null,null,null,null,"",null,"",{"$f":"IF(N38=\"\",\"\",DATEDIF(N38,DATE(設定シート!$C$2,設定シート!$C$3,設定シート!$C$4),\"Y\"))","v":""},"","",null,null,""]
[37,null,null,"",null,"0000000",null,"福島市",null,null,null,null,"",null,"",{"$f":"IF(N39=\"\",\"\",DATEDIF(N39,DATE(設定シート!$C$2,設定シート!$C$3,設定シート!$C$4),\"Y\"))","v":""},"","",null,null,""]
[38,null,null,"",null,"0000000",null,"福島市",null,null,null,null,"",null,"",{"$f":"IF(N40=\"\",\"\",DATEDIF(N40,DATE(設定シート!$C$2,設定シート!$C$3,設定シート!$C$4),\"Y\"))","v":""},"","",null,null,""]
[39,null,null,"",null,"0000000",null,"福島市",null,null,null,null,"",null,"",{"$f":"IF(N41=\"\",\"\",DATEDIF(N41,DATE(設定シート!$C$2,設定シート!$C$3,設定シート!$C$4),\"Y\"))","v":""},"","",null,null,""]
[40,null,null,"",null,"0000000",null,"福島市",null,null,null,null,"",null,"",{"$f":"IF(N42=\"\",\"\",DATEDIF(N42,DATE(設定シート!$C$2,設定シート!$C$3,設定シート!$C$4),\"Y\"))","v":""},"","",null,null,""]
[41,null,null,"",null,"0000000",null,"福島市",null,null,null,null,"",null,"",{"$f":"IF(N43=\"\",\"\",DATEDIF(N43,DATE(設定シート!$C$2,設定シート!$C$3,設定シート!$C$4),\"Y\"))","v":""},"","",null,null,""]
[42,null,null,"",null,"0000000",null,"福島市",null,null,null,null,"",null,"",{"$f":"IF(N44=\"\",\"\",DATEDIF(N44,DATE(設定シート!$C$2,設定シート!$C$3,設定シート!$C$4),\"Y\"))","v":""},"","",null,null,""]
[43,null,null,"",null,"0000000",null,"福島市",null,null,null,null,"",null,"",{"$f":"IF(N45=\"\",\"\",DATEDIF(N45,DATE(設定シート!$C$2,設定シート!$C$3,設定シート!$C$4),\"Y\"))","v":""},"","",null,null,""]
[44,null,null,"",null,"0000000",null,"福島市",null,null,null,null,"",null,"",{"$f":"IF(N46=\"\",\"\",DATEDIF(N46,DATE(設定シート!$C$2,設定シート!$C$3,設定シート!$C$4),\"Y\"))","v":""},"","",null,null,""]
[45,null,null,"",null,"0000000",null,"福島市",null,null,null,null,"",null,"",{"$f":"IF(N47=\"\",\"\",DATEDIF(N47,DATE(設定シート!$C$2,設定シート!$C$3,設定シート!$C$4),\"Y\"))","v":""},"","",null,null,""]
[46,null,null,"",null,"0000000",null,"福島市",null,null,null,null,"",null,"",{"$f":"IF(N48=\"\",\"\",DATEDIF(N48,DATE(設定シート!$C$2,設定シート!$C$3,設定シート!$C$4),\"Y\"))","v":""},"","",null,null,""]
[47,null,null,"",null,"0000000",null,"福島市",null,null,null,null,"",null,"",{"$f":"IF(N49=\"\",\"\",DATEDIF(N49,DATE(設定シート!$C$2,設定シート!$C$3,設定シート!$C$4),\"Y\"))","v":""},"","",null,null,""]
[48,null,null,"",null,"0000000",null,"福島市",null,null,null,null,"",null,"",{"$f":"IF(N50=\"\",\"\",DATEDIF(N50,DATE(設定シート!$C$2,設定シート!$C$3,設定シート!$C$4),\"Y\"))","v":""},"","",null,null,""]
[49,null,null,"",null,"0000000",null,"福島市",null,null,null,null,"",null,"",{"$f":"IF(N51=\"\",\"\",DATEDIF(N51,DATE(設定シート!$C$2,設定シート!$C$3,設定シート!$C$4),\"Y\"))","v":""},"","",null,null,""]
[50,null,null,"",null,"0000000",null,"福島市",null,null,null,null,"",null,"",{"$f":"IF(N52=\"\",\"\",DATEDIF(N52,DATE(設定シート!$C$2,設定シート!$C$3,設定シート!$C$4),\"Y\"))","v":""},"","",null,null,""]
[51,null,null,"",null,"0000000",null,"福島市",null,null,null,null,"",null,"",{"$f":"IF(N53=\"\",\"\",DATEDIF(N53,DATE(設定シート!$C$2,設定シート!$C$3,設定シート!$C$4),\"Y\"))","v":""},"","",null,null,""]
[52,null,null,"",null,"0000000",null,"福島市",null,null,null,null,"",null,"",{"$f":"IF(N54=\"\",\"\",DATEDIF(N54,DATE(設定シート!$C$2,設定シート!$C$3,設定シート!$C$4),\"Y\"))","v":""},"","",null,null,""]
[53,null,null,"",null,"0000000",null,"福島市",null,null,null,null,"",null,"",{"$f":"IF(N55=\"\",\"\",DATEDIF(N55,DATE(設定シート!$C$2,設定シート!$C$3,設定シート!$C$4),\"Y\"))","v":""},"","",null,null,""]
[54,null,null,"",null,"0000000",null,"福島市",null,null,null,null,"",null,"",{"$f":"IF(N56=\"\",\"\",DATEDIF(N56,DATE(設定シート!$C$2,設定シート!$C$3,設定シート!$C$4),\"Y\"))","v":""},"","",null,null,""]
[55,null,null,"",null,"0000000",null,"福島市",null,null,null,null,"",null,"",{"$f":"IF(N57=\"\",\"\",DATEDIF(N57,DATE(設定シート!$C$2,設定シート!$C$3,設定シート!$C$4),\"Y\"))","v":""},"","",null,null,""]
[56,null,null,"",null,"0000000",null,"福島市",null,null,null,null,"",null,"",{"$f":"IF(N58=\"\",\"\",DATEDIF(N58,DATE(設定シート!$C$2,設定シート!$C$3,設定シート!$C$4),\"Y\"))","v":""},"","",null,null,""]
[57,null,null,"",null,"0000000",null,"福島市",null,null,null,null,"",null,"",{"$f":"IF(N59=\"\",\"\",DATEDIF(N59,DATE(設定シート!$C$2,設定シート!$C$3,設定シート!$C$4),\"Y\"))","v":""},"","",null,null,""]
[58,null,null,"",null,"0000000",null,"福島市",null,null,null,null,"",null,"",{"$f":"IF(N60=\"\",\"\",DATEDIF(N60,DATE(設定シート!$C$2,設定シート!$C$3,設定シート!$C$4),\"Y\"))","v":""},"","",null,null,""]
[59,null,null,"",null,"0000000",null,"福島市",null,null,null,null,"",null,"",{"$f":"IF(N61=\"\",\"\",DATEDIF(N61,DATE(設定シート!$C$2,設定シート!$C$3,設定シート!$C$4),\"Y\"))","v":""},"","",null,null,""]
[60,null,null,"",null,"0000000",null,"福島市",null,null,null,null,"",null,"",{"$f":"IF(N62=\"\",\"\",DATEDIF(N62,DATE(設定シート!$C$2,設定シート!$C$3,設定シート!$C$4),\"Y\"))","v":""},"","",null,null,""]
[61,null,null,"",null,"0000000",null,"福島市",null,null,null,null,"",null,"",{"$f":"IF(N63=\"\",\"\",DATEDIF(N63,DATE(設定シート!$C$2,設定シート!$C$3,設定シート!$C$4),\"Y\"))","v":""},"","",null,null,""]
[62,null,null,"",null,"0000000",null,"福島市",null,null,null,null,"",null,"",{"$f":"IF(N64=\"\",\"\",DATEDIF(N64,DATE(設定シート!$C$2,設定シート!$C$3,設定シート!$C$4),\"Y\"))","v":""},"","",null,null,""]
[63,null,null,"",null,"0000000",null,"福島市",null,null,null,null,"",null,"",{"$f":"IF(N65=\"\",\"\",DATEDIF(N65,DATE(設定シート!$C$2,設定シート!$C$3,設定シート!$C$4),\"Y\"))","v":""},"","",null,null,""]
[64,null,null,"",null,"0000000",null,"福島市",null,null,null,null,"",null,"",{"$f":"IF(N66=\"\",\"\",DATEDIF(N66,DATE(設定シート!$C$2,設定シート!$C$3,設定シート!$C$4),\"Y\"))","v":""},"","",null,null,""]
[65,null,null,{"$f":"PHONETIC(C67)","v":""},null,{"$f":"TEXT(B67,\"0000000\")","v":"0000000"},null,"福島市",null,null,null,null,{"$f":"IF(L67=1,\"男\",IF(L67=2,\"女\",\"\"))","v":""},null,{"$f":"IF(OR(E67=\"\",N67=\"\"),\"\",DATEDIF(N67,E67,\"Y\"))","v":""},{"$f":"IF(N67=\"\",\"\",DATEDIF(N67,DATE(設定シート!$C$2,設定シート!$C$3,設定シート!$C$4),\"Y\"))","v":""},{"$f":"IF(P67=\"\",\"\",IF(P67<=69,1,IF(P67>=70,2,\"\")))","v":""},{"$f":"IF(OR(Q67=1,Q67=\"1\"),\"有料\",IF(OR(Q67=2,Q67=\"2\"),\"70・後\",IF(Q67=3,\"生保\",IF(Q67=4,\"非課税\",\"\"))))","v":""},null,null,{"$f":"IF(AND(L67=2,P67>=60),\"一単独\",IF(AND(L67=2,P67>=50,P67<60),\"一併用\",IF(AND(L67=2,P67>=40,P67<50),\"二併用\",\"\")))","v":""}]
[{"$f":"ROW()-2","v":66},null,null,"",null,"0000000",null,"福島市",null,null,null,null,"",null,"",{"$f":"IF(N68=\"\",\"\",DATEDIF(N68,DATE(設定シート!$C$2,設定シート!$C$3,設定シート!$C$4),\"Y\"))","v":""},"","",null,null,""]
[67,null,null,"",null,"0000000",null,"福島市",null,null,null,null,"",null,"",{"$f":"IF(N69=\"\",\"\",DATEDIF(N69,DATE(設定シート!$C$2,設定シート!$C$3,設定シート!$C$4),\"Y\"))","v":""},"","",null,null,""]
[68,null,null,"",null,"0000000",null,"福島市",null,null,null,null,"",null,"",{"$f":"IF(N70=\"\",\"\",DATEDIF(N70,DATE(設定シート!$C$2,設定シート!$C$3,設定シート!$C$4),\"Y\"))","v":""},"","",null,null,""]
[69,null,null,"",null,"0000000",null,"福島市",null,null,null,null,"",null,"",{"$f":"IF(N71=\"\",\"\",DATEDIF(N71,DATE(設定シート!$C$2,設定シート!$C$3,設定シート!$C$4),\"Y\"))","v":""},"","",null,null,""]
[70,null,null,"",null,"0000000",null,"福島市",null,null,null,null,"",null,"",{"$f":"IF(N72=\"\",\"\",DATEDIF(N72,DATE(設定シート!$C$2,設定シート!$C$3,設定シート!$C$4),\"Y\"))","v":""},"","",null,null,""]
[71,null,null,"",null,"0000000",null,"福島市",null,null,null,null,"",null,"",{"$f":"IF(N73=\"\",\"\",DATEDIF(N73,DATE(設定シート!$C$2,設定シート!$C$3,設定シート!$C$4),\"Y\"))","v":""},"","",null,null,""]
[72,null,null,"",null,"0000000",null,"福島市",null,null,null,null,"",null,"",{"$f":"IF(N74=\"\",\"\",DATEDIF(N74,DATE(設定シート!$C$2,設定シート!$C$3,設定シート!$C$4),\"Y\"))","v":""},"","",null,null,""]
[73,null,null,"",null,"0000000",null,"福島市",null,null,null,null,"",null,"",{"$f":"IF(N75=\"\",\"\",DATEDIF(N75,DATE(設定シート!$C$2,設定シート!$C$3,設定シート!$C$4),\"Y\"))","v":""},"","",null,null,""]
[74,null,null,"",null,"0000000",null,"福島市",null,null,null,null,"",null,"",{"$f":"IF(N76=\"\",\"\",DATEDIF(N76,DATE(設定シート!$C$2,設定シート!$C$3,設定シート!$C$4),\"Y\"))","v":""},"","",null,null,""]
[75,null,null,"",null,"0000000",null,"福島市",null,null,null,null,"",null,"",{"$f":"IF(N77=\"\",\"\",DATEDIF(N77,DATE(設定シート!$C$2,設定シート!$C$3,設定シート!$C$4),\"Y\"))","v":""},"","",null,null,""]
[76,null,null,"",null,"0000000",null,"福島市",null,null,null,null,"",null,"",{"$f":"IF(N78=\"\",\"\",DATEDIF(N78,DATE(設定シート!$C$2,設定シート!$C$3,設定シート!$C$4),\"Y\"))","v":""},"","",null,null,""]
[77,null,null,"",null,"0000000",null,"福島市",null,null,null,null,"",null,"",{"$f":"IF(N79=\"\",\"\",DATEDIF(N79,DATE(設定シート!$C$2,設定シート!$C$3,設定シート!$C$4),\"Y\"))","v":""},"","",null,null,""]
[78,null,null,"",null,"0000000",null,"福島市",null,null,null,null,"",null,"",{"$f":"IF(N80=\"\",\"\",DATEDIF(N80,DATE(設定シート!$C$2,設定シート!$C$3,設定シート!$C$4),\"Y\"))","v":""},"","",null,null,""]
[79,null,null,"",null,"0000000",null,"福島市",null,null,null,null,"",null,"",{"$f":"IF(N81=\"\",\"\",DATEDIF(N81,DATE(設定シート!$C$2,設定シート!$C$3,設定シート!$C$4),\"Y\"))","v":""},"","",null,null,""]
[80,null,null,"",null,"0000000",null,"福島市",null,null,null,null,"",null,"",{"$f":"IF(N82=\"\",\"\",DATEDIF(N82,DATE(設定シート!$C$2,設定シート!$C$3,設定シート!$C$4),\"Y\"))","v":""},"","",null,null,""]
[81,null,null,"",null,"0000000",null,"福島市",null,null,null,null,"",null,"",{"$f":"IF(N83=\"\",\"\",DATEDIF(N83,DATE(設定シート!$C$2,設定シート!$C$3,設定シート!$C$4),\"Y\"))","v":""},"","",null,null,""]
[82,null,null,"",null,"0000000",null,"福島市",null,null,null,null,"",null,"",{"$f":"IF(N84=\"\",\"\",DATEDIF(N84,DATE(設定シート!$C$2,設定シート!$C$3,設定シート!$C$4),\"Y\"))","v":""},"","",null,null,""]
[83,null,null,"",null,"0000000",null,"福島市",null,null,null,null,"",null,"",{"$f":"IF(N85=\"\",\"\",DATEDIF(N85,DATE(設定シート!$C$2,設定シート!$C$3,設定シート!$C$4),\"Y\"))","v":""},"","",null,null,""]
[84,null,null,"",null,"0000000",null,"福島市",null,null,null,null,"",null,"",{"$f":"IF(N86=\"\",\"\",DATEDIF(N86,DATE(設定シート!$C$2,設定シート!$C$3,設定シート!$C$4),\"Y\"))","v":""},"","",null,null,""]
[85,null,null,"",null,"0000000",null,"福島市",null,null,null,null,"",null,"",{"$f":"IF(N87=\"\",\"\",DATEDIF(N87,DATE(設定シート!$C$2,設定シート!$C$3,設定シート!$C$4),\"Y\"))","v":""},"","",null,null,""]
[86,null,null,"",null,"0000000",null,"福島市",null,null,null,null,"",null,"",{"$f":"IF(N88=\"\",\"\",DATEDIF(N88,DATE(設定シート!$C$2,設定シート!$C$3,設定シート!$C$4),\"Y\"))","v":""},"","",null,null,""]
[87,null,null,"",null,"0000000",null,"福島市",null,null,null,null,"",null,"",{"$f":"IF(N89=\"\",\"\",DATEDIF(N89,DATE(設定シート!$C$2,設定シート!$C$3,設定シート!$C$4),\"Y\"))","v":""},"","",null,null,""]
[88,null,null,"",null,"0000000",null,"福島市",null,null,null,null,"",null,"",{"$f":"IF(N90=\"\",\"\",DATEDIF(N90,DATE(設定シート!$C$2,設定シート!$C$3,設定シート!$C$4),\"Y\"))","v":""},"","",null,null,""]
[89,null,null,"",null,"0000000",null,"福島市",null,null,null,null,"",null,"",{"$f":"IF(N91=\"\",\"\",DATEDIF(N91,DATE(設定シート!$C$2,設定シート!$C$3,設定シート!$C$4),\"Y\"))","v":""},"","",null,null,""]
[90,null,null,"",null,"0000000",null,"福島市",null,null,null,null,"",null,"",{"$f":"IF(N92=\"\",\"\",DATEDIF(N92,DATE(設定シート!$C$2,設定シート!$C$3,設定シート!$C$4),\"Y\"))","v":""},"","",null,null,""]
[91,null,null,"",null,"0000000",null,"福島市",null,null,null,null,"",null,"",{"$f":"IF(N93=\"\",\"\",DATEDIF(N93,DATE(設定シート!$C$2,設定シート!$C$3,設定シート!$C$4),\"Y\"))","v":""},"","",null,null,""]
[92,null,null,"",null,"0000000",null,"福島市",null,null,null,null,"",null,"",{"$f":"IF(N94=\"\",\"\",DATEDIF(N94,DATE(設定シート!$C$2,設定シート!$C$3,設定シート!$C$4),\"Y\"))","v":""},"","",null,null,""]
[93,null,null,"",null,"0000000",null,"福島市",null,null,null,null,"",null,"",{"$f":"IF(N95=\"\",\"\",DATEDIF(N95,DATE(設定シート!$C$2,設定シート!$C$3,設定シート!$C$4),\"Y\"))","v":""},"","",null,null,""]
[94,null,null,"",null,"0000000",null,"福島市",null,null,null,null,"",null,"",{"$f":"IF(N96=\"\",\"\",DATEDIF(N96,DATE(設定シート!$C$2,設定シート!$C$3,設定シート!$C$4),\"Y\"))","v":""},"","",null,null,""]
[95,null,null,"",null,"0000000",null,"福島市",null,null,null,null,"",null,"",{"$f":"IF(N97=\"\",\"\",DATEDIF(N97,DATE(設定シート!$C$2,設定シート!$C$3,設定シート!$C$4),\"Y\"))","v":""},"","",null,null,""]
[96,null,null,"",null,"0000000",null,"福島市",null,null,null,null,"",null,"",{"$f":"IF(N98=\"\",\"\",DATEDIF(N98,DATE(設定シート!$C$2,設定シート!$C$3,設定シート!$C$4),\"Y\"))","v":""},"","",null,null,""]
[97,null,null,"",null,"0000000",null,"福島市",null,null,null,null,"",null,"",{"$f":"IF(N99=\"\",\"\",DATEDIF(N99,DATE(設定シート!$C$2,設定シート!$C$3,設定シート!$C$4),\"Y\"))","v":""},"","",null,null,""]
[98,null,null,"",null,"0000000",null,"福島市",null,null,null,null,"",null,"",{"$f":"IF(N100=\"\",\"\",DATEDIF(N100,DATE(設定シート!$C$2,設定シート!$C$3,設定シート!$C$4),\"Y\"))","v":""},"","",null,null,""]
[99,null,null,"",null,"0000000",null,"福島市",null,null,null,null,"",null,"",{"$f":"IF(N101=\"\",\"\",DATEDIF(N101,DATE(設定シート!$C$2,設定シート!$C$3,設定シート!$C$4),\"Y\"))","v":""},"","",null,null,""]
[100,null,null,"",null,"0000000",null,"福島市",null,null,null,null,"",null,"",{"$f":"IF(N102=\"\",\"\",DATEDIF(N102,DATE(設定シート!$C$2,設定シート!$C$3,設定シート!$C$4),\"Y\"))","v":""},"","",null,null,""]
[101,null,null,"",null,"0000000",null,"福島市",null,null,null,null,"",null,"",{"$f":"IF(N103=\"\",\"\",DATEDIF(N103,DATE(設定シート!$C$2,設定シート!$C$3,設定シート!$C$4),\"Y\"))","v":""},"","",null,null,""]
[102,null,null,"",null,"0000000",null,"福島市",null,null,null,null,"",null,"",{"$f":"IF(N104=\"\",\"\",DATEDIF(N104,DATE(設定シート!$C$2,設定シート!$C$3,設定シート!$C$4),\"Y\"))","v":""},"","",null,null,""]
[103,null,null,"",null,"0000000",null,"福島市",null,null,null,null,"",null,"",{"$f":"IF(N105=\"\",\"\",DATEDIF(N105,DATE(設定シート!$C$2,設定シート!$C$3,設定シート!$C$4),\"Y\"))","v":""},"","",null,null,""]
[104,null,null,"",null,"0000000",null,"福島市",null,null,null,null,"",null,"",{"$f":"IF(N106=\"\",\"\",DATEDIF(N106,DATE(設定シート!$C$2,設定シート!$C$3,設定シート!$C$4),\"Y\"))","v":""},"","",null,null,""]
[105,null,null,"",null,"0000000",null,"福島市",null,null,null,null,"",null,"",{"$f":"IF(N107=\"\",\"\",DATEDIF(N107,DATE(設定シート!$C$2,設定シート!$C$3,設定シート!$C$4),\"Y\"))","v":""},"","",null,null,""]
[106,null,null,"",null,"0000000",null,"福島市",null,null,null,null,"",null,"",{"$f":"IF(N108=\"\",\"\",DATEDIF(N108,DATE(設定シート!$C$2,設定シート!$C$3,設定シート!$C$4),\"Y\"))","v":""},"","",null,null,""]
[107,null,null,"",null,"0000000",null,"福島市",null,null,null,null,"",null,"",{"$f":"IF(N109=\"\",\"\",DATEDIF(N109,DATE(設定シート!$C$2,設定シート!$C$3,設定シート!$C$4),\"Y\"))","v":""},"","",null,null,""]
[108,null,null,"",null,"0000000",null,"福島市",null,null,null,null,"",null,"",{"$f":"IF(N110=\"\",\"\",DATEDIF(N110,DATE(設定シート!$C$2,設定シート!$C$3,設定シート!$C$4),\"Y\"))","v":""},"","",null,null,""]
[109,null,null,"",null,"0000000",null,"福島市",null,null,null,null,"",null,"",{"$f":"IF(N111=\"\",\"\",DATEDIF(N111,DATE(設定シート!$C$2,設定シート!$C$3,設定シート!$C$4),\"Y\"))","v":""},"","",null,null,""]
[110,null,null,"",null,"0000000",null,"福島市",null,null,null,null,"",null,"",{"$f":"IF(N112=\"\",\"\",DATEDIF(N112,DATE(設定シート!$C$2,設定シート!$C$3,設定シート!$C$4),\"Y\"))","v":""},"","",null,null,""]
[111,null,null,"",null,"0000000",null,"福島市",null,null,null,null,"",null,"",{"$f":"IF(N113=\"\",\"\",DATEDIF(N113,DATE(設定シート!$C$2,設定シート!$C$3,設定シート!$C$4),\"Y\"))","v":""},"","",null,null,""]
[112,null,null,"",null,"0000000",null,"福島市",null,null,null,null,"",null,"",{"$f":"IF(N114=\"\",\"\",DATEDIF(N114,DATE(設定シート!$C$2,設定シート!$C$3,設定シート!$C$4),\"Y\"))","v":""},"","",null,null,""]
[113,null,null,"",null,"0000000",null,"福島市",null,null,null,null,"",null,"",{"$f":"IF(N115=\"\",\"\",DATEDIF(N115,DATE(設定シート!$C$2,設定シート!$C$3,設定シート!$C$4),\"Y\"))","v":""},"","",null,null,""]
[114,null,null,"",null,"0000000",null,"福島市",null,null,null,null,"",null,"",{"$f":"IF(N116=\"\",\"\",DATEDIF(N116,DATE(設定シート!$C$2,設定シート!$C$3,設定シート!$C$4),\"Y\"))","v":""},"","",null,null,""]
[115,null,null,"",null,"0000000",null,"福島市",null,null,null,null,"",null,"",{"$f":"IF(N117=\"\",\"\",DATEDIF(N117,DATE(設定シート!$C$2,設定シート!$C$3,設定シート!$C$4),\"Y\"))","v":""},"","",null,null,""]
[116,null,null,"",null,"0000000",null,"福島市",null,null,null,null,"",null,"",{"$f":"IF(N118=\"\",\"\",DATEDIF(N118,DATE(設定シート!$C$2,設定シート!$C$3,設定シート!$C$4),\"Y\"))","v":""},"","",null,null,""]
[117,null,null,"",null,"0000000",null,"福島市",null,null,null,null,"",null,"",{"$f":"IF(N119=\"\",\"\",DATEDIF(N119,DATE(設定シート!$C$2,設定シート!$C$3,設定シート!$C$4),\"Y\"))","v":""},"","",null,null,""]
[118,null,null,"",null,"0000000",null,"福島市",null,null,null,null,"",null,"",{"$f":"IF(N120=\"\",\"\",DATEDIF(N120,DATE(設定シート!$C$2,設定シート!$C$3,設定シート!$C$4),\"Y\"))","v":""},"","",null,null,""]
[119,null,null,"",null,"0000000",null,"福島市",null,null,null,null,"",null,"",{"$f":"IF(N121=\"\",\"\",DATEDIF(N121,DATE(設定シート!$C$2,設定シート!$C$3,設定シート!$C$4),\"Y\"))","v":""},"","",null,null,""]
[120,null,null,"",null,"0000000",null,"福島市",null,null,null,null,"",null,"",{"$f":"IF(N122=\"\",\"\",DATEDIF(N122,DATE(設定シート!$C$2,設定シート!$C$3,設定シート!$C$4),\"Y\"))","v":""},"","",null,null,""]
[121,null,null,"",null,"0000000",null,"福島市",null,null,null,null,"",null,"",{"$f":"IF(N123=\"\",\"\",DATEDIF(N123,DATE(設定シート!$C$2,設定シート!$C$3,設定シート!$C$4),\"Y\"))","v":""},"","",null,null,""]
[122,null,null,"",null,"0000000",null,"福島市",null,null,null,null,"",null,"",{"$f":"IF(N124=\"\",\"\",DATEDIF(N124,DATE(設定シート!$C$2,設定シート!$C$3,設定シート!$C$4),\"Y\"))","v":""},"","",null,null,""]
[123,null,null,"",null,"0000000",null,"福島市",null,null,null,null,"",null,"",{"$f":"IF(N125=\"\",\"\",DATEDIF(N125,DATE(設定シート!$C$2,設定シート!$C$3,設定シート!$C$4),\"Y\"))","v":""},"","",null,null,""]
[124,null,null,"",null,"0000000",null,"福島市",null,null,null,null,"",null,"",{"$f":"IF(N126=\"\",\"\",DATEDIF(N126,DATE(設定シート!$C$2,設定シート!$C$3,設定シート!$C$4),\"Y\"))","v":""},"","",null,null,""]
[125,null,null,"",null,"0000000",null,"福島市",null,null,null,null,"",null,"",{"$f":"IF(N127=\"\",\"\",DATEDIF(N127,DATE(設定シート!$C$2,設定シート!$C$3,設定シート!$C$4),\"Y\"))","v":""},"","",null,null,""]
[126,null,null,"",null,"0000000",null,"福島市",null,null,null,null,"",null,"",{"$f":"IF(N128=\"\",\"\",DATEDIF(N128,DATE(設定シート!$C$2,設定シート!$C$3,設定シート!$C$4),\"Y\"))","v":""},"","",null,null,""]
[127,null,null,"",null,"0000000",null,"福島市",null,null,null,null,"",null,"",{"$f":"IF(N129=\"\",\"\",DATEDIF(N129,DATE(設定シート!$C$2,設定シート!$C$3,設定シート!$C$4),\"Y\"))","v":""},"","",null,null,""]
[128,null,null,"",null,"0000000",null,"福島市",null,null,null,null,"",null,"",{"$f":"IF(N130=\"\",\"\",DATEDIF(N130,DATE(設定シート!$C$2,設定シート!$C$3,設定シート!$C$4),\"Y\"))","v":""},"","",null,null,""]
[129,null,null,{"$f":"PHONETIC(C131)","v":""},null,{"$f":"TEXT(B131,\"0000000\")","v":"0000000"},null,"福島市",null,null,null,null,{"$f":"IF(L131=1,\"男\",IF(L131=2,\"女\",\"\"))","v":""},null,{"$f":"IF(OR(E131=\"\",N131=\"\"),\"\",DATEDIF(N131,E131,\"Y\"))","v":""},{"$f":"IF(N131=\"\",\"\",DATEDIF(N131,DATE(設定シート!$C$2,設定シート!$C$3,設定シート!$C$4),\"Y\"))","v":""},{"$f":"IF(P131=\"\",\"\",IF(P131<=69,1,IF(P131>=70,2,\"\")))","v":""},{"$f":"IF(OR(Q131=1,Q131=\"1\"),\"有料\",IF(OR(Q131=2,Q131=\"2\"),\"70・後\",IF(Q131=3,\"生保\",IF(Q131=4,\"非課税\",\"\"))))","v":""},null,null,{"$f":"IF(AND(L131=2,P131>=60),\"一単独\",IF(AND(L131=2,P131>=50,P131<60),\"一併用\",IF(AND(L131=2,P131>=40,P131<50),\"二併用\",\"\")))","v":""}]
[{"$f":"ROW()-2","v":130},null,null,"",null,"0000000",null,"福島市",null,null,null,null,"",null,"",{"$f":"IF(N132=\"\",\"\",DATEDIF(N132,DATE(設定シート!$C$2,設定シート!$C$3,設定シート!$C$4),\"Y\"))","v":""},"","",null,null,""]
[131,null,null,"",null,"0000000",null,"福島市",null,null,null,null,"",null,"",{"$f":"IF(N133=\"\",\"\",DATEDIF(N133,DATE(設定シート!$C$2,設定シート!$C$3,設定シート!$C$4),\"Y\"))","v":""},"","",null,null,""]
[132,null,null,"",null,"0000000",null,"福島市",null,null,null,null,"",null,"",{"$f":"IF(N134=\"\",\"\",DATEDIF(N134,DATE(設定シート!$C$2,設定シート!$C$3,設定シート!$C$4),\"Y\"))","v":""},"","",null,null,""]
[133,null,null,"",null,"0000000",null,"福島市",null,null,null,null,"",null,"",{"$f":"IF(N135=\"\",\"\",DATEDIF(N135,DATE(設定シート!$C$2,設定シート!$C$3,設定シート!$C$4),\"Y\"))","v":""},"","",null,null,""]
[134,null,null,"",null,"0000000",null,"福島市",null,null,null,null,"",null,"",{"$f":"IF(N136=\"\",\"\",DATEDIF(N136,DATE(設定シート!$C$2,設定シート!$C$3,設定シート!$C$4),\"Y\"))","v":""},"","",null,null,""]
[135,null,null,"",null,"0000000",null,"福島市",null,null,null,null,"",null,"",{"$f":"IF(N137=\"\",\"\",DATEDIF(N137,DATE(設定シート!$C$2,設定シート!$C$3,設定シート!$C$4),\"Y\"))","v":""},"","",null,null,""]
[136,null,null,"",null,"0000000",null,"福島市",null,null,null,null,"",null,"",{"$f":"IF(N138=\"\",\"\",DATEDIF(N138,DATE(設定シート!$C$2,設定シート!$C$3,設定シート!$C$4),\"Y\"))","v":""},"","",null,null,""]
[137,null,null,"",null,"0000000",null,"福島市",null,null,null,null,"",null,"",{"$f":"IF(N139=\"\",\"\",DATEDIF(N139,DATE(設定シート!$C$2,設定シート!$C$3,設定シート!$C$4),\"Y\"))","v":""},"","",null,null,""]
[138,null,null,"",null,"0000000",null,"福島市",null,null,null,null,"",null,"",{"$f":"IF(N140=\"\",\"\",DATEDIF(N140,DATE(設定シート!$C$2,設定シート!$C$3,設定シート!$C$4),\"Y\"))","v":""},"","",null,null,""]
[139,null,null,"",null,"0000000",null,"福島市",null,null,null,null,"",null,"",{"$f":"IF(N141=\"\",\"\",DATEDIF(N141,DATE(設定シート!$C$2,設定シート!$C$3,設定シート!$C$4),\"Y\"))","v":""},"","",null,null,""]
[140,null,null,"",null,"0000000",null,"福島市",null,null,null,null,"",null,"",{"$f":"IF(N142=\"\",\"\",DATEDIF(N142,DATE(設定シート!$C$2,設定シート!$C$3,設定シート!$C$4),\"Y\"))","v":""},"","",null,null,""]
[141,null,null,"",null,"0000000",null,"福島市",null,null,null,null,"",null,"",{"$f":"IF(N143=\"\",\"\",DATEDIF(N143,DATE(設定シート!$C$2,設定シート!$C$3,設定シート!$C$4),\"Y\"))","v":""},"","",null,null,""]
[142,null,null,"",null,"0000000",null,"福島市",null,null,null,null,"",null,"",{"$f":"IF(N144=\"\",\"\",DATEDIF(N144,DATE(設定シート!$C$2,設定シート!$C$3,設定シート!$C$4),\"Y\"))","v":""},"","",null,null,""]
[143,null,null,"",null,"0000000",null,"福島市",null,null,null,null,"",null,"",{"$f":"IF(N145=\"\",\"\",DATEDIF(N145,DATE(設定シート!$C$2,設定シート!$C$3,設定シート!$C$4),\"Y\"))","v":""},"","",null,null,""]
[144,null,null,"",null,"0000000",null,"福島市",null,null,null,null,"",null,"",{"$f":"IF(N146=\"\",\"\",DATEDIF(N146,DATE(設定シート!$C$2,設定シート!$C$3,設定シート!$C$4),\"Y\"))","v":""},"","",null,null,""]
[145,null,null,"",null,"0000000",null,"福島市",null,null,null,null,"",null,"",{"$f":"IF(N147=\"\",\"\",DATEDIF(N147,DATE(設定シート!$C$2,設定シート!$C$3,設定シート!$C$4),\"Y\"))","v":""},"","",null,null,""]
[146,null,null,"",null,"0000000",null,"福島市",null,null,null,null,"",null,"",{"$f":"IF(N148=\"\",\"\",DATEDIF(N148,DATE(設定シート!$C$2,設定シート!$C$3,設定シート!$C$4),\"Y\"))","v":""},"","",null,null,""]
[147,null,null,"",null,"0000000",null,"福島市",null,null,null,null,"",null,"",{"$f":"IF(N149=\"\",\"\",DATEDIF(N149,DATE(設定シート!$C$2,設定シート!$C$3,設定シート!$C$4),\"Y\"))","v":""},"","",null,null,""]
[148,null,null,"",null,"0000000",null,"福島市",null,null,null,null,"",null,"",{"$f":"IF(N150=\"\",\"\",DATEDIF(N150,DATE(設定シート!$C$2,設定シート!$C$3,設定シート!$C$4),\"Y\"))","v":""},"","",null,null,""]
[149,null,null,"",null,"0000000",null,"福島市",null,null,null,null,"",null,"",{"$f":"IF(N151=\"\",\"\",DATEDIF(N151,DATE(設定シート!$C$2,設定シート!$C$3,設定シート!$C$4),\"Y\"))","v":""},"","",null,null,""]
[150,null,null,"",null,"0000000",null,"福島市",null,null,null,null,"",null,"",{"$f":"IF(N152=\"\",\"\",DATEDIF(N152,DATE(設定シート!$C$2,設定シート!$C$3,設定シート!$C$4),\"Y\"))","v":""},"","",null,null,""]
[151,null,null,"",null,"0000000",null,"福島市",null,null,null,null,"",null,"",{"$f":"IF(N153=\"\",\"\",DATEDIF(N153,DATE(設定シート!$C$2,設定シート!$C$3,設定シート!$C$4),\"Y\"))","v":""},"","",null,null,""]
[152,null,null,"",null,"0000000",null,"福島市",null,null,null,null,"",null,"",{"$f":"IF(N154=\"\",\"\",DATEDIF(N154,DATE(設定シート!$C$2,設定シート!$C$3,設定シート!$C$4),\"Y\"))","v":""},"","",null,null,""]
[153,null,null,"",null,"0000000",null,"福島市",null,null,null,null,"",null,"",{"$f":"IF(N155=\"\",\"\",DATEDIF(N155,DATE(設定シート!$C$2,設定シート!$C$3,設定シート!$C$4),\"Y\"))","v":""},"","",null,null,""]
[154,null,null,"",null,"0000000",null,"福島市",null,null,null,null,"",null,"",{"$f":"IF(N156=\"\",\"\",DATEDIF(N156,DATE(設定シート!$C$2,設定シート!$C$3,設定シート!$C$4),\"Y\"))","v":""},"","",null,null,""]
[155,null,null,"",null,"0000000",null,"福島市",null,null,null,null,"",null,"",{"$f":"IF(N157=\"\",\"\",DATEDIF(N157,DATE(設定シート!$C$2,設定シート!$C$3,設定シート!$C$4),\"Y\"))","v":""},"","",null,null,""]
[156,null,null,"",null,"0000000",null,"福島市",null,null,null,null,"",null,"",{"$f":"IF(N158=\"\",\"\",DATEDIF(N158,DATE(設定シート!$C$2,設定シート!$C$3,設定シート!$C$4),\"Y\"))","v":""},"","",null,null,""]
[157,null,null,"",null,"0000000",null,"福島市",null,null,null,null,"",null,"",{"$f":"IF(N159=\"\",\"\",DATEDIF(N159,DATE(設定シート!$C$2,設定シート!$C$3,設定シート!$C$4),\"Y\"))","v":""},"","",null,null,""]
[158,null,null,"",null,"0000000",null,"福島市",null,null,null,null,"",null,"",{"$f":"IF(N160=\"\",\"\",DATEDIF(N160,DATE(設定シート!$C$2,設定シート!$C$3,設定シート!$C$4),\"Y\"))","v":""},"","",null,null,""]
[159,null,null,"",null,"0000000",null,"福島市",null,null,null,null,"",null,"",{"$f":"IF(N161=\"\",\"\",DATEDIF(N161,DATE(設定シート!$C$2,設定シート!$C$3,設定シート!$C$4),\"Y\"))","v":""},"","",null,null,""]
[160,null,null,"",null,"0000000",null,"福島市",null,null,null,null,"",null,"",{"$f":"IF(N162=\"\",\"\",DATEDIF(N162,DATE(設定シート!$C$2,設定シート!$C$3,設定シート!$C$4),\"Y\"))","v":""},"","",null,null,""]
[161,null,null,"",null,"0000000",null,"福島市",null,null,null,null,"",null,"",{"$f":"IF(N163=\"\",\"\",DATEDIF(N163,DATE(設定シート!$C$2,設定シート!$C$3,設定シート!$C$4),\"Y\"))","v":""},"","",null,null,""]
[162,null,null,"",null,"0000000",null,"福島市",null,null,null,null,"",null,"",{"$f":"IF(N164=\"\",\"\",DATEDIF(N164,DATE(設定シート!$C$2,設定シート!$C$3,設定シート!$C$4),\"Y\"))","v":""},"","",null,null,""]
[163,null,null,"",null,"0000000",null,"福島市",null,null,null,null,"",null,"",{"$f":"IF(N165=\"\",\"\",DATEDIF(N165,DATE(設定シート!$C$2,設定シート!$C$3,設定シート!$C$4),\"Y\"))","v":""},"","",null,null,""]
[164,null,null,"",null,"0000000",null,"福島市",null,null,null,null,"",null,"",{"$f":"IF(N166=\"\",\"\",DATEDIF(N166,DATE(設定シート!$C$2,設定シート!$C$3,設定シート!$C$4),\"Y\"))","v":""},"","",null,null,""]
[165,null,null,"",null,"0000000",null,"福島市",null,null,null,null,"",null,"",{"$f":"IF(N167=\"\",\"\",DATEDIF(N167,DATE(設定シート!$C$2,設定シート!$C$3,設定シート!$C$4),\"Y\"))","v":""},"","",null,null,""]
[166,null,null,"",null,"0000000",null,"福島市",null,null,null,null,"",null,"",{"$f":"IF(N168=\"\",\"\",DATEDIF(N168,DATE(設定シート!$C$2,設定シート!$C$3,設定シート!$C$4),\"Y\"))","v":""},"","",null,null,""]
[167,null,null,"",null,"0000000",null,"福島市",null,null,null,null,"",null,"",{"$f":"IF(N169=\"\",\"\",DATEDIF(N169,DATE(設定シート!$C$2,設定シート!$C$3,設定シート!$C$4),\"Y\"))","v":""},"","",null,null,""]
[168,null,null,"",null,"0000000",null,"福島市",null,null,null,null,"",null,"",{"$f":"IF(N170=\"\",\"\",DATEDIF(N170,DATE(設定シート!$C$2,設定シート!$C$3,設定シート!$C$4),\"Y\"))","v":""},"","",null,null,""]
[169,null,null,"",null,"0000000",null,"福島市",null,null,null,null,"",null,"",{"$f":"IF(N171=\"\",\"\",DATEDIF(N171,DATE(設定シート!$C$2,設定シート!$C$3,設定シート!$C$4),\"Y\"))","v":""},"","",null,null,""]
[170,null,null,"",null,"0000000",null,"福島市",null,null,null,null,"",null,"",{"$f":"IF(N172=\"\",\"\",DATEDIF(N172,DATE(設定シート!$C$2,設定シート!$C$3,設定シート!$C$4),\"Y\"))","v":""},"","",null,null,""]
[171,null,null,"",null,"0000000",null,"福島市",null,null,null,null,"",null,"",{"$f":"IF(N173=\"\",\"\",DATEDIF(N173,DATE(設定シート!$C$2,設定シート!$C$3,設定シート!$C$4),\"Y\"))","v":""},"","",null,null,""]
[172,null,null,"",null,"0000000",null,"福島市",null,null,null,null,"",null,"",{"$f":"IF(N174=\"\",\"\",DATEDIF(N174,DATE(設定シート!$C$2,設定シート!$C$3,設定シート!$C$4),\"Y\"))","v":""},"","",null,null,""]
[173,null,null,"",null,"0000000",null,"福島市",null,null,null,null,"",null,"",{"$f":"IF(N175=\"\",\"\",DATEDIF(N175,DATE(設定シート!$C$2,設定シート!$C$3,設定シート!$C$4),\"Y\"))","v":""},"","",null,null,""]
[174,null,null,"",null,"0000000",null,"福島市",null,null,null,null,"",null,"",{"$f":"IF(N176=\"\",\"\",DATEDIF(N176,DATE(設定シート!$C$2,設定シート!$C$3,設定シート!$C$4),\"Y\"))","v":""},"","",null,null,""]
[175,null,null,"",null,"0000000",null,"福島市",null,null,null,null,"",null,"",{"$f":"IF(N177=\"\",\"\",DATEDIF(N177,DATE(設定シート!$C$2,設定シート!$C$3,設定シート!$C$4),\"Y\"))","v":""},"","",null,null,""]
[176,null,null,"",null,"0000000",null,"福島市",null,null,null,null,"",null,"",{"$f":"IF(N178=\"\",\"\",DATEDIF(N178,DATE(設定シート!$C$2,設定シート!$C$3,設定シート!$C$4),\"Y\"))","v":""},"","",null,null,""]
[177,null,null,"",null,"0000000",null,"福島市",null,null,null,null,"",null,"",{"$f":"IF(N179=\"\",\"\",DATEDIF(N179,DATE(設定シート!$C$2,設定シート!$C$3,設定シート!$C$4),\"Y\"))","v":""},"","",null,null,""]
[178,null,null,"",null,"0000000",null,"福島市",null,null,null,null,"",null,"",{"$f":"IF(N180=\"\",\"\",DATEDIF(N180,DATE(設定シート!$C$2,設定シート!$C$3,設定シート!$C$4),\"Y\"))","v":""},"","",null,null,""]
[179,null,null,"",null,"0000000",null,"福島市",null,null,null,null,"",null,"",{"$f":"IF(N181=\"\",\"\",DATEDIF(N181,DATE(設定シート!$C$2,設定シート!$C$3,設定シート!$C$4),\"Y\"))","v":""},"","",null,null,""]
[180,null,null,"",null,"0000000",null,"福島市",null,null,null,null,"",null,"",{"$f":"IF(N182=\"\",\"\",DATEDIF(N182,DATE(設定シート!$C$2,設定シート!$C$3,設定シート!$C$4),\"Y\"))","v":""},"","",null,null,""]
[181,null,null,"",null,"0000000",null,"福島市",null,null,null,null,"",null,"",{"$f":"IF(N183=\"\",\"\",DATEDIF(N183,DATE(設定シート!$C$2,設定シート!$C$3,設定シート!$C$4),\"Y\"))","v":""},"","",null,null,""]
[182,null,null,"",null,"0000000",null,"福島市",null,null,null,null,"",null,"",{"$f":"IF(N184=\"\",\"\",DATEDIF(N184,DATE(設定シート!$C$2,設定シート!$C$3,設定シート!$C$4),\"Y\"))","v":""},"","",null,null,""]
[183,null,null,"",null,"0000000",null,"福島市",null,null,null,null,"",null,"",{"$f":"IF(N185=\"\",\"\",DATEDIF(N185,DATE(設定シート!$C$2,設定シート!$C$3,設定シート!$C$4),\"Y\"))","v":""},"","",null,null,""]
[184,null,null,"",null,"0000000",null,"福島市",null,null,null,null,"",null,"",{"$f":"IF(N186=\"\",\"\",DATEDIF(N186,DATE(設定シート!$C$2,設定シート!$C$3,設定シート!$C$4),\"Y\"))","v":""},"","",null,null,""]
[185,null,null,"",null,"0000000",null,"福島市",null,null,null,null,"",null,"",{"$f":"IF(N187=\"\",\"\",DATEDIF(N187,DATE(設定シート!$C$2,設定シート!$C$3,設定シート!$C$4),\"Y\"))","v":""},"","",null,null,""]
[186,null,null,"",null,"0000000",null,"福島市",null,null,null,null,"",null,"",{"$f":"IF(N188=\"\",\"\",DATEDIF(N188,DATE(設定シート!$C$2,設定シート!$C$3,設定シート!$C$4),\"Y\"))","v":""},"","",null,null,""]
[187,null,null,"",null,"0000000",null,"福島市",null,null,null,null,"",null,"",{"$f":"IF(N189=\"\",\"\",DATEDIF(N189,DATE(設定シート!$C$2,設定シート!$C$3,設定シート!$C$4),\"Y\"))","v":""},"","",null,null,""]
[188,null,null,"",null,"0000000",null,"福島市",null,null,null,null,"",null,"",{"$f":"IF(N190=\"\",\"\",DATEDIF(N190,DATE(設定シート!$C$2,設定シート!$C$3,設定シート!$C$4),\"Y\"))","v":""},"","",null,null,""]
[189,null,null,"",null,"0000000",null,"福島市",null,null,null,null,"",null,"",{"$f":"IF(N191=\"\",\"\",DATEDIF(N191,DATE(設定シート!$C$2,設定シート!$C$3,設定シート!$C$4),\"Y\"))","v":""},"","",null,null,""]
[190,null,null,"",null,"0000000",null,"福島市",null,null,null,null,"",null,"",{"$f":"IF(N192=\"\",\"\",DATEDIF(N192,DATE(設定シート!$C$2,設定シート!$C$3,設定シート!$C$4),\"Y\"))","v":""},"","",null,null,""]
[191,null,null,"",null,"0000000",null,"福島市",null,null,null,null,"",null,"",{"$f":"IF(N193=\"\",\"\",DATEDIF(N193,DATE(設定シート!$C$2,設定シート!$C$3,設定シート!$C$4),\"Y\"))","v":""},"","",null,null,""]
[192,null,null,"",null,"0000000",null,"福島市",null,null,null,null,"",null,"",{"$f":"IF(N194=\"\",\"\",DATEDIF(N194,DATE(設定シート!$C$2,設定シート!$C$3,設定シート!$C$4),\"Y\"))","v":""},"","",null,null,""]
[193,null,null,{"$f":"PHONETIC(C195)","v":""},null,{"$f":"TEXT(B195,\"0000000\")","v":"0000000"},null,"福島市",null,null,null,null,{"$f":"IF(L195=1,\"男\",IF(L195=2,\"女\",\"\"))","v":""},null,{"$f":"IF(OR(E195=\"\",N195=\"\"),\"\",DATEDIF(N195,E195,\"Y\"))","v":""},{"$f":"IF(N195=\"\",\"\",DATEDIF(N195,DATE(設定シート!$C$2,設定シート!$C$3,設定シート!$C$4),\"Y\"))","v":""},{"$f":"IF(P195=\"\",\"\",IF(P195<=69,1,IF(P195>=70,2,\"\")))","v":""},{"$f":"IF(OR(Q195=1,Q195=\"1\"),\"有料\",IF(OR(Q195=2,Q195=\"2\"),\"70・後\",IF(Q195=3,\"生保\",IF(Q195=4,\"非課税\",\"\"))))","v":""},null,null,{"$f":"IF(AND(L195=2,P195>=60),\"一単独\",IF(AND(L195=2,P195>=50,P195<60),\"一併用\",IF(AND(L195=2,P195>=40,P195<50),\"二併用\",\"\")))","v":""}]
[{"$f":"ROW()-2","v":194},null,null,"",null,"0000000",null,"福島市",null,null,null,null,"",null,"",{"$f":"IF(N196=\"\",\"\",DATEDIF(N196,DATE(設定シート!$C$2,設定シート!$C$3,設定シート!$C$4),\"Y\"))","v":""},"","",null,null,""]
[195,null,null,"",null,"0000000",null,"福島市",null,null,null,null,"",null,"",{"$f":"IF(N197=\"\",\"\",DATEDIF(N197,DATE(設定シート!$C$2,設定シート!$C$3,設定シート!$C$4),\"Y\"))","v":""},"","",null,null,""]
[196,null,null,"",null,"0000000",null,"福島市",null,null,null,null,"",null,"",{"$f":"IF(N198=\"\",\"\",DATEDIF(N198,DATE(設定シート!$C$2,設定シート!$C$3,設定シート!$C$4),\"Y\"))","v":""},"","",null,null,""]
[197,null,null,"",null,"0000000",null,"福島市",null,null,null,null,"",null,"",{"$f":"IF(N199=\"\",\"\",DATEDIF(N199,DATE(設定シート!$C$2,設定シート!$C$3,設定シート!$C$4),\"Y\"))","v":""},"","",null,null,""]
[198,null,null,"",null,"0000000",null,"福島市",null,null,null,null,"",null,"",{"$f":"IF(N200=\"\",\"\",DATEDIF(N200,DATE(設定シート!$C$2,設定シート!$C$3,設定シート!$C$4),\"Y\"))","v":""},"","",null,null,""]
[199,null,null,"",null,"0000000",null,"福島市",null,null,null,null,"",null,"",{"$f":"IF(N201=\"\",\"\",DATEDIF(N201,DATE(設定シート!$C$2,設定シート!$C$3,設定シート!$C$4),\"Y\"))","v":""},"","",null,null,""]
[200,null,null,"",null,"0000000",null,"福島市",null,null,null,null,"",null,"",{"$f":"IF(N202=\"\",\"\",DATEDIF(N202,DATE(設定シート!$C$2,設定シート!$C$3,設定シート!$C$4),\"Y\"))","v":""},"","",null,null,""]
[201,null,null,"",null,"0000000",null,"福島市",null,null,null,null,"",null,"",{"$f":"IF(N203=\"\",\"\",DATEDIF(N203,DATE(設定シート!$C$2,設定シート!$C$3,設定シート!$C$4),\"Y\"))","v":""},"","",null,null,""]
[202,null,null,"",null,"0000000",null,"福島市",null,null,null,null,"",null,"",{"$f":"IF(N204=\"\",\"\",DATEDIF(N204,DATE(設定シート!$C$2,設定シート!$C$3,設定シート!$C$4),\"Y\"))","v":""},"","",null,null,""]
[203,null,null,"",null,"0000000",null,"福島市",null,null,null,null,"",null,"",{"$f":"IF(N205=\"\",\"\",DATEDIF(N205,DATE(設定シート!$C$2,設定シート!$C$3,設定シート!$C$4),\"Y\"))","v":""},"","",null,null,""]
[204,null,null,"",null,"0000000",null,"福島市",null,null,null,null,"",null,"",{"$f":"IF(N206=\"\",\"\",DATEDIF(N206,DATE(設定シート!$C$2,設定シート!$C$3,設定シート!$C$4),\"Y\"))","v":""},"","",null,null,""]
[205,null,null,"",null,"0000000",null,"福島市",null,null,null,null,"",null,"",{"$f":"IF(N207=\"\",\"\",DATEDIF(N207,DATE(設定シート!$C$2,設定シート!$C$3,設定シート!$C$4),\"Y\"))","v":""},"","",null,null,""]
[206,null,null,"",null,"0000000",null,"福島市",null,null,null,null,"",null,"",{"$f":"IF(N208=\"\",\"\",DATEDIF(N208,DATE(設定シート!$C$2,設定シート!$C$3,設定シート!$C$4),\"Y\"))","v":""},"","",null,null,""]
[207,null,null,"",null,"0000000",null,"福島市",null,null,null,null,"",null,"",{"$f":"IF(N209=\"\",\"\",DATEDIF(N209,DATE(設定シート!$C$2,設定シート!$C$3,設定シート!$C$4),\"Y\"))","v":""},"","",null,null,""]
[208,null,null,"",null,"0000000",null,"福島市",null,null,null,null,"",null,"",{"$f":"IF(N210=\"\",\"\",DATEDIF(N210,DATE(設定シート!$C$2,設定シート!$C$3,設定シート!$C$4),\"Y\"))","v":""},"","",null,null,""]
[209,null,null,"",null,"0000000",null,"福島市",null,null,null,null,"",null,"",{"$f":"IF(N211=\"\",\"\",DATEDIF(N211,DATE(設定シート!$C$2,設定シート!$C$3,設定シート!$C$4),\"Y\"))","v":""},"","",null,null,""]
[210,null,null,"",null,"0000000",null,"福島市",null,null,null,null,"",null,"",{"$f":"IF(N212=\"\",\"\",DATEDIF(N212,DATE(設定シート!$C$2,設定シート!$C$3,設定シート!$C$4),\"Y\"))","v":""},"","",null,null,""]
[211,null,null,"",null,"0000000",null,"福島市",null,null,null,null,"",null,"",{"$f":"IF(N213=\"\",\"\",DATEDIF(N213,DATE(設定シート!$C$2,設定シート!$C$3,設定シート!$C$4),\"Y\"))","v":""},"","",null,null,""]
[212,null,null,"",null,"0000000",null,"福島市",null,null,null,null,"",null,"",{"$f":"IF(N214=\"\",\"\",DATEDIF(N214,DATE(設定シート!$C$2,設定シート!$C$3,設定シート!$C$4),\"Y\"))","v":""},"","",null,null,""]
[213,null,null,"",null,"0000000",null,"福島市",null,null,null,null,"",null,"",{"$f":"IF(N215=\"\",\"\",DATEDIF(N215,DATE(設定シート!$C$2,設定シート!$C$3,設定シート!$C$4),\"Y\"))","v":""},"","",null,null,""]
[214,null,null,"",null,"0000000",null,"福島市",null,null,null,null,"",null,"",{"$f":"IF(N216=\"\",\"\",DATEDIF(N216,DATE(設定シート!$C$2,設定シート!$C$3,設定シート!$C$4),\"Y\"))","v":""},"","",null,null,""]
[215,null,null,"",null,"0000000",null,"福島市",null,null,null,null,"",null,"",{"$f":"IF(N217=\"\",\"\",DATEDIF(N217,DATE(設定シート!$C$2,設定シート!$C$3,設定シート!$C$4),\"Y\"))","v":""},"","",null,null,""]
[216,null,null,"",null,"0000000",null,"福島市",null,null,null,null,"",null,"",{"$f":"IF(N218=\"\",\"\",DATEDIF(N218,DATE(設定シート!$C$2,設定シート!$C$3,設定シート!$C$4),\"Y\"))","v":""},"","",null,null,""]
[217,null,null,"",null,"0000000",null,"福島市",null,null,null,null,"",null,"",{"$f":"IF(N219=\"\",\"\",DATEDIF(N219,DATE(設定シート!$C$2,設定シート!$C$3,設定シート!$C$4),\"Y\"))","v":""},"","",null,null,""]
[218,null,null,"",null,"0000000",null,"福島市",null,null,null,null,"",null,"",{"$f":"IF(N220=\"\",\"\",DATEDIF(N220,DATE(設定シート!$C$2,設定シート!$C$3,設定シート!$C$4),\"Y\"))","v":""},"","",null,null,""]
[219,null,null,"",null,"0000000",null,"福島市",null,null,null,null,"",null,"",{"$f":"IF(N221=\"\",\"\",DATEDIF(N221,DATE(設定シート!$C$2,設定シート!$C$3,設定シート!$C$4),\"Y\"))","v":""},"","",null,null,""]
[220,null,null,"",null,"0000000",null,"福島市",null,null,null,null,"",null,"",{"$f":"IF(N222=\"\",\"\",DATEDIF(N222,DATE(設定シート!$C$2,設定シート!$C$3,設定シート!$C$4),\"Y\"))","v":""},"","",null,null,""]
[221,null,null,"",null,"0000000",null,"福島市",null,null,null,null,"",null,"",{"$f":"IF(N223=\"\",\"\",DATEDIF(N223,DATE(設定シート!$C$2,設定シート!$C$3,設定シート!$C$4),\"Y\"))","v":""},"","",null,null,""]
[222,null,null,"",null,"0000000",null,"福島市",null,null,null,null,"",null,"",{"$f":"IF(N224=\"\",\"\",DATEDIF(N224,DATE(設定シート!$C$2,設定シート!$C$3,設定シート!$C$4),\"Y\"))","v":""},"","",null,null,""]
[223,null,null,"",null,"0000000",null,"福島市",null,null,null,null,"",null,"",{"$f":"IF(N225=\"\",\"\",DATEDIF(N225,DATE(設定シート!$C$2,設定シート!$C$3,設定シート!$C$4),\"Y\"))","v":""},"","",null,null,""]
[224,null,null,"",null,"0000000",null,"福島市",null,null,null,null,"",null,"",{"$f":"IF(N226=\"\",\"\",DATEDIF(N226,DATE(設定シート!$C$2,設定シート!$C$3,設定シート!$C$4),\"Y\"))","v":""},"","",null,null,""]
[225,null,null,"",null,"0000000",null,"福島市",null,null,null,null,"",null,"",{"$f":"IF(N227=\"\",\"\",DATEDIF(N227,DATE(設定シート!$C$2,設定シート!$C$3,設定シート!$C$4),\"Y\"))","v":""},"","",null,null,""]
[226,null,null,"",null,"0000000",null,"福島市",null,null,null,null,"",null,"",{"$f":"IF(N228=\"\",\"\",DATEDIF(N228,DATE(設定シート!$C$2,設定シート!$C$3,設定シート!$C$4),\"Y\"))","v":""},"","",null,null,""]
[227,null,null,"",null,"0000000",null,"福島市",null,null,null,null,"",null,"",{"$f":"IF(N229=\"\",\"\",DATEDIF(N229,DATE(設定シート!$C$2,設定シート!$C$3,設定シート!$C$4),\"Y\"))","v":""},"","",null,null,""]
[228,null,null,"",null,"0000000",null,"福島市",null,null,null,null,"",null,"",{"$f":"IF(N230=\"\",\"\",DATEDIF(N230,DATE(設定シート!$C$2,設定シート!$C$3,設定シート!$C$4),\"Y\"))","v":""},"","",null,null,""]
[229,null,null,"",null,"0000000",null,"福島市",null,null,null,null,"",null,"",{"$f":"IF(N231=\"\",\"\",DATEDIF(N231,DATE(設定シート!$C$2,設定シート!$C$3,設定シート!$C$4),\"Y\"))","v":""},"","",null,null,""]
[230,null,null,"",null,"0000000",null,"福島市",null,null,null,null,"",null,"",{"$f":"IF(N232=\"\",\"\",DATEDIF(N232,DATE(設定シート!$C$2,設定シート!$C$3,設定シート!$C$4),\"Y\"))","v":""},"","",null,null,""]
[231,null,null,"",null,"0000000",null,"福島市",null,null,null,null,"",null,"",{"$f":"IF(N233=\"\",\"\",DATEDIF(N233,DATE(設定シート!$C$2,設定シート!$C$3,設定シート!$C$4),\"Y\"))","v":""},"","",null,null,""]
[232,null,null,"",null,"0000000",null,"福島市",null,null,null,null,"",null,"",{"$f":"IF(N234=\"\",\"\",DATEDIF(N234,DATE(設定シート!$C$2,設定シート!$C$3,設定シート!$C$4),\"Y\"))","v":""},"","",null,null,""]
[233,null,null,"",null,"0000000",null,"福島市",null,null,null,null,"",null,"",{"$f":"IF(N235=\"\",\"\",DATEDIF(N235,DATE(設定シート!$C$2,設定シート!$C$3,設定シート!$C$4),\"Y\"))","v":""},"","",null,null,""]
[234,null,null,"",null,"0000000",null,"福島市",null,null,null,null,"",null,"",{"$f":"IF(N236=\"\",\"\",DATEDIF(N236,DATE(設定シート!$C$2,設定シート!$C$3,設定シート!$C$4),\"Y\"))","v":""},"","",null,null,""]
[235,null,null,"",null,"0000000",null,"福島市",null,null,null,null,"",null,"",{"$f":"IF(N237=\"\",\"\",DATEDIF(N237,DATE(設定シート!$C$2,設定シート!$C$3,設定シート!$C$4),\"Y\"))","v":""},"","",null,null,""]
[236,null,null,"",null,"0000000",null,"福島市",null,null,null,null,"",null,"",{"$f":"IF(N238=\"\",\"\",DATEDIF(N238,DATE(設定シート!$C$2,設定シート!$C$3,設定シート!$C$4),\"Y\"))","v":""},"","",null,null,""]
[237,null,null,"",null,"0000000",null,"福島市",null,null,null,null,"",null,"",{"$f":"IF(N239=\"\",\"\",DATEDIF(N239,DATE(設定シート!$C$2,設定シート!$C$3,設定シート!$C$4),\"Y\"))","v":""},"","",null,null,""]
[238,null,null,"",null,"0000000",null,"福島市",null,null,null,null,"",null,"",{"$f":"IF(N240=\"\",\"\",DATEDIF(N240,DATE(設定シート!$C$2,設定シート!$C$3,設定シート!$C$4),\"Y\"))","v":""},"","",null,null,""]
[239,null,null,"",null,"0000000",null,"福島市",null,null,null,null,"",null,"",{"$f":"IF(N241=\"\",\"\",DATEDIF(N241,DATE(設定シート!$C$2,設定シート!$C$3,設定シート!$C$4),\"Y\"))","v":""},"","",null,null,""]
[240,null,null,"",null,"0000000",null,"福島市",null,null,null,null,"",null,"",{"$f":"IF(N242=\"\",\"\",DATEDIF(N242,DATE(設定シート!$C$2,設定シート!$C$3,設定シート!$C$4),\"Y\"))","v":""},"","",null,null,""]
[241,null,null,"",null,"0000000",null,"福島市",null,null,null,null,"",null,"",{"$f":"IF(N243=\"\",\"\",DATEDIF(N243,DATE(設定シート!$C$2,設定シート!$C$3,設定シート!$C$4),\"Y\"))","v":""},"","",null,null,""]
[242,null,null,"",null,"0000000",null,"福島市",null,null,null,null,"",null,"",{"$f":"IF(N244=\"\",\"\",DATEDIF(N244,DATE(設定シート!$C$2,設定シート!$C$3,設定シート!$C$4),\"Y\"))","v":""},"","",null,null,""]
[243,null,null,"",null,"0000000",null,"福島市",null,null,null,null,"",null,"",{"$f":"IF(N245=\"\",\"\",DATEDIF(N245,DATE(設定シート!$C$2,設定シート!$C$3,設定シート!$C$4),\"Y\"))","v":""},"","",null,null,""]
[244,null,null,"",null,"0000000",null,"福島市",null,null,null,null,"",null,"",{"$f":"IF(N246=\"\",\"\",DATEDIF(N246,DATE(設定シート!$C$2,設定シート!$C$3,設定シート!$C$4),\"Y\"))","v":""},"","",null,null,""]
[245,null,null,"",null,"0000000",null,"福島市",null,null,null,null,"",null,"",{"$f":"IF(N247=\"\",\"\",DATEDIF(N247,DATE(設定シート!$C$2,設定シート!$C$3,設定シート!$C$4),\"Y\"))","v":""},"","",null,null,""]
[246,null,null,"",null,"0000000",null,"福島市",null,null,null,null,"",null,"",{"$f":"IF(N248=\"\",\"\",DATEDIF(N248,DATE(設定シート!$C$2,設定シート!$C$3,設定シート!$C$4),\"Y\"))","v":""},"","",null,null,""]
[247,null,null,"",null,"0000000",null,"福島市",null,null,null,null,"",null,"",{"$f":"IF(N249=\"\",\"\",DATEDIF(N249,DATE(設定シート!$C$2,設定シート!$C$3,設定シート!$C$4),\"Y\"))","v":""},"","",null,null,""]
[248,null,null,"",null,"0000000",null,"福島市",null,null,null,null,"",null,"",{"$f":"IF(N250=\"\",\"\",DATEDIF(N250,DATE(設定シート!$C$2,設定シート!$C$3,設定シート!$C$4),\"Y\"))","v":""},"","",null,null,""]
[249,null,null,"",null,"0000000",null,"福島市",null,null,null,null,"",null,"",{"$f":"IF(N251=\"\",\"\",DATEDIF(N251,DATE(設定シート!$C$2,設定シート!$C$3,設定シート!$C$4),\"Y\"))","v":""},"","",null,null,""]
[250,null,null,"",null,"0000000",null,"福島市",null,null,null,null,"",null,"",{"$f":"IF(N252=\"\",\"\",DATEDIF(N252,DATE(設定シート!$C$2,設定シート!$C$3,設定シート!$C$4),\"Y\"))","v":""},"","",null,null,""]
[251,null,null,"",null,"0000000",null,"福島市",null,null,null,null,"",null,"",{"$f":"IF(N253=\"\",\"\",DATEDIF(N253,DATE(設定シート!$C$2,設定シート!$C$3,設定シート!$C$4),\"Y\"))","v":""},"","",null,null,""]
[252,null,null,"",null,"0000000",null,"福島市",null,null,null,null,"",null,"",{"$f":"IF(N254=\"\",\"\",DATEDIF(N254,DATE(設定シート!$C$2,設定シート!$C$3,設定シート!$C$4),\"Y\"))","v":""},"","",null,null,""]
[253,null,null,"",null,"0000000",null,"福島市",null,null,null,null,"",null,"",{"$f":"IF(N255=\"\",\"\",DATEDIF(N255,DATE(設定シート!$C$2,設定シート!$C$3,設定シート!$C$4),\"Y\"))","v":""},"","",null,null,""]
[254,null,null,"",null,"0000000",null,"福島市",null,null,null,null,"",null,"",{"$f":"IF(N256=\"\",\"\",DATEDIF(N256,DATE(設定シート!$C$2,設定シート!$C$3,設定シート!$C$4),\"Y\"))","v":""},"","",null,null,""]
[255,null,null,"",null,"0000000",null,"福島市",null,null,null,null,"",null,"",{"$f":"IF(N257=\"\",\"\",DATEDIF(N257,DATE(設定シート!$C$2,設定シート!$C$3,設定シート!$C$4),\"Y\"))","v":""},"","",null,null,""]
[256,null,null,"",null,"0000000",null,"福島市",null,null,null,null,"",null,"",{"$f":"IF(N258=\"\",\"\",DATEDIF(N258,DATE(設定シート!$C$2,設定シート!$C$3,設定シート!$C$4),\"Y\"))","v":""},"","",null,null,""]
[257,null,null,{"$f":"PHONETIC(C259)","v":""},null,{"$f":"TEXT(B259,\"0000000\")","v":"0000000"},null,"福島市",null,null,null,null,{"$f":"IF(L259=1,\"男\",IF(L259=2,\"女\",\"\"))","v":""},null,{"$f":"IF(OR(E259=\"\",N259=\"\"),\"\",DATEDIF(N259,E259,\"Y\"))","v":""},{"$f":"IF(N259=\"\",\"\",DATEDIF(N259,DATE(設定シート!$C$2,設定シート!$C$3,設定シート!$C$4),\"Y\"))","v":""},{"$f":"IF(P259=\"\",\"\",IF(P259<=69,1,IF(P259>=70,2,\"\")))","v":""},{"$f":"IF(OR(Q259=1,Q259=\"1\"),\"有料\",IF(OR(Q259=2,Q259=\"2\"),\"70・後\",IF(Q259=3,\"生保\",IF(Q259=4,\"非課税\",\"\"))))","v":""},null,null,{"$f":"IF(AND(L259=2,P259>=60),\"一単独\",IF(AND(L259=2,P259>=50,P259<60),\"一併用\",IF(AND(L259=2,P259>=40,P259<50),\"二併用\",\"\")))","v":""}]
[{"$f":"ROW()-2","v":258},null,null,"",null,"0000000",null,"福島市",null,null,null,null,"",null,"",{"$f":"IF(N260=\"\",\"\",DATEDIF(N260,DATE(設定シート!$C$2,設定シート!$C$3,設定シート!$C$4),\"Y\"))","v":""},"","",null,null,""]
[259,null,null,"",null,"0000000",null,"福島市",null,null,null,null,"",null,"",{"$f":"IF(N261=\"\",\"\",DATEDIF(N261,DATE(設定シート!$C$2,設定シート!$C$3,設定シート!$C$4),\"Y\"))","v":""},"","",null,null,""]
[260,null,null,"",null,"0000000",null,"福島市",null,null,null,null,"",null,"",{"$f":"IF(N262=\"\",\"\",DATEDIF(N262,DATE(設定シート!$C$2,設定シート!$C$3,設定シート!$C$4),\"Y\"))","v":""},"","",null,null,""]
[261,null,null,"",null,"0000000",null,"福島市",null,null,null,null,"",null,"",{"$f":"IF(N263=\"\",\"\",DATEDIF(N263,DATE(設定シート!$C$2,設定シート!$C$3,設定シート!$C$4),\"Y\"))","v":""},"","",null,null,""]
[262,null,null,"",null,"0000000",null,"福島市",null,null,null,null,"",null,"",{"$f":"IF(N264=\"\",\"\",DATEDIF(N264,DATE(設定シート!$C$2,設定シート!$C$3,設定シート!$C$4),\"Y\"))","v":""},"","",null,null,""]
[263,null,null,"",null,"0000000",null,"福島市",null,null,null,null,"",null,"",{"$f":"IF(N265=\"\",\"\",DATEDIF(N265,DATE(設定シート!$C$2,設定シート!$C$3,設定シート!$C$4),\"Y\"))","v":""},"","",null,null,""]
[264,null,null,"",null,"0000000",null,"福島市",null,null,null,null,"",null,"",{"$f":"IF(N266=\"\",\"\",DATEDIF(N266,DATE(設定シート!$C$2,設定シート!$C$3,設定シート!$C$4),\"Y\"))","v":""},"","",null,null,""]
[265,null,null,"",null,"0000000",null,"福島市",null,null,null,null,"",null,"",{"$f":"IF(N267=\"\",\"\",DATEDIF(N267,DATE(設定シート!$C$2,設定シート!$C$3,設定シート!$C$4),\"Y\"))","v":""},"","",null,null,""]
[266,null,null,"",null,"0000000",null,"福島市",null,null,null,null,"",null,"",{"$f":"IF(N268=\"\",\"\",DATEDIF(N268,DATE(設定シート!$C$2,設定シート!$C$3,設定シート!$C$4),\"Y\"))","v":""},"","",null,null,""]
[267,null,null,"",null,"0000000",null,"福島市",null,null,null,null,"",null,"",{"$f":"IF(N269=\"\",\"\",DATEDIF(N269,DATE(設定シート!$C$2,設定シート!$C$3,設定シート!$C$4),\"Y\"))","v":""},"","",null,null,""]
[268,null,null,"",null,"0000000",null,"福島市",null,null,null,null,"",null,"",{"$f":"IF(N270=\"\",\"\",DATEDIF(N270,DATE(設定シート!$C$2,設定シート!$C$3,設定シート!$C$4),\"Y\"))","v":""},"","",null,null,""]
[269,null,null,"",null,"0000000",null,"福島市",null,null,null,null,"",null,"",{"$f":"IF(N271=\"\",\"\",DATEDIF(N271,DATE(設定シート!$C$2,設定シート!$C$3,設定シート!$C$4),\"Y\"))","v":""},"","",null,null,""]
[270,null,null,"",null,"0000000",null,"福島市",null,null,null,null,"",null,"",{"$f":"IF(N272=\"\",\"\",DATEDIF(N272,DATE(設定シート!$C$2,設定シート!$C$3,設定シート!$C$4),\"Y\"))","v":""},"","",null,null,""]
[271,null,null,"",null,"0000000",null,"福島市",null,null,null,null,"",null,"",{"$f":"IF(N273=\"\",\"\",DATEDIF(N273,DATE(設定シート!$C$2,設定シート!$C$3,設定シート!$C$4),\"Y\"))","v":""},"","",null,null,""]
[272,null,null,"",null,"0000000",null,"福島市",null,null,null,null,"",null,"",{"$f":"IF(N274=\"\",\"\",DATEDIF(N274,DATE(設定シート!$C$2,設定シート!$C$3,設定シート!$C$4),\"Y\"))","v":""},"","",null,null,""]
[273,null,null,"",null,"0000000",null,"福島市",null,null,null,null,"",null,"",{"$f":"IF(N275=\"\",\"\",DATEDIF(N275,DATE(設定シート!$C$2,設定シート!$C$3,設定シート!$C$4),\"Y\"))","v":""},"","",null,null,""]
[274,null,null,"",null,"0000000",null,"福島市",null,null,null,null,"",null,"",{"$f":"IF(N276=\"\",\"\",DATEDIF(N276,DATE(設定シート!$C$2,設定シート!$C$3,設定シート!$C$4),\"Y\"))","v":""},"","",null,null,""]
[275,null,null,"",null,"0000000",null,"福島市",null,null,null,null,"",null,"",{"$f":"IF(N277=\"\",\"\",DATEDIF(N277,DATE(設定シート!$C$2,設定シート!$C$3,設定シート!$C$4),\"Y\"))","v":""},"","",null,null,""]
[276,null,null,"",null,"0000000",null,"福島市",null,null,null,null,"",null,"",{"$f":"IF(N278=\"\",\"\",DATEDIF(N278,DATE(設定シート!$C$2,設定シート!$C$3,設定シート!$C$4),\"Y\"))","v":""},"","",null,null,""]
[277,null,null,"",null,"0000000",null,"福島市",null,null,null,null,"",null,"",{"$f":"IF(N279=\"\",\"\",DATEDIF(N279,DATE(設定シート!$C$2,設定シート!$C$3,設定シート!$C$4),\"Y\"))","v":""},"","",null,null,""]
[278,null,null,"",null,"0000000",null,"福島市",null,null,null,null,"",null,"",{"$f":"IF(N280=\"\",\"\",DATEDIF(N280,DATE(設定シート!$C$2,設定シート!$C$3,設定シート!$C$4),\"Y\"))","v":""},"","",null,null,""]
[279,null,null,"",null,"0000000",null,"福島市",null,null,null,null,"",null,"",{"$f":"IF(N281=\"\",\"\",DATEDIF(N281,DATE(設定シート!$C$2,設定シート!$C$3,設定シート!$C$4),\"Y\"))","v":""},"","",null,null,""]
[280,null,null,"",null,"0000000",null,"福島市",null,null,null,null,"",null,"",{"$f":"IF(N282=\"\",\"\",DATEDIF(N282,DATE(設定シート!$C$2,設定シート!$C$3,設定シート!$C$4),\"Y\"))","v":""},"","",null,null,""]
[281,null,null,"",null,"0000000",null,"福島市",null,null,null,null,"",null,"",{"$f":"IF(N283=\"\",\"\",DATEDIF(N283,DATE(設定シート!$C$2,設定シート!$C$3,設定シート!$C$4),\"Y\"))","v":""},"","",null,null,""]
[282,null,null,"",null,"0000000",null,"福島市",null,null,null,null,"",null,"",{"$f":"IF(N284=\"\",\"\",DATEDIF(N284,DATE(設定シート!$C$2,設定シート!$C$3,設定シート!$C$4),\"Y\"))","v":""},"","",null,null,""]
[283,null,null,"",null,"0000000",null,"福島市",null,null,null,null,"",null,"",{"$f":"IF(N285=\"\",\"\",DATEDIF(N285,DATE(設定シート!$C$2,設定シート!$C$3,設定シート!$C$4),\"Y\"))","v":""},"","",null,null,""]
[284,null,null,"",null,"0000000",null,"福島市",null,null,null,null,"",null,"",{"$f":"IF(N286=\"\",\"\",DATEDIF(N286,DATE(設定シート!$C$2,設定シート!$C$3,設定シート!$C$4),\"Y\"))","v":""},"","",null,null,""]
[285,null,null,"",null,"0000000",null,"福島市",null,null,null,null,"",null,"",{"$f":"IF(N287=\"\",\"\",DATEDIF(N287,DATE(設定シート!$C$2,設定シート!$C$3,設定シート!$C$4),\"Y\"))","v":""},"","",null,null,""]
[286,null,null,"",null,"0000000",null,"福島市",null,null,null,null,"",null,"",{"$f":"IF(N288=\"\",\"\",DATEDIF(N288,DATE(設定シート!$C$2,設定シート!$C$3,設定シート!$C$4),\"Y\"))","v":""},"","",null,null,""]
[287,null,null,"",null,"0000000",null,"福島市",null,null,null,null,"",null,"",{"$f":"IF(N289=\"\",\"\",DATEDIF(N289,DATE(設定シート!$C$2,設定シート!$C$3,設定シート!$C$4),\"Y\"))","v":""},"","",null,null,""]
[288,null,null,"",null,"0000000",null,"福島市",null,null,null,null,"",null,"",{"$f":"IF(N290=\"\",\"\",DATEDIF(N290,DATE(設定シート!$C$2,設定シート!$C$3,設定シート!$C$4),\"Y\"))","v":""},"","",null,null,""]
[289,null,null,"",null,"0000000",null,"福島市",null,null,null,null,"",null,"",{"$f":"IF(N291=\"\",\"\",DATEDIF(N291,DATE(設定シート!$C$2,設定シート!$C$3,設定シート!$C$4),\"Y\"))","v":""},"","",null,null,""]
[290,null,null,"",null,"0000000",null,"福島市",null,null,null,null,"",null,"",{"$f":"IF(N292=\"\",\"\",DATEDIF(N292,DATE(設定シート!$C$2,設定シート!$C$3,設定シート!$C$4),\"Y\"))","v":""},"","",null,null,""]
[291,null,null,"",null,"0000000",null,"福島市",null,null,null,null,"",null,"",{"$f":"IF(N293=\"\",\"\",DATEDIF(N293,DATE(設定シート!$C$2,設定シート!$C$3,設定シート!$C$4),\"Y\"))","v":""},"","",null,null,""]
[292,null,null,"",null,"0000000",null,"福島市",null,null,null,null,"",null,"",{"$f":"IF(N294=\"\",\"\",DATEDIF(N294,DATE(設定シート!$C$2,設定シート!$C$3,設定シート!$C$4),\"Y\"))","v":""},"","",null,null,""]
[293,null,null,"",null,"0000000",null,"福島市",null,null,null,null,"",null,"",{"$f":"IF(N295=\"\",\"\",DATEDIF(N295,DATE(設定シート!$C$2,設定シート!$C$3,設定シート!$C$4),\"Y\"))","v":""},"","",null,null,""]
[294,null,null,"",null,"0000000",null,"福島市",null,null,null,null,"",null,"",{"$f":"IF(N296=\"\",\"\",DATEDIF(N296,DATE(設定シート!$C$2,設定シート!$C$3,設定シート!$C$4),\"Y\"))","v":""},"","",null,null,""]
[295,null,null,"",null,"0000000",null,"福島市",null,null,null,null,"",null,"",{"$f":"IF(N297=\"\",\"\",DATEDIF(N297,DATE(設定シート!$C$2,設定シート!$C$3,設定シート!$C$4),\"Y\"))","v":""},"","",null,null,""]
[296,null,null,"",null,"0000000",null,"福島市",null,null,null,null,"",null,"",{"$f":"IF(N298=\"\",\"\",DATEDIF(N298,DATE(設定シート!$C$2,設定シート!$C$3,設定シート!$C$4),\"Y\"))","v":""},"","",null,null,""]
[297,null,null,"",null,"0000000",null,"福島市",null,null,null,null,"",null,"",{"$f":"IF(N299=\"\",\"\",DATEDIF(N299,DATE(設定シート!$C$2,設定シート!$C$3,設定シート!$C$4),\"Y\"))","v":""},"","",null,null,""]
[298,null,null,"",null,"0000000",null,"福島市",null,null,null,null,"",null,"",{"$f":"IF(N300=\"\",\"\",DATEDIF(N300,DATE(設定シート!$C$2,設定シート!$C$3,設定シート!$C$4),\"Y\"))","v":""},"","",null,null,""]
[299,null,null,"",null,"0000000",null,"福島市",null,null,null,null,"",null,"",{"$f":"IF(N301=\"\",\"\",DATEDIF(N301,DATE(設定シート!$C$2,設定シート!$C$3,設定シート!$C$4),\"Y\"))","v":""},"","",null,null,""]
[300,null,null,"",null,"0000000",null,"福島市",null,null,null,null,"",null,"",{"$f":"IF(N302=\"\",\"\",DATEDIF(N302,DATE(設定シート!$C$2,設定シート!$C$3,設定シート!$C$4),\"Y\"))","v":""},"","",null,null,""]
[301,null,null,"",null,"0000000",null,"福島市",null,null,null,null,"",null,"",{"$f":"IF(N303=\"\",\"\",DATEDIF(N303,DATE(設定シート!$C$2,設定シート!$C$3,設定シート!$C$4),\"Y\"))","v":""},"","",null,null,""]
[302,null,null,"",null,"0000000",null,"福島市",null,null,null,null,"",null,"",{"$f":"IF(N304=\"\",\"\",DATEDIF(N304,DATE(設定シート!$C$2,設定シート!$C$3,設定シート!$C$4),\"Y\"))","v":""},"","",null,null,""]
[303,null,null,"",null,"0000000",null,"福島市",null,null,null,null,"",null,"",{"$f":"IF(N305=\"\",\"\",DATEDIF(N305,DATE(設定シート!$C$2,設定シート!$C$3,設定シート!$C$4),\"Y\"))","v":""},"","",null,null,""]
[304,null,null,"",null,"0000000",null,"福島市",null,null,null,null,"",null,"",{"$f":"IF(N306=\"\",\"\",DATEDIF(N306,DATE(設定シート!$C$2,設定シート!$C$3,設定シート!$C$4),\"Y\"))","v":""},"","",null,null,""]
[305,null,null,"",null,"0000000",null,"福島市",null,null,null,null,"",null,"",{"$f":"IF(N307=\"\",\"\",DATEDIF(N307,DATE(設定シート!$C$2,設定シート!$C$3,設定シート!$C$4),\"Y\"))","v":""},"","",null,null,""]
[306,null,null,"",null,"0000000",null,"福島市",null,null,null,null,"",null,"",{"$f":"IF(N308=\"\",\"\",DATEDIF(N308,DATE(設定シート!$C$2,設定シート!$C$3,設定シート!$C$4),\"Y\"))","v":""},"","",null,null,""]
[307,null,null,"",null,"0000000",null,"福島市",null,null,null,null,"",null,"",{"$f":"IF(N309=\"\",\"\",DATEDIF(N309,DATE(設定シート!$C$2,設定シート!$C$3,設定シート!$C$4),\"Y\"))","v":""},"","",null,null,""]
[308,null,null,"",null,"0000000",null,"福島市",null,null,null,null,"",null,"",{"$f":"IF(N310=\"\",\"\",DATEDIF(N310,DATE(設定シート!$C$2,設定シート!$C$3,設定シート!$C$4),\"Y\"))","v":""},"","",null,null,""]
[309,null,null,"",null,"0000000",null,"福島市",null,null,null,null,"",null,"",{"$f":"IF(N311=\"\",\"\",DATEDIF(N311,DATE(設定シート!$C$2,設定シート!$C$3,設定シート!$C$4),\"Y\"))","v":""},"","",null,null,""]
[310,null,null,"",null,"0000000",null,"福島市",null,null,null,null,"",null,"",{"$f":"IF(N312=\"\",\"\",DATEDIF(N312,DATE(設定シート!$C$2,設定シート!$C$3,設定シート!$C$4),\"Y\"))","v":""},"","",null,null,""]
[311,null,null,"",null,"0000000",null,"福島市",null,null,null,null,"",null,"",{"$f":"IF(N313=\"\",\"\",DATEDIF(N313,DATE(設定シート!$C$2,設定シート!$C$3,設定シート!$C$4),\"Y\"))","v":""},"","",null,null,""]
[312,null,null,"",null,"0000000",null,"福島市",null,null,null,null,"",null,"",{"$f":"IF(N314=\"\",\"\",DATEDIF(N314,DATE(設定シート!$C$2,設定シート!$C$3,設定シート!$C$4),\"Y\"))","v":""},"","",null,null,""]
[313,null,null,"",null,"0000000",null,"福島市",null,null,null,null,"",null,"",{"$f":"IF(N315=\"\",\"\",DATEDIF(N315,DATE(設定シート!$C$2,設定シート!$C$3,設定シート!$C$4),\"Y\"))","v":""},"","",null,null,""]
[314,null,null,"",null,"0000000",null,"福島市",null,null,null,null,"",null,"",{"$f":"IF(N316=\"\",\"\",DATEDIF(N316,DATE(設定シート!$C$2,設定シート!$C$3,設定シート!$C$4),\"Y\"))","v":""},"","",null,null,""]
[315,null,null,"",null,"0000000",null,"福島市",null,null,null,null,"",null,"",{"$f":"IF(N317=\"\",\"\",DATEDIF(N317,DATE(設定シート!$C$2,設定シート!$C$3,設定シート!$C$4),\"Y\"))","v":""},"","",null,null,""]
[316,null,null,"",null,"0000000",null,"福島市",null,null,null,null,"",null,"",{"$f":"IF(N318=\"\",\"\",DATEDIF(N318,DATE(設定シート!$C$2,設定シート!$C$3,設定シート!$C$4),\"Y\"))","v":""},"","",null,null,""]
[317,null,null,"",null,"0000000",null,"福島市",null,null,null,null,"",null,"",{"$f":"IF(N319=\"\",\"\",DATEDIF(N319,DATE(設定シート!$C$2,設定シート!$C$3,設定シート!$C$4),\"Y\"))","v":""},"","",null,null,""]
[318,null,null,"",null,"0000000",null,"福島市",null,null,null,null,"",null,"",{"$f":"IF(N320=\"\",\"\",DATEDIF(N320,DATE(設定シート!$C$2,設定シート!$C$3,設定シート!$C$4),\"Y\"))","v":""},"","",null,null,""]
[319,null,null,"",null,"0000000",null,"福島市",null,null,null,null,"",null,"",{"$f":"IF(N321=\"\",\"\",DATEDIF(N321,DATE(設定シート!$C$2,設定シート!$C$3,設定シート!$C$4),\"Y\"))","v":""},"","",null,null,""]
[320,null,null,"",null,"0000000",null,"福島市",null,null,null,null,"",null,"",{"$f":"IF(N322=\"\",\"\",DATEDIF(N322,DATE(設定シート!$C$2,設定シート!$C$3,設定シート!$C$4),\"Y\"))","v":""},"","",null,null,""]
[321,null,null,{"$f":"PHONETIC(C323)","v":""},null,{"$f":"TEXT(B323,\"0000000\")","v":"0000000"},null,"福島市",null,null,null,null,{"$f":"IF(L323=1,\"男\",IF(L323=2,\"女\",\"\"))","v":""},null,{"$f":"IF(OR(E323=\"\",N323=\"\"),\"\",DATEDIF(N323,E323,\"Y\"))","v":""},{"$f":"IF(N323=\"\",\"\",DATEDIF(N323,DATE(設定シート!$C$2,設定シート!$C$3,設定シート!$C$4),\"Y\"))","v":""},{"$f":"IF(P323=\"\",\"\",IF(P323<=69,1,IF(P323>=70,2,\"\")))","v":""},{"$f":"IF(OR(Q323=1,Q323=\"1\"),\"有料\",IF(OR(Q323=2,Q323=\"2\"),\"70・後\",IF(Q323=3,\"生保\",IF(Q323=4,\"非課税\",\"\"))))","v":""},null,null,{"$f":"IF(AND(L323=2,P323>=60),\"一単独\",IF(AND(L323=2,P323>=50,P323<60),\"一併用\",IF(AND(L323=2,P323>=40,P323<50),\"二併用\",\"\")))","v":""}]
[{"$f":"ROW()-2","v":322},null,null,"",null,"0000000",null,"福島市",null,null,null,null,"",null,"",{"$f":"IF(N324=\"\",\"\",DATEDIF(N324,DATE(設定シート!$C$2,設定シート!$C$3,設定シート!$C$4),\"Y\"))","v":""},"","",null,null,""]
[323,null,null,"",null,"0000000",null,"福島市",null,null,null,null,"",null,"",{"$f":"IF(N325=\"\",\"\",DATEDIF(N325,DATE(設定シート!$C$2,設定シート!$C$3,設定シート!$C$4),\"Y\"))","v":""},"","",null,null,""]
[324,null,null,"",null,"0000000",null,"福島市",null,null,null,null,"",null,"",{"$f":"IF(N326=\"\",\"\",DATEDIF(N326,DATE(設定シート!$C$2,設定シート!$C$3,設定シート!$C$4),\"Y\"))","v":""},"","",null,null,""]
[325,null,null,"",null,"0000000",null,"福島市",null,null,null,null,"",null,"",{"$f":"IF(N327=\"\",\"\",DATEDIF(N327,DATE(設定シート!$C$2,設定シート!$C$3,設定シート!$C$4),\"Y\"))","v":""},"","",null,null,""]
[326,null,null,"",null,"0000000",null,"福島市",null,null,null,null,"",null,"",{"$f":"IF(N328=\"\",\"\",DATEDIF(N328,DATE(設定シート!$C$2,設定シート!$C$3,設定シート!$C$4),\"Y\"))","v":""},"","",null,null,""]
[327,null,null,"",null,"0000000",null,"福島市",null,null,null,null,"",null,"",{"$f":"IF(N329=\"\",\"\",DATEDIF(N329,DATE(設定シート!$C$2,設定シート!$C$3,設定シート!$C$4),\"Y\"))","v":""},"","",null,null,""]
[328,null,null,"",null,"0000000",null,"福島市",null,null,null,null,"",null,"",{"$f":"IF(N330=\"\",\"\",DATEDIF(N330,DATE(設定シート!$C$2,設定シート!$C$3,設定シート!$C$4),\"Y\"))","v":""},"","",null,null,""]
[329,null,null,"",null,"0000000",null,"福島市",null,null,null,null,"",null,"",{"$f":"IF(N331=\"\",\"\",DATEDIF(N331,DATE(設定シート!$C$2,設定シート!$C$3,設定シート!$C$4),\"Y\"))","v":""},"","",null,null,""]
[330,null,null,"",null,"0000000",null,"福島市",null,null,null,null,"",null,"",{"$f":"IF(N332=\"\",\"\",DATEDIF(N332,DATE(設定シート!$C$2,設定シート!$C$3,設定シート!$C$4),\"Y\"))","v":""},"","",null,null,""]
[331,null,null,"",null,"0000000",null,"福島市",null,null,null,null,"",null,"",{"$f":"IF(N333=\"\",\"\",DATEDIF(N333,DATE(設定シート!$C$2,設定シート!$C$3,設定シート!$C$4),\"Y\"))","v":""},"","",null,null,""]
[332,null,null,"",null,"0000000",null,"福島市",null,null,null,null,"",null,"",{"$f":"IF(N334=\"\",\"\",DATEDIF(N334,DATE(設定シート!$C$2,設定シート!$C$3,設定シート!$C$4),\"Y\"))","v":""},"","",null,null,""]
[333,null,null,"",null,"0000000",null,"福島市",null,null,null,null,"",null,"",{"$f":"IF(N335=\"\",\"\",DATEDIF(N335,DATE(設定シート!$C$2,設定シート!$C$3,設定シート!$C$4),\"Y\"))","v":""},"","",null,null,""]
[334,null,null,"",null,"0000000",null,"福島市",null,null,null,null,"",null,"",{"$f":"IF(N336=\"\",\"\",DATEDIF(N336,DATE(設定シート!$C$2,設定シート!$C$3,設定シート!$C$4),\"Y\"))","v":""},"","",null,null,""]
[335,null,null,"",null,"0000000",null,"福島市",null,null,null,null,"",null,"",{"$f":"IF(N337=\"\",\"\",DATEDIF(N337,DATE(設定シート!$C$2,設定シート!$C$3,設定シート!$C$4),\"Y\"))","v":""},"","",null,null,""]
[336,null,null,"",null,"0000000",null,"福島市",null,null,null,null,"",null,"",{"$f":"IF(N338=\"\",\"\",DATEDIF(N338,DATE(設定シート!$C$2,設定シート!$C$3,設定シート!$C$4),\"Y\"))","v":""},"","",null,null,""]
[337,null,null,"",null,"0000000",null,"福島市",null,null,null,null,"",null,"",{"$f":"IF(N339=\"\",\"\",DATEDIF(N339,DATE(設定シート!$C$2,設定シート!$C$3,設定シート!$C$4),\"Y\"))","v":""},"","",null,null,""]
[338,null,null,"",null,"0000000",null,"福島市",null,null,null,null,"",null,"",{"$f":"IF(N340=\"\",\"\",DATEDIF(N340,DATE(設定シート!$C$2,設定シート!$C$3,設定シート!$C$4),\"Y\"))","v":""},"","",null,null,""]
[339,null,null,"",null,"0000000",null,"福島市",null,null,null,null,"",null,"",{"$f":"IF(N341=\"\",\"\",DATEDIF(N341,DATE(設定シート!$C$2,設定シート!$C$3,設定シート!$C$4),\"Y\"))","v":""},"","",null,null,""]
[340,null,null,"",null,"0000000",null,"福島市",null,null,null,null,"",null,"",{"$f":"IF(N342=\"\",\"\",DATEDIF(N342,DATE(設定シート!$C$2,設定シート!$C$3,設定シート!$C$4),\"Y\"))","v":""},"","",null,null,""]
[341,null,null,"",null,"0000000",null,"福島市",null,null,null,null,"",null,"",{"$f":"IF(N343=\"\",\"\",DATEDIF(N343,DATE(設定シート!$C$2,設定シート!$C$3,設定シート!$C$4),\"Y\"))","v":""},"","",null,null,""]
[342,null,null,"",null,"0000000",null,"福島市",null,null,null,null,"",null,"",{"$f":"IF(N344=\"\",\"\",DATEDIF(N344,DATE(設定シート!$C$2,設定シート!$C$3,設定シート!$C$4),\"Y\"))","v":""},"","",null,null,""]
[343,null,null,"",null,"0000000",null,"福島市",null,null,null,null,"",null,"",{"$f":"IF(N345=\"\",\"\",DATEDIF(N345,DATE(設定シート!$C$2,設定シート!$C$3,設定シート!$C$4),\"Y\"))","v":""},"","",null,null,""]
[344,null,null,"",null,"0000000",null,"福島市",null,null,null,null,"",null,"",{"$f":"IF(N346=\"\",\"\",DATEDIF(N346,DATE(設定シート!$C$2,設定シート!$C$3,設定シート!$C$4),\"Y\"))","v":""},"","",null,null,""]
[345,null,null,"",null,"0000000",null,"福島市",null,null,null,null,"",null,"",{"$f":"IF(N347=\"\",\"\",DATEDIF(N347,DATE(設定シート!$C$2,設定シート!$C$3,設定シート!$C$4),\"Y\"))","v":""},"","",null,null,""]
[346,null,null,"",null,"0000000",null,"福島市",null,null,null,null,"",null,"",{"$f":"IF(N348=\"\",\"\",DATEDIF(N348,DATE(設定シート!$C$2,設定シート!$C$3,設定シート!$C$4),\"Y\"))","v":""},"","",null,null,""]
[347,null,null,"",null,"0000000",null,"福島市",null,null,null,null,"",null,"",{"$f":"IF(N349=\"\",\"\",DATEDIF(N349,DATE(設定シート!$C$2,設定シート!$C$3,設定シート!$C$4),\"Y\"))","v":""},"","",null,null,""]
[348,null,null,"",null,"0000000",null,"福島市",null,null,null,null,"",null,"",{"$f":"IF(N350=\"\",\"\",DATEDIF(N350,DATE(設定シート!$C$2,設定シート!$C$3,設定シート!$C$4),\"Y\"))","v":""},"","",null,null,""]
[349,null,null,"",null,"0000000",null,"福島市",null,null,null,null,"",null,"",{"$f":"IF(N351=\"\",\"\",DATEDIF(N351,DATE(設定シート!$C$2,設定シート!$C$3,設定シート!$C$4),\"Y\"))","v":""},"","",null,null,""]
[350,null,null,"",null,"0000000",null,"福島市",null,null,null,null,"",null,"",{"$f":"IF(N352=\"\",\"\",DATEDIF(N352,DATE(設定シート!$C$2,設定シート!$C$3,設定シート!$C$4),\"Y\"))","v":""},"","",null,null,""]
[351,null,null,"",null,"0000000",null,"福島市",null,null,null,null,"",null,"",{"$f":"IF(N353=\"\",\"\",DATEDIF(N353,DATE(設定シート!$C$2,設定シート!$C$3,設定シート!$C$4),\"Y\"))","v":""},"","",null,null,""]
[352,null,null,"",null,"0000000",null,"福島市",null,null,null,null,"",null,"",{"$f":"IF(N354=\"\",\"\",DATEDIF(N354,DATE(設定シート!$C$2,設定シート!$C$3,設定シート!$C$4),\"Y\"))","v":""},"","",null,null,""]
[353,null,null,"",null,"0000000",null,"福島市",null,null,null,null,"",null,"",{"$f":"IF(N355=\"\",\"\",DATEDIF(N355,DATE(設定シート!$C$2,設定シート!$C$3,設定シート!$C$4),\"Y\"))","v":""},"","",null,null,""]
[354,null,null,"",null,"0000000",null,"福島市",null,null,null,null,"",null,"",{"$f":"IF(N356=\"\",\"\",DATEDIF(N356,DATE(設定シート!$C$2,設定シート!$C$3,設定シート!$C$4),\"Y\"))","v":""},"","",null,null,""]
[355,null,null,"",null,"0000000",null,"福島市",null,null,null,null,"",null,"",{"$f":"IF(N357=\"\",\"\",DATEDIF(N357,DATE(設定シート!$C$2,設定シート!$C$3,設定シート!$C$4),\"Y\"))","v":""},"","",null,null,""]
[356,null,null,"",null,"0000000",null,"福島市",null,null,null,null,"",null,"",{"$f":"IF(N358=\"\",\"\",DATEDIF(N358,DATE(設定シート!$C$2,設定シート!$C$3,設定シート!$C$4),\"Y\"))","v":""},"","",null,null,""]
[357,null,null,"",null,"0000000",null,"福島市",null,null,null,null,"",null,"",{"$f":"IF(N359=\"\",\"\",DATEDIF(N359,DATE(設定シート!$C$2,設定シート!$C$3,設定シート!$C$4),\"Y\"))","v":""},"","",null,null,""]
[358,null,null,"",null,"0000000",null,"福島市",null,null,null,null,"",null,"",{"$f":"IF(N360=\"\",\"\",DATEDIF(N360,DATE(設定シート!$C$2,設定シート!$C$3,設定シート!$C$4),\"Y\"))","v":""},"","",null,null,""]
[359,null,null,"",null,"0000000",null,"福島市",null,null,null,null,"",null,"",{"$f":"IF(N361=\"\",\"\",DATEDIF(N361,DATE(設定シート!$C$2,設定シート!$C$3,設定シート!$C$4),\"Y\"))","v":""},"","",null,null,""]
[360,null,null,"",null,"0000000",null,"福島市",null,null,null,null,"",null,"",{"$f":"IF(N362=\"\",\"\",DATEDIF(N362,DATE(設定シート!$C$2,設定シート!$C$3,設定シート!$C$4),\"Y\"))","v":""},"","",null,null,""]
[361,null,null,"",null,"0000000",null,"福島市",null,null,null,null,"",null,"",{"$f":"IF(N363=\"\",\"\",DATEDIF(N363,DATE(設定シート!$C$2,設定シート!$C$3,設定シート!$C$4),\"Y\"))","v":""},"","",null,null,""]
[362,null,null,"",null,"0000000",null,"福島市",null,null,null,null,"",null,"",{"$f":"IF(N364=\"\",\"\",DATEDIF(N364,DATE(設定シート!$C$2,設定シート!$C$3,設定シート!$C$4),\"Y\"))","v":""},"","",null,null,""]
[363,null,null,"",null,"0000000",null,"福島市",null,null,null,null,"",null,"",{"$f":"IF(N365=\"\",\"\",DATEDIF(N365,DATE(設定シート!$C$2,設定シート!$C$3,設定シート!$C$4),\"Y\"))","v":""},"","",null,null,""]
[364,null,null,"",null,"0000000",null,"福島市",null,null,null,null,"",null,"",{"$f":"IF(N366=\"\",\"\",DATEDIF(N366,DATE(設定シート!$C$2,設定シート!$C$3,設定シート!$C$4),\"Y\"))","v":""},"","",null,null,""]
[365,null,null,"",null,"0000000",null,"福島市",null,null,null,null,"",null,"",{"$f":"IF(N367=\"\",\"\",DATEDIF(N367,DATE(設定シート!$C$2,設定シート!$C$3,設定シート!$C$4),\"Y\"))","v":""},"","",null,null,""]
[366,null,null,"",null,"0000000",null,"福島市",null,null,null,null,"",null,"",{"$f":"IF(N368=\"\",\"\",DATEDIF(N368,DATE(設定シート!$C$2,設定シート!$C$3,設定シート!$C$4),\"Y\"))","v":""},"","",null,null,""]
[367,null,null,"",null,"0000000",null,"福島市",null,null,null,null,"",null,"",{"$f":"IF(N369=\"\",\"\",DATEDIF(N369,DATE(設定シート!$C$2,設定シート!$C$3,設定シート!$C$4),\"Y\"))","v":""},"","",null,null,""]
[368,null,null,"",null,"0000000",null,"福島市",null,null,null,null,"",null,"",{"$f":"IF(N370=\"\",\"\",DATEDIF(N370,DATE(設定シート!$C$2,設定シート!$C$3,設定シート!$C$4),\"Y\"))","v":""},"","",null,null,""]
[369,null,null,"",null,"0000000",null,"福島市",null,null,null,null,"",null,"",{"$f":"IF(N371=\"\",\"\",DATEDIF(N371,DATE(設定シート!$C$2,設定シート!$C$3,設定シート!$C$4),\"Y\"))","v":""},"","",null,null,""]
[370,null,null,"",null,"0000000",null,"福島市",null,null,null,null,"",null,"",{"$f":"IF(N372=\"\",\"\",DATEDIF(N372,DATE(設定シート!$C$2,設定シート!$C$3,設定シート!$C$4),\"Y\"))","v":""},"","",null,null,""]
[371,null,null,"",null,"0000000",null,"福島市",null,null,null,null,"",null,"",{"$f":"IF(N373=\"\",\"\",DATEDIF(N373,DATE(設定シート!$C$2,設定シート!$C$3,設定シート!$C$4),\"Y\"))","v":""},"","",null,null,""]
[372,null,null,"",null,"0000000",null,"福島市",null,null,null,null,"",null,"",{"$f":"IF(N374=\"\",\"\",DATEDIF(N374,DATE(設定シート!$C$2,設定シート!$C$3,設定シート!$C$4),\"Y\"))","v":""},"","",null,null,""]
[373,null,null,"",null,"0000000",null,"福島市",null,null,null,null,"",null,"",{"$f":"IF(N375=\"\",\"\",DATEDIF(N375,DATE(設定シート!$C$2,設定シート!$C$3,設定シート!$C$4),\"Y\"))","v":""},"","",null,null,""]
[374,null,null,"",null,"0000000",null,"福島市",null,null,null,null,"",null,"",{"$f":"IF(N376=\"\",\"\",DATEDIF(N376,DATE(設定シート!$C$2,設定シート!$C$3,設定シート!$C$4),\"Y\"))","v":""},"","",null,null,""]
[375,null,null,"",null,"0000000",null,"福島市",null,null,null,null,"",null,"",{"$f":"IF(N377=\"\",\"\",DATEDIF(N377,DATE(設定シート!$C$2,設定シート!$C$3,設定シート!$C$4),\"Y\"))","v":""},"","",null,null,""]
[376,null,null,"",null,"0000000",null,"福島市",null,null,null,null,"",null,"",{"$f":"IF(N378=\"\",\"\",DATEDIF(N378,DATE(設定シート!$C$2,設定シート!$C$3,設定シート!$C$4),\"Y\"))","v":""},"","",null,null,""]
[377,null,null,"",null,"0000000",null,"福島市",null,null,null,null,"",null,"",{"$f":"IF(N379=\"\",\"\",DATEDIF(N379,DATE(設定シート!$C$2,設定シート!$C$3,設定シート!$C$4),\"Y\"))","v":""},"","",null,null,""]
[378,null,null,"",null,"0000000",null,"福島市",null,null,null,null,"",null,"",{"$f":"IF(N380=\"\",\"\",DATEDIF(N380,DATE(設定シート!$C$2,設定シート!$C$3,設定シート!$C$4),\"Y\"))","v":""},"","",null,null,""]
[379,null,null,"",null,"0000000",null,"福島市",null,null,null,null,"",null,"",{"$f":"IF(N381=\"\",\"\",DATEDIF(N381,DATE(設定シート!$C$2,設定シート!$C$3,設定シート!$C$4),\"Y\"))","v":""},"","",null,null,""]
[380,null,null,"",null,"0000000",null,"福島市",null,null,null,null,"",null,"",{"$f":"IF(N382=\"\",\"\",DATEDIF(N382,DATE(設定シート!$C$2,設定シート!$C$3,設定シート!$C$4),\"Y\"))","v":""},"","",null,null,""]
[381,null,null,"",null,"0000000",null,"福島市",null,null,null,null,"",null,"",{"$f":"IF(N383=\"\",\"\",DATEDIF(N383,DATE(設定シート!$C$2,設定シート!$C$3,設定シート!$C$4),\"Y\"))","v":""},"","",null,null,""]
[382,null,null,"",null,"0000000",null,"福島市",null,null,null,null,"",null,"",{"$f":"IF(N384=\"\",\"\",DATEDIF(N384,DATE(設定シート!$C$2,設定シート!$C$3,設定シート!$C$4),\"Y\"))","v":""},"","",null,null,""]
[383,null,null,"",null,"0000000",null,"福島市",null,null,null,null,"",null,"",{"$f":"IF(N385=\"\",\"\",DATEDIF(N385,DATE(設定シート!$C$2,設定シート!$C$3,設定シート!$C$4),\"Y\"))","v":""},"","",null,null,""]
[384,null,null,"",null,"0000000",null,"福島市",null,null,null,null,"",null,"",{"$f":"IF(N386=\"\",\"\",DATEDIF(N386,DATE(設定シート!$C$2,設定シート!$C$3,設定シート!$C$4),\"Y\"))","v":""},"","",null,null,""]
[385,null,null,{"$f":"PHONETIC(C387)","v":""},null,{"$f":"TEXT(B387,\"0000000\")","v":"0000000"},null,"福島市",null,null,null,null,{"$f":"IF(L387=1,\"男\",IF(L387=2,\"女\",\"\"))","v":""},null,{"$f":"IF(OR(E387=\"\",N387=\"\"),\"\",DATEDIF(N387,E387,\"Y\"))","v":""},{"$f":"IF(N387=\"\",\"\",DATEDIF(N387,DATE(設定シート!$C$2,設定シート!$C$3,設定シート!$C$4),\"Y\"))","v":""},{"$f":"IF(P387=\"\",\"\",IF(P387<=69,1,IF(P387>=70,2,\"\")))","v":""},{"$f":"IF(OR(Q387=1,Q387=\"1\"),\"有料\",IF(OR(Q387=2,Q387=\"2\"),\"70・後\",IF(Q387=3,\"生保\",IF(Q387=4,\"非課税\",\"\"))))","v":""},null,null,{"$f":"IF(AND(L387=2,P387>=60),\"一単独\",IF(AND(L387=2,P387>=50,P387<60),\"一併用\",IF(AND(L387=2,P387>=40,P387<50),\"二併用\",\"\")))","v":""}]
[{"$f":"ROW()-2","v":386},null,null,"",null,"0000000",null,"福島市",null,null,null,null,"",null,"",{"$f":"IF(N388=\"\",\"\",DATEDIF(N388,DATE(設定シート!$C$2,設定シート!$C$3,設定シート!$C$4),\"Y\"))","v":""},"","",null,null,""]
[387,null,null,"",null,"0000000",null,"福島市",null,null,null,null,"",null,"",{"$f":"IF(N389=\"\",\"\",DATEDIF(N389,DATE(設定シート!$C$2,設定シート!$C$3,設定シート!$C$4),\"Y\"))","v":""},"","",null,null,""]
[388,null,null,"",null,"0000000",null,"福島市",null,null,null,null,"",null,"",{"$f":"IF(N390=\"\",\"\",DATEDIF(N390,DATE(設定シート!$C$2,設定シート!$C$3,設定シート!$C$4),\"Y\"))","v":""},"","",null,null,""]
[389,null,null,"",null,"0000000",null,"福島市",null,null,null,null,"",null,"",{"$f":"IF(N391=\"\",\"\",DATEDIF(N391,DATE(設定シート!$C$2,設定シート!$C$3,設定シート!$C$4),\"Y\"))","v":""},"","",null,null,""]
[390,null,null,"",null,"0000000",null,"福島市",null,null,null,null,"",null,"",{"$f":"IF(N392=\"\",\"\",DATEDIF(N392,DATE(設定シート!$C$2,設定シート!$C$3,設定シート!$C$4),\"Y\"))","v":""},"","",null,null,""]
[391,null,null,"",null,"0000000",null,"福島市",null,null,null,null,"",null,"",{"$f":"IF(N393=\"\",\"\",DATEDIF(N393,DATE(設定シート!$C$2,設定シート!$C$3,設定シート!$C$4),\"Y\"))","v":""},"","",null,null,""]
[392,null,null,"",null,"0000000",null,"福島市",null,null,null,null,"",null,"",{"$f":"IF(N394=\"\",\"\",DATEDIF(N394,DATE(設定シート!$C$2,設定シート!$C$3,設定シート!$C$4),\"Y\"))","v":""},"","",null,null,""]
[393,null,null,"",null,"0000000",null,"福島市",null,null,null,null,"",null,"",{"$f":"IF(N395=\"\",\"\",DATEDIF(N395,DATE(設定シート!$C$2,設定シート!$C$3,設定シート!$C$4),\"Y\"))","v":""},"","",null,null,""]
[394,null,null,"",null,"0000000",null,"福島市",null,null,null,null,"",null,"",{"$f":"IF(N396=\"\",\"\",DATEDIF(N396,DATE(設定シート!$C$2,設定シート!$C$3,設定シート!$C$4),\"Y\"))","v":""},"","",null,null,""]
[395,null,null,"",null,"0000000",null,"福島市",null,null,null,null,"",null,"",{"$f":"IF(N397=\"\",\"\",DATEDIF(N397,DATE(設定シート!$C$2,設定シート!$C$3,設定シート!$C$4),\"Y\"))","v":""},"","",null,null,""]
[396,null,null,"",null,"0000000",null,"福島市",null,null,null,null,"",null,"",{"$f":"IF(N398=\"\",\"\",DATEDIF(N398,DATE(設定シート!$C$2,設定シート!$C$3,設定シート!$C$4),\"Y\"))","v":""},"","",null,null,""]
[397,null,null,"",null,"0000000",null,"福島市",null,null,null,null,"",null,"",{"$f":"IF(N399=\"\",\"\",DATEDIF(N399,DATE(設定シート!$C$2,設定シート!$C$3,設定シート!$C$4),\"Y\"))","v":""},"","",null,null,""]
[398,null,null,"",null,"0000000",null,"福島市",null,null,null,null,"",null,"",{"$f":"IF(N400=\"\",\"\",DATEDIF(N400,DATE(設定シート!$C$2,設定シート!$C$3,設定シート!$C$4),\"Y\"))","v":""},"","",null,null,""]
[399,null,null,"",null,"0000000",null,"福島市",null,null,null,null,"",null,"",{"$f":"IF(N401=\"\",\"\",DATEDIF(N401,DATE(設定シート!$C$2,設定シート!$C$3,設定シート!$C$4),\"Y\"))","v":""},"","",null,null,""]
[400,null,null,"",null,"0000000",null,"福島市",null,null,null,null,"",null,"",{"$f":"IF(N402=\"\",\"\",DATEDIF(N402,DATE(設定シート!$C$2,設定シート!$C$3,設定シート!$C$4),\"Y\"))","v":""},"","",null,null,""]
[401,null,null,"",null,"0000000",null,"福島市",null,null,null,null,"",null,"",{"$f":"IF(N403=\"\",\"\",DATEDIF(N403,DATE(設定シート!$C$2,設定シート!$C$3,設定シート!$C$4),\"Y\"))","v":""},"","",null,null,""]
[402,null,null,"",null,"0000000",null,"福島市",null,null,null,null,"",null,"",{"$f":"IF(N404=\"\",\"\",DATEDIF(N404,DATE(設定シート!$C$2,設定シート!$C$3,設定シート!$C$4),\"Y\"))","v":""},"","",null,null,""]
[403,null,null,"",null,"0000000",null,"福島市",null,null,null,null,"",null,"",{"$f":"IF(N405=\"\",\"\",DATEDIF(N405,DATE(設定シート!$C$2,設定シート!$C$3,設定シート!$C$4),\"Y\"))","v":""},"","",null,null,""]
[404,null,null,"",null,"0000000",null,"福島市",null,null,null,null,"",null,"",{"$f":"IF(N406=\"\",\"\",DATEDIF(N406,DATE(設定シート!$C$2,設定シート!$C$3,設定シート!$C$4),\"Y\"))","v":""},"","",null,null,""]
[405,null,null,"",null,"0000000",null,"福島市",null,null,null,null,"",null,"",{"$f":"IF(N407=\"\",\"\",DATEDIF(N407,DATE(設定シート!$C$2,設定シート!$C$3,設定シート!$C$4),\"Y\"))","v":""},"","",null,null,""]
[406,null,null,"",null,"0000000",null,"福島市",null,null,null,null,"",null,"",{"$f":"IF(N408=\"\",\"\",DATEDIF(N408,DATE(設定シート!$C$2,設定シート!$C$3,設定シート!$C$4),\"Y\"))","v":""},"","",null,null,""]
[407,null,null,"",null,"0000000",null,"福島市",null,null,null,null,"",null,"",{"$f":"IF(N409=\"\",\"\",DATEDIF(N409,DATE(設定シート!$C$2,設定シート!$C$3,設定シート!$C$4),\"Y\"))","v":""},"","",null,null,""]
[408,null,null,"",null,"0000000",null,"福島市",null,null,null,null,"",null,"",{"$f":"IF(N410=\"\",\"\",DATEDIF(N410,DATE(設定シート!$C$2,設定シート!$C$3,設定シート!$C$4),\"Y\"))","v":""},"","",null,null,""]
[409,null,null,"",null,"0000000",null,"福島市",null,null,null,null,"",null,"",{"$f":"IF(N411=\"\",\"\",DATEDIF(N411,DATE(設定シート!$C$2,設定シート!$C$3,設定シート!$C$4),\"Y\"))","v":""},"","",null,null,""]
[410,null,null,"",null,"0000000",null,"福島市",null,null,null,null,"",null,"",{"$f":"IF(N412=\"\",\"\",DATEDIF(N412,DATE(設定シート!$C$2,設定シート!$C$3,設定シート!$C$4),\"Y\"))","v":""},"","",null,null,""]
[411,null,null,"",null,"0000000",null,"福島市",null,null,null,null,"",null,"",{"$f":"IF(N413=\"\",\"\",DATEDIF(N413,DATE(設定シート!$C$2,設定シート!$C$3,設定シート!$C$4),\"Y\"))","v":""},"","",null,null,""]
[412,null,null,"",null,"0000000",null,"福島市",null,null,null,null,"",null,"",{"$f":"IF(N414=\"\",\"\",DATEDIF(N414,DATE(設定シート!$C$2,設定シート!$C$3,設定シート!$C$4),\"Y\"))","v":""},"","",null,null,""]
[413,null,null,"",null,"0000000",null,"福島市",null,null,null,null,"",null,"",{"$f":"IF(N415=\"\",\"\",DATEDIF(N415,DATE(設定シート!$C$2,設定シート!$C$3,設定シート!$C$4),\"Y\"))","v":""},"","",null,null,""]
[414,null,null,"",null,"0000000",null,"福島市",null,null,null,null,"",null,"",{"$f":"IF(N416=\"\",\"\",DATEDIF(N416,DATE(設定シート!$C$2,設定シート!$C$3,設定シート!$C$4),\"Y\"))","v":""},"","",null,null,""]
[415,null,null,"",null,"0000000",null,"福島市",null,null,null,null,"",null,"",{"$f":"IF(N417=\"\",\"\",DATEDIF(N417,DATE(設定シート!$C$2,設定シート!$C$3,設定シート!$C$4),\"Y\"))","v":""},"","",null,null,""]
[416,null,null,"",null,"0000000",null,"福島市",null,null,null,null,"",null,"",{"$f":"IF(N418=\"\",\"\",DATEDIF(N418,DATE(設定シート!$C$2,設定シート!$C$3,設定シート!$C$4),\"Y\"))","v":""},"","",null,null,""]
[417,null,null,"",null,"0000000",null,"福島市",null,null,null,null,"",null,"",{"$f":"IF(N419=\"\",\"\",DATEDIF(N419,DATE(設定シート!$C$2,設定シート!$C$3,設定シート!$C$4),\"Y\"))","v":""},"","",null,null,""]
[418,null,null,"",null,"0000000",null,"福島市",null,null,null,null,"",null,"",{"$f":"IF(N420=\"\",\"\",DATEDIF(N420,DATE(設定シート!$C$2,設定シート!$C$3,設定シート!$C$4),\"Y\"))","v":""},"","",null,null,""]
[419,null,null,"",null,"0000000",null,"福島市",null,null,null,null,"",null,"",{"$f":"IF(N421=\"\",\"\",DATEDIF(N421,DATE(設定シート!$C$2,設定シート!$C$3,設定シート!$C$4),\"Y\"))","v":""},"","",null,null,""]
[420,null,null,"",null,"0000000",null,"福島市",null,null,null,null,"",null,"",{"$f":"IF(N422=\"\",\"\",DATEDIF(N422,DATE(設定シート!$C$2,設定シート!$C$3,設定シート!$C$4),\"Y\"))","v":""},"","",null,null,""]
[421,null,null,"",null,"0000000",null,"福島市",null,null,null,null,"",null,"",{"$f":"IF(N423=\"\",\"\",DATEDIF(N423,DATE(設定シート!$C$2,設定シート!$C$3,設定シート!$C$4),\"Y\"))","v":""},"","",null,null,""]
[422,null,null,"",null,"0000000",null,"福島市",null,null,null,null,"",null,"",{"$f":"IF(N424=\"\",\"\",DATEDIF(N424,DATE(設定シート!$C$2,設定シート!$C$3,設定シート!$C$4),\"Y\"))","v":""},"","",null,null,""]
[423,null,null,"",null,"0000000",null,"福島市",null,null,null,null,"",null,"",{"$f":"IF(N425=\"\",\"\",DATEDIF(N425,DATE(設定シート!$C$2,設定シート!$C$3,設定シート!$C$4),\"Y\"))","v":""},"","",null,null,""]
[424,null,null,"",null,"0000000",null,"福島市",null,null,null,null,"",null,"",{"$f":"IF(N426=\"\",\"\",DATEDIF(N426,DATE(設定シート!$C$2,設定シート!$C$3,設定シート!$C$4),\"Y\"))","v":""},"","",null,null,""]
[425,null,null,"",null,"0000000",null,"福島市",null,null,null,null,"",null,"",{"$f":"IF(N427=\"\",\"\",DATEDIF(N427,DATE(設定シート!$C$2,設定シート!$C$3,設定シート!$C$4),\"Y\"))","v":""},"","",null,null,""]
[426,null,null,"",null,"0000000",null,"福島市",null,null,null,null,"",null,"",{"$f":"IF(N428=\"\",\"\",DATEDIF(N428,DATE(設定シート!$C$2,設定シート!$C$3,設定シート!$C$4),\"Y\"))","v":""},"","",null,null,""]
[427,null,null,"",null,"0000000",null,"福島市",null,null,null,null,"",null,"",{"$f":"IF(N429=\"\",\"\",DATEDIF(N429,DATE(設定シート!$C$2,設定シート!$C$3,設定シート!$C$4),\"Y\"))","v":""},"","",null,null,""]
[428,null,null,"",null,"0000000",null,"福島市",null,null,null,null,"",null,"",{"$f":"IF(N430=\"\",\"\",DATEDIF(N430,DATE(設定シート!$C$2,設定シート!$C$3,設定シート!$C$4),\"Y\"))","v":""},"","",null,null,""]
[429,null,null,"",null,"0000000",null,"福島市",null,null,null,null,"",null,"",{"$f":"IF(N431=\"\",\"\",DATEDIF(N431,DATE(設定シート!$C$2,設定シート!$C$3,設定シート!$C$4),\"Y\"))","v":""},"","",null,null,""]
[430,null,null,"",null,"0000000",null,"福島市",null,null,null,null,"",null,"",{"$f":"IF(N432=\"\",\"\",DATEDIF(N432,DATE(設定シート!$C$2,設定シート!$C$3,設定シート!$C$4),\"Y\"))","v":""},"","",null,null,""]
[431,null,null,"",null,"0000000",null,"福島市",null,null,null,null,"",null,"",{"$f":"IF(N433=\"\",\"\",DATEDIF(N433,DATE(設定シート!$C$2,設定シート!$C$3,設定シート!$C$4),\"Y\"))","v":""},"","",null,null,""]
[432,null,null,"",null,"0000000",null,"福島市",null,null,null,null,"",null,"",{"$f":"IF(N434=\"\",\"\",DATEDIF(N434,DATE(設定シート!$C$2,設定シート!$C$3,設定シート!$C$4),\"Y\"))","v":""},"","",null,null,""]
[433,null,null,"",null,"0000000",null,"福島市",null,null,null,null,"",null,"",{"$f":"IF(N435=\"\",\"\",DATEDIF(N435,DATE(設定シート!$C$2,設定シート!$C$3,設定シート!$C$4),\"Y\"))","v":""},"","",null,null,""]
[434,null,null,"",null,"0000000",null,"福島市",null,null,null,null,"",null,"",{"$f":"IF(N436=\"\",\"\",DATEDIF(N436,DATE(設定シート!$C$2,設定シート!$C$3,設定シート!$C$4),\"Y\"))","v":""},"","",null,null,""]
[435,null,null,"",null,"0000000",null,"福島市",null,null,null,null,"",null,"",{"$f":"IF(N437=\"\",\"\",DATEDIF(N437,DATE(設定シート!$C$2,設定シート!$C$3,設定シート!$C$4),\"Y\"))","v":""},"","",null,null,""]
[436,null,null,"",null,"0000000",null,"福島市",null,null,null,null,"",null,"",{"$f":"IF(N438=\"\",\"\",DATEDIF(N438,DATE(設定シート!$C$2,設定シート!$C$3,設定シート!$C$4),\"Y\"))","v":""},"","",null,null,""]
[437,null,null,"",null,"0000000",null,"福島市",null,null,null,null,"",null,"",{"$f":"IF(N439=\"\",\"\",DATEDIF(N439,DATE(設定シート!$C$2,設定シート!$C$3,設定シート!$C$4),\"Y\"))","v":""},"","",null,null,""]
[438,null,null,"",null,"0000000",null,"福島市",null,null,null,null,"",null,"",{"$f":"IF(N440=\"\",\"\",DATEDIF(N440,DATE(設定シート!$C$2,設定シート!$C$3,設定シート!$C$4),\"Y\"))","v":""},"","",null,null,""]
[439,null,null,"",null,"0000000",null,"福島市",null,null,null,null,"",null,"",{"$f":"IF(N441=\"\",\"\",DATEDIF(N441,DATE(設定シート!$C$2,設定シート!$C$3,設定シート!$C$4),\"Y\"))","v":""},"","",null,null,""]
[440,null,null,"",null,"0000000",null,"福島市",null,null,null,null,"",null,"",{"$f":"IF(N442=\"\",\"\",DATEDIF(N442,DATE(設定シート!$C$2,設定シート!$C$3,設定シート!$C$4),\"Y\"))","v":""},"","",null,null,""]
[441,null,null,"",null,"0000000",null,"福島市",null,null,null,null,"",null,"",{"$f":"IF(N443=\"\",\"\",DATEDIF(N443,DATE(設定シート!$C$2,設定シート!$C$3,設定シート!$C$4),\"Y\"))","v":""},"","",null,null,""]
[442,null,null,"",null,"0000000",null,"福島市",null,null,null,null,"",null,"",{"$f":"IF(N444=\"\",\"\",DATEDIF(N444,DATE(設定シート!$C$2,設定シート!$C$3,設定シート!$C$4),\"Y\"))","v":""},"","",null,null,""]
[443,null,null,"",null,"0000000",null,"福島市",null,null,null,null,"",null,"",{"$f":"IF(N445=\"\",\"\",DATEDIF(N445,DATE(設定シート!$C$2,設定シート!$C$3,設定シート!$C$4),\"Y\"))","v":""},"","",null,null,""]
[444,null,null,"",null,"0000000",null,"福島市",null,null,null,null,"",null,"",{"$f":"IF(N446=\"\",\"\",DATEDIF(N446,DATE(設定シート!$C$2,設定シート!$C$3,設定シート!$C$4),\"Y\"))","v":""},"","",null,null,""]
[445,null,null,"",null,"0000000",null,"福島市",null,null,null,null,"",null,"",{"$f":"IF(N447=\"\",\"\",DATEDIF(N447,DATE(設定シート!$C$2,設定シート!$C$3,設定シート!$C$4),\"Y\"))","v":""},"","",null,null,""]
[446,null,null,"",null,"0000000",null,"福島市",null,null,null,null,"",null,"",{"$f":"IF(N448=\"\",\"\",DATEDIF(N448,DATE(設定シート!$C$2,設定シート!$C$3,設定シート!$C$4),\"Y\"))","v":""},"","",null,null,""]
[447,null,null,"",null,"0000000",null,"福島市",null,null,null,null,"",null,"",{"$f":"IF(N449=\"\",\"\",DATEDIF(N449,DATE(設定シート!$C$2,設定シート!$C$3,設定シート!$C$4),\"Y\"))","v":""},"","",null,null,""]
[448,null,null,"",null,"0000000",null,"福島市",null,null,null,null,"",null,"",{"$f":"IF(N450=\"\",\"\",DATEDIF(N450,DATE(設定シート!$C$2,設定シート!$C$3,設定シート!$C$4),\"Y\"))","v":""},"","",null,null,""]
[449,null,null,{"$f":"PHONETIC(C451)","v":""},null,{"$f":"TEXT(B451,\"0000000\")","v":"0000000"},null,"福島市",null,null,null,null,{"$f":"IF(L451=1,\"男\",IF(L451=2,\"女\",\"\"))","v":""},null,{"$f":"IF(OR(E451=\"\",N451=\"\"),\"\",DATEDIF(N451,E451,\"Y\"))","v":""},{"$f":"IF(N451=\"\",\"\",DATEDIF(N451,DATE(設定シート!$C$2,設定シート!$C$3,設定シート!$C$4),\"Y\"))","v":""},{"$f":"IF(P451=\"\",\"\",IF(P451<=69,1,IF(P451>=70,2,\"\")))","v":""},{"$f":"IF(OR(Q451=1,Q451=\"1\"),\"有料\",IF(OR(Q451=2,Q451=\"2\"),\"70・後\",IF(Q451=3,\"生保\",IF(Q451=4,\"非課税\",\"\"))))","v":""},null,null,{"$f":"IF(AND(L451=2,P451>=60),\"一単独\",IF(AND(L451=2,P451>=50,P451<60),\"一併用\",IF(AND(L451=2,P451>=40,P451<50),\"二併用\",\"\")))","v":""}]
[{"$f":"ROW()-2","v":450},null,null,"",null,"0000000",null,"福島市",null,null,null,null,"",null,"",{"$f":"IF(N452=\"\",\"\",DATEDIF(N452,DATE(設定シート!$C$2,設定シート!$C$3,設定シート!$C$4),\"Y\"))","v":""},"","",null,null,""]
[451,null,null,"",null,"0000000",null,"福島市",null,null,null,null,"",null,"",{"$f":"IF(N453=\"\",\"\",DATEDIF(N453,DATE(設定シート!$C$2,設定シート!$C$3,設定シート!$C$4),\"Y\"))","v":""},"","",null,null,""]
[452,null,null,"",null,"0000000",null,"福島市",null,null,null,null,"",null,"",{"$f":"IF(N454=\"\",\"\",DATEDIF(N454,DATE(設定シート!$C$2,設定シート!$C$3,設定シート!$C$4),\"Y\"))","v":""},"","",null,null,""]
[453,null,null,"",null,"0000000",null,"福島市",null,null,null,null,"",null,"",{"$f":"IF(N455=\"\",\"\",DATEDIF(N455,DATE(設定シート!$C$2,設定シート!$C$3,設定シート!$C$4),\"Y\"))","v":""},"","",null,null,""]
[454,null,null,"",null,"0000000",null,"福島市",null,null,null,null,"",null,"",{"$f":"IF(N456=\"\",\"\",DATEDIF(N456,DATE(設定シート!$C$2,設定シート!$C$3,設定シート!$C$4),\"Y\"))","v":""},"","",null,null,""]
[455,null,null,"",null,"0000000",null,"福島市",null,null,null,null,"",null,"",{"$f":"IF(N457=\"\",\"\",DATEDIF(N457,DATE(設定シート!$C$2,設定シート!$C$3,設定シート!$C$4),\"Y\"))","v":""},"","",null,null,""]
[456,null,null,"",null,"0000000",null,"福島市",null,null,null,null,"",null,"",{"$f":"IF(N458=\"\",\"\",DATEDIF(N458,DATE(設定シート!$C$2,設定シート!$C$3,設定シート!$C$4),\"Y\"))","v":""},"","",null,null,""]
[457,null,null,"",null,"0000000",null,"福島市",null,null,null,null,"",null,"",{"$f":"IF(N459=\"\",\"\",DATEDIF(N459,DATE(設定シート!$C$2,設定シート!$C$3,設定シート!$C$4),\"Y\"))","v":""},"","",null,null,""]
[458,null,null,"",null,"0000000",null,"福島市",null,null,null,null,"",null,"",{"$f":"IF(N460=\"\",\"\",DATEDIF(N460,DATE(設定シート!$C$2,設定シート!$C$3,設定シート!$C$4),\"Y\"))","v":""},"","",null,null,""]
[459,null,null,"",null,"0000000",null,"福島市",null,null,null,null,"",null,"",{"$f":"IF(N461=\"\",\"\",DATEDIF(N461,DATE(設定シート!$C$2,設定シート!$C$3,設定シート!$C$4),\"Y\"))","v":""},"","",null,null,""]
[460,null,null,"",null,"0000000",null,"福島市",null,null,null,null,"",null,"",{"$f":"IF(N462=\"\",\"\",DATEDIF(N462,DATE(設定シート!$C$2,設定シート!$C$3,設定シート!$C$4),\"Y\"))","v":""},"","",null,null,""]
[461,null,null,"",null,"0000000",null,"福島市",null,null,null,null,"",null,"",{"$f":"IF(N463=\"\",\"\",DATEDIF(N463,DATE(設定シート!$C$2,設定シート!$C$3,設定シート!$C$4),\"Y\"))","v":""},"","",null,null,""]
[462,null,null,"",null,"0000000",null,"福島市",null,null,null,null,"",null,"",{"$f":"IF(N464=\"\",\"\",DATEDIF(N464,DATE(設定シート!$C$2,設定シート!$C$3,設定シート!$C$4),\"Y\"))","v":""},"","",null,null,""]
[463,null,null,"",null,"0000000",null,"福島市",null,null,null,null,"",null,"",{"$f":"IF(N465=\"\",\"\",DATEDIF(N465,DATE(設定シート!$C$2,設定シート!$C$3,設定シート!$C$4),\"Y\"))","v":""},"","",null,null,""]
[464,null,null,"",null,"0000000",null,"福島市",null,null,null,null,"",null,"",{"$f":"IF(N466=\"\",\"\",DATEDIF(N466,DATE(設定シート!$C$2,設定シート!$C$3,設定シート!$C$4),\"Y\"))","v":""},"","",null,null,""]
[465,null,null,"",null,"0000000",null,"福島市",null,null,null,null,"",null,"",{"$f":"IF(N467=\"\",\"\",DATEDIF(N467,DATE(設定シート!$C$2,設定シート!$C$3,設定シート!$C$4),\"Y\"))","v":""},"","",null,null,""]
[466,null,null,"",null,"0000000",null,"福島市",null,null,null,null,"",null,"",{"$f":"IF(N468=\"\",\"\",DATEDIF(N468,DATE(設定シート!$C$2,設定シート!$C$3,設定シート!$C$4),\"Y\"))","v":""},"","",null,null,""]
[467,null,null,"",null,"0000000",null,"福島市",null,null,null,null,"",null,"",{"$f":"IF(N469=\"\",\"\",DATEDIF(N469,DATE(設定シート!$C$2,設定シート!$C$3,設定シート!$C$4),\"Y\"))","v":""},"","",null,null,""]
[468,null,null,"",null,"0000000",null,"福島市",null,null,null,null,"",null,"",{"$f":"IF(N470=\"\",\"\",DATEDIF(N470,DATE(設定シート!$C$2,設定シート!$C$3,設定シート!$C$4),\"Y\"))","v":""},"","",null,null,""]
[469,null,null,"",null,"0000000",null,"福島市",null,null,null,null,"",null,"",{"$f":"IF(N471=\"\",\"\",DATEDIF(N471,DATE(設定シート!$C$2,設定シート!$C$3,設定シート!$C$4),\"Y\"))","v":""},"","",null,null,""]
[470,null,null,"",null,"0000000",null,"福島市",null,null,null,null,"",null,"",{"$f":"IF(N472=\"\",\"\",DATEDIF(N472,DATE(設定シート!$C$2,設定シート!$C$3,設定シート!$C$4),\"Y\"))","v":""},"","",null,null,""]
[471,null,null,"",null,"0000000",null,"福島市",null,null,null,null,"",null,"",{"$f":"IF(N473=\"\",\"\",DATEDIF(N473,DATE(設定シート!$C$2,設定シート!$C$3,設定シート!$C$4),\"Y\"))","v":""},"","",null,null,""]
[472,null,null,"",null,"0000000",null,"福島市",null,null,null,null,"",null,"",{"$f":"IF(N474=\"\",\"\",DATEDIF(N474,DATE(設定シート!$C$2,設定シート!$C$3,設定シート!$C$4),\"Y\"))","v":""},"","",null,null,""]
[473,null,null,"",null,"0000000",null,"福島市",null,null,null,null,"",null,"",{"$f":"IF(N475=\"\",\"\",DATEDIF(N475,DATE(設定シート!$C$2,設定シート!$C$3,設定シート!$C$4),\"Y\"))","v":""},"","",null,null,""]
[474,null,null,"",null,"0000000",null,"福島市",null,null,null,null,"",null,"",{"$f":"IF(N476=\"\",\"\",DATEDIF(N476,DATE(設定シート!$C$2,設定シート!$C$3,設定シート!$C$4),\"Y\"))","v":""},"","",null,null,""]
[475,null,null,"",null,"0000000",null,"福島市",null,null,null,null,"",null,"",{"$f":"IF(N477=\"\",\"\",DATEDIF(N477,DATE(設定シート!$C$2,設定シート!$C$3,設定シート!$C$4),\"Y\"))","v":""},"","",null,null,""]
[476,null,null,"",null,"0000000",null,"福島市",null,null,null,null,"",null,"",{"$f":"IF(N478=\"\",\"\",DATEDIF(N478,DATE(設定シート!$C$2,設定シート!$C$3,設定シート!$C$4),\"Y\"))","v":""},"","",null,null,""]
[477,null,null,"",null,"0000000",null,"福島市",null,null,null,null,"",null,"",{"$f":"IF(N479=\"\",\"\",DATEDIF(N479,DATE(設定シート!$C$2,設定シート!$C$3,設定シート!$C$4),\"Y\"))","v":""},"","",null,null,""]
[478,null,null,"",null,"0000000",null,"福島市",null,null,null,null,"",null,"",{"$f":"IF(N480=\"\",\"\",DATEDIF(N480,DATE(設定シート!$C$2,設定シート!$C$3,設定シート!$C$4),\"Y\"))","v":""},"","",null,null,""]
[479,null,null,"",null,"0000000",null,"福島市",null,null,null,null,"",null,"",{"$f":"IF(N481=\"\",\"\",DATEDIF(N481,DATE(設定シート!$C$2,設定シート!$C$3,設定シート!$C$4),\"Y\"))","v":""},"","",null,null,""]
[480,null,null,"",null,"0000000",null,"福島市",null,null,null,null,"",null,"",{"$f":"IF(N482=\"\",\"\",DATEDIF(N482,DATE(設定シート!$C$2,設定シート!$C$3,設定シート!$C$4),\"Y\"))","v":""},"","",null,null,""]
[481,null,null,"",null,"0000000",null,"福島市",null,null,null,null,"",null,"",{"$f":"IF(N483=\"\",\"\",DATEDIF(N483,DATE(設定シート!$C$2,設定シート!$C$3,設定シート!$C$4),\"Y\"))","v":""},"","",null,null,""]
[482,null,null,"",null,"0000000",null,"福島市",null,null,null,null,"",null,"",{"$f":"IF(N484=\"\",\"\",DATEDIF(N484,DATE(設定シート!$C$2,設定シート!$C$3,設定シート!$C$4),\"Y\"))","v":""},"","",null,null,""]
[483,null,null,"",null,"0000000",null,"福島市",null,null,null,null,"",null,"",{"$f":"IF(N485=\"\",\"\",DATEDIF(N485,DATE(設定シート!$C$2,設定シート!$C$3,設定シート!$C$4),\"Y\"))","v":""},"","",null,null,""]
[484,null,null,"",null,"0000000",null,"福島市",null,null,null,null,"",null,"",{"$f":"IF(N486=\"\",\"\",DATEDIF(N486,DATE(設定シート!$C$2,設定シート!$C$3,設定シート!$C$4),\"Y\"))","v":""},"","",null,null,""]
[485,null,null,"",null,"0000000",null,"福島市",null,null,null,null,"",null,"",{"$f":"IF(N487=\"\",\"\",DATEDIF(N487,DATE(設定シート!$C$2,設定シート!$C$3,設定シート!$C$4),\"Y\"))","v":""},"","",null,null,""]
[486,null,null,"",null,"0000000",null,"福島市",null,null,null,null,"",null,"",{"$f":"IF(N488=\"\",\"\",DATEDIF(N488,DATE(設定シート!$C$2,設定シート!$C$3,設定シート!$C$4),\"Y\"))","v":""},"","",null,null,""]
[487,null,null,"",null,"0000000",null,"福島市",null,null,null,null,"",null,"",{"$f":"IF(N489=\"\",\"\",DATEDIF(N489,DATE(設定シート!$C$2,設定シート!$C$3,設定シート!$C$4),\"Y\"))","v":""},"","",null,null,""]
[488,null,null,"",null,"0000000",null,"福島市",null,null,null,null,"",null,"",{"$f":"IF(N490=\"\",\"\",DATEDIF(N490,DATE(設定シート!$C$2,設定シート!$C$3,設定シート!$C$4),\"Y\"))","v":""},"","",null,null,""]
[489,null,null,"",null,"0000000",null,"福島市",null,null,null,null,"",null,"",{"$f":"IF(N491=\"\",\"\",DATEDIF(N491,DATE(設定シート!$C$2,設定シート!$C$3,設定シート!$C$4),\"Y\"))","v":""},"","",null,null,""]
[490,null,null,"",null,"0000000",null,"福島市",null,null,null,null,"",null,"",{"$f":"IF(N492=\"\",\"\",DATEDIF(N492,DATE(設定シート!$C$2,設定シート!$C$3,設定シート!$C$4),\"Y\"))","v":""},"","",null,null,""]
[491,null,null,"",null,"0000000",null,"福島市",null,null,null,null,"",null,"",{"$f":"IF(N493=\"\",\"\",DATEDIF(N493,DATE(設定シート!$C$2,設定シート!$C$3,設定シート!$C$4),\"Y\"))","v":""},"","",null,null,""]
[492,null,null,"",null,"0000000",null,"福島市",null,null,null,null,"",null,"",{"$f":"IF(N494=\"\",\"\",DATEDIF(N494,DATE(設定シート!$C$2,設定シート!$C$3,設定シート!$C$4),\"Y\"))","v":""},"","",null,null,""]
[493,null,null,"",null,"0000000",null,"福島市",null,null,null,null,"",null,"",{"$f":"IF(N495=\"\",\"\",DATEDIF(N495,DATE(設定シート!$C$2,設定シート!$C$3,設定シート!$C$4),\"Y\"))","v":""},"","",null,null,""]
[494,null,null,"",null,"0000000",null,"福島市",null,null,null,null,"",null,"",{"$f":"IF(N496=\"\",\"\",DATEDIF(N496,DATE(設定シート!$C$2,設定シート!$C$3,設定シート!$C$4),\"Y\"))","v":""},"","",null,null,""]
[495,null,null,"",null,"0000000",null,"福島市",null,null,null,null,"",null,"",{"$f":"IF(N497=\"\",\"\",DATEDIF(N497,DATE(設定シート!$C$2,設定シート!$C$3,設定シート!$C$4),\"Y\"))","v":""},"","",null,null,""]
[496,null,null,"",null,"0000000",null,"福島市",null,null,null,null,"",null,"",{"$f":"IF(N498=\"\",\"\",DATEDIF(N498,DATE(設定シート!$C$2,設定シート!$C$3,設定シート!$C$4),\"Y\"))","v":""},"","",null,null,""]
[497,null,null,"",null,"0000000",null,"福島市",null,null,null,null,"",null,"",{"$f":"IF(N499=\"\",\"\",DATEDIF(N499,DATE(設定シート!$C$2,設定シート!$C$3,設定シート!$C$4),\"Y\"))","v":""},"","",null,null,""]
[498,null,null,"",null,"0000000",null,"福島市",null,null,null,null,"",null,"",{"$f":"IF(N500=\"\",\"\",DATEDIF(N500,DATE(設定シート!$C$2,設定シート!$C$3,設定シート!$C$4),\"Y\"))","v":""},"","",null,null,""]
[499,null,null,"",null,"0000000",null,"福島市",null,null,null,null,"",null,"",{"$f":"IF(N501=\"\",\"\",DATEDIF(N501,DATE(設定シート!$C$2,設定シート!$C$3,設定シート!$C$4),\"Y\"))","v":""},"","",null,null,""]
[500,null,null,"",null,"0000000",null,"福島市",null,null,null,null,"",null,"",{"$f":"IF(N502=\"\",\"\",DATEDIF(N502,DATE(設定シート!$C$2,設定シート!$C$3,設定シート!$C$4),\"Y\"))","v":""},"","",null,null,""]
[501,null,null,"",null,"0000000",null,"福島市",null,null,null,null,"",null,"",{"$f":"IF(N503=\"\",\"\",DATEDIF(N503,DATE(設定シート!$C$2,設定シート!$C$3,設定シート!$C$4),\"Y\"))","v":""},"","",null,null,""]
[502,null,null,"",null,"0000000",null,"福島市",null,null,null,null,"",null,"",{"$f":"IF(N504=\"\",\"\",DATEDIF(N504,DATE(設定シート!$C$2,設定シート!$C$3,設定シート!$C$4),\"Y\"))","v":""},"","",null,null,""]
[503,null,null,"",null,"0000000",null,"福島市",null,null,null,null,"",null,"",{"$f":"IF(N505=\"\",\"\",DATEDIF(N505,DATE(設定シート!$C$2,設定シート!$C$3,設定シート!$C$4),\"Y\"))","v":""},"","",null,null,""]
[504,null,null,"",null,"0000000",null,"福島市",null,null,null,null,"",null,"",{"$f":"IF(N506=\"\",\"\",DATEDIF(N506,DATE(設定シート!$C$2,設定シート!$C$3,設定シート!$C$4),\"Y\"))","v":""},"","",null,null,""]
[505,null,null,"",null,"0000000",null,"福島市",null,null,null,null,"",null,"",{"$f":"IF(N507=\"\",\"\",DATEDIF(N507,DATE(設定シート!$C$2,設定シート!$C$3,設定シート!$C$4),\"Y\"))","v":""},"","",null,null,""]
[506,null,null,"",null,"0000000",null,"福島市",null,null,null,null,"",null,"",{"$f":"IF(N508=\"\",\"\",DATEDIF(N508,DATE(設定シート!$C$2,設定シート!$C$3,設定シート!$C$4),\"Y\"))","v":""},"","",null,null,""]
[507,null,null,"",null,"0000000",null,"福島市",null,null,null,null,"",null,"",{"$f":"IF(N509=\"\",\"\",DATEDIF(N509,DATE(設定シート!$C$2,設定シート!$C$3,設定シート!$C$4),\"Y\"))","v":""},"","",null,null,""]
[508,null,null,"",null,"0000000",null,"福島市",null,null,null,null,"",null,"",{"$f":"IF(N510=\"\",\"\",DATEDIF(N510,DATE(設定シート!$C$2,設定シート!$C$3,設定シート!$C$4),\"Y\"))","v":""},"","",null,null,""]
[509,null,null,"",null,"0000000",null,"福島市",null,null,null,null,"",null,"",{"$f":"IF(N511=\"\",\"\",DATEDIF(N511,DATE(設定シート!$C$2,設定シート!$C$3,設定シート!$C$4),\"Y\"))","v":""},"","",null,null,""]
[510,null,null,"",null,"0000000",null,"福島市",null,null,null,null,"",null,"",{"$f":"IF(N512=\"\",\"\",DATEDIF(N512,DATE(設定シート!$C$2,設定シート!$C$3,設定シート!$C$4),\"Y\"))","v":""},"","",null,null,""]
[511,null,null,"",null,"0000000",null,"福島市",null,null,null,null,"",null,"",{"$f":"IF(N513=\"\",\"\",DATEDIF(N513,DATE(設定シート!$C$2,設定シート!$C$3,設定シート!$C$4),\"Y\"))","v":""},"","",null,null,""]
[512,null,null,"",null,"0000000",null,"福島市",null,null,null,null,"",null,"",{"$f":"IF(N514=\"\",\"\",DATEDIF(N514,DATE(設定シート!$C$2,設定シート!$C$3,設定シート!$C$4),\"Y\"))","v":""},"","",null,null,""]
[513,null,null,{"$f":"PHONETIC(C515)","v":""},null,{"$f":"TEXT(B515,\"0000000\")","v":"0000000"},null,"福島市",null,null,null,null,{"$f":"IF(L515=1,\"男\",IF(L515=2,\"女\",\"\"))","v":""},null,{"$f":"IF(OR(E515=\"\",N515=\"\"),\"\",DATEDIF(N515,E515,\"Y\"))","v":""},{"$f":"IF(N515=\"\",\"\",DATEDIF(N515,DATE(設定シート!$C$2,設定シート!$C$3,設定シート!$C$4),\"Y\"))","v":""},{"$f":"IF(P515=\"\",\"\",IF(P515<=69,1,IF(P515>=70,2,\"\")))","v":""},{"$f":"IF(OR(Q515=1,Q515=\"1\"),\"有料\",IF(OR(Q515=2,Q515=\"2\"),\"70・後\",IF(Q515=3,\"生保\",IF(Q515=4,\"非課税\",\"\"))))","v":""},null,null,{"$f":"IF(AND(L515=2,P515>=60),\"一単独\",IF(AND(L515=2,P515>=50,P515<60),\"一併用\",IF(AND(L515=2,P515>=40,P515<50),\"二併用\",\"\")))","v":""}]
[{"$f":"ROW()-2","v":514},null,null,"",null,"0000000",null,"福島市",null,null,null,null,"",null,"",{"$f":"IF(N516=\"\",\"\",DATEDIF(N516,DATE(設定シート!$C$2,設定シート!$C$3,設定シート!$C$4),\"Y\"))","v":""},"","",null,null,""]
[515,null,null,"",null,"0000000",null,"福島市",null,null,null,null,"",null,"",{"$f":"IF(N517=\"\",\"\",DATEDIF(N517,DATE(設定シート!$C$2,設定シート!$C$3,設定シート!$C$4),\"Y\"))","v":""},"","",null,null,""]
[516,null,null,"",null,"0000000",null,"福島市",null,null,null,null,"",null,"",{"$f":"IF(N518=\"\",\"\",DATEDIF(N518,DATE(設定シート!$C$2,設定シート!$C$3,設定シート!$C$4),\"Y\"))","v":""},"","",null,null,""]
[517,null,null,"",null,"0000000",null,"福島市",null,null,null,null,"",null,"",{"$f":"IF(N519=\"\",\"\",DATEDIF(N519,DATE(設定シート!$C$2,設定シート!$C$3,設定シート!$C$4),\"Y\"))","v":""},"","",null,null,""]
[518,null,null,"",null,"0000000",null,"福島市",null,null,null,null,"",null,"",{"$f":"IF(N520=\"\",\"\",DATEDIF(N520,DATE(設定シート!$C$2,設定シート!$C$3,設定シート!$C$4),\"Y\"))","v":""},"","",null,null,""]
[519,null,null,"",null,"0000000",null,"福島市",null,null,null,null,"",null,"",{"$f":"IF(N521=\"\",\"\",DATEDIF(N521,DATE(設定シート!$C$2,設定シート!$C$3,設定シート!$C$4),\"Y\"))","v":""},"","",null,null,""]
[520,null,null,"",null,"0000000",null,"福島市",null,null,null,null,"",null,"",{"$f":"IF(N522=\"\",\"\",DATEDIF(N522,DATE(設定シート!$C$2,設定シート!$C$3,設定シート!$C$4),\"Y\"))","v":""},"","",null,null,""]
[521,null,null,"",null,"0000000",null,"福島市",null,null,null,null,"",null,"",{"$f":"IF(N523=\"\",\"\",DATEDIF(N523,DATE(設定シート!$C$2,設定シート!$C$3,設定シート!$C$4),\"Y\"))","v":""},"","",null,null,""]
[522,null,null,"",null,"0000000",null,"福島市",null,null,null,null,"",null,"",{"$f":"IF(N524=\"\",\"\",DATEDIF(N524,DATE(設定シート!$C$2,設定シート!$C$3,設定シート!$C$4),\"Y\"))","v":""},"","",null,null,""]
[523,null,null,"",null,"0000000",null,"福島市",null,null,null,null,"",null,"",{"$f":"IF(N525=\"\",\"\",DATEDIF(N525,DATE(設定シート!$C$2,設定シート!$C$3,設定シート!$C$4),\"Y\"))","v":""},"","",null,null,""]
[524,null,null,"",null,"0000000",null,"福島市",null,null,null,null,"",null,"",{"$f":"IF(N526=\"\",\"\",DATEDIF(N526,DATE(設定シート!$C$2,設定シート!$C$3,設定シート!$C$4),\"Y\"))","v":""},"","",null,null,""]
[525,null,null,"",null,"0000000",null,"福島市",null,null,null,null,"",null,"",{"$f":"IF(N527=\"\",\"\",DATEDIF(N527,DATE(設定シート!$C$2,設定シート!$C$3,設定シート!$C$4),\"Y\"))","v":""},"","",null,null,""]
[526,null,null,"",null,"0000000",null,"福島市",null,null,null,null,"",null,"",{"$f":"IF(N528=\"\",\"\",DATEDIF(N528,DATE(設定シート!$C$2,設定シート!$C$3,設定シート!$C$4),\"Y\"))","v":""},"","",null,null,""]
[527,null,null,"",null,"0000000",null,"福島市",null,null,null,null,"",null,"",{"$f":"IF(N529=\"\",\"\",DATEDIF(N529,DATE(設定シート!$C$2,設定シート!$C$3,設定シート!$C$4),\"Y\"))","v":""},"","",null,null,""]
[528,null,null,"",null,"0000000",null,"福島市",null,null,null,null,"",null,"",{"$f":"IF(N530=\"\",\"\",DATEDIF(N530,DATE(設定シート!$C$2,設定シート!$C$3,設定シート!$C$4),\"Y\"))","v":""},"","",null,null,""]
[529,null,null,"",null,"0000000",null,"福島市",null,null,null,null,"",null,"",{"$f":"IF(N531=\"\",\"\",DATEDIF(N531,DATE(設定シート!$C$2,設定シート!$C$3,設定シート!$C$4),\"Y\"))","v":""},"","",null,null,""]
[530,null,null,"",null,"0000000",null,"福島市",null,null,null,null,"",null,"",{"$f":"IF(N532=\"\",\"\",DATEDIF(N532,DATE(設定シート!$C$2,設定シート!$C$3,設定シート!$C$4),\"Y\"))","v":""},"","",null,null,""]
[531,null,null,"",null,"0000000",null,"福島市",null,null,null,null,"",null,"",{"$f":"IF(N533=\"\",\"\",DATEDIF(N533,DATE(設定シート!$C$2,設定シート!$C$3,設定シート!$C$4),\"Y\"))","v":""},"","",null,null,""]
[532,null,null,"",null,"0000000",null,"福島市",null,null,null,null,"",null,"",{"$f":"IF(N534=\"\",\"\",DATEDIF(N534,DATE(設定シート!$C$2,設定シート!$C$3,設定シート!$C$4),\"Y\"))","v":""},"","",null,null,""]
[533,null,null,"",null,"0000000",null,"福島市",null,null,null,null,"",null,"",{"$f":"IF(N535=\"\",\"\",DATEDIF(N535,DATE(設定シート!$C$2,設定シート!$C$3,設定シート!$C$4),\"Y\"))","v":""},"","",null,null,""]
[534,null,null,"",null,"0000000",null,"福島市",null,null,null,null,"",null,"",{"$f":"IF(N536=\"\",\"\",DATEDIF(N536,DATE(設定シート!$C$2,設定シート!$C$3,設定シート!$C$4),\"Y\"))","v":""},"","",null,null,""]
[535,null,null,"",null,"0000000",null,"福島市",null,null,null,null,"",null,"",{"$f":"IF(N537=\"\",\"\",DATEDIF(N537,DATE(設定シート!$C$2,設定シート!$C$3,設定シート!$C$4),\"Y\"))","v":""},"","",null,null,""]
[536,null,null,"",null,"0000000",null,"福島市",null,null,null,null,"",null,"",{"$f":"IF(N538=\"\",\"\",DATEDIF(N538,DATE(設定シート!$C$2,設定シート!$C$3,設定シート!$C$4),\"Y\"))","v":""},"","",null,null,""]
[537,null,null,"",null,"0000000",null,"福島市",null,null,null,null,"",null,"",{"$f":"IF(N539=\"\",\"\",DATEDIF(N539,DATE(設定シート!$C$2,設定シート!$C$3,設定シート!$C$4),\"Y\"))","v":""},"","",null,null,""]
[538,null,null,"",null,"0000000",null,"福島市",null,null,null,null,"",null,"",{"$f":"IF(N540=\"\",\"\",DATEDIF(N540,DATE(設定シート!$C$2,設定シート!$C$3,設定シート!$C$4),\"Y\"))","v":""},"","",null,null,""]
[539,null,null,"",null,"0000000",null,"福島市",null,null,null,null,"",null,"",{"$f":"IF(N541=\"\",\"\",DATEDIF(N541,DATE(設定シート!$C$2,設定シート!$C$3,設定シート!$C$4),\"Y\"))","v":""},"","",null,null,""]
[540,null,null,"",null,"0000000",null,"福島市",null,null,null,null,"",null,"",{"$f":"IF(N542=\"\",\"\",DATEDIF(N542,DATE(設定シート!$C$2,設定シート!$C$3,設定シート!$C$4),\"Y\"))","v":""},"","",null,null,""]
[541,null,null,"",null,"0000000",null,"福島市",null,null,null,null,"",null,"",{"$f":"IF(N543=\"\",\"\",DATEDIF(N543,DATE(設定シート!$C$2,設定シート!$C$3,設定シート!$C$4),\"Y\"))","v":""},"","",null,null,""]
[542,null,null,"",null,"0000000",null,"福島市",null,null,null,null,"",null,"",{"$f":"IF(N544=\"\",\"\",DATEDIF(N544,DATE(設定シート!$C$2,設定シート!$C$3,設定シート!$C$4),\"Y\"))","v":""},"","",null,null,""]
[543,null,null,"",null,"0000000",null,"福島市",null,null,null,null,"",null,"",{"$f":"IF(N545=\"\",\"\",DATEDIF(N545,DATE(設定シート!$C$2,設定シート!$C$3,設定シート!$C$4),\"Y\"))","v":""},"","",null,null,""]
[544,null,null,"",null,"0000000",null,"福島市",null,null,null,null,"",null,"",{"$f":"IF(N546=\"\",\"\",DATEDIF(N546,DATE(設定シート!$C$2,設定シート!$C$3,設定シート!$C$4),\"Y\"))","v":""},"","",null,null,""]
[545,null,null,"",null,"0000000",null,"福島市",null,null,null,null,"",null,"",{"$f":"IF(N547=\"\",\"\",DATEDIF(N547,DATE(設定シート!$C$2,設定シート!$C$3,設定シート!$C$4),\"Y\"))","v":""},"","",null,null,""]
[546,null,null,"",null,"0000000",null,"福島市",null,null,null,null,"",null,"",{"$f":"IF(N548=\"\",\"\",DATEDIF(N548,DATE(設定シート!$C$2,設定シート!$C$3,設定シート!$C$4),\"Y\"))","v":""},"","",null,null,""]
[547,null,null,"",null,"0000000",null,"福島市",null,null,null,null,"",null,"",{"$f":"IF(N549=\"\",\"\",DATEDIF(N549,DATE(設定シート!$C$2,設定シート!$C$3,設定シート!$C$4),\"Y\"))","v":""},"","",null,null,""]
[548,null,null,"",null,"0000000",null,"福島市",null,null,null,null,"",null,"",{"$f":"IF(N550=\"\",\"\",DATEDIF(N550,DATE(設定シート!$C$2,設定シート!$C$3,設定シート!$C$4),\"Y\"))","v":""},"","",null,null,""]
[549,null,null,"",null,"0000000",null,"福島市",null,null,null,null,"",null,"",{"$f":"IF(N551=\"\",\"\",DATEDIF(N551,DATE(設定シート!$C$2,設定シート!$C$3,設定シート!$C$4),\"Y\"))","v":""},"","",null,null,""]
[550,null,null,"",null,"0000000",null,"福島市",null,null,null,null,"",null,"",{"$f":"IF(N552=\"\",\"\",DATEDIF(N552,DATE(設定シート!$C$2,設定シート!$C$3,設定シート!$C$4),\"Y\"))","v":""},"","",null,null,""]
[551,null,null,"",null,"0000000",null,"福島市",null,null,null,null,"",null,"",{"$f":"IF(N553=\"\",\"\",DATEDIF(N553,DATE(設定シート!$C$2,設定シート!$C$3,設定シート!$C$4),\"Y\"))","v":""},"","",null,null,""]
[552,null,null,"",null,"0000000",null,"福島市",null,null,null,null,"",null,"",{"$f":"IF(N554=\"\",\"\",DATEDIF(N554,DATE(設定シート!$C$2,設定シート!$C$3,設定シート!$C$4),\"Y\"))","v":""},"","",null,null,""]
[553,null,null,"",null,"0000000",null,"福島市",null,null,null,null,"",null,"",{"$f":"IF(N555=\"\",\"\",DATEDIF(N555,DATE(設定シート!$C$2,設定シート!$C$3,設定シート!$C$4),\"Y\"))","v":""},"","",null,null,""]
[554,null,null,"",null,"0000000",null,"福島市",null,null,null,null,"",null,"",{"$f":"IF(N556=\"\",\"\",DATEDIF(N556,DATE(設定シート!$C$2,設定シート!$C$3,設定シート!$C$4),\"Y\"))","v":""},"","",null,null,""]
[555,null,null,"",null,"0000000",null,"福島市",null,null,null,null,"",null,"",{"$f":"IF(N557=\"\",\"\",DATEDIF(N557,DATE(設定シート!$C$2,設定シート!$C$3,設定シート!$C$4),\"Y\"))","v":""},"","",null,null,""]
[556,null,null,"",null,"0000000",null,"福島市",null,null,null,null,"",null,"",{"$f":"IF(N558=\"\",\"\",DATEDIF(N558,DATE(設定シート!$C$2,設定シート!$C$3,設定シート!$C$4),\"Y\"))","v":""},"","",null,null,""]
[557,null,null,"",null,"0000000",null,"福島市",null,null,null,null,"",null,"",{"$f":"IF(N559=\"\",\"\",DATEDIF(N559,DATE(設定シート!$C$2,設定シート!$C$3,設定シート!$C$4),\"Y\"))","v":""},"","",null,null,""]
[558,null,null,"",null,"0000000",null,"福島市",null,null,null,null,"",null,"",{"$f":"IF(N560=\"\",\"\",DATEDIF(N560,DATE(設定シート!$C$2,設定シート!$C$3,設定シート!$C$4),\"Y\"))","v":""},"","",null,null,""]
[559,null,null,"",null,"0000000",null,"福島市",null,null,null,null,"",null,"",{"$f":"IF(N561=\"\",\"\",DATEDIF(N561,DATE(設定シート!$C$2,設定シート!$C$3,設定シート!$C$4),\"Y\"))","v":""},"","",null,null,""]
[560,null,null,"",null,"0000000",null,"福島市",null,null,null,null,"",null,"",{"$f":"IF(N562=\"\",\"\",DATEDIF(N562,DATE(設定シート!$C$2,設定シート!$C$3,設定シート!$C$4),\"Y\"))","v":""},"","",null,null,""]
[561,null,null,"",null,"0000000",null,"福島市",null,null,null,null,"",null,"",{"$f":"IF(N563=\"\",\"\",DATEDIF(N563,DATE(設定シート!$C$2,設定シート!$C$3,設定シート!$C$4),\"Y\"))","v":""},"","",null,null,""]
[562,null,null,"",null,"0000000",null,"福島市",null,null,null,null,"",null,"",{"$f":"IF(N564=\"\",\"\",DATEDIF(N564,DATE(設定シート!$C$2,設定シート!$C$3,設定シート!$C$4),\"Y\"))","v":""},"","",null,null,""]
[563,null,null,"",null,"0000000",null,"福島市",null,null,null,null,"",null,"",{"$f":"IF(N565=\"\",\"\",DATEDIF(N565,DATE(設定シート!$C$2,設定シート!$C$3,設定シート!$C$4),\"Y\"))","v":""},"","",null,null,""]
[564,null,null,"",null,"0000000",null,"福島市",null,null,null,null,"",null,"",{"$f":"IF(N566=\"\",\"\",DATEDIF(N566,DATE(設定シート!$C$2,設定シート!$C$3,設定シート!$C$4),\"Y\"))","v":""},"","",null,null,""]
[565,null,null,"",null,"0000000",null,"福島市",null,null,null,null,"",null,"",{"$f":"IF(N567=\"\",\"\",DATEDIF(N567,DATE(設定シート!$C$2,設定シート!$C$3,設定シート!$C$4),\"Y\"))","v":""},"","",null,null,""]
[566,null,null,"",null,"0000000",null,"福島市",null,null,null,null,"",null,"",{"$f":"IF(N568=\"\",\"\",DATEDIF(N568,DATE(設定シート!$C$2,設定シート!$C$3,設定シート!$C$4),\"Y\"))","v":""},"","",null,null,""]
[567,null,null,"",null,"0000000",null,"福島市",null,null,null,null,"",null,"",{"$f":"IF(N569=\"\",\"\",DATEDIF(N569,DATE(設定シート!$C$2,設定シート!$C$3,設定シート!$C$4),\"Y\"))","v":""},"","",null,null,""]
[568,null,null,"",null,"0000000",null,"福島市",null,null,null,null,"",null,"",{"$f":"IF(N570=\"\",\"\",DATEDIF(N570,DATE(設定シート!$C$2,設定シート!$C$3,設定シート!$C$4),\"Y\"))","v":""},"","",null,null,""]
[569,null,null,"",null,"0000000",null,"福島市",null,null,null,null,"",null,"",{"$f":"IF(N571=\"\",\"\",DATEDIF(N571,DATE(設定シート!$C$2,設定シート!$C$3,設定シート!$C$4),\"Y\"))","v":""},"","",null,null,""]
[570,null,null,"",null,"0000000",null,"福島市",null,null,null,null,"",null,"",{"$f":"IF(N572=\"\",\"\",DATEDIF(N572,DATE(設定シート!$C$2,設定シート!$C$3,設定シート!$C$4),\"Y\"))","v":""},"","",null,null,""]
[571,null,null,"",null,"0000000",null,"福島市",null,null,null,null,"",null,"",{"$f":"IF(N573=\"\",\"\",DATEDIF(N573,DATE(設定シート!$C$2,設定シート!$C$3,設定シート!$C$4),\"Y\"))","v":""},"","",null,null,""]
[572,null,null,"",null,"0000000",null,"福島市",null,null,null,null,"",null,"",{"$f":"IF(N574=\"\",\"\",DATEDIF(N574,DATE(設定シート!$C$2,設定シート!$C$3,設定シート!$C$4),\"Y\"))","v":""},"","",null,null,""]
[573,null,null,"",null,"0000000",null,"福島市",null,null,null,null,"",null,"",{"$f":"IF(N575=\"\",\"\",DATEDIF(N575,DATE(設定シート!$C$2,設定シート!$C$3,設定シート!$C$4),\"Y\"))","v":""},"","",null,null,""]
[574,null,null,"",null,"0000000",null,"福島市",null,null,null,null,"",null,"",{"$f":"IF(N576=\"\",\"\",DATEDIF(N576,DATE(設定シート!$C$2,設定シート!$C$3,設定シート!$C$4),\"Y\"))","v":""},"","",null,null,""]
[575,null,null,"",null,"0000000",null,"福島市",null,null,null,null,"",null,"",{"$f":"IF(N577=\"\",\"\",DATEDIF(N577,DATE(設定シート!$C$2,設定シート!$C$3,設定シート!$C$4),\"Y\"))","v":""},"","",null,null,""]
[576,null,null,"",null,"0000000",null,"福島市",null,null,null,null,"",null,"",{"$f":"IF(N578=\"\",\"\",DATEDIF(N578,DATE(設定シート!$C$2,設定シート!$C$3,設定シート!$C$4),\"Y\"))","v":""},"","",null,null,""]
[577,null,null,{"$f":"PHONETIC(C579)","v":""},null,{"$f":"TEXT(B579,\"0000000\")","v":"0000000"},null,"福島市",null,null,null,null,{"$f":"IF(L579=1,\"男\",IF(L579=2,\"女\",\"\"))","v":""},null,{"$f":"IF(OR(E579=\"\",N579=\"\"),\"\",DATEDIF(N579,E579,\"Y\"))","v":""},{"$f":"IF(N579=\"\",\"\",DATEDIF(N579,DATE(設定シート!$C$2,設定シート!$C$3,設定シート!$C$4),\"Y\"))","v":""},{"$f":"IF(P579=\"\",\"\",IF(P579<=69,1,IF(P579>=70,2,\"\")))","v":""},{"$f":"IF(OR(Q579=1,Q579=\"1\"),\"有料\",IF(OR(Q579=2,Q579=\"2\"),\"70・後\",IF(Q579=3,\"生保\",IF(Q579=4,\"非課税\",\"\"))))","v":""},null,null,{"$f":"IF(AND(L579=2,P579>=60),\"一単独\",IF(AND(L579=2,P579>=50,P579<60),\"一併用\",IF(AND(L579=2,P579>=40,P579<50),\"二併用\",\"\")))","v":""}]
[{"$f":"ROW()-2","v":578},null,null,"",null,"0000000",null,"福島市",null,null,null,null,"",null,"",{"$f":"IF(N580=\"\",\"\",DATEDIF(N580,DATE(設定シート!$C$2,設定シート!$C$3,設定シート!$C$4),\"Y\"))","v":""},"","",null,null,""]
[579,null,null,"",null,"0000000",null,"福島市",null,null,null,null,"",null,"",{"$f":"IF(N581=\"\",\"\",DATEDIF(N581,DATE(設定シート!$C$2,設定シート!$C$3,設定シート!$C$4),\"Y\"))","v":""},"","",null,null,""]
[580,null,null,"",null,"0000000",null,"福島市",null,null,null,null,"",null,"",{"$f":"IF(N582=\"\",\"\",DATEDIF(N582,DATE(設定シート!$C$2,設定シート!$C$3,設定シート!$C$4),\"Y\"))","v":""},"","",null,null,""]
[581,null,null,"",null,"0000000",null,"福島市",null,null,null,null,"",null,"",{"$f":"IF(N583=\"\",\"\",DATEDIF(N583,DATE(設定シート!$C$2,設定シート!$C$3,設定シート!$C$4),\"Y\"))","v":""},"","",null,null,""]
[582,null,null,"",null,"0000000",null,"福島市",null,null,null,null,"",null,"",{"$f":"IF(N584=\"\",\"\",DATEDIF(N584,DATE(設定シート!$C$2,設定シート!$C$3,設定シート!$C$4),\"Y\"))","v":""},"","",null,null,""]
[583,null,null,"",null,"0000000",null,"福島市",null,null,null,null,"",null,"",{"$f":"IF(N585=\"\",\"\",DATEDIF(N585,DATE(設定シート!$C$2,設定シート!$C$3,設定シート!$C$4),\"Y\"))","v":""},"","",null,null,""]
[584,null,null,"",null,"0000000",null,"福島市",null,null,null,null,"",null,"",{"$f":"IF(N586=\"\",\"\",DATEDIF(N586,DATE(設定シート!$C$2,設定シート!$C$3,設定シート!$C$4),\"Y\"))","v":""},"","",null,null,""]
[585,null,null,"",null,"0000000",null,"福島市",null,null,null,null,"",null,"",{"$f":"IF(N587=\"\",\"\",DATEDIF(N587,DATE(設定シート!$C$2,設定シート!$C$3,設定シート!$C$4),\"Y\"))","v":""},"","",null,null,""]
[586,null,null,"",null,"0000000",null,"福島市",null,null,null,null,"",null,"",{"$f":"IF(N588=\"\",\"\",DATEDIF(N588,DATE(設定シート!$C$2,設定シート!$C$3,設定シート!$C$4),\"Y\"))","v":""},"","",null,null,""]
[587,null,null,"",null,"0000000",null,"福島市",null,null,null,null,"",null,"",{"$f":"IF(N589=\"\",\"\",DATEDIF(N589,DATE(設定シート!$C$2,設定シート!$C$3,設定シート!$C$4),\"Y\"))","v":""},"","",null,null,""]
[588,null,null,"",null,"0000000",null,"福島市",null,null,null,null,"",null,"",{"$f":"IF(N590=\"\",\"\",DATEDIF(N590,DATE(設定シート!$C$2,設定シート!$C$3,設定シート!$C$4),\"Y\"))","v":""},"","",null,null,""]
[589,null,null,"",null,"0000000",null,"福島市",null,null,null,null,"",null,"",{"$f":"IF(N591=\"\",\"\",DATEDIF(N591,DATE(設定シート!$C$2,設定シート!$C$3,設定シート!$C$4),\"Y\"))","v":""},"","",null,null,""]
[590,null,null,"",null,"0000000",null,"福島市",null,null,null,null,"",null,"",{"$f":"IF(N592=\"\",\"\",DATEDIF(N592,DATE(設定シート!$C$2,設定シート!$C$3,設定シート!$C$4),\"Y\"))","v":""},"","",null,null,""]
[591,null,null,"",null,"0000000",null,"福島市",null,null,null,null,"",null,"",{"$f":"IF(N593=\"\",\"\",DATEDIF(N593,DATE(設定シート!$C$2,設定シート!$C$3,設定シート!$C$4),\"Y\"))","v":""},"","",null,null,""]
[592,null,null,"",null,"0000000",null,"福島市",null,null,null,null,"",null,"",{"$f":"IF(N594=\"\",\"\",DATEDIF(N594,DATE(設定シート!$C$2,設定シート!$C$3,設定シート!$C$4),\"Y\"))","v":""},"","",null,null,""]
[593,null,null,"",null,"0000000",null,"福島市",null,null,null,null,"",null,"",{"$f":"IF(N595=\"\",\"\",DATEDIF(N595,DATE(設定シート!$C$2,設定シート!$C$3,設定シート!$C$4),\"Y\"))","v":""},"","",null,null,""]
[594,null,null,"",null,"0000000",null,"福島市",null,null,null,null,"",null,"",{"$f":"IF(N596=\"\",\"\",DATEDIF(N596,DATE(設定シート!$C$2,設定シート!$C$3,設定シート!$C$4),\"Y\"))","v":""},"","",null,null,""]
[595,null,null,"",null,"0000000",null,"福島市",null,null,null,null,"",null,"",{"$f":"IF(N597=\"\",\"\",DATEDIF(N597,DATE(設定シート!$C$2,設定シート!$C$3,設定シート!$C$4),\"Y\"))","v":""},"","",null,null,""]
[596,null,null,"",null,"0000000",null,"福島市",null,null,null,null,"",null,"",{"$f":"IF(N598=\"\",\"\",DATEDIF(N598,DATE(設定シート!$C$2,設定シート!$C$3,設定シート!$C$4),\"Y\"))","v":""},"","",null,null,""]
[597,null,null,"",null,"0000000",null,"福島市",null,null,null,null,"",null,"",{"$f":"IF(N599=\"\",\"\",DATEDIF(N599,DATE(設定シート!$C$2,設定シート!$C$3,設定シート!$C$4),\"Y\"))","v":""},"","",null,null,""]
[598,null,null,"",null,"0000000",null,"福島市",null,null,null,null,"",null,"",{"$f":"IF(N600=\"\",\"\",DATEDIF(N600,DATE(設定シート!$C$2,設定シート!$C$3,設定シート!$C$4),\"Y\"))","v":""},"","",null,null,""]
[599,null,null,"",null,"0000000",null,"福島市",null,null,null,null,"",null,"",{"$f":"IF(N601=\"\",\"\",DATEDIF(N601,DATE(設定シート!$C$2,設定シート!$C$3,設定シート!$C$4),\"Y\"))","v":""},"","",null,null,""]
[600,null,null,"",null,"0000000",null,"福島市",null,null,null,null,"",null,"",{"$f":"IF(N602=\"\",\"\",DATEDIF(N602,DATE(設定シート!$C$2,設定シート!$C$3,設定シート!$C$4),\"Y\"))","v":""},"","",null,null,""]
[601,null,null,"",null,"0000000",null,"福島市",null,null,null,null,"",null,"",{"$f":"IF(N603=\"\",\"\",DATEDIF(N603,DATE(設定シート!$C$2,設定シート!$C$3,設定シート!$C$4),\"Y\"))","v":""},"","",null,null,""]
[602,null,null,"",null,"0000000",null,"福島市",null,null,null,null,"",null,"",{"$f":"IF(N604=\"\",\"\",DATEDIF(N604,DATE(設定シート!$C$2,設定シート!$C$3,設定シート!$C$4),\"Y\"))","v":""},"","",null,null,""]
[603,null,null,"",null,"0000000",null,"福島市",null,null,null,null,"",null,"",{"$f":"IF(N605=\"\",\"\",DATEDIF(N605,DATE(設定シート!$C$2,設定シート!$C$3,設定シート!$C$4),\"Y\"))","v":""},"","",null,null,""]
[604,null,null,"",null,"0000000",null,"福島市",null,null,null,null,"",null,"",{"$f":"IF(N606=\"\",\"\",DATEDIF(N606,DATE(設定シート!$C$2,設定シート!$C$3,設定シート!$C$4),\"Y\"))","v":""},"","",null,null,""]
[605,null,null,"",null,"0000000",null,"福島市",null,null,null,null,"",null,"",{"$f":"IF(N607=\"\",\"\",DATEDIF(N607,DATE(設定シート!$C$2,設定シート!$C$3,設定シート!$C$4),\"Y\"))","v":""},"","",null,null,""]
[606,null,null,"",null,"0000000",null,"福島市",null,null,null,null,"",null,"",{"$f":"IF(N608=\"\",\"\",DATEDIF(N608,DATE(設定シート!$C$2,設定シート!$C$3,設定シート!$C$4),\"Y\"))","v":""},"","",null,null,""]
[607,null,null,"",null,"0000000",null,"福島市",null,null,null,null,"",null,"",{"$f":"IF(N609=\"\",\"\",DATEDIF(N609,DATE(設定シート!$C$2,設定シート!$C$3,設定シート!$C$4),\"Y\"))","v":""},"","",null,null,""]
[608,null,null,"",null,"0000000",null,"福島市",null,null,null,null,"",null,"",{"$f":"IF(N610=\"\",\"\",DATEDIF(N610,DATE(設定シート!$C$2,設定シート!$C$3,設定シート!$C$4),\"Y\"))","v":""},"","",null,null,""]
[609,null,null,"",null,"0000000",null,"福島市",null,null,null,null,"",null,"",{"$f":"IF(N611=\"\",\"\",DATEDIF(N611,DATE(設定シート!$C$2,設定シート!$C$3,設定シート!$C$4),\"Y\"))","v":""},"","",null,null,""]
[610,null,null,"",null,"0000000",null,"福島市",null,null,null,null,"",null,"",{"$f":"IF(N612=\"\",\"\",DATEDIF(N612,DATE(設定シート!$C$2,設定シート!$C$3,設定シート!$C$4),\"Y\"))","v":""},"","",null,null,""]
[611,null,null,"",null,"0000000",null,"福島市",null,null,null,null,"",null,"",{"$f":"IF(N613=\"\",\"\",DATEDIF(N613,DATE(設定シート!$C$2,設定シート!$C$3,設定シート!$C$4),\"Y\"))","v":""},"","",null,null,""]
[612,null,null,"",null,"0000000",null,"福島市",null,null,null,null,"",null,"",{"$f":"IF(N614=\"\",\"\",DATEDIF(N614,DATE(設定シート!$C$2,設定シート!$C$3,設定シート!$C$4),\"Y\"))","v":""},"","",null,null,""]
[613,null,null,"",null,"0000000",null,"福島市",null,null,null,null,"",null,"",{"$f":"IF(N615=\"\",\"\",DATEDIF(N615,DATE(設定シート!$C$2,設定シート!$C$3,設定シート!$C$4),\"Y\"))","v":""},"","",null,null,""]
[614,null,null,"",null,"0000000",null,"福島市",null,null,null,null,"",null,"",{"$f":"IF(N616=\"\",\"\",DATEDIF(N616,DATE(設定シート!$C$2,設定シート!$C$3,設定シート!$C$4),\"Y\"))","v":""},"","",null,null,""]
[615,null,null,"",null,"0000000",null,"福島市",null,null,null,null,"",null,"",{"$f":"IF(N617=\"\",\"\",DATEDIF(N617,DATE(設定シート!$C$2,設定シート!$C$3,設定シート!$C$4),\"Y\"))","v":""},"","",null,null,""]
[616,null,null,"",null,"0000000",null,"福島市",null,null,null,null,"",null,"",{"$f":"IF(N618=\"\",\"\",DATEDIF(N618,DATE(設定シート!$C$2,設定シート!$C$3,設定シート!$C$4),\"Y\"))","v":""},"","",null,null,""]
[617,null,null,"",null,"0000000",null,"福島市",null,null,null,null,"",null,"",{"$f":"IF(N619=\"\",\"\",DATEDIF(N619,DATE(設定シート!$C$2,設定シート!$C$3,設定シート!$C$4),\"Y\"))","v":""},"","",null,null,""]
[618,null,null,"",null,"0000000",null,"福島市",null,null,null,null,"",null,"",{"$f":"IF(N620=\"\",\"\",DATEDIF(N620,DATE(設定シート!$C$2,設定シート!$C$3,設定シート!$C$4),\"Y\"))","v":""},"","",null,null,""]
[619,null,null,"",null,"0000000",null,"福島市",null,null,null,null,"",null,"",{"$f":"IF(N621=\"\",\"\",DATEDIF(N621,DATE(設定シート!$C$2,設定シート!$C$3,設定シート!$C$4),\"Y\"))","v":""},"","",null,null,""]
[620,null,null,"",null,"0000000",null,"福島市",null,null,null,null,"",null,"",{"$f":"IF(N622=\"\",\"\",DATEDIF(N622,DATE(設定シート!$C$2,設定シート!$C$3,設定シート!$C$4),\"Y\"))","v":""},"","",null,null,""]
[621,null,null,"",null,"0000000",null,"福島市",null,null,null,null,"",null,"",{"$f":"IF(N623=\"\",\"\",DATEDIF(N623,DATE(設定シート!$C$2,設定シート!$C$3,設定シート!$C$4),\"Y\"))","v":""},"","",null,null,""]
[622,null,null,"",null,"0000000",null,"福島市",null,null,null,null,"",null,"",{"$f":"IF(N624=\"\",\"\",DATEDIF(N624,DATE(設定シート!$C$2,設定シート!$C$3,設定シート!$C$4),\"Y\"))","v":""},"","",null,null,""]
[623,null,null,"",null,"0000000",null,"福島市",null,null,null,null,"",null,"",{"$f":"IF(N625=\"\",\"\",DATEDIF(N625,DATE(設定シート!$C$2,設定シート!$C$3,設定シート!$C$4),\"Y\"))","v":""},"","",null,null,""]
[624,null,null,"",null,"0000000",null,"福島市",null,null,null,null,"",null,"",{"$f":"IF(N626=\"\",\"\",DATEDIF(N626,DATE(設定シート!$C$2,設定シート!$C$3,設定シート!$C$4),\"Y\"))","v":""},"","",null,null,""]
[625,null,null,"",null,"0000000",null,"福島市",null,null,null,null,"",null,"",{"$f":"IF(N627=\"\",\"\",DATEDIF(N627,DATE(設定シート!$C$2,設定シート!$C$3,設定シート!$C$4),\"Y\"))","v":""},"","",null,null,""]
[626,null,null,"",null,"0000000",null,"福島市",null,null,null,null,"",null,"",{"$f":"IF(N628=\"\",\"\",DATEDIF(N628,DATE(設定シート!$C$2,設定シート!$C$3,設定シート!$C$4),\"Y\"))","v":""},"","",null,null,""]
[627,null,null,"",null,"0000000",null,"福島市",null,null,null,null,"",null,"",{"$f":"IF(N629=\"\",\"\",DATEDIF(N629,DATE(設定シート!$C$2,設定シート!$C$3,設定シート!$C$4),\"Y\"))","v":""},"","",null,null,""]
[628,null,null,"",null,"0000000",null,"福島市",null,null,null,null,"",null,"",{"$f":"IF(N630=\"\",\"\",DATEDIF(N630,DATE(設定シート!$C$2,設定シート!$C$3,設定シート!$C$4),\"Y\"))","v":""},"","",null,null,""]
[629,null,null,"",null,"0000000",null,"福島市",null,null,null,null,"",null,"",{"$f":"IF(N631=\"\",\"\",DATEDIF(N631,DATE(設定シート!$C$2,設定シート!$C$3,設定シート!$C$4),\"Y\"))","v":""},"","",null,null,""]
[630,null,null,"",null,"0000000",null,"福島市",null,null,null,null,"",null,"",{"$f":"IF(N632=\"\",\"\",DATEDIF(N632,DATE(設定シート!$C$2,設定シート!$C$3,設定シート!$C$4),\"Y\"))","v":""},"","",null,null,""]
[631,null,null,"",null,"0000000",null,"福島市",null,null,null,null,"",null,"",{"$f":"IF(N633=\"\",\"\",DATEDIF(N633,DATE(設定シート!$C$2,設定シート!$C$3,設定シート!$C$4),\"Y\"))","v":""},"","",null,null,""]
[632,null,null,"",null,"0000000",null,"福島市",null,null,null,null,"",null,"",{"$f":"IF(N634=\"\",\"\",DATEDIF(N634,DATE(設定シート!$C$2,設定シート!$C$3,設定シート!$C$4),\"Y\"))","v":""},"","",null,null,""]
[633,null,null,"",null,"0000000",null,"福島市",null,null,null,null,"",null,"",{"$f":"IF(N635=\"\",\"\",DATEDIF(N635,DATE(設定シート!$C$2,設定シート!$C$3,設定シート!$C$4),\"Y\"))","v":""},"","",null,null,""]
[634,null,null,"",null,"0000000",null,"福島市",null,null,null,null,"",null,"",{"$f":"IF(N636=\"\",\"\",DATEDIF(N636,DATE(設定シート!$C$2,設定シート!$C$3,設定シート!$C$4),\"Y\"))","v":""},"","",null,null,""]
[635,null,null,"",null,"0000000",null,"福島市",null,null,null,null,"",null,"",{"$f":"IF(N637=\"\",\"\",DATEDIF(N637,DATE(設定シート!$C$2,設定シート!$C$3,設定シート!$C$4),\"Y\"))","v":""},"","",null,null,""]
[636,null,null,"",null,"0000000",null,"福島市",null,null,null,null,"",null,"",{"$f":"IF(N638=\"\",\"\",DATEDIF(N638,DATE(設定シート!$C$2,設定シート!$C$3,設定シート!$C$4),\"Y\"))","v":""},"","",null,null,""]
[637,null,null,"",null,"0000000",null,"福島市",null,null,null,null,"",null,"",{"$f":"IF(N639=\"\",\"\",DATEDIF(N639,DATE(設定シート!$C$2,設定シート!$C$3,設定シート!$C$4),\"Y\"))","v":""},"","",null,null,""]
[638,null,null,"",null,"0000000",null,"福島市",null,null,null,null,"",null,"",{"$f":"IF(N640=\"\",\"\",DATEDIF(N640,DATE(設定シート!$C$2,設定シート!$C$3,設定シート!$C$4),\"Y\"))","v":""},"","",null,null,""]
[639,null,null,"",null,"0000000",null,"福島市",null,null,null,null,"",null,"",{"$f":"IF(N641=\"\",\"\",DATEDIF(N641,DATE(設定シート!$C$2,設定シート!$C$3,設定シート!$C$4),\"Y\"))","v":""},"","",null,null,""]
[640,null,null,"",null,"0000000",null,"福島市",null,null,null,null,"",null,"",{"$f":"IF(N642=\"\",\"\",DATEDIF(N642,DATE(設定シート!$C$2,設定シート!$C$3,設定シート!$C$4),\"Y\"))","v":""},"","",null,null,""]
[641,null,null,{"$f":"PHONETIC(C643)","v":""},null,{"$f":"TEXT(B643,\"0000000\")","v":"0000000"},null,"福島市",null,null,null,null,{"$f":"IF(L643=1,\"男\",IF(L643=2,\"女\",\"\"))","v":""},null,{"$f":"IF(OR(E643=\"\",N643=\"\"),\"\",DATEDIF(N643,E643,\"Y\"))","v":""},{"$f":"IF(N643=\"\",\"\",DATEDIF(N643,DATE(設定シート!$C$2,設定シート!$C$3,設定シート!$C$4),\"Y\"))","v":""},{"$f":"IF(P643=\"\",\"\",IF(P643<=69,1,IF(P643>=70,2,\"\")))","v":""},{"$f":"IF(OR(Q643=1,Q643=\"1\"),\"有料\",IF(OR(Q643=2,Q643=\"2\"),\"70・後\",IF(Q643=3,\"生保\",IF(Q643=4,\"非課税\",\"\"))))","v":""},null,null,{"$f":"IF(AND(L643=2,P643>=60),\"一単独\",IF(AND(L643=2,P643>=50,P643<60),\"一併用\",IF(AND(L643=2,P643>=40,P643<50),\"二併用\",\"\")))","v":""}]
[{"$f":"ROW()-2","v":642},null,null,"",null,"0000000",null,"福島市",null,null,null,null,"",null,"",{"$f":"IF(N644=\"\",\"\",DATEDIF(N644,DATE(設定シート!$C$2,設定シート!$C$3,設定シート!$C$4),\"Y\"))","v":""},"","",null,null,""]
[643,null,null,"",null,"0000000",null,"福島市",null,null,null,null,"",null,"",{"$f":"IF(N645=\"\",\"\",DATEDIF(N645,DATE(設定シート!$C$2,設定シート!$C$3,設定シート!$C$4),\"Y\"))","v":""},"","",null,null,""]
[644,null,null,"",null,"0000000",null,"福島市",null,null,null,null,"",null,"",{"$f":"IF(N646=\"\",\"\",DATEDIF(N646,DATE(設定シート!$C$2,設定シート!$C$3,設定シート!$C$4),\"Y\"))","v":""},"","",null,null,""]
[645,null,null,"",null,"0000000",null,"福島市",null,null,null,null,"",null,"",{"$f":"IF(N647=\"\",\"\",DATEDIF(N647,DATE(設定シート!$C$2,設定シート!$C$3,設定シート!$C$4),\"Y\"))","v":""},"","",null,null,""]
[646,null,null,"",null,"0000000",null,"福島市",null,null,null,null,"",null,"",{"$f":"IF(N648=\"\",\"\",DATEDIF(N648,DATE(設定シート!$C$2,設定シート!$C$3,設定シート!$C$4),\"Y\"))","v":""},"","",null,null,""]
[647,null,null,"",null,"0000000",null,"福島市",null,null,null,null,"",null,"",{"$f":"IF(N649=\"\",\"\",DATEDIF(N649,DATE(設定シート!$C$2,設定シート!$C$3,設定シート!$C$4),\"Y\"))","v":""},"","",null,null,""]
[648,null,null,"",null,"0000000",null,"福島市",null,null,null,null,"",null,"",{"$f":"IF(N650=\"\",\"\",DATEDIF(N650,DATE(設定シート!$C$2,設定シート!$C$3,設定シート!$C$4),\"Y\"))","v":""},"","",null,null,""]
[649,null,null,"",null,"0000000",null,"福島市",null,null,null,null,"",null,"",{"$f":"IF(N651=\"\",\"\",DATEDIF(N651,DATE(設定シート!$C$2,設定シート!$C$3,設定シート!$C$4),\"Y\"))","v":""},"","",null,null,""]
[650,null,null,"",null,"0000000",null,"福島市",null,null,null,null,"",null,"",{"$f":"IF(N652=\"\",\"\",DATEDIF(N652,DATE(設定シート!$C$2,設定シート!$C$3,設定シート!$C$4),\"Y\"))","v":""},"","",null,null,""]
[651,null,null,"",null,"0000000",null,"福島市",null,null,null,null,"",null,"",{"$f":"IF(N653=\"\",\"\",DATEDIF(N653,DATE(設定シート!$C$2,設定シート!$C$3,設定シート!$C$4),\"Y\"))","v":""},"","",null,null,""]
[652,null,null,"",null,"0000000",null,"福島市",null,null,null,null,"",null,"",{"$f":"IF(N654=\"\",\"\",DATEDIF(N654,DATE(設定シート!$C$2,設定シート!$C$3,設定シート!$C$4),\"Y\"))","v":""},"","",null,null,""]
[653,null,null,"",null,"0000000",null,"福島市",null,null,null,null,"",null,"",{"$f":"IF(N655=\"\",\"\",DATEDIF(N655,DATE(設定シート!$C$2,設定シート!$C$3,設定シート!$C$4),\"Y\"))","v":""},"","",null,null,""]
[654,null,null,"",null,"0000000",null,"福島市",null,null,null,null,"",null,"",{"$f":"IF(N656=\"\",\"\",DATEDIF(N656,DATE(設定シート!$C$2,設定シート!$C$3,設定シート!$C$4),\"Y\"))","v":""},"","",null,null,""]
[655,null,null,"",null,"0000000",null,"福島市",null,null,null,null,"",null,"",{"$f":"IF(N657=\"\",\"\",DATEDIF(N657,DATE(設定シート!$C$2,設定シート!$C$3,設定シート!$C$4),\"Y\"))","v":""},"","",null,null,""]
[656,null,null,"",null,"0000000",null,"福島市",null,null,null,null,"",null,"",{"$f":"IF(N658=\"\",\"\",DATEDIF(N658,DATE(設定シート!$C$2,設定シート!$C$3,設定シート!$C$4),\"Y\"))","v":""},"","",null,null,""]
[657,null,null,"",null,"0000000",null,"福島市",null,null,null,null,"",null,"",{"$f":"IF(N659=\"\",\"\",DATEDIF(N659,DATE(設定シート!$C$2,設定シート!$C$3,設定シート!$C$4),\"Y\"))","v":""},"","",null,null,""]
[658,null,null,"",null,"0000000",null,"福島市",null,null,null,null,"",null,"",{"$f":"IF(N660=\"\",\"\",DATEDIF(N660,DATE(設定シート!$C$2,設定シート!$C$3,設定シート!$C$4),\"Y\"))","v":""},"","",null,null,""]
[659,null,null,"",null,"0000000",null,"福島市",null,null,null,null,"",null,"",{"$f":"IF(N661=\"\",\"\",DATEDIF(N661,DATE(設定シート!$C$2,設定シート!$C$3,設定シート!$C$4),\"Y\"))","v":""},"","",null,null,""]
[660,null,null,"",null,"0000000",null,"福島市",null,null,null,null,"",null,"",{"$f":"IF(N662=\"\",\"\",DATEDIF(N662,DATE(設定シート!$C$2,設定シート!$C$3,設定シート!$C$4),\"Y\"))","v":""},"","",null,null,""]
[661,null,null,"",null,"0000000",null,"福島市",null,null,null,null,"",null,"",{"$f":"IF(N663=\"\",\"\",DATEDIF(N663,DATE(設定シート!$C$2,設定シート!$C$3,設定シート!$C$4),\"Y\"))","v":""},"","",null,null,""]
[662,null,null,"",null,"0000000",null,"福島市",null,null,null,null,"",null,"",{"$f":"IF(N664=\"\",\"\",DATEDIF(N664,DATE(設定シート!$C$2,設定シート!$C$3,設定シート!$C$4),\"Y\"))","v":""},"","",null,null,""]
[663,null,null,"",null,"0000000",null,"福島市",null,null,null,null,"",null,"",{"$f":"IF(N665=\"\",\"\",DATEDIF(N665,DATE(設定シート!$C$2,設定シート!$C$3,設定シート!$C$4),\"Y\"))","v":""},"","",null,null,""]
[664,null,null,"",null,"0000000",null,"福島市",null,null,null,null,"",null,"",{"$f":"IF(N666=\"\",\"\",DATEDIF(N666,DATE(設定シート!$C$2,設定シート!$C$3,設定シート!$C$4),\"Y\"))","v":""},"","",null,null,""]
[665,null,null,"",null,"0000000",null,"福島市",null,null,null,null,"",null,"",{"$f":"IF(N667=\"\",\"\",DATEDIF(N667,DATE(設定シート!$C$2,設定シート!$C$3,設定シート!$C$4),\"Y\"))","v":""},"","",null,null,""]
[666,null,null,"",null,"0000000",null,"福島市",null,null,null,null,"",null,"",{"$f":"IF(N668=\"\",\"\",DATEDIF(N668,DATE(設定シート!$C$2,設定シート!$C$3,設定シート!$C$4),\"Y\"))","v":""},"","",null,null,""]
[667,null,null,"",null,"0000000",null,"福島市",null,null,null,null,"",null,"",{"$f":"IF(N669=\"\",\"\",DATEDIF(N669,DATE(設定シート!$C$2,設定シート!$C$3,設定シート!$C$4),\"Y\"))","v":""},"","",null,null,""]
[668,null,null,"",null,"0000000",null,"福島市",null,null,null,null,"",null,"",{"$f":"IF(N670=\"\",\"\",DATEDIF(N670,DATE(設定シート!$C$2,設定シート!$C$3,設定シート!$C$4),\"Y\"))","v":""},"","",null,null,""]
[669,null,null,"",null,"0000000",null,"福島市",null,null,null,null,"",null,"",{"$f":"IF(N671=\"\",\"\",DATEDIF(N671,DATE(設定シート!$C$2,設定シート!$C$3,設定シート!$C$4),\"Y\"))","v":""},"","",null,null,""]
[670,null,null,"",null,"0000000",null,"福島市",null,null,null,null,"",null,"",{"$f":"IF(N672=\"\",\"\",DATEDIF(N672,DATE(設定シート!$C$2,設定シート!$C$3,設定シート!$C$4),\"Y\"))","v":""},"","",null,null,""]
[671,null,null,"",null,"0000000",null,"福島市",null,null,null,null,"",null,"",{"$f":"IF(N673=\"\",\"\",DATEDIF(N673,DATE(設定シート!$C$2,設定シート!$C$3,設定シート!$C$4),\"Y\"))","v":""},"","",null,null,""]
[672,null,null,"",null,"0000000",null,"福島市",null,null,null,null,"",null,"",{"$f":"IF(N674=\"\",\"\",DATEDIF(N674,DATE(設定シート!$C$2,設定シート!$C$3,設定シート!$C$4),\"Y\"))","v":""},"","",null,null,""]
[673,null,null,"",null,"0000000",null,"福島市",null,null,null,null,"",null,"",{"$f":"IF(N675=\"\",\"\",DATEDIF(N675,DATE(設定シート!$C$2,設定シート!$C$3,設定シート!$C$4),\"Y\"))","v":""},"","",null,null,""]
[674,null,null,"",null,"0000000",null,"福島市",null,null,null,null,"",null,"",{"$f":"IF(N676=\"\",\"\",DATEDIF(N676,DATE(設定シート!$C$2,設定シート!$C$3,設定シート!$C$4),\"Y\"))","v":""},"","",null,null,""]
[675,null,null,"",null,"0000000",null,"福島市",null,null,null,null,"",null,"",{"$f":"IF(N677=\"\",\"\",DATEDIF(N677,DATE(設定シート!$C$2,設定シート!$C$3,設定シート!$C$4),\"Y\"))","v":""},"","",null,null,""]
[676,null,null,"",null,"0000000",null,"福島市",null,null,null,null,"",null,"",{"$f":"IF(N678=\"\",\"\",DATEDIF(N678,DATE(設定シート!$C$2,設定シート!$C$3,設定シート!$C$4),\"Y\"))","v":""},"","",null,null,""]
[677,null,null,"",null,"0000000",null,"福島市",null,null,null,null,"",null,"",{"$f":"IF(N679=\"\",\"\",DATEDIF(N679,DATE(設定シート!$C$2,設定シート!$C$3,設定シート!$C$4),\"Y\"))","v":""},"","",null,null,""]
[678,null,null,"",null,"0000000",null,"福島市",null,null,null,null,"",null,"",{"$f":"IF(N680=\"\",\"\",DATEDIF(N680,DATE(設定シート!$C$2,設定シート!$C$3,設定シート!$C$4),\"Y\"))","v":""},"","",null,null,""]
[679,null,null,"",null,"0000000",null,"福島市",null,null,null,null,"",null,"",{"$f":"IF(N681=\"\",\"\",DATEDIF(N681,DATE(設定シート!$C$2,設定シート!$C$3,設定シート!$C$4),\"Y\"))","v":""},"","",null,null,""]
[680,null,null,"",null,"0000000",null,"福島市",null,null,null,null,"",null,"",{"$f":"IF(N682=\"\",\"\",DATEDIF(N682,DATE(設定シート!$C$2,設定シート!$C$3,設定シート!$C$4),\"Y\"))","v":""},"","",null,null,""]
[681,null,null,"",null,"0000000",null,"福島市",null,null,null,null,"",null,"",{"$f":"IF(N683=\"\",\"\",DATEDIF(N683,DATE(設定シート!$C$2,設定シート!$C$3,設定シート!$C$4),\"Y\"))","v":""},"","",null,null,""]
[682,null,null,"",null,"0000000",null,"福島市",null,null,null,null,"",null,"",{"$f":"IF(N684=\"\",\"\",DATEDIF(N684,DATE(設定シート!$C$2,設定シート!$C$3,設定シート!$C$4),\"Y\"))","v":""},"","",null,null,""]
[683,null,null,"",null,"0000000",null,"福島市",null,null,null,null,"",null,"",{"$f":"IF(N685=\"\",\"\",DATEDIF(N685,DATE(設定シート!$C$2,設定シート!$C$3,設定シート!$C$4),\"Y\"))","v":""},"","",null,null,""]
[684,null,null,"",null,"0000000",null,"福島市",null,null,null,null,"",null,"",{"$f":"IF(N686=\"\",\"\",DATEDIF(N686,DATE(設定シート!$C$2,設定シート!$C$3,設定シート!$C$4),\"Y\"))","v":""},"","",null,null,""]
[685,null,null,"",null,"0000000",null,"福島市",null,null,null,null,"",null,"",{"$f":"IF(N687=\"\",\"\",DATEDIF(N687,DATE(設定シート!$C$2,設定シート!$C$3,設定シート!$C$4),\"Y\"))","v":""},"","",null,null,""]
[686,null,null,"",null,"0000000",null,"福島市",null,null,null,null,"",null,"",{"$f":"IF(N688=\"\",\"\",DATEDIF(N688,DATE(設定シート!$C$2,設定シート!$C$3,設定シート!$C$4),\"Y\"))","v":""},"","",null,null,""]
[687,null,null,"",null,"0000000",null,"福島市",null,null,null,null,"",null,"",{"$f":"IF(N689=\"\",\"\",DATEDIF(N689,DATE(設定シート!$C$2,設定シート!$C$3,設定シート!$C$4),\"Y\"))","v":""},"","",null,null,""]
[688,null,null,"",null,"0000000",null,"福島市",null,null,null,null,"",null,"",{"$f":"IF(N690=\"\",\"\",DATEDIF(N690,DATE(設定シート!$C$2,設定シート!$C$3,設定シート!$C$4),\"Y\"))","v":""},"","",null,null,""]
[689,null,null,"",null,"0000000",null,"福島市",null,null,null,null,"",null,"",{"$f":"IF(N691=\"\",\"\",DATEDIF(N691,DATE(設定シート!$C$2,設定シート!$C$3,設定シート!$C$4),\"Y\"))","v":""},"","",null,null,""]
[690,null,null,"",null,"0000000",null,"福島市",null,null,null,null,"",null,"",{"$f":"IF(N692=\"\",\"\",DATEDIF(N692,DATE(設定シート!$C$2,設定シート!$C$3,設定シート!$C$4),\"Y\"))","v":""},"","",null,null,""]
[691,null,null,"",null,"0000000",null,"福島市",null,null,null,null,"",null,"",{"$f":"IF(N693=\"\",\"\",DATEDIF(N693,DATE(設定シート!$C$2,設定シート!$C$3,設定シート!$C$4),\"Y\"))","v":""},"","",null,null,""]
[692,null,null,"",null,"0000000",null,"福島市",null,null,null,null,"",null,"",{"$f":"IF(N694=\"\",\"\",DATEDIF(N694,DATE(設定シート!$C$2,設定シート!$C$3,設定シート!$C$4),\"Y\"))","v":""},"","",null,null,""]
[693,null,null,"",null,"0000000",null,"福島市",null,null,null,null,"",null,"",{"$f":"IF(N695=\"\",\"\",DATEDIF(N695,DATE(設定シート!$C$2,設定シート!$C$3,設定シート!$C$4),\"Y\"))","v":""},"","",null,null,""]
[694,null,null,"",null,"0000000",null,"福島市",null,null,null,null,"",null,"",{"$f":"IF(N696=\"\",\"\",DATEDIF(N696,DATE(設定シート!$C$2,設定シート!$C$3,設定シート!$C$4),\"Y\"))","v":""},"","",null,null,""]
[695,null,null,"",null,"0000000",null,"福島市",null,null,null,null,"",null,"",{"$f":"IF(N697=\"\",\"\",DATEDIF(N697,DATE(設定シート!$C$2,設定シート!$C$3,設定シート!$C$4),\"Y\"))","v":""},"","",null,null,""]
[696,null,null,"",null,"0000000",null,"福島市",null,null,null,null,"",null,"",{"$f":"IF(N698=\"\",\"\",DATEDIF(N698,DATE(設定シート!$C$2,設定シート!$C$3,設定シート!$C$4),\"Y\"))","v":""},"","",null,null,""]
[697,null,null,"",null,"0000000",null,"福島市",null,null,null,null,"",null,"",{"$f":"IF(N699=\"\",\"\",DATEDIF(N699,DATE(設定シート!$C$2,設定シート!$C$3,設定シート!$C$4),\"Y\"))","v":""},"","",null,null,""]
[698,null,null,"",null,"0000000",null,"福島市",null,null,null,null,"",null,"",{"$f":"IF(N700=\"\",\"\",DATEDIF(N700,DATE(設定シート!$C$2,設定シート!$C$3,設定シート!$C$4),\"Y\"))","v":""},"","",null,null,""]
[699,null,null,"",null,"0000000",null,"福島市",null,null,null,null,"",null,"",{"$f":"IF(N701=\"\",\"\",DATEDIF(N701,DATE(設定シート!$C$2,設定シート!$C$3,設定シート!$C$4),\"Y\"))","v":""},"","",null,null,""]
[700,null,null,"",null,"0000000",null,"福島市",null,null,null,null,"",null,"",{"$f":"IF(N702=\"\",\"\",DATEDIF(N702,DATE(設定シート!$C$2,設定シート!$C$3,設定シート!$C$4),\"Y\"))","v":""},"","",null,null,""]
[701,null,null,"",null,"0000000",null,"福島市",null,null,null,null,"",null,"",{"$f":"IF(N703=\"\",\"\",DATEDIF(N703,DATE(設定シート!$C$2,設定シート!$C$3,設定シート!$C$4),\"Y\"))","v":""},"","",null,null,""]
[702,null,null,"",null,"0000000",null,"福島市",null,null,null,null,"",null,"",{"$f":"IF(N704=\"\",\"\",DATEDIF(N704,DATE(設定シート!$C$2,設定シート!$C$3,設定シート!$C$4),\"Y\"))","v":""},"","",null,null,""]
[703,null,null,"",null,"0000000",null,"福島市",null,null,null,null,"",null,"",{"$f":"IF(N705=\"\",\"\",DATEDIF(N705,DATE(設定シート!$C$2,設定シート!$C$3,設定シート!$C$4),\"Y\"))","v":""},"","",null,null,""]
[704,null,null,"",null,"0000000",null,"福島市",null,null,null,null,"",null,"",{"$f":"IF(N706=\"\",\"\",DATEDIF(N706,DATE(設定シート!$C$2,設定シート!$C$3,設定シート!$C$4),\"Y\"))","v":""},"","",null,null,""]
[705,null,null,{"$f":"PHONETIC(C707)","v":""},null,{"$f":"TEXT(B707,\"0000000\")","v":"0000000"},null,"福島市",null,null,null,null,{"$f":"IF(L707=1,\"男\",IF(L707=2,\"女\",\"\"))","v":""},null,{"$f":"IF(OR(E707=\"\",N707=\"\"),\"\",DATEDIF(N707,E707,\"Y\"))","v":""},{"$f":"IF(N707=\"\",\"\",DATEDIF(N707,DATE(設定シート!$C$2,設定シート!$C$3,設定シート!$C$4),\"Y\"))","v":""},{"$f":"IF(P707=\"\",\"\",IF(P707<=69,1,IF(P707>=70,2,\"\")))","v":""},{"$f":"IF(OR(Q707=1,Q707=\"1\"),\"有料\",IF(OR(Q707=2,Q707=\"2\"),\"70・後\",IF(Q707=3,\"生保\",IF(Q707=4,\"非課税\",\"\"))))","v":""},null,null,{"$f":"IF(AND(L707=2,P707>=60),\"一単独\",IF(AND(L707=2,P707>=50,P707<60),\"一併用\",IF(AND(L707=2,P707>=40,P707<50),\"二併用\",\"\")))","v":""}]
[{"$f":"ROW()-2","v":706},null,null,"",null,"0000000",null,"福島市",null,null,null,null,"",null,"",{"$f":"IF(N708=\"\",\"\",DATEDIF(N708,DATE(設定シート!$C$2,設定シート!$C$3,設定シート!$C$4),\"Y\"))","v":""},"","",null,null,""]
[707,null,null,"",null,"0000000",null,"福島市",null,null,null,null,"",null,"",{"$f":"IF(N709=\"\",\"\",DATEDIF(N709,DATE(設定シート!$C$2,設定シート!$C$3,設定シート!$C$4),\"Y\"))","v":""},"","",null,null,""]
[708,null,null,"",null,"0000000",null,"福島市",null,null,null,null,"",null,"",{"$f":"IF(N710=\"\",\"\",DATEDIF(N710,DATE(設定シート!$C$2,設定シート!$C$3,設定シート!$C$4),\"Y\"))","v":""},"","",null,null,""]
[709,null,null,"",null,"0000000",null,"福島市",null,null,null,null,"",null,"",{"$f":"IF(N711=\"\",\"\",DATEDIF(N711,DATE(設定シート!$C$2,設定シート!$C$3,設定シート!$C$4),\"Y\"))","v":""},"","",null,null,""]
[710,null,null,"",null,"0000000",null,"福島市",null,null,null,null,"",null,"",{"$f":"IF(N712=\"\",\"\",DATEDIF(N712,DATE(設定シート!$C$2,設定シート!$C$3,設定シート!$C$4),\"Y\"))","v":""},"","",null,null,""]
[711,null,null,"",null,"0000000",null,"福島市",null,null,null,null,"",null,"",{"$f":"IF(N713=\"\",\"\",DATEDIF(N713,DATE(設定シート!$C$2,設定シート!$C$3,設定シート!$C$4),\"Y\"))","v":""},"","",null,null,""]
[712,null,null,"",null,"0000000",null,"福島市",null,null,null,null,"",null,"",{"$f":"IF(N714=\"\",\"\",DATEDIF(N714,DATE(設定シート!$C$2,設定シート!$C$3,設定シート!$C$4),\"Y\"))","v":""},"","",null,null,""]
[713,null,null,"",null,"0000000",null,"福島市",null,null,null,null,"",null,"",{"$f":"IF(N715=\"\",\"\",DATEDIF(N715,DATE(設定シート!$C$2,設定シート!$C$3,設定シート!$C$4),\"Y\"))","v":""},"","",null,null,""]
[714,null,null,"",null,"0000000",null,"福島市",null,null,null,null,"",null,"",{"$f":"IF(N716=\"\",\"\",DATEDIF(N716,DATE(設定シート!$C$2,設定シート!$C$3,設定シート!$C$4),\"Y\"))","v":""},"","",null,null,""]
[715,null,null,"",null,"0000000",null,"福島市",null,null,null,null,"",null,"",{"$f":"IF(N717=\"\",\"\",DATEDIF(N717,DATE(設定シート!$C$2,設定シート!$C$3,設定シート!$C$4),\"Y\"))","v":""},"","",null,null,""]
[716,null,null,"",null,"0000000",null,"福島市",null,null,null,null,"",null,"",{"$f":"IF(N718=\"\",\"\",DATEDIF(N718,DATE(設定シート!$C$2,設定シート!$C$3,設定シート!$C$4),\"Y\"))","v":""},"","",null,null,""]
[717,null,null,"",null,"0000000",null,"福島市",null,null,null,null,"",null,"",{"$f":"IF(N719=\"\",\"\",DATEDIF(N719,DATE(設定シート!$C$2,設定シート!$C$3,設定シート!$C$4),\"Y\"))","v":""},"","",null,null,""]
[718,null,null,"",null,"0000000",null,"福島市",null,null,null,null,"",null,"",{"$f":"IF(N720=\"\",\"\",DATEDIF(N720,DATE(設定シート!$C$2,設定シート!$C$3,設定シート!$C$4),\"Y\"))","v":""},"","",null,null,""]
[719,null,null,"",null,"0000000",null,"福島市",null,null,null,null,"",null,"",{"$f":"IF(N721=\"\",\"\",DATEDIF(N721,DATE(設定シート!$C$2,設定シート!$C$3,設定シート!$C$4),\"Y\"))","v":""},"","",null,null,""]
[720,null,null,"",null,"0000000",null,"福島市",null,null,null,null,"",null,"",{"$f":"IF(N722=\"\",\"\",DATEDIF(N722,DATE(設定シート!$C$2,設定シート!$C$3,設定シート!$C$4),\"Y\"))","v":""},"","",null,null,""]
[721,null,null,"",null,"0000000",null,"福島市",null,null,null,null,"",null,"",{"$f":"IF(N723=\"\",\"\",DATEDIF(N723,DATE(設定シート!$C$2,設定シート!$C$3,設定シート!$C$4),\"Y\"))","v":""},"","",null,null,""]
[722,null,null,"",null,"0000000",null,"福島市",null,null,null,null,"",null,"",{"$f":"IF(N724=\"\",\"\",DATEDIF(N724,DATE(設定シート!$C$2,設定シート!$C$3,設定シート!$C$4),\"Y\"))","v":""},"","",null,null,""]
[723,null,null,"",null,"0000000",null,"福島市",null,null,null,null,"",null,"",{"$f":"IF(N725=\"\",\"\",DATEDIF(N725,DATE(設定シート!$C$2,設定シート!$C$3,設定シート!$C$4),\"Y\"))","v":""},"","",null,null,""]
[724,null,null,"",null,"0000000",null,"福島市",null,null,null,null,"",null,"",{"$f":"IF(N726=\"\",\"\",DATEDIF(N726,DATE(設定シート!$C$2,設定シート!$C$3,設定シート!$C$4),\"Y\"))","v":""},"","",null,null,""]
[725,null,null,"",null,"0000000",null,"福島市",null,null,null,null,"",null,"",{"$f":"IF(N727=\"\",\"\",DATEDIF(N727,DATE(設定シート!$C$2,設定シート!$C$3,設定シート!$C$4),\"Y\"))","v":""},"","",null,null,""]
[726,null,null,"",null,"0000000",null,"福島市",null,null,null,null,"",null,"",{"$f":"IF(N728=\"\",\"\",DATEDIF(N728,DATE(設定シート!$C$2,設定シート!$C$3,設定シート!$C$4),\"Y\"))","v":""},"","",null,null,""]
[727,null,null,"",null,"0000000",null,"福島市",null,null,null,null,"",null,"",{"$f":"IF(N729=\"\",\"\",DATEDIF(N729,DATE(設定シート!$C$2,設定シート!$C$3,設定シート!$C$4),\"Y\"))","v":""},"","",null,null,""]
[728,null,null,"",null,"0000000",null,"福島市",null,null,null,null,"",null,"",{"$f":"IF(N730=\"\",\"\",DATEDIF(N730,DATE(設定シート!$C$2,設定シート!$C$3,設定シート!$C$4),\"Y\"))","v":""},"","",null,null,""]
[729,null,null,"",null,"0000000",null,"福島市",null,null,null,null,"",null,"",{"$f":"IF(N731=\"\",\"\",DATEDIF(N731,DATE(設定シート!$C$2,設定シート!$C$3,設定シート!$C$4),\"Y\"))","v":""},"","",null,null,""]
[730,null,null,"",null,"0000000",null,"福島市",null,null,null,null,"",null,"",{"$f":"IF(N732=\"\",\"\",DATEDIF(N732,DATE(設定シート!$C$2,設定シート!$C$3,設定シート!$C$4),\"Y\"))","v":""},"","",null,null,""]
[731,null,null,"",null,"0000000",null,"福島市",null,null,null,null,"",null,"",{"$f":"IF(N733=\"\",\"\",DATEDIF(N733,DATE(設定シート!$C$2,設定シート!$C$3,設定シート!$C$4),\"Y\"))","v":""},"","",null,null,""]
[732,null,null,"",null,"0000000",null,"福島市",null,null,null,null,"",null,"",{"$f":"IF(N734=\"\",\"\",DATEDIF(N734,DATE(設定シート!$C$2,設定シート!$C$3,設定シート!$C$4),\"Y\"))","v":""},"","",null,null,""]
[733,null,null,"",null,"0000000",null,"福島市",null,null,null,null,"",null,"",{"$f":"IF(N735=\"\",\"\",DATEDIF(N735,DATE(設定シート!$C$2,設定シート!$C$3,設定シート!$C$4),\"Y\"))","v":""},"","",null,null,""]
[734,null,null,"",null,"0000000",null,"福島市",null,null,null,null,"",null,"",{"$f":"IF(N736=\"\",\"\",DATEDIF(N736,DATE(設定シート!$C$2,設定シート!$C$3,設定シート!$C$4),\"Y\"))","v":""},"","",null,null,""]
[735,null,null,"",null,"0000000",null,"福島市",null,null,null,null,"",null,"",{"$f":"IF(N737=\"\",\"\",DATEDIF(N737,DATE(設定シート!$C$2,設定シート!$C$3,設定シート!$C$4),\"Y\"))","v":""},"","",null,null,""]
[736,null,null,"",null,"0000000",null,"福島市",null,null,null,null,"",null,"",{"$f":"IF(N738=\"\",\"\",DATEDIF(N738,DATE(設定シート!$C$2,設定シート!$C$3,設定シート!$C$4),\"Y\"))","v":""},"","",null,null,""]
[737,null,null,"",null,"0000000",null,"福島市",null,null,null,null,"",null,"",{"$f":"IF(N739=\"\",\"\",DATEDIF(N739,DATE(設定シート!$C$2,設定シート!$C$3,設定シート!$C$4),\"Y\"))","v":""},"","",null,null,""]
[738,null,null,"",null,"0000000",null,"福島市",null,null,null,null,"",null,"",{"$f":"IF(N740=\"\",\"\",DATEDIF(N740,DATE(設定シート!$C$2,設定シート!$C$3,設定シート!$C$4),\"Y\"))","v":""},"","",null,null,""]
[739,null,null,"",null,"0000000",null,"福島市",null,null,null,null,"",null,"",{"$f":"IF(N741=\"\",\"\",DATEDIF(N741,DATE(設定シート!$C$2,設定シート!$C$3,設定シート!$C$4),\"Y\"))","v":""},"","",null,null,""]
[740,null,null,"",null,"0000000",null,"福島市",null,null,null,null,"",null,"",{"$f":"IF(N742=\"\",\"\",DATEDIF(N742,DATE(設定シート!$C$2,設定シート!$C$3,設定シート!$C$4),\"Y\"))","v":""},"","",null,null,""]
[741,null,null,"",null,"0000000",null,"福島市",null,null,null,null,"",null,"",{"$f":"IF(N743=\"\",\"\",DATEDIF(N743,DATE(設定シート!$C$2,設定シート!$C$3,設定シート!$C$4),\"Y\"))","v":""},"","",null,null,""]
[742,null,null,"",null,"0000000",null,"福島市",null,null,null,null,"",null,"",{"$f":"IF(N744=\"\",\"\",DATEDIF(N744,DATE(設定シート!$C$2,設定シート!$C$3,設定シート!$C$4),\"Y\"))","v":""},"","",null,null,""]
[743,null,null,"",null,"0000000",null,"福島市",null,null,null,null,"",null,"",{"$f":"IF(N745=\"\",\"\",DATEDIF(N745,DATE(設定シート!$C$2,設定シート!$C$3,設定シート!$C$4),\"Y\"))","v":""},"","",null,null,""]
[744,null,null,"",null,"0000000",null,"福島市",null,null,null,null,"",null,"",{"$f":"IF(N746=\"\",\"\",DATEDIF(N746,DATE(設定シート!$C$2,設定シート!$C$3,設定シート!$C$4),\"Y\"))","v":""},"","",null,null,""]
[745,null,null,"",null,"0000000",null,"福島市",null,null,null,null,"",null,"",{"$f":"IF(N747=\"\",\"\",DATEDIF(N747,DATE(設定シート!$C$2,設定シート!$C$3,設定シート!$C$4),\"Y\"))","v":""},"","",null,null,""]
[746,null,null,"",null,"0000000",null,"福島市",null,null,null,null,"",null,"",{"$f":"IF(N748=\"\",\"\",DATEDIF(N748,DATE(設定シート!$C$2,設定シート!$C$3,設定シート!$C$4),\"Y\"))","v":""},"","",null,null,""]
[747,null,null,"",null,"0000000",null,"福島市",null,null,null,null,"",null,"",{"$f":"IF(N749=\"\",\"\",DATEDIF(N749,DATE(設定シート!$C$2,設定シート!$C$3,設定シート!$C$4),\"Y\"))","v":""},"","",null,null,""]
[748,null,null,"",null,"0000000",null,"福島市",null,null,null,null,"",null,"",{"$f":"IF(N750=\"\",\"\",DATEDIF(N750,DATE(設定シート!$C$2,設定シート!$C$3,設定シート!$C$4),\"Y\"))","v":""},"","",null,null,""]
[749,null,null,"",null,"0000000",null,"福島市",null,null,null,null,"",null,"",{"$f":"IF(N751=\"\",\"\",DATEDIF(N751,DATE(設定シート!$C$2,設定シート!$C$3,設定シート!$C$4),\"Y\"))","v":""},"","",null,null,""]
[750,null,null,"",null,"0000000",null,"福島市",null,null,null,null,"",null,"",{"$f":"IF(N752=\"\",\"\",DATEDIF(N752,DATE(設定シート!$C$2,設定シート!$C$3,設定シート!$C$4),\"Y\"))","v":""},"","",null,null,""]
[751,null,null,"",null,"0000000",null,"福島市",null,null,null,null,"",null,"",{"$f":"IF(N753=\"\",\"\",DATEDIF(N753,DATE(設定シート!$C$2,設定シート!$C$3,設定シート!$C$4),\"Y\"))","v":""},"","",null,null,""]
[752,null,null,"",null,"0000000",null,"福島市",null,null,null,null,"",null,"",{"$f":"IF(N754=\"\",\"\",DATEDIF(N754,DATE(設定シート!$C$2,設定シート!$C$3,設定シート!$C$4),\"Y\"))","v":""},"","",null,null,""]
[753,null,null,"",null,"0000000",null,"福島市",null,null,null,null,"",null,"",{"$f":"IF(N755=\"\",\"\",DATEDIF(N755,DATE(設定シート!$C$2,設定シート!$C$3,設定シート!$C$4),\"Y\"))","v":""},"","",null,null,""]
[754,null,null,"",null,"0000000",null,"福島市",null,null,null,null,"",null,"",{"$f":"IF(N756=\"\",\"\",DATEDIF(N756,DATE(設定シート!$C$2,設定シート!$C$3,設定シート!$C$4),\"Y\"))","v":""},"","",null,null,""]
[755,null,null,"",null,"0000000",null,"福島市",null,null,null,null,"",null,"",{"$f":"IF(N757=\"\",\"\",DATEDIF(N757,DATE(設定シート!$C$2,設定シート!$C$3,設定シート!$C$4),\"Y\"))","v":""},"","",null,null,""]
[756,null,null,"",null,"0000000",null,"福島市",null,null,null,null,"",null,"",{"$f":"IF(N758=\"\",\"\",DATEDIF(N758,DATE(設定シート!$C$2,設定シート!$C$3,設定シート!$C$4),\"Y\"))","v":""},"","",null,null,""]
[757,null,null,"",null,"0000000",null,"福島市",null,null,null,null,"",null,"",{"$f":"IF(N759=\"\",\"\",DATEDIF(N759,DATE(設定シート!$C$2,設定シート!$C$3,設定シート!$C$4),\"Y\"))","v":""},"","",null,null,""]
[758,null,null,"",null,"0000000",null,"福島市",null,null,null,null,"",null,"",{"$f":"IF(N760=\"\",\"\",DATEDIF(N760,DATE(設定シート!$C$2,設定シート!$C$3,設定シート!$C$4),\"Y\"))","v":""},"","",null,null,""]
[759,null,null,"",null,"0000000",null,"福島市",null,null,null,null,"",null,"",{"$f":"IF(N761=\"\",\"\",DATEDIF(N761,DATE(設定シート!$C$2,設定シート!$C$3,設定シート!$C$4),\"Y\"))","v":""},"","",null,null,""]
[760,null,null,"",null,"0000000",null,"福島市",null,null,null,null,"",null,"",{"$f":"IF(N762=\"\",\"\",DATEDIF(N762,DATE(設定シート!$C$2,設定シート!$C$3,設定シート!$C$4),\"Y\"))","v":""},"","",null,null,""]
[761,null,null,"",null,"0000000",null,"福島市",null,null,null,null,"",null,"",{"$f":"IF(N763=\"\",\"\",DATEDIF(N763,DATE(設定シート!$C$2,設定シート!$C$3,設定シート!$C$4),\"Y\"))","v":""},"","",null,null,""]
[762,null,null,"",null,"0000000",null,"福島市",null,null,null,null,"",null,"",{"$f":"IF(N764=\"\",\"\",DATEDIF(N764,DATE(設定シート!$C$2,設定シート!$C$3,設定シート!$C$4),\"Y\"))","v":""},"","",null,null,""]
[763,null,null,"",null,"0000000",null,"福島市",null,null,null,null,"",null,"",{"$f":"IF(N765=\"\",\"\",DATEDIF(N765,DATE(設定シート!$C$2,設定シート!$C$3,設定シート!$C$4),\"Y\"))","v":""},"","",null,null,""]
[764,null,null,"",null,"0000000",null,"福島市",null,null,null,null,"",null,"",{"$f":"IF(N766=\"\",\"\",DATEDIF(N766,DATE(設定シート!$C$2,設定シート!$C$3,設定シート!$C$4),\"Y\"))","v":""},"","",null,null,""]
[765,null,null,"",null,"0000000",null,"福島市",null,null,null,null,"",null,"",{"$f":"IF(N767=\"\",\"\",DATEDIF(N767,DATE(設定シート!$C$2,設定シート!$C$3,設定シート!$C$4),\"Y\"))","v":""},"","",null,null,""]
[766,null,null,"",null,"0000000",null,"福島市",null,null,null,null,"",null,"",{"$f":"IF(N768=\"\",\"\",DATEDIF(N768,DATE(設定シート!$C$2,設定シート!$C$3,設定シート!$C$4),\"Y\"))","v":""},"","",null,null,""]
[767,null,null,"",null,"0000000",null,"福島市",null,null,null,null,"",null,"",{"$f":"IF(N769=\"\",\"\",DATEDIF(N769,DATE(設定シート!$C$2,設定シート!$C$3,設定シート!$C$4),\"Y\"))","v":""},"","",null,null,""]
[768,null,null,"",null,"0000000",null,"福島市",null,null,null,null,"",null,"",{"$f":"IF(N770=\"\",\"\",DATEDIF(N770,DATE(設定シート!$C$2,設定シート!$C$3,設定シート!$C$4),\"Y\"))","v":""},"","",null,null,""]
[769,null,null,{"$f":"PHONETIC(C771)","v":""},null,{"$f":"TEXT(B771,\"0000000\")","v":"0000000"},null,"福島市",null,null,null,null,{"$f":"IF(L771=1,\"男\",IF(L771=2,\"女\",\"\"))","v":""},null,{"$f":"IF(OR(E771=\"\",N771=\"\"),\"\",DATEDIF(N771,E771,\"Y\"))","v":""},{"$f":"IF(N771=\"\",\"\",DATEDIF(N771,DATE(設定シート!$C$2,設定シート!$C$3,設定シート!$C$4),\"Y\"))","v":""},{"$f":"IF(P771=\"\",\"\",IF(P771<=69,1,IF(P771>=70,2,\"\")))","v":""},{"$f":"IF(OR(Q771=1,Q771=\"1\"),\"有料\",IF(OR(Q771=2,Q771=\"2\"),\"70・後\",IF(Q771=3,\"生保\",IF(Q771=4,\"非課税\",\"\"))))","v":""},null,null,{"$f":"IF(AND(L771=2,P771>=60),\"一単独\",IF(AND(L771=2,P771>=50,P771<60),\"一併用\",IF(AND(L771=2,P771>=40,P771<50),\"二併用\",\"\")))","v":""}]
[{"$f":"ROW()-2","v":770},null,null,"",null,"0000000",null,"福島市",null,null,null,null,"",null,"",{"$f":"IF(N772=\"\",\"\",DATEDIF(N772,DATE(設定シート!$C$2,設定シート!$C$3,設定シート!$C$4),\"Y\"))","v":""},"","",null,null,""]
[771,null,null,"",null,"0000000",null,"福島市",null,null,null,null,"",null,"",{"$f":"IF(N773=\"\",\"\",DATEDIF(N773,DATE(設定シート!$C$2,設定シート!$C$3,設定シート!$C$4),\"Y\"))","v":""},"","",null,null,""]
[772,null,null,"",null,"0000000",null,"福島市",null,null,null,null,"",null,"",{"$f":"IF(N774=\"\",\"\",DATEDIF(N774,DATE(設定シート!$C$2,設定シート!$C$3,設定シート!$C$4),\"Y\"))","v":""},"","",null,null,""]
[773,null,null,"",null,"0000000",null,"福島市",null,null,null,null,"",null,"",{"$f":"IF(N775=\"\",\"\",DATEDIF(N775,DATE(設定シート!$C$2,設定シート!$C$3,設定シート!$C$4),\"Y\"))","v":""},"","",null,null,""]
[774,null,null,"",null,"0000000",null,"福島市",null,null,null,null,"",null,"",{"$f":"IF(N776=\"\",\"\",DATEDIF(N776,DATE(設定シート!$C$2,設定シート!$C$3,設定シート!$C$4),\"Y\"))","v":""},"","",null,null,""]
[775,null,null,"",null,"0000000",null,"福島市",null,null,null,null,"",null,"",{"$f":"IF(N777=\"\",\"\",DATEDIF(N777,DATE(設定シート!$C$2,設定シート!$C$3,設定シート!$C$4),\"Y\"))","v":""},"","",null,null,""]
[776,null,null,"",null,"0000000",null,"福島市",null,null,null,null,"",null,"",{"$f":"IF(N778=\"\",\"\",DATEDIF(N778,DATE(設定シート!$C$2,設定シート!$C$3,設定シート!$C$4),\"Y\"))","v":""},"","",null,null,""]
[777,null,null,"",null,"0000000",null,"福島市",null,null,null,null,"",null,"",{"$f":"IF(N779=\"\",\"\",DATEDIF(N779,DATE(設定シート!$C$2,設定シート!$C$3,設定シート!$C$4),\"Y\"))","v":""},"","",null,null,""]
[778,null,null,"",null,"0000000",null,"福島市",null,null,null,null,"",null,"",{"$f":"IF(N780=\"\",\"\",DATEDIF(N780,DATE(設定シート!$C$2,設定シート!$C$3,設定シート!$C$4),\"Y\"))","v":""},"","",null,null,""]
[779,null,null,"",null,"0000000",null,"福島市",null,null,null,null,"",null,"",{"$f":"IF(N781=\"\",\"\",DATEDIF(N781,DATE(設定シート!$C$2,設定シート!$C$3,設定シート!$C$4),\"Y\"))","v":""},"","",null,null,""]
[780,null,null,"",null,"0000000",null,"福島市",null,null,null,null,"",null,"",{"$f":"IF(N782=\"\",\"\",DATEDIF(N782,DATE(設定シート!$C$2,設定シート!$C$3,設定シート!$C$4),\"Y\"))","v":""},"","",null,null,""]
[781,null,null,"",null,"0000000",null,"福島市",null,null,null,null,"",null,"",{"$f":"IF(N783=\"\",\"\",DATEDIF(N783,DATE(設定シート!$C$2,設定シート!$C$3,設定シート!$C$4),\"Y\"))","v":""},"","",null,null,""]
[782,null,null,"",null,"0000000",null,"福島市",null,null,null,null,"",null,"",{"$f":"IF(N784=\"\",\"\",DATEDIF(N784,DATE(設定シート!$C$2,設定シート!$C$3,設定シート!$C$4),\"Y\"))","v":""},"","",null,null,""]
[783,null,null,"",null,"0000000",null,"福島市",null,null,null,null,"",null,"",{"$f":"IF(N785=\"\",\"\",DATEDIF(N785,DATE(設定シート!$C$2,設定シート!$C$3,設定シート!$C$4),\"Y\"))","v":""},"","",null,null,""]
[784,null,null,"",null,"0000000",null,"福島市",null,null,null,null,"",null,"",{"$f":"IF(N786=\"\",\"\",DATEDIF(N786,DATE(設定シート!$C$2,設定シート!$C$3,設定シート!$C$4),\"Y\"))","v":""},"","",null,null,""]
[785,null,null,"",null,"0000000",null,"福島市",null,null,null,null,"",null,"",{"$f":"IF(N787=\"\",\"\",DATEDIF(N787,DATE(設定シート!$C$2,設定シート!$C$3,設定シート!$C$4),\"Y\"))","v":""},"","",null,null,""]
[786,null,null,"",null,"0000000",null,"福島市",null,null,null,null,"",null,"",{"$f":"IF(N788=\"\",\"\",DATEDIF(N788,DATE(設定シート!$C$2,設定シート!$C$3,設定シート!$C$4),\"Y\"))","v":""},"","",null,null,""]
[787,null,null,"",null,"0000000",null,"福島市",null,null,null,null,"",null,"",{"$f":"IF(N789=\"\",\"\",DATEDIF(N789,DATE(設定シート!$C$2,設定シート!$C$3,設定シート!$C$4),\"Y\"))","v":""},"","",null,null,""]
[788,null,null,"",null,"0000000",null,"福島市",null,null,null,null,"",null,"",{"$f":"IF(N790=\"\",\"\",DATEDIF(N790,DATE(設定シート!$C$2,設定シート!$C$3,設定シート!$C$4),\"Y\"))","v":""},"","",null,null,""]
[789,null,null,"",null,"0000000",null,"福島市",null,null,null,null,"",null,"",{"$f":"IF(N791=\"\",\"\",DATEDIF(N791,DATE(設定シート!$C$2,設定シート!$C$3,設定シート!$C$4),\"Y\"))","v":""},"","",null,null,""]
[790,null,null,"",null,"0000000",null,"福島市",null,null,null,null,"",null,"",{"$f":"IF(N792=\"\",\"\",DATEDIF(N792,DATE(設定シート!$C$2,設定シート!$C$3,設定シート!$C$4),\"Y\"))","v":""},"","",null,null,""]
[791,null,null,"",null,"0000000",null,"福島市",null,null,null,null,"",null,"",{"$f":"IF(N793=\"\",\"\",DATEDIF(N793,DATE(設定シート!$C$2,設定シート!$C$3,設定シート!$C$4),\"Y\"))","v":""},"","",null,null,""]
[792,null,null,"",null,"0000000",null,"福島市",null,null,null,null,"",null,"",{"$f":"IF(N794=\"\",\"\",DATEDIF(N794,DATE(設定シート!$C$2,設定シート!$C$3,設定シート!$C$4),\"Y\"))","v":""},"","",null,null,""]
[793,null,null,"",null,"0000000",null,"福島市",null,null,null,null,"",null,"",{"$f":"IF(N795=\"\",\"\",DATEDIF(N795,DATE(設定シート!$C$2,設定シート!$C$3,設定シート!$C$4),\"Y\"))","v":""},"","",null,null,""]
[794,null,null,"",null,"0000000",null,"福島市",null,null,null,null,"",null,"",{"$f":"IF(N796=\"\",\"\",DATEDIF(N796,DATE(設定シート!$C$2,設定シート!$C$3,設定シート!$C$4),\"Y\"))","v":""},"","",null,null,""]
[795,null,null,"",null,"0000000",null,"福島市",null,null,null,null,"",null,"",{"$f":"IF(N797=\"\",\"\",DATEDIF(N797,DATE(設定シート!$C$2,設定シート!$C$3,設定シート!$C$4),\"Y\"))","v":""},"","",null,null,""]
[796,null,null,"",null,"0000000",null,"福島市",null,null,null,null,"",null,"",{"$f":"IF(N798=\"\",\"\",DATEDIF(N798,DATE(設定シート!$C$2,設定シート!$C$3,設定シート!$C$4),\"Y\"))","v":""},"","",null,null,""]
[797,null,null,"",null,"0000000",null,"福島市",null,null,null,null,"",null,"",{"$f":"IF(N799=\"\",\"\",DATEDIF(N799,DATE(設定シート!$C$2,設定シート!$C$3,設定シート!$C$4),\"Y\"))","v":""},"","",null,null,""]
[798,null,null,"",null,"0000000",null,"福島市",null,null,null,null,"",null,"",{"$f":"IF(N800=\"\",\"\",DATEDIF(N800,DATE(設定シート!$C$2,設定シート!$C$3,設定シート!$C$4),\"Y\"))","v":""},"","",null,null,""]
[799,null,null,"",null,"0000000",null,"福島市",null,null,null,null,"",null,"",{"$f":"IF(N801=\"\",\"\",DATEDIF(N801,DATE(設定シート!$C$2,設定シート!$C$3,設定シート!$C$4),\"Y\"))","v":""},"","",null,null,""]
[800,null,null,"",null,"0000000",null,"福島市",null,null,null,null,"",null,"",{"$f":"IF(N802=\"\",\"\",DATEDIF(N802,DATE(設定シート!$C$2,設定シート!$C$3,設定シート!$C$4),\"Y\"))","v":""},"","",null,null,""]
[801,null,null,"",null,"0000000",null,"福島市",null,null,null,null,"",null,"",{"$f":"IF(N803=\"\",\"\",DATEDIF(N803,DATE(設定シート!$C$2,設定シート!$C$3,設定シート!$C$4),\"Y\"))","v":""},"","",null,null,""]
[802,null,null,"",null,"0000000",null,"福島市",null,null,null,null,"",null,"",{"$f":"IF(N804=\"\",\"\",DATEDIF(N804,DATE(設定シート!$C$2,設定シート!$C$3,設定シート!$C$4),\"Y\"))","v":""},"","",null,null,""]
[803,null,null,"",null,"0000000",null,"福島市",null,null,null,null,"",null,"",{"$f":"IF(N805=\"\",\"\",DATEDIF(N805,DATE(設定シート!$C$2,設定シート!$C$3,設定シート!$C$4),\"Y\"))","v":""},"","",null,null,""]
[804,null,null,"",null,"0000000",null,"福島市",null,null,null,null,"",null,"",{"$f":"IF(N806=\"\",\"\",DATEDIF(N806,DATE(設定シート!$C$2,設定シート!$C$3,設定シート!$C$4),\"Y\"))","v":""},"","",null,null,""]
[805,null,null,"",null,"0000000",null,"福島市",null,null,null,null,"",null,"",{"$f":"IF(N807=\"\",\"\",DATEDIF(N807,DATE(設定シート!$C$2,設定シート!$C$3,設定シート!$C$4),\"Y\"))","v":""},"","",null,null,""]
[806,null,null,"",null,"0000000",null,"福島市",null,null,null,null,"",null,"",{"$f":"IF(N808=\"\",\"\",DATEDIF(N808,DATE(設定シート!$C$2,設定シート!$C$3,設定シート!$C$4),\"Y\"))","v":""},"","",null,null,""]
[807,null,null,"",null,"0000000",null,"福島市",null,null,null,null,"",null,"",{"$f":"IF(N809=\"\",\"\",DATEDIF(N809,DATE(設定シート!$C$2,設定シート!$C$3,設定シート!$C$4),\"Y\"))","v":""},"","",null,null,""]
[808,null,null,"",null,"0000000",null,"福島市",null,null,null,null,"",null,"",{"$f":"IF(N810=\"\",\"\",DATEDIF(N810,DATE(設定シート!$C$2,設定シート!$C$3,設定シート!$C$4),\"Y\"))","v":""},"","",null,null,""]
[809,null,null,"",null,"0000000",null,"福島市",null,null,null,null,"",null,"",{"$f":"IF(N811=\"\",\"\",DATEDIF(N811,DATE(設定シート!$C$2,設定シート!$C$3,設定シート!$C$4),\"Y\"))","v":""},"","",null,null,""]
[810,null,null,"",null,"0000000",null,"福島市",null,null,null,null,"",null,"",{"$f":"IF(N812=\"\",\"\",DATEDIF(N812,DATE(設定シート!$C$2,設定シート!$C$3,設定シート!$C$4),\"Y\"))","v":""},"","",null,null,""]
[811,null,null,"",null,"0000000",null,"福島市",null,null,null,null,"",null,"",{"$f":"IF(N813=\"\",\"\",DATEDIF(N813,DATE(設定シート!$C$2,設定シート!$C$3,設定シート!$C$4),\"Y\"))","v":""},"","",null,null,""]
[812,null,null,"",null,"0000000",null,"福島市",null,null,null,null,"",null,"",{"$f":"IF(N814=\"\",\"\",DATEDIF(N814,DATE(設定シート!$C$2,設定シート!$C$3,設定シート!$C$4),\"Y\"))","v":""},"","",null,null,""]
[813,null,null,"",null,"0000000",null,"福島市",null,null,null,null,"",null,"",{"$f":"IF(N815=\"\",\"\",DATEDIF(N815,DATE(設定シート!$C$2,設定シート!$C$3,設定シート!$C$4),\"Y\"))","v":""},"","",null,null,""]
[814,null,null,"",null,"0000000",null,"福島市",null,null,null,null,"",null,"",{"$f":"IF(N816=\"\",\"\",DATEDIF(N816,DATE(設定シート!$C$2,設定シート!$C$3,設定シート!$C$4),\"Y\"))","v":""},"","",null,null,""]
[815,null,null,"",null,"0000000",null,"福島市",null,null,null,null,"",null,"",{"$f":"IF(N817=\"\",\"\",DATEDIF(N817,DATE(設定シート!$C$2,設定シート!$C$3,設定シート!$C$4),\"Y\"))","v":""},"","",null,null,""]
[816,null,null,"",null,"0000000",null,"福島市",null,null,null,null,"",null,"",{"$f":"IF(N818=\"\",\"\",DATEDIF(N818,DATE(設定シート!$C$2,設定シート!$C$3,設定シート!$C$4),\"Y\"))","v":""},"","",null,null,""]
[817,null,null,"",null,"0000000",null,"福島市",null,null,null,null,"",null,"",{"$f":"IF(N819=\"\",\"\",DATEDIF(N819,DATE(設定シート!$C$2,設定シート!$C$3,設定シート!$C$4),\"Y\"))","v":""},"","",null,null,""]
[818,null,null,"",null,"0000000",null,"福島市",null,null,null,null,"",null,"",{"$f":"IF(N820=\"\",\"\",DATEDIF(N820,DATE(設定シート!$C$2,設定シート!$C$3,設定シート!$C$4),\"Y\"))","v":""},"","",null,null,""]
[819,null,null,"",null,"0000000",null,"福島市",null,null,null,null,"",null,"",{"$f":"IF(N821=\"\",\"\",DATEDIF(N821,DATE(設定シート!$C$2,設定シート!$C$3,設定シート!$C$4),\"Y\"))","v":""},"","",null,null,""]
[820,null,null,"",null,"0000000",null,"福島市",null,null,null,null,"",null,"",{"$f":"IF(N822=\"\",\"\",DATEDIF(N822,DATE(設定シート!$C$2,設定シート!$C$3,設定シート!$C$4),\"Y\"))","v":""},"","",null,null,""]
[821,null,null,"",null,"0000000",null,"福島市",null,null,null,null,"",null,"",{"$f":"IF(N823=\"\",\"\",DATEDIF(N823,DATE(設定シート!$C$2,設定シート!$C$3,設定シート!$C$4),\"Y\"))","v":""},"","",null,null,""]
[822,null,null,"",null,"0000000",null,"福島市",null,null,null,null,"",null,"",{"$f":"IF(N824=\"\",\"\",DATEDIF(N824,DATE(設定シート!$C$2,設定シート!$C$3,設定シート!$C$4),\"Y\"))","v":""},"","",null,null,""]
[823,null,null,"",null,"0000000",null,"福島市",null,null,null,null,"",null,"",{"$f":"IF(N825=\"\",\"\",DATEDIF(N825,DATE(設定シート!$C$2,設定シート!$C$3,設定シート!$C$4),\"Y\"))","v":""},"","",null,null,""]
[824,null,null,"",null,"0000000",null,"福島市",null,null,null,null,"",null,"",{"$f":"IF(N826=\"\",\"\",DATEDIF(N826,DATE(設定シート!$C$2,設定シート!$C$3,設定シート!$C$4),\"Y\"))","v":""},"","",null,null,""]
[825,null,null,"",null,"0000000",null,"福島市",null,null,null,null,"",null,"",{"$f":"IF(N827=\"\",\"\",DATEDIF(N827,DATE(設定シート!$C$2,設定シート!$C$3,設定シート!$C$4),\"Y\"))","v":""},"","",null,null,""]
[826,null,null,"",null,"0000000",null,"福島市",null,null,null,null,"",null,"",{"$f":"IF(N828=\"\",\"\",DATEDIF(N828,DATE(設定シート!$C$2,設定シート!$C$3,設定シート!$C$4),\"Y\"))","v":""},"","",null,null,""]
[827,null,null,"",null,"0000000",null,"福島市",null,null,null,null,"",null,"",{"$f":"IF(N829=\"\",\"\",DATEDIF(N829,DATE(設定シート!$C$2,設定シート!$C$3,設定シート!$C$4),\"Y\"))","v":""},"","",null,null,""]
[828,null,null,"",null,"0000000",null,"福島市",null,null,null,null,"",null,"",{"$f":"IF(N830=\"\",\"\",DATEDIF(N830,DATE(設定シート!$C$2,設定シート!$C$3,設定シート!$C$4),\"Y\"))","v":""},"","",null,null,""]
[829,null,null,"",null,"0000000",null,"福島市",null,null,null,null,"",null,"",{"$f":"IF(N831=\"\",\"\",DATEDIF(N831,DATE(設定シート!$C$2,設定シート!$C$3,設定シート!$C$4),\"Y\"))","v":""},"","",null,null,""]
[830,null,null,"",null,"0000000",null,"福島市",null,null,null,null,"",null,"",{"$f":"IF(N832=\"\",\"\",DATEDIF(N832,DATE(設定シート!$C$2,設定シート!$C$3,設定シート!$C$4),\"Y\"))","v":""},"","",null,null,""]
[831,null,null,"",null,"0000000",null,"福島市",null,null,null,null,"",null,"",{"$f":"IF(N833=\"\",\"\",DATEDIF(N833,DATE(設定シート!$C$2,設定シート!$C$3,設定シート!$C$4),\"Y\"))","v":""},"","",null,null,""]
[832,null,null,"",null,"0000000",null,"福島市",null,null,null,null,"",null,"",{"$f":"IF(N834=\"\",\"\",DATEDIF(N834,DATE(設定シート!$C$2,設定シート!$C$3,設定シート!$C$4),\"Y\"))","v":""},"","",null,null,""]
[833,null,null,{"$f":"PHONETIC(C835)","v":""},null,{"$f":"TEXT(B835,\"0000000\")","v":"0000000"},null,"福島市",null,null,null,null,{"$f":"IF(L835=1,\"男\",IF(L835=2,\"女\",\"\"))","v":""},null,{"$f":"IF(OR(E835=\"\",N835=\"\"),\"\",DATEDIF(N835,E835,\"Y\"))","v":""},{"$f":"IF(N835=\"\",\"\",DATEDIF(N835,DATE(設定シート!$C$2,設定シート!$C$3,設定シート!$C$4),\"Y\"))","v":""},{"$f":"IF(P835=\"\",\"\",IF(P835<=69,1,IF(P835>=70,2,\"\")))","v":""},{"$f":"IF(OR(Q835=1,Q835=\"1\"),\"有料\",IF(OR(Q835=2,Q835=\"2\"),\"70・後\",IF(Q835=3,\"生保\",IF(Q835=4,\"非課税\",\"\"))))","v":""},null,null,{"$f":"IF(AND(L835=2,P835>=60),\"一単独\",IF(AND(L835=2,P835>=50,P835<60),\"一併用\",IF(AND(L835=2,P835>=40,P835<50),\"二併用\",\"\")))","v":""}]
[{"$f":"ROW()-2","v":834},null,null,"",null,"0000000",null,"福島市",null,null,null,null,"",null,"",{"$f":"IF(N836=\"\",\"\",DATEDIF(N836,DATE(設定シート!$C$2,設定シート!$C$3,設定シート!$C$4),\"Y\"))","v":""},"","",null,null,""]
[835,null,null,"",null,"0000000",null,"福島市",null,null,null,null,"",null,"",{"$f":"IF(N837=\"\",\"\",DATEDIF(N837,DATE(設定シート!$C$2,設定シート!$C$3,設定シート!$C$4),\"Y\"))","v":""},"","",null,null,""]
[836,null,null,"",null,"0000000",null,"福島市",null,null,null,null,"",null,"",{"$f":"IF(N838=\"\",\"\",DATEDIF(N838,DATE(設定シート!$C$2,設定シート!$C$3,設定シート!$C$4),\"Y\"))","v":""},"","",null,null,""]
[837,null,null,"",null,"0000000",null,"福島市",null,null,null,null,"",null,"",{"$f":"IF(N839=\"\",\"\",DATEDIF(N839,DATE(設定シート!$C$2,設定シート!$C$3,設定シート!$C$4),\"Y\"))","v":""},"","",null,null,""]
[838,null,null,"",null,"0000000",null,"福島市",null,null,null,null,"",null,"",{"$f":"IF(N840=\"\",\"\",DATEDIF(N840,DATE(設定シート!$C$2,設定シート!$C$3,設定シート!$C$4),\"Y\"))","v":""},"","",null,null,""]
[839,null,null,"",null,"0000000",null,"福島市",null,null,null,null,"",null,"",{"$f":"IF(N841=\"\",\"\",DATEDIF(N841,DATE(設定シート!$C$2,設定シート!$C$3,設定シート!$C$4),\"Y\"))","v":""},"","",null,null,""]
[840,null,null,"",null,"0000000",null,"福島市",null,null,null,null,"",null,"",{"$f":"IF(N842=\"\",\"\",DATEDIF(N842,DATE(設定シート!$C$2,設定シート!$C$3,設定シート!$C$4),\"Y\"))","v":""},"","",null,null,""]
[841,null,null,"",null,"0000000",null,"福島市",null,null,null,null,"",null,"",{"$f":"IF(N843=\"\",\"\",DATEDIF(N843,DATE(設定シート!$C$2,設定シート!$C$3,設定シート!$C$4),\"Y\"))","v":""},"","",null,null,""]
[842,null,null,"",null,"0000000",null,"福島市",null,null,null,null,"",null,"",{"$f":"IF(N844=\"\",\"\",DATEDIF(N844,DATE(設定シート!$C$2,設定シート!$C$3,設定シート!$C$4),\"Y\"))","v":""},"","",null,null,""]
[843,null,null,"",null,"0000000",null,"福島市",null,null,null,null,"",null,"",{"$f":"IF(N845=\"\",\"\",DATEDIF(N845,DATE(設定シート!$C$2,設定シート!$C$3,設定シート!$C$4),\"Y\"))","v":""},"","",null,null,""]
[844,null,null,"",null,"0000000",null,"福島市",null,null,null,null,"",null,"",{"$f":"IF(N846=\"\",\"\",DATEDIF(N846,DATE(設定シート!$C$2,設定シート!$C$3,設定シート!$C$4),\"Y\"))","v":""},"","",null,null,""]
[845,null,null,"",null,"0000000",null,"福島市",null,null,null,null,"",null,"",{"$f":"IF(N847=\"\",\"\",DATEDIF(N847,DATE(設定シート!$C$2,設定シート!$C$3,設定シート!$C$4),\"Y\"))","v":""},"","",null,null,""]
[846,null,null,"",null,"0000000",null,"福島市",null,null,null,null,"",null,"",{"$f":"IF(N848=\"\",\"\",DATEDIF(N848,DATE(設定シート!$C$2,設定シート!$C$3,設定シート!$C$4),\"Y\"))","v":""},"","",null,null,""]
[847,null,null,"",null,"0000000",null,"福島市",null,null,null,null,"",null,"",{"$f":"IF(N849=\"\",\"\",DATEDIF(N849,DATE(設定シート!$C$2,設定シート!$C$3,設定シート!$C$4),\"Y\"))","v":""},"","",null,null,""]
[848,null,null,"",null,"0000000",null,"福島市",null,null,null,null,"",null,"",{"$f":"IF(N850=\"\",\"\",DATEDIF(N850,DATE(設定シート!$C$2,設定シート!$C$3,設定シート!$C$4),\"Y\"))","v":""},"","",null,null,""]
[849,null,null,"",null,"0000000",null,"福島市",null,null,null,null,"",null,"",{"$f":"IF(N851=\"\",\"\",DATEDIF(N851,DATE(設定シート!$C$2,設定シート!$C$3,設定シート!$C$4),\"Y\"))","v":""},"","",null,null,""]
[850,null,null,"",null,"0000000",null,"福島市",null,null,null,null,"",null,"",{"$f":"IF(N852=\"\",\"\",DATEDIF(N852,DATE(設定シート!$C$2,設定シート!$C$3,設定シート!$C$4),\"Y\"))","v":""},"","",null,null,""]
[851,null,null,"",null,"0000000",null,"福島市",null,null,null,null,"",null,"",{"$f":"IF(N853=\"\",\"\",DATEDIF(N853,DATE(設定シート!$C$2,設定シート!$C$3,設定シート!$C$4),\"Y\"))","v":""},"","",null,null,""]
[852,null,null,"",null,"0000000",null,"福島市",null,null,null,null,"",null,"",{"$f":"IF(N854=\"\",\"\",DATEDIF(N854,DATE(設定シート!$C$2,設定シート!$C$3,設定シート!$C$4),\"Y\"))","v":""},"","",null,null,""]
[853,null,null,"",null,"0000000",null,"福島市",null,null,null,null,"",null,"",{"$f":"IF(N855=\"\",\"\",DATEDIF(N855,DATE(設定シート!$C$2,設定シート!$C$3,設定シート!$C$4),\"Y\"))","v":""},"","",null,null,""]
[854,null,null,"",null,"0000000",null,"福島市",null,null,null,null,"",null,"",{"$f":"IF(N856=\"\",\"\",DATEDIF(N856,DATE(設定シート!$C$2,設定シート!$C$3,設定シート!$C$4),\"Y\"))","v":""},"","",null,null,""]
[855,null,null,"",null,"0000000",null,"福島市",null,null,null,null,"",null,"",{"$f":"IF(N857=\"\",\"\",DATEDIF(N857,DATE(設定シート!$C$2,設定シート!$C$3,設定シート!$C$4),\"Y\"))","v":""},"","",null,null,""]
[856,null,null,"",null,"0000000",null,"福島市",null,null,null,null,"",null,"",{"$f":"IF(N858=\"\",\"\",DATEDIF(N858,DATE(設定シート!$C$2,設定シート!$C$3,設定シート!$C$4),\"Y\"))","v":""},"","",null,null,""]
[857,null,null,"",null,"0000000",null,"福島市",null,null,null,null,"",null,"",{"$f":"IF(N859=\"\",\"\",DATEDIF(N859,DATE(設定シート!$C$2,設定シート!$C$3,設定シート!$C$4),\"Y\"))","v":""},"","",null,null,""]
[858,null,null,"",null,"0000000",null,"福島市",null,null,null,null,"",null,"",{"$f":"IF(N860=\"\",\"\",DATEDIF(N860,DATE(設定シート!$C$2,設定シート!$C$3,設定シート!$C$4),\"Y\"))","v":""},"","",null,null,""]
[859,null,null,"",null,"0000000",null,"福島市",null,null,null,null,"",null,"",{"$f":"IF(N861=\"\",\"\",DATEDIF(N861,DATE(設定シート!$C$2,設定シート!$C$3,設定シート!$C$4),\"Y\"))","v":""},"","",null,null,""]
[860,null,null,"",null,"0000000",null,"福島市",null,null,null,null,"",null,"",{"$f":"IF(N862=\"\",\"\",DATEDIF(N862,DATE(設定シート!$C$2,設定シート!$C$3,設定シート!$C$4),\"Y\"))","v":""},"","",null,null,""]
[861,null,null,"",null,"0000000",null,"福島市",null,null,null,null,"",null,"",{"$f":"IF(N863=\"\",\"\",DATEDIF(N863,DATE(設定シート!$C$2,設定シート!$C$3,設定シート!$C$4),\"Y\"))","v":""},"","",null,null,""]
[862,null,null,"",null,"0000000",null,"福島市",null,null,null,null,"",null,"",{"$f":"IF(N864=\"\",\"\",DATEDIF(N864,DATE(設定シート!$C$2,設定シート!$C$3,設定シート!$C$4),\"Y\"))","v":""},"","",null,null,""]
[863,null,null,"",null,"0000000",null,"福島市",null,null,null,null,"",null,"",{"$f":"IF(N865=\"\",\"\",DATEDIF(N865,DATE(設定シート!$C$2,設定シート!$C$3,設定シート!$C$4),\"Y\"))","v":""},"","",null,null,""]
[864,null,null,"",null,"0000000",null,"福島市",null,null,null,null,"",null,"",{"$f":"IF(N866=\"\",\"\",DATEDIF(N866,DATE(設定シート!$C$2,設定シート!$C$3,設定シート!$C$4),\"Y\"))","v":""},"","",null,null,""]
[865,null,null,"",null,"0000000",null,"福島市",null,null,null,null,"",null,"",{"$f":"IF(N867=\"\",\"\",DATEDIF(N867,DATE(設定シート!$C$2,設定シート!$C$3,設定シート!$C$4),\"Y\"))","v":""},"","",null,null,""]
[866,null,null,"",null,"0000000",null,"福島市",null,null,null,null,"",null,"",{"$f":"IF(N868=\"\",\"\",DATEDIF(N868,DATE(設定シート!$C$2,設定シート!$C$3,設定シート!$C$4),\"Y\"))","v":""},"","",null,null,""]
[867,null,null,"",null,"0000000",null,"福島市",null,null,null,null,"",null,"",{"$f":"IF(N869=\"\",\"\",DATEDIF(N869,DATE(設定シート!$C$2,設定シート!$C$3,設定シート!$C$4),\"Y\"))","v":""},"","",null,null,""]
[868,null,null,"",null,"0000000",null,"福島市",null,null,null,null,"",null,"",{"$f":"IF(N870=\"\",\"\",DATEDIF(N870,DATE(設定シート!$C$2,設定シート!$C$3,設定シート!$C$4),\"Y\"))","v":""},"","",null,null,""]
[869,null,null,"",null,"0000000",null,"福島市",null,null,null,null,"",null,"",{"$f":"IF(N871=\"\",\"\",DATEDIF(N871,DATE(設定シート!$C$2,設定シート!$C$3,設定シート!$C$4),\"Y\"))","v":""},"","",null,null,""]
[870,null,null,"",null,"0000000",null,"福島市",null,null,null,null,"",null,"",{"$f":"IF(N872=\"\",\"\",DATEDIF(N872,DATE(設定シート!$C$2,設定シート!$C$3,設定シート!$C$4),\"Y\"))","v":""},"","",null,null,""]
[871,null,null,"",null,"0000000",null,"福島市",null,null,null,null,"",null,"",{"$f":"IF(N873=\"\",\"\",DATEDIF(N873,DATE(設定シート!$C$2,設定シート!$C$3,設定シート!$C$4),\"Y\"))","v":""},"","",null,null,""]
[872,null,null,"",null,"0000000",null,"福島市",null,null,null,null,"",null,"",{"$f":"IF(N874=\"\",\"\",DATEDIF(N874,DATE(設定シート!$C$2,設定シート!$C$3,設定シート!$C$4),\"Y\"))","v":""},"","",null,null,""]
[873,null,null,"",null,"0000000",null,"福島市",null,null,null,null,"",null,"",{"$f":"IF(N875=\"\",\"\",DATEDIF(N875,DATE(設定シート!$C$2,設定シート!$C$3,設定シート!$C$4),\"Y\"))","v":""},"","",null,null,""]
[874,null,null,"",null,"0000000",null,"福島市",null,null,null,null,"",null,"",{"$f":"IF(N876=\"\",\"\",DATEDIF(N876,DATE(設定シート!$C$2,設定シート!$C$3,設定シート!$C$4),\"Y\"))","v":""},"","",null,null,""]
[875,null,null,"",null,"0000000",null,"福島市",null,null,null,null,"",null,"",{"$f":"IF(N877=\"\",\"\",DATEDIF(N877,DATE(設定シート!$C$2,設定シート!$C$3,設定シート!$C$4),\"Y\"))","v":""},"","",null,null,""]
[876,null,null,"",null,"0000000",null,"福島市",null,null,null,null,"",null,"",{"$f":"IF(N878=\"\",\"\",DATEDIF(N878,DATE(設定シート!$C$2,設定シート!$C$3,設定シート!$C$4),\"Y\"))","v":""},"","",null,null,""]
[877,null,null,"",null,"0000000",null,"福島市",null,null,null,null,"",null,"",{"$f":"IF(N879=\"\",\"\",DATEDIF(N879,DATE(設定シート!$C$2,設定シート!$C$3,設定シート!$C$4),\"Y\"))","v":""},"","",null,null,""]
[878,null,null,"",null,"0000000",null,"福島市",null,null,null,null,"",null,"",{"$f":"IF(N880=\"\",\"\",DATEDIF(N880,DATE(設定シート!$C$2,設定シート!$C$3,設定シート!$C$4),\"Y\"))","v":""},"","",null,null,""]
[879,null,null,"",null,"0000000",null,"福島市",null,null,null,null,"",null,"",{"$f":"IF(N881=\"\",\"\",DATEDIF(N881,DATE(設定シート!$C$2,設定シート!$C$3,設定シート!$C$4),\"Y\"))","v":""},"","",null,null,""]
[880,null,null,"",null,"0000000",null,"福島市",null,null,null,null,"",null,"",{"$f":"IF(N882=\"\",\"\",DATEDIF(N882,DATE(設定シート!$C$2,設定シート!$C$3,設定シート!$C$4),\"Y\"))","v":""},"","",null,null,""]
[881,null,null,"",null,"0000000",null,"福島市",null,null,null,null,"",null,"",{"$f":"IF(N883=\"\",\"\",DATEDIF(N883,DATE(設定シート!$C$2,設定シート!$C$3,設定シート!$C$4),\"Y\"))","v":""},"","",null,null,""]
[882,null,null,"",null,"0000000",null,"福島市",null,null,null,null,"",null,"",{"$f":"IF(N884=\"\",\"\",DATEDIF(N884,DATE(設定シート!$C$2,設定シート!$C$3,設定シート!$C$4),\"Y\"))","v":""},"","",null,null,""]
[883,null,null,"",null,"0000000",null,"福島市",null,null,null,null,"",null,"",{"$f":"IF(N885=\"\",\"\",DATEDIF(N885,DATE(設定シート!$C$2,設定シート!$C$3,設定シート!$C$4),\"Y\"))","v":""},"","",null,null,""]
[884,null,null,"",null,"0000000",null,"福島市",null,null,null,null,"",null,"",{"$f":"IF(N886=\"\",\"\",DATEDIF(N886,DATE(設定シート!$C$2,設定シート!$C$3,設定シート!$C$4),\"Y\"))","v":""},"","",null,null,""]
[885,null,null,"",null,"0000000",null,"福島市",null,null,null,null,"",null,"",{"$f":"IF(N887=\"\",\"\",DATEDIF(N887,DATE(設定シート!$C$2,設定シート!$C$3,設定シート!$C$4),\"Y\"))","v":""},"","",null,null,""]
[886,null,null,"",null,"0000000",null,"福島市",null,null,null,null,"",null,"",{"$f":"IF(N888=\"\",\"\",DATEDIF(N888,DATE(設定シート!$C$2,設定シート!$C$3,設定シート!$C$4),\"Y\"))","v":""},"","",null,null,""]
[887,null,null,"",null,"0000000",null,"福島市",null,null,null,null,"",null,"",{"$f":"IF(N889=\"\",\"\",DATEDIF(N889,DATE(設定シート!$C$2,設定シート!$C$3,設定シート!$C$4),\"Y\"))","v":""},"","",null,null,""]
[888,null,null,"",null,"0000000",null,"福島市",null,null,null,null,"",null,"",{"$f":"IF(N890=\"\",\"\",DATEDIF(N890,DATE(設定シート!$C$2,設定シート!$C$3,設定シート!$C$4),\"Y\"))","v":""},"","",null,null,""]
[889,null,null,"",null,"0000000",null,"福島市",null,null,null,null,"",null,"",{"$f":"IF(N891=\"\",\"\",DATEDIF(N891,DATE(設定シート!$C$2,設定シート!$C$3,設定シート!$C$4),\"Y\"))","v":""},"","",null,null,""]
[890,null,null,"",null,"0000000",null,"福島市",null,null,null,null,"",null,"",{"$f":"IF(N892=\"\",\"\",DATEDIF(N892,DATE(設定シート!$C$2,設定シート!$C$3,設定シート!$C$4),\"Y\"))","v":""},"","",null,null,""]
[891,null,null,"",null,"0000000",null,"福島市",null,null,null,null,"",null,"",{"$f":"IF(N893=\"\",\"\",DATEDIF(N893,DATE(設定シート!$C$2,設定シート!$C$3,設定シート!$C$4),\"Y\"))","v":""},"","",null,null,""]
[892,null,null,"",null,"0000000",null,"福島市",null,null,null,null,"",null,"",{"$f":"IF(N894=\"\",\"\",DATEDIF(N894,DATE(設定シート!$C$2,設定シート!$C$3,設定シート!$C$4),\"Y\"))","v":""},"","",null,null,""]
[893,null,null,"",null,"0000000",null,"福島市",null,null,null,null,"",null,"",{"$f":"IF(N895=\"\",\"\",DATEDIF(N895,DATE(設定シート!$C$2,設定シート!$C$3,設定シート!$C$4),\"Y\"))","v":""},"","",null,null,""]
[894,null,null,"",null,"0000000",null,"福島市",null,null,null,null,"",null,"",{"$f":"IF(N896=\"\",\"\",DATEDIF(N896,DATE(設定シート!$C$2,設定シート!$C$3,設定シート!$C$4),\"Y\"))","v":""},"","",null,null,""]
[895,null,null,"",null,"0000000",null,"福島市",null,null,null,null,"",null,"",{"$f":"IF(N897=\"\",\"\",DATEDIF(N897,DATE(設定シート!$C$2,設定シート!$C$3,設定シート!$C$4),\"Y\"))","v":""},"","",null,null,""]
[896,null,null,"",null,"0000000",null,"福島市",null,null,null,null,"",null,"",{"$f":"IF(N898=\"\",\"\",DATEDIF(N898,DATE(設定シート!$C$2,設定シート!$C$3,設定シート!$C$4),\"Y\"))","v":""},"","",null,null,""]
[897,null,null,{"$f":"PHONETIC(C899)","v":""},null,{"$f":"TEXT(B899,\"0000000\")","v":"0000000"},null,"福島市",null,null,null,null,{"$f":"IF(L899=1,\"男\",IF(L899=2,\"女\",\"\"))","v":""},null,{"$f":"IF(OR(E899=\"\",N899=\"\"),\"\",DATEDIF(N899,E899,\"Y\"))","v":""},{"$f":"IF(N899=\"\",\"\",DATEDIF(N899,DATE(設定シート!$C$2,設定シート!$C$3,設定シート!$C$4),\"Y\"))","v":""},{"$f":"IF(P899=\"\",\"\",IF(P899<=69,1,IF(P899>=70,2,\"\")))","v":""},{"$f":"IF(OR(Q899=1,Q899=\"1\"),\"有料\",IF(OR(Q899=2,Q899=\"2\"),\"70・後\",IF(Q899=3,\"生保\",IF(Q899=4,\"非課税\",\"\"))))","v":""},null,null,{"$f":"IF(AND(L899=2,P899>=60),\"一単独\",IF(AND(L899=2,P899>=50,P899<60),\"一併用\",IF(AND(L899=2,P899>=40,P899<50),\"二併用\",\"\")))","v":""}]
[{"$f":"ROW()-2","v":898},null,null,"",null,"0000000",null,"福島市",null,null,null,null,"",null,"",{"$f":"IF(N900=\"\",\"\",DATEDIF(N900,DATE(設定シート!$C$2,設定シート!$C$3,設定シート!$C$4),\"Y\"))","v":""},"","",null,null,""]
[899,null,null,"",null,"0000000",null,"福島市",null,null,null,null,"",null,"",{"$f":"IF(N901=\"\",\"\",DATEDIF(N901,DATE(設定シート!$C$2,設定シート!$C$3,設定シート!$C$4),\"Y\"))","v":""},"","",null,null,""]
[900,null,null,"",null,"0000000",null,"福島市",null,null,null,null,"",null,"",{"$f":"IF(N902=\"\",\"\",DATEDIF(N902,DATE(設定シート!$C$2,設定シート!$C$3,設定シート!$C$4),\"Y\"))","v":""},"","",null,null,""]
[901,null,null,"",null,"0000000",null,"福島市",null,null,null,null,"",null,"",{"$f":"IF(N903=\"\",\"\",DATEDIF(N903,DATE(設定シート!$C$2,設定シート!$C$3,設定シート!$C$4),\"Y\"))","v":""},"","",null,null,""]
[902,null,null,"",null,"0000000",null,"福島市",null,null,null,null,"",null,"",{"$f":"IF(N904=\"\",\"\",DATEDIF(N904,DATE(設定シート!$C$2,設定シート!$C$3,設定シート!$C$4),\"Y\"))","v":""},"","",null,null,""]
[903,null,null,"",null,"0000000",null,"福島市",null,null,null,null,"",null,"",{"$f":"IF(N905=\"\",\"\",DATEDIF(N905,DATE(設定シート!$C$2,設定シート!$C$3,設定シート!$C$4),\"Y\"))","v":""},"","",null,null,""]
[904,null,null,"",null,"0000000",null,"福島市",null,null,null,null,"",null,"",{"$f":"IF(N906=\"\",\"\",DATEDIF(N906,DATE(設定シート!$C$2,設定シート!$C$3,設定シート!$C$4),\"Y\"))","v":""},"","",null,null,""]
[905,null,null,"",null,"0000000",null,"福島市",null,null,null,null,"",null,"",{"$f":"IF(N907=\"\",\"\",DATEDIF(N907,DATE(設定シート!$C$2,設定シート!$C$3,設定シート!$C$4),\"Y\"))","v":""},"","",null,null,""]
[906,null,null,"",null,"0000000",null,"福島市",null,null,null,null,"",null,"",{"$f":"IF(N908=\"\",\"\",DATEDIF(N908,DATE(設定シート!$C$2,設定シート!$C$3,設定シート!$C$4),\"Y\"))","v":""},"","",null,null,""]
[907,null,null,"",null,"0000000",null,"福島市",null,null,null,null,"",null,"",{"$f":"IF(N909=\"\",\"\",DATEDIF(N909,DATE(設定シート!$C$2,設定シート!$C$3,設定シート!$C$4),\"Y\"))","v":""},"","",null,null,""]
[908,null,null,"",null,"0000000",null,"福島市",null,null,null,null,"",null,"",{"$f":"IF(N910=\"\",\"\",DATEDIF(N910,DATE(設定シート!$C$2,設定シート!$C$3,設定シート!$C$4),\"Y\"))","v":""},"","",null,null,""]
[909,null,null,"",null,"0000000",null,"福島市",null,null,null,null,"",null,"",{"$f":"IF(N911=\"\",\"\",DATEDIF(N911,DATE(設定シート!$C$2,設定シート!$C$3,設定シート!$C$4),\"Y\"))","v":""},"","",null,null,""]
[910,null,null,"",null,"0000000",null,"福島市",null,null,null,null,"",null,"",{"$f":"IF(N912=\"\",\"\",DATEDIF(N912,DATE(設定シート!$C$2,設定シート!$C$3,設定シート!$C$4),\"Y\"))","v":""},"","",null,null,""]
[911,null,null,"",null,"0000000",null,"福島市",null,null,null,null,"",null,"",{"$f":"IF(N913=\"\",\"\",DATEDIF(N913,DATE(設定シート!$C$2,設定シート!$C$3,設定シート!$C$4),\"Y\"))","v":""},"","",null,null,""]
[912,null,null,"",null,"0000000",null,"福島市",null,null,null,null,"",null,"",{"$f":"IF(N914=\"\",\"\",DATEDIF(N914,DATE(設定シート!$C$2,設定シート!$C$3,設定シート!$C$4),\"Y\"))","v":""},"","",null,null,""]
[913,null,null,"",null,"0000000",null,"福島市",null,null,null,null,"",null,"",{"$f":"IF(N915=\"\",\"\",DATEDIF(N915,DATE(設定シート!$C$2,設定シート!$C$3,設定シート!$C$4),\"Y\"))","v":""},"","",null,null,""]
[914,null,null,"",null,"0000000",null,"福島市",null,null,null,null,"",null,"",{"$f":"IF(N916=\"\",\"\",DATEDIF(N916,DATE(設定シート!$C$2,設定シート!$C$3,設定シート!$C$4),\"Y\"))","v":""},"","",null,null,""]
[915,null,null,"",null,"0000000",null,"福島市",null,null,null,null,"",null,"",{"$f":"IF(N917=\"\",\"\",DATEDIF(N917,DATE(設定シート!$C$2,設定シート!$C$3,設定シート!$C$4),\"Y\"))","v":""},"","",null,null,""]
[916,null,null,"",null,"0000000",null,"福島市",null,null,null,null,"",null,"",{"$f":"IF(N918=\"\",\"\",DATEDIF(N918,DATE(設定シート!$C$2,設定シート!$C$3,設定シート!$C$4),\"Y\"))","v":""},"","",null,null,""]
[917,null,null,"",null,"0000000",null,"福島市",null,null,null,null,"",null,"",{"$f":"IF(N919=\"\",\"\",DATEDIF(N919,DATE(設定シート!$C$2,設定シート!$C$3,設定シート!$C$4),\"Y\"))","v":""},"","",null,null,""]
[918,null,null,"",null,"0000000",null,"福島市",null,null,null,null,"",null,"",{"$f":"IF(N920=\"\",\"\",DATEDIF(N920,DATE(設定シート!$C$2,設定シート!$C$3,設定シート!$C$4),\"Y\"))","v":""},"","",null,null,""]
[919,null,null,"",null,"0000000",null,"福島市",null,null,null,null,"",null,"",{"$f":"IF(N921=\"\",\"\",DATEDIF(N921,DATE(設定シート!$C$2,設定シート!$C$3,設定シート!$C$4),\"Y\"))","v":""},"","",null,null,""]
[920,null,null,"",null,"0000000",null,"福島市",null,null,null,null,"",null,"",{"$f":"IF(N922=\"\",\"\",DATEDIF(N922,DATE(設定シート!$C$2,設定シート!$C$3,設定シート!$C$4),\"Y\"))","v":""},"","",null,null,""]
[921,null,null,"",null,"0000000",null,"福島市",null,null,null,null,"",null,"",{"$f":"IF(N923=\"\",\"\",DATEDIF(N923,DATE(設定シート!$C$2,設定シート!$C$3,設定シート!$C$4),\"Y\"))","v":""},"","",null,null,""]
[922,null,null,"",null,"0000000",null,"福島市",null,null,null,null,"",null,"",{"$f":"IF(N924=\"\",\"\",DATEDIF(N924,DATE(設定シート!$C$2,設定シート!$C$3,設定シート!$C$4),\"Y\"))","v":""},"","",null,null,""]
[923,null,null,"",null,"0000000",null,"福島市",null,null,null,null,"",null,"",{"$f":"IF(N925=\"\",\"\",DATEDIF(N925,DATE(設定シート!$C$2,設定シート!$C$3,設定シート!$C$4),\"Y\"))","v":""},"","",null,null,""]
[924,null,null,"",null,"0000000",null,"福島市",null,null,null,null,"",null,"",{"$f":"IF(N926=\"\",\"\",DATEDIF(N926,DATE(設定シート!$C$2,設定シート!$C$3,設定シート!$C$4),\"Y\"))","v":""},"","",null,null,""]
[925,null,null,"",null,"0000000",null,"福島市",null,null,null,null,"",null,"",{"$f":"IF(N927=\"\",\"\",DATEDIF(N927,DATE(設定シート!$C$2,設定シート!$C$3,設定シート!$C$4),\"Y\"))","v":""},"","",null,null,""]
[926,null,null,"",null,"0000000",null,"福島市",null,null,null,null,"",null,"",{"$f":"IF(N928=\"\",\"\",DATEDIF(N928,DATE(設定シート!$C$2,設定シート!$C$3,設定シート!$C$4),\"Y\"))","v":""},"","",null,null,""]
[927,null,null,"",null,"0000000",null,"福島市",null,null,null,null,"",null,"",{"$f":"IF(N929=\"\",\"\",DATEDIF(N929,DATE(設定シート!$C$2,設定シート!$C$3,設定シート!$C$4),\"Y\"))","v":""},"","",null,null,""]
[928,null,null,"",null,"0000000",null,"福島市",null,null,null,null,"",null,"",{"$f":"IF(N930=\"\",\"\",DATEDIF(N930,DATE(設定シート!$C$2,設定シート!$C$3,設定シート!$C$4),\"Y\"))","v":""},"","",null,null,""]
[929,null,null,"",null,"0000000",null,"福島市",null,null,null,null,"",null,"",{"$f":"IF(N931=\"\",\"\",DATEDIF(N931,DATE(設定シート!$C$2,設定シート!$C$3,設定シート!$C$4),\"Y\"))","v":""},"","",null,null,""]
[930,null,null,"",null,"0000000",null,"福島市",null,null,null,null,"",null,"",{"$f":"IF(N932=\"\",\"\",DATEDIF(N932,DATE(設定シート!$C$2,設定シート!$C$3,設定シート!$C$4),\"Y\"))","v":""},"","",null,null,""]
[931,null,null,"",null,"0000000",null,"福島市",null,null,null,null,"",null,"",{"$f":"IF(N933=\"\",\"\",DATEDIF(N933,DATE(設定シート!$C$2,設定シート!$C$3,設定シート!$C$4),\"Y\"))","v":""},"","",null,null,""]
[932,null,null,"",null,"0000000",null,"福島市",null,null,null,null,"",null,"",{"$f":"IF(N934=\"\",\"\",DATEDIF(N934,DATE(設定シート!$C$2,設定シート!$C$3,設定シート!$C$4),\"Y\"))","v":""},"","",null,null,""]
[933,null,null,"",null,"0000000",null,"福島市",null,null,null,null,"",null,"",{"$f":"IF(N935=\"\",\"\",DATEDIF(N935,DATE(設定シート!$C$2,設定シート!$C$3,設定シート!$C$4),\"Y\"))","v":""},"","",null,null,""]
[934,null,null,"",null,"0000000",null,"福島市",null,null,null,null,"",null,"",{"$f":"IF(N936=\"\",\"\",DATEDIF(N936,DATE(設定シート!$C$2,設定シート!$C$3,設定シート!$C$4),\"Y\"))","v":""},"","",null,null,""]
[935,null,null,"",null,"0000000",null,"福島市",null,null,null,null,"",null,"",{"$f":"IF(N937=\"\",\"\",DATEDIF(N937,DATE(設定シート!$C$2,設定シート!$C$3,設定シート!$C$4),\"Y\"))","v":""},"","",null,null,""]
[936,null,null,"",null,"0000000",null,"福島市",null,null,null,null,"",null,"",{"$f":"IF(N938=\"\",\"\",DATEDIF(N938,DATE(設定シート!$C$2,設定シート!$C$3,設定シート!$C$4),\"Y\"))","v":""},"","",null,null,""]
[937,null,null,"",null,"0000000",null,"福島市",null,null,null,null,"",null,"",{"$f":"IF(N939=\"\",\"\",DATEDIF(N939,DATE(設定シート!$C$2,設定シート!$C$3,設定シート!$C$4),\"Y\"))","v":""},"","",null,null,""]
[938,null,null,"",null,"0000000",null,"福島市",null,null,null,null,"",null,"",{"$f":"IF(N940=\"\",\"\",DATEDIF(N940,DATE(設定シート!$C$2,設定シート!$C$3,設定シート!$C$4),\"Y\"))","v":""},"","",null,null,""]
[939,null,null,"",null,"0000000",null,"福島市",null,null,null,null,"",null,"",{"$f":"IF(N941=\"\",\"\",DATEDIF(N941,DATE(設定シート!$C$2,設定シート!$C$3,設定シート!$C$4),\"Y\"))","v":""},"","",null,null,""]
[940,null,null,"",null,"0000000",null,"福島市",null,null,null,null,"",null,"",{"$f":"IF(N942=\"\",\"\",DATEDIF(N942,DATE(設定シート!$C$2,設定シート!$C$3,設定シート!$C$4),\"Y\"))","v":""},"","",null,null,""]
[941,null,null,"",null,"0000000",null,"福島市",null,null,null,null,"",null,"",{"$f":"IF(N943=\"\",\"\",DATEDIF(N943,DATE(設定シート!$C$2,設定シート!$C$3,設定シート!$C$4),\"Y\"))","v":""},"","",null,null,""]
[942,null,null,"",null,"0000000",null,"福島市",null,null,null,null,"",null,"",{"$f":"IF(N944=\"\",\"\",DATEDIF(N944,DATE(設定シート!$C$2,設定シート!$C$3,設定シート!$C$4),\"Y\"))","v":""},"","",null,null,""]
[943,null,null,"",null,"0000000",null,"福島市",null,null,null,null,"",null,"",{"$f":"IF(N945=\"\",\"\",DATEDIF(N945,DATE(設定シート!$C$2,設定シート!$C$3,設定シート!$C$4),\"Y\"))","v":""},"","",null,null,""]
[944,null,null,"",null,"0000000",null,"福島市",null,null,null,null,"",null,"",{"$f":"IF(N946=\"\",\"\",DATEDIF(N946,DATE(設定シート!$C$2,設定シート!$C$3,設定シート!$C$4),\"Y\"))","v":""},"","",null,null,""]
[945,null,null,"",null,"0000000",null,"福島市",null,null,null,null,"",null,"",{"$f":"IF(N947=\"\",\"\",DATEDIF(N947,DATE(設定シート!$C$2,設定シート!$C$3,設定シート!$C$4),\"Y\"))","v":""},"","",null,null,""]
[946,null,null,"",null,"0000000",null,"福島市",null,null,null,null,"",null,"",{"$f":"IF(N948=\"\",\"\",DATEDIF(N948,DATE(設定シート!$C$2,設定シート!$C$3,設定シート!$C$4),\"Y\"))","v":""},"","",null,null,""]
[947,null,null,"",null,"0000000",null,"福島市",null,null,null,null,"",null,"",{"$f":"IF(N949=\"\",\"\",DATEDIF(N949,DATE(設定シート!$C$2,設定シート!$C$3,設定シート!$C$4),\"Y\"))","v":""},"","",null,null,""]
[948,null,null,"",null,"0000000",null,"福島市",null,null,null,null,"",null,"",{"$f":"IF(N950=\"\",\"\",DATEDIF(N950,DATE(設定シート!$C$2,設定シート!$C$3,設定シート!$C$4),\"Y\"))","v":""},"","",null,null,""]
[949,null,null,"",null,"0000000",null,"福島市",null,null,null,null,"",null,"",{"$f":"IF(N951=\"\",\"\",DATEDIF(N951,DATE(設定シート!$C$2,設定シート!$C$3,設定シート!$C$4),\"Y\"))","v":""},"","",null,null,""]
[950,null,null,"",null,"0000000",null,"福島市",null,null,null,null,"",null,"",{"$f":"IF(N952=\"\",\"\",DATEDIF(N952,DATE(設定シート!$C$2,設定シート!$C$3,設定シート!$C$4),\"Y\"))","v":""},"","",null,null,""]
[951,null,null,"",null,"0000000",null,"福島市",null,null,null,null,"",null,"",{"$f":"IF(N953=\"\",\"\",DATEDIF(N953,DATE(設定シート!$C$2,設定シート!$C$3,設定シート!$C$4),\"Y\"))","v":""},"","",null,null,""]
[952,null,null,"",null,"0000000",null,"福島市",null,null,null,null,"",null,"",{"$f":"IF(N954=\"\",\"\",DATEDIF(N954,DATE(設定シート!$C$2,設定シート!$C$3,設定シート!$C$4),\"Y\"))","v":""},"","",null,null,""]
[953,null,null,"",null,"0000000",null,"福島市",null,null,null,null,"",null,"",{"$f":"IF(N955=\"\",\"\",DATEDIF(N955,DATE(設定シート!$C$2,設定シート!$C$3,設定シート!$C$4),\"Y\"))","v":""},"","",null,null,""]
[954,null,null,"",null,"0000000",null,"福島市",null,null,null,null,"",null,"",{"$f":"IF(N956=\"\",\"\",DATEDIF(N956,DATE(設定シート!$C$2,設定シート!$C$3,設定シート!$C$4),\"Y\"))","v":""},"","",null,null,""]
[955,null,null,"",null,"0000000",null,"福島市",null,null,null,null,"",null,"",{"$f":"IF(N957=\"\",\"\",DATEDIF(N957,DATE(設定シート!$C$2,設定シート!$C$3,設定シート!$C$4),\"Y\"))","v":""},"","",null,null,""]
[956,null,null,"",null,"0000000",null,"福島市",null,null,null,null,"",null,"",{"$f":"IF(N958=\"\",\"\",DATEDIF(N958,DATE(設定シート!$C$2,設定シート!$C$3,設定シート!$C$4),\"Y\"))","v":""},"","",null,null,""]
[957,null,null,"",null,"0000000",null,"福島市",null,null,null,null,"",null,"",{"$f":"IF(N959=\"\",\"\",DATEDIF(N959,DATE(設定シート!$C$2,設定シート!$C$3,設定シート!$C$4),\"Y\"))","v":""},"","",null,null,""]
[958,null,null,"",null,"0000000",null,"福島市",null,null,null,null,"",null,"",{"$f":"IF(N960=\"\",\"\",DATEDIF(N960,DATE(設定シート!$C$2,設定シート!$C$3,設定シート!$C$4),\"Y\"))","v":""},"","",null,null,""]
[959,null,null,"",null,"0000000",null,"福島市",null,null,null,null,"",null,"",{"$f":"IF(N961=\"\",\"\",DATEDIF(N961,DATE(設定シート!$C$2,設定シート!$C$3,設定シート!$C$4),\"Y\"))","v":""},"","",null,null,""]
[960,null,null,"",null,"0000000",null,"福島市",null,null,null,null,"",null,"",{"$f":"IF(N962=\"\",\"\",DATEDIF(N962,DATE(設定シート!$C$2,設定シート!$C$3,設定シート!$C$4),\"Y\"))","v":""},"","",null,null,""]
[961,null,null,{"$f":"PHONETIC(C963)","v":""},null,{"$f":"TEXT(B963,\"0000000\")","v":"0000000"},null,"福島市",null,null,null,null,{"$f":"IF(L963=1,\"男\",IF(L963=2,\"女\",\"\"))","v":""},null,{"$f":"IF(OR(E963=\"\",N963=\"\"),\"\",DATEDIF(N963,E963,\"Y\"))","v":""},{"$f":"IF(N963=\"\",\"\",DATEDIF(N963,DATE(設定シート!$C$2,設定シート!$C$3,設定シート!$C$4),\"Y\"))","v":""},{"$f":"IF(P963=\"\",\"\",IF(P963<=69,1,IF(P963>=70,2,\"\")))","v":""},{"$f":"IF(OR(Q963=1,Q963=\"1\"),\"有料\",IF(OR(Q963=2,Q963=\"2\"),\"70・後\",IF(Q963=3,\"生保\",IF(Q963=4,\"非課税\",\"\"))))","v":""},null,null,{"$f":"IF(AND(L963=2,P963>=60),\"一単独\",IF(AND(L963=2,P963>=50,P963<60),\"一併用\",IF(AND(L963=2,P963>=40,P963<50),\"二併用\",\"\")))","v":""}]
[{"$f":"ROW()-2","v":962},null,null,"",null,"0000000",null,"福島市",null,null,null,null,"",null,"",{"$f":"IF(N964=\"\",\"\",DATEDIF(N964,DATE(設定シート!$C$2,設定シート!$C$3,設定シート!$C$4),\"Y\"))","v":""},"","",null,null,""]
[963,null,null,"",null,"0000000",null,"福島市",null,null,null,null,"",null,"",{"$f":"IF(N965=\"\",\"\",DATEDIF(N965,DATE(設定シート!$C$2,設定シート!$C$3,設定シート!$C$4),\"Y\"))","v":""},"","",null,null,""]
[964,null,null,"",null,"0000000",null,"福島市",null,null,null,null,"",null,"",{"$f":"IF(N966=\"\",\"\",DATEDIF(N966,DATE(設定シート!$C$2,設定シート!$C$3,設定シート!$C$4),\"Y\"))","v":""},"","",null,null,""]
[965,null,null,"",null,"0000000",null,"福島市",null,null,null,null,"",null,"",{"$f":"IF(N967=\"\",\"\",DATEDIF(N967,DATE(設定シート!$C$2,設定シート!$C$3,設定シート!$C$4),\"Y\"))","v":""},"","",null,null,""]
[966,null,null,"",null,"0000000",null,"福島市",null,null,null,null,"",null,"",{"$f":"IF(N968=\"\",\"\",DATEDIF(N968,DATE(設定シート!$C$2,設定シート!$C$3,設定シート!$C$4),\"Y\"))","v":""},"","",null,null,""]
[967,null,null,"",null,"0000000",null,"福島市",null,null,null,null,"",null,"",{"$f":"IF(N969=\"\",\"\",DATEDIF(N969,DATE(設定シート!$C$2,設定シート!$C$3,設定シート!$C$4),\"Y\"))","v":""},"","",null,null,""]
[968,null,null,"",null,"0000000",null,"福島市",null,null,null,null,"",null,"",{"$f":"IF(N970=\"\",\"\",DATEDIF(N970,DATE(設定シート!$C$2,設定シート!$C$3,設定シート!$C$4),\"Y\"))","v":""},"","",null,null,""]
[969,null,null,"",null,"0000000",null,"福島市",null,null,null,null,"",null,"",{"$f":"IF(N971=\"\",\"\",DATEDIF(N971,DATE(設定シート!$C$2,設定シート!$C$3,設定シート!$C$4),\"Y\"))","v":""},"","",null,null,""]
[970,null,null,"",null,"0000000",null,"福島市",null,null,null,null,"",null,"",{"$f":"IF(N972=\"\",\"\",DATEDIF(N972,DATE(設定シート!$C$2,設定シート!$C$3,設定シート!$C$4),\"Y\"))","v":""},"","",null,null,""]
[971,null,null,"",null,"0000000",null,"福島市",null,null,null,null,"",null,"",{"$f":"IF(N973=\"\",\"\",DATEDIF(N973,DATE(設定シート!$C$2,設定シート!$C$3,設定シート!$C$4),\"Y\"))","v":""},"","",null,null,""]
[972,null,null,"",null,"0000000",null,"福島市",null,null,null,null,"",null,"",{"$f":"IF(N974=\"\",\"\",DATEDIF(N974,DATE(設定シート!$C$2,設定シート!$C$3,設定シート!$C$4),\"Y\"))","v":""},"","",null,null,""]
[973,null,null,"",null,"0000000",null,"福島市",null,null,null,null,"",null,"",{"$f":"IF(N975=\"\",\"\",DATEDIF(N975,DATE(設定シート!$C$2,設定シート!$C$3,設定シート!$C$4),\"Y\"))","v":""},"","",null,null,""]
[974,null,null,"",null,"0000000",null,"福島市",null,null,null,null,"",null,"",{"$f":"IF(N976=\"\",\"\",DATEDIF(N976,DATE(設定シート!$C$2,設定シート!$C$3,設定シート!$C$4),\"Y\"))","v":""},"","",null,null,""]
[975,null,null,"",null,"0000000",null,"福島市",null,null,null,null,"",null,"",{"$f":"IF(N977=\"\",\"\",DATEDIF(N977,DATE(設定シート!$C$2,設定シート!$C$3,設定シート!$C$4),\"Y\"))","v":""},"","",null,null,""]
[976,null,null,"",null,"0000000",null,"福島市",null,null,null,null,"",null,"",{"$f":"IF(N978=\"\",\"\",DATEDIF(N978,DATE(設定シート!$C$2,設定シート!$C$3,設定シート!$C$4),\"Y\"))","v":""},"","",null,null,""]
[977,null,null,"",null,"0000000",null,"福島市",null,null,null,null,"",null,"",{"$f":"IF(N979=\"\",\"\",DATEDIF(N979,DATE(設定シート!$C$2,設定シート!$C$3,設定シート!$C$4),\"Y\"))","v":""},"","",null,null,""]
[978,null,null,"",null,"0000000",null,"福島市",null,null,null,null,"",null,"",{"$f":"IF(N980=\"\",\"\",DATEDIF(N980,DATE(設定シート!$C$2,設定シート!$C$3,設定シート!$C$4),\"Y\"))","v":""},"","",null,null,""]
[979,null,null,"",null,"0000000",null,"福島市",null,null,null,null,"",null,"",{"$f":"IF(N981=\"\",\"\",DATEDIF(N981,DATE(設定シート!$C$2,設定シート!$C$3,設定シート!$C$4),\"Y\"))","v":""},"","",null,null,""]
[980,null,null,"",null,"0000000",null,"福島市",null,null,null,null,"",null,"",{"$f":"IF(N982=\"\",\"\",DATEDIF(N982,DATE(設定シート!$C$2,設定シート!$C$3,設定シート!$C$4),\"Y\"))","v":""},"","",null,null,""]
[981,null,null,"",null,"0000000",null,"福島市",null,null,null,null,"",null,"",{"$f":"IF(N983=\"\",\"\",DATEDIF(N983,DATE(設定シート!$C$2,設定シート!$C$3,設定シート!$C$4),\"Y\"))","v":""},"","",null,null,""]
[982,null,null,"",null,"0000000",null,"福島市",null,null,null,null,"",null,"",{"$f":"IF(N984=\"\",\"\",DATEDIF(N984,DATE(設定シート!$C$2,設定シート!$C$3,設定シート!$C$4),\"Y\"))","v":""},"","",null,null,""]
[983,null,null,"",null,"0000000",null,"福島市",null,null,null,null,"",null,"",{"$f":"IF(N985=\"\",\"\",DATEDIF(N985,DATE(設定シート!$C$2,設定シート!$C$3,設定シート!$C$4),\"Y\"))","v":""},"","",null,null,""]
[984,null,null,"",null,"0000000",null,"福島市",null,null,null,null,"",null,"",{"$f":"IF(N986=\"\",\"\",DATEDIF(N986,DATE(設定シート!$C$2,設定シート!$C$3,設定シート!$C$4),\"Y\"))","v":""},"","",null,null,""]
[985,null,null,"",null,"0000000",null,"福島市",null,null,null,null,"",null,"",{"$f":"IF(N987=\"\",\"\",DATEDIF(N987,DATE(設定シート!$C$2,設定シート!$C$3,設定シート!$C$4),\"Y\"))","v":""},"","",null,null,""]
[986,null,null,"",null,"0000000",null,"福島市",null,null,null,null,"",null,"",{"$f":"IF(N988=\"\",\"\",DATEDIF(N988,DATE(設定シート!$C$2,設定シート!$C$3,設定シート!$C$4),\"Y\"))","v":""},"","",null,null,""]
[987,null,null,"",null,"0000000",null,"福島市",null,null,null,null,"",null,"",{"$f":"IF(N989=\"\",\"\",DATEDIF(N989,DATE(設定シート!$C$2,設定シート!$C$3,設定シート!$C$4),\"Y\"))","v":""},"","",null,null,""]
[988,null,null,"",null,"0000000",null,"福島市",null,null,null,null,"",null,"",{"$f":"IF(N990=\"\",\"\",DATEDIF(N990,DATE(設定シート!$C$2,設定シート!$C$3,設定シート!$C$4),\"Y\"))","v":""},"","",null,null,""]
[989,null,null,"",null,"0000000",null,"福島市",null,null,null,null,"",null,"",{"$f":"IF(N991=\"\",\"\",DATEDIF(N991,DATE(設定シート!$C$2,設定シート!$C$3,設定シート!$C$4),\"Y\"))","v":""},"","",null,null,""]
[990,null,null,"",null,"0000000",null,"福島市",null,null,null,null,"",null,"",{"$f":"IF(N992=\"\",\"\",DATEDIF(N992,DATE(設定シート!$C$2,設定シート!$C$3,設定シート!$C$4),\"Y\"))","v":""},"","",null,null,""]
[991,null,null,"",null,"0000000",null,"福島市",null,null,null,null,"",null,"",{"$f":"IF(N993=\"\",\"\",DATEDIF(N993,DATE(設定シート!$C$2,設定シート!$C$3,設定シート!$C$4),\"Y\"))","v":""},"","",null,null,""]
[992,null,null,"",null,"0000000",null,"福島市",null,null,null,null,"",null,"",{"$f":"IF(N994=\"\",\"\",DATEDIF(N994,DATE(設定シート!$C$2,設定シート!$C$3,設定シート!$C$4),\"Y\"))","v":""},"","",null,null,""]
[993,null,null,"",null,"0000000",null,"福島市",null,null,null,null,"",null,"",{"$f":"IF(N995=\"\",\"\",DATEDIF(N995,DATE(設定シート!$C$2,設定シート!$C$3,設定シート!$C$4),\"Y\"))","v":""},"","",null,null,""]
[994,null,null,"",null,"0000000",null,"福島市",null,null,null,null,"",null,"",{"$f":"IF(N996=\"\",\"\",DATEDIF(N996,DATE(設定シート!$C$2,設定シート!$C$3,設定シート!$C$4),\"Y\"))","v":""},"","",null,null,""]
[995,null,null,"",null,"0000000",null,"福島市",null,null,null,null,"",null,"",{"$f":"IF(N997=\"\",\"\",DATEDIF(N997,DATE(設定シート!$C$2,設定シート!$C$3,設定シート!$C$4),\"Y\"))","v":""},"","",null,null,""]
[996,null,null,"",null,"0000000",null,"福島市",null,null,null,null,"",null,"",{"$f":"IF(N998=\"\",\"\",DATEDIF(N998,DATE(設定シート!$C$2,設定シート!$C$3,設定シート!$C$4),\"Y\"))","v":""},"","",null,null,""]
[997,null,null,"",null,"0000000",null,"福島市",null,null,null,null,"",null,"",{"$f":"IF(N999=\"\",\"\",DATEDIF(N999,DATE(設定シート!$C$2,設定シート!$C$3,設定シート!$C$4),\"Y\"))","v":""},"","",null,null,""]
[998,null,null,"",null,"0000000",null,"福島市",null,null,null,null,"",null,"",{"$f":"IF(N1000=\"\",\"\",DATEDIF(N1000,DATE(設定シート!$C$2,設定シート!$C$3,設定シート!$C$4),\"Y\"))","v":""},"","",null,null,""]
[999,null,null,"",null,"0000000",null,"福島市",null,null,null,null,"",null,"",{"$f":"IF(N1001=\"\",\"\",DATEDIF(N1001,DATE(設定シート!$C$2,設定シート!$C$3,設定シート!$C$4),\"Y\"))","v":""},"","",null,null,""]
[1000,null,null,"",null,"0000000",null,"福島市",null,null,null,null,"",null,"",{"$f":"IF(N1002=\"\",\"\",DATEDIF(N1002,DATE(設定シート!$C$2,設定シート!$C$3,設定シート!$C$4),\"Y\"))","v":""},"","",null,null,""]
[1001,null,null,"",null,"0000000",null,"福島市",null,null,null,null,"",null,"",{"$f":"IF(N1003=\"\",\"\",DATEDIF(N1003,DATE(設定シート!$C$2,設定シート!$C$3,設定シート!$C$4),\"Y\"))","v":""},"","",null,null,""]
[1002,null,null,"",null,"0000000",null,"福島市",null,null,null,null,"",null,"",{"$f":"IF(N1004=\"\",\"\",DATEDIF(N1004,DATE(設定シート!$C$2,設定シート!$C$3,設定シート!$C$4),\"Y\"))","v":""},"","",null,null,""]
[1003,null,null,"",null,"0000000",null,"福島市",null,null,null,null,"",null,"",{"$f":"IF(N1005=\"\",\"\",DATEDIF(N1005,DATE(設定シート!$C$2,設定シート!$C$3,設定シート!$C$4),\"Y\"))","v":""},"","",null,null,""]
[1004,null,null,"",null,"0000000",null,"福島市",null,null,null,null,"",null,"",{"$f":"IF(N1006=\"\",\"\",DATEDIF(N1006,DATE(設定シート!$C$2,設定シート!$C$3,設定シート!$C$4),\"Y\"))","v":""},"","",null,null,""]
[1005,null,null,"",null,"0000000",null,"福島市",null,null,null,null,"",null,"",{"$f":"IF(N1007=\"\",\"\",DATEDIF(N1007,DATE(設定シート!$C$2,設定シート!$C$3,設定シート!$C$4),\"Y\"))","v":""},"","",null,null,""]
[1006,null,null,"",null,"0000000",null,"福島市",null,null,null,null,"",null,"",{"$f":"IF(N1008=\"\",\"\",DATEDIF(N1008,DATE(設定シート!$C$2,設定シート!$C$3,設定シート!$C$4),\"Y\"))","v":""},"","",null,null,""]
[1007,null,null,"",null,"0000000",null,"福島市",null,null,null,null,"",null,"",{"$f":"IF(N1009=\"\",\"\",DATEDIF(N1009,DATE(設定シート!$C$2,設定シート!$C$3,設定シート!$C$4),\"Y\"))","v":""},"","",null,null,""]
[1008,null,null,"",null,"0000000",null,"福島市",null,null,null,null,"",null,"",{"$f":"IF(N1010=\"\",\"\",DATEDIF(N1010,DATE(設定シート!$C$2,設定シート!$C$3,設定シート!$C$4),\"Y\"))","v":""},"","",null,null,""]
[1009,null,null,"",null,"0000000",null,"福島市",null,null,null,null,"",null,"",{"$f":"IF(N1011=\"\",\"\",DATEDIF(N1011,DATE(設定シート!$C$2,設定シート!$C$3,設定シート!$C$4),\"Y\"))","v":""},"","",null,null,""]
[1010,null,null,"",null,"0000000",null,"福島市",null,null,null,null,"",null,"",{"$f":"IF(N1012=\"\",\"\",DATEDIF(N1012,DATE(設定シート!$C$2,設定シート!$C$3,設定シート!$C$4),\"Y\"))","v":""},"","",null,null,""]
[1011,null,null,"",null,"0000000",null,"福島市",null,null,null,null,"",null,"",{"$f":"IF(N1013=\"\",\"\",DATEDIF(N1013,DATE(設定シート!$C$2,設定シート!$C$3,設定シート!$C$4),\"Y\"))","v":""},"","",null,null,""]
[1012,null,null,"",null,"0000000",null,"福島市",null,null,null,null,"",null,"",{"$f":"IF(N1014=\"\",\"\",DATEDIF(N1014,DATE(設定シート!$C$2,設定シート!$C$3,設定シート!$C$4),\"Y\"))","v":""},"","",null,null,""]
[1013,null,null,"",null,"0000000",null,"福島市",null,null,null,null,"",null,"",{"$f":"IF(N1015=\"\",\"\",DATEDIF(N1015,DATE(設定シート!$C$2,設定シート!$C$3,設定シート!$C$4),\"Y\"))","v":""},"","",null,null,""]
[1014,null,null,"",null,"0000000",null,"福島市",null,null,null,null,"",null,"",{"$f":"IF(N1016=\"\",\"\",DATEDIF(N1016,DATE(設定シート!$C$2,設定シート!$C$3,設定シート!$C$4),\"Y\"))","v":""},"","",null,null,""]
[1015,null,null,"",null,"0000000",null,"福島市",null,null,null,null,"",null,"",{"$f":"IF(N1017=\"\",\"\",DATEDIF(N1017,DATE(設定シート!$C$2,設定シート!$C$3,設定シート!$C$4),\"Y\"))","v":""},"","",null,null,""]
[1016,null,null,"",null,"0000000",null,"福島市",null,null,null,null,"",null,"",{"$f":"IF(N1018=\"\",\"\",DATEDIF(N1018,DATE(設定シート!$C$2,設定シート!$C$3,設定シート!$C$4),\"Y\"))","v":""},"","",null,null,""]
[1017,null,null,"",null,"0000000",null,"福島市",null,null,null,null,"",null,"",{"$f":"IF(N1019=\"\",\"\",DATEDIF(N1019,DATE(設定シート!$C$2,設定シート!$C$3,設定シート!$C$4),\"Y\"))","v":""},"","",null,null,""]
[1018,null,null,"",null,"0000000",null,"福島市",null,null,null,null,"",null,"",{"$f":"IF(N1020=\"\",\"\",DATEDIF(N1020,DATE(設定シート!$C$2,設定シート!$C$3,設定シート!$C$4),\"Y\"))","v":""},"","",null,null,""]
[1019,null,null,"",null,"0000000",null,"福島市",null,null,null,null,"",null,"",{"$f":"IF(N1021=\"\",\"\",DATEDIF(N1021,DATE(設定シート!$C$2,設定シート!$C$3,設定シート!$C$4),\"Y\"))","v":""},"","",null,null,""]
[1020,null,null,"",null,"0000000",null,"福島市",null,null,null,null,"",null,"",{"$f":"IF(N1022=\"\",\"\",DATEDIF(N1022,DATE(設定シート!$C$2,設定シート!$C$3,設定シート!$C$4),\"Y\"))","v":""},"","",null,null,""]
[1021,null,null,"",null,"0000000",null,"福島市",null,null,null,null,"",null,"",{"$f":"IF(N1023=\"\",\"\",DATEDIF(N1023,DATE(設定シート!$C$2,設定シート!$C$3,設定シート!$C$4),\"Y\"))","v":""},"","",null,null,""]
[1022,null,null,"",null,"0000000",null,"福島市",null,null,null,null,"",null,"",{"$f":"IF(N1024=\"\",\"\",DATEDIF(N1024,DATE(設定シート!$C$2,設定シート!$C$3,設定シート!$C$4),\"Y\"))","v":""},"","",null,null,""]
[1023,null,null,"",null,"0000000",null,"福島市",null,null,null,null,"",null,"",{"$f":"IF(N1025=\"\",\"\",DATEDIF(N1025,DATE(設定シート!$C$2,設定シート!$C$3,設定シート!$C$4),\"Y\"))","v":""},"","",null,null,""]
[1024,null,null,"",null,"0000000",null,"福島市",null,null,null,null,"",null,"",{"$f":"IF(N1026=\"\",\"\",DATEDIF(N1026,DATE(設定シート!$C$2,設定シート!$C$3,設定シート!$C$4),\"Y\"))","v":""},"","",null,null,""]
[1025,null,null,{"$f":"PHONETIC(C1027)","v":""},null,{"$f":"TEXT(B1027,\"0000000\")","v":"0000000"},null,"福島市",null,null,null,null,{"$f":"IF(L1027=1,\"男\",IF(L1027=2,\"女\",\"\"))","v":""},null,{"$f":"IF(OR(E1027=\"\",N1027=\"\"),\"\",DATEDIF(N1027,E1027,\"Y\"))","v":""},{"$f":"IF(N1027=\"\",\"\",DATEDIF(N1027,DATE(設定シート!$C$2,設定シート!$C$3,設定シート!$C$4),\"Y\"))","v":""},{"$f":"IF(P1027=\"\",\"\",IF(P1027<=69,1,IF(P1027>=70,2,\"\")))","v":""},{"$f":"IF(OR(Q1027=1,Q1027=\"1\"),\"有料\",IF(OR(Q1027=2,Q1027=\"2\"),\"70・後\",IF(Q1027=3,\"生保\",IF(Q1027=4,\"非課税\",\"\"))))","v":""},null,null,{"$f":"IF(AND(L1027=2,P1027>=60),\"一単独\",IF(AND(L1027=2,P1027>=50,P1027<60),\"一併用\",IF(AND(L1027=2,P1027>=40,P1027<50),\"二併用\",\"\")))","v":""}]
[{"$f":"ROW()-2","v":1026},null,null,"",null,"0000000",null,"福島市",null,null,null,null,"",null,"",{"$f":"IF(N1028=\"\",\"\",DATEDIF(N1028,DATE(設定シート!$C$2,設定シート!$C$3,設定シート!$C$4),\"Y\"))","v":""},"","",null,null,""]
[1027,null,null,"",null,"0000000",null,"福島市",null,null,null,null,"",null,"",{"$f":"IF(N1029=\"\",\"\",DATEDIF(N1029,DATE(設定シート!$C$2,設定シート!$C$3,設定シート!$C$4),\"Y\"))","v":""},"","",null,null,""]
[1028,null,null,"",null,"0000000",null,"福島市",null,null,null,null,"",null,"",{"$f":"IF(N1030=\"\",\"\",DATEDIF(N1030,DATE(設定シート!$C$2,設定シート!$C$3,設定シート!$C$4),\"Y\"))","v":""},"","",null,null,""]
[1029,null,null,"",null,"0000000",null,"福島市",null,null,null,null,"",null,"",{"$f":"IF(N1031=\"\",\"\",DATEDIF(N1031,DATE(設定シート!$C$2,設定シート!$C$3,設定シート!$C$4),\"Y\"))","v":""},"","",null,null,""]
[1030,null,null,"",null,"0000000",null,"福島市",null,null,null,null,"",null,"",{"$f":"IF(N1032=\"\",\"\",DATEDIF(N1032,DATE(設定シート!$C$2,設定シート!$C$3,設定シート!$C$4),\"Y\"))","v":""},"","",null,null,""]
[1031,null,null,"",null,"0000000",null,"福島市",null,null,null,null,"",null,"",{"$f":"IF(N1033=\"\",\"\",DATEDIF(N1033,DATE(設定シート!$C$2,設定シート!$C$3,設定シート!$C$4),\"Y\"))","v":""},"","",null,null,""]
[1032,null,null,"",null,"0000000",null,"福島市",null,null,null,null,"",null,"",{"$f":"IF(N1034=\"\",\"\",DATEDIF(N1034,DATE(設定シート!$C$2,設定シート!$C$3,設定シート!$C$4),\"Y\"))","v":""},"","",null,null,""]
[1033,null,null,"",null,"0000000",null,"福島市",null,null,null,null,"",null,"",{"$f":"IF(N1035=\"\",\"\",DATEDIF(N1035,DATE(設定シート!$C$2,設定シート!$C$3,設定シート!$C$4),\"Y\"))","v":""},"","",null,null,""]
[1034,null,null,"",null,"0000000",null,"福島市",null,null,null,null,"",null,"",{"$f":"IF(N1036=\"\",\"\",DATEDIF(N1036,DATE(設定シート!$C$2,設定シート!$C$3,設定シート!$C$4),\"Y\"))","v":""},"","",null,null,""]
[1035,null,null,"",null,"0000000",null,"福島市",null,null,null,null,"",null,"",{"$f":"IF(N1037=\"\",\"\",DATEDIF(N1037,DATE(設定シート!$C$2,設定シート!$C$3,設定シート!$C$4),\"Y\"))","v":""},"","",null,null,""]
[1036,null,null,"",null,"0000000",null,"福島市",null,null,null,null,"",null,"",{"$f":"IF(N1038=\"\",\"\",DATEDIF(N1038,DATE(設定シート!$C$2,設定シート!$C$3,設定シート!$C$4),\"Y\"))","v":""},"","",null,null,""]
[1037,null,null,"",null,"0000000",null,"福島市",null,null,null,null,"",null,"",{"$f":"IF(N1039=\"\",\"\",DATEDIF(N1039,DATE(設定シート!$C$2,設定シート!$C$3,設定シート!$C$4),\"Y\"))","v":""},"","",null,null,""]
[1038,null,null,"",null,"0000000",null,"福島市",null,null,null,null,"",null,"",{"$f":"IF(N1040=\"\",\"\",DATEDIF(N1040,DATE(設定シート!$C$2,設定シート!$C$3,設定シート!$C$4),\"Y\"))","v":""},"","",null,null,""]
[1039,null,null,"",null,"0000000",null,"福島市",null,null,null,null,"",null,"",{"$f":"IF(N1041=\"\",\"\",DATEDIF(N1041,DATE(設定シート!$C$2,設定シート!$C$3,設定シート!$C$4),\"Y\"))","v":""},"","",null,null,""]
[1040,null,null,"",null,"0000000",null,"福島市",null,null,null,null,"",null,"",{"$f":"IF(N1042=\"\",\"\",DATEDIF(N1042,DATE(設定シート!$C$2,設定シート!$C$3,設定シート!$C$4),\"Y\"))","v":""},"","",null,null,""]
[1041,null,null,"",null,"0000000",null,"福島市",null,null,null,null,"",null,"",{"$f":"IF(N1043=\"\",\"\",DATEDIF(N1043,DATE(設定シート!$C$2,設定シート!$C$3,設定シート!$C$4),\"Y\"))","v":""},"","",null,null,""]
[1042,null,null,"",null,"0000000",null,"福島市",null,null,null,null,"",null,"",{"$f":"IF(N1044=\"\",\"\",DATEDIF(N1044,DATE(設定シート!$C$2,設定シート!$C$3,設定シート!$C$4),\"Y\"))","v":""},"","",null,null,""]
[1043,null,null,"",null,"0000000",null,"福島市",null,null,null,null,"",null,"",{"$f":"IF(N1045=\"\",\"\",DATEDIF(N1045,DATE(設定シート!$C$2,設定シート!$C$3,設定シート!$C$4),\"Y\"))","v":""},"","",null,null,""]
[1044,null,null,"",null,"0000000",null,"福島市",null,null,null,null,"",null,"",{"$f":"IF(N1046=\"\",\"\",DATEDIF(N1046,DATE(設定シート!$C$2,設定シート!$C$3,設定シート!$C$4),\"Y\"))","v":""},"","",null,null,""]
[1045,null,null,"",null,"0000000",null,"福島市",null,null,null,null,"",null,"",{"$f":"IF(N1047=\"\",\"\",DATEDIF(N1047,DATE(設定シート!$C$2,設定シート!$C$3,設定シート!$C$4),\"Y\"))","v":""},"","",null,null,""]
[1046,null,null,"",null,"0000000",null,"福島市",null,null,null,null,"",null,"",{"$f":"IF(N1048=\"\",\"\",DATEDIF(N1048,DATE(設定シート!$C$2,設定シート!$C$3,設定シート!$C$4),\"Y\"))","v":""},"","",null,null,""]
[1047,null,null,"",null,"0000000",null,"福島市",null,null,null,null,"",null,"",{"$f":"IF(N1049=\"\",\"\",DATEDIF(N1049,DATE(設定シート!$C$2,設定シート!$C$3,設定シート!$C$4),\"Y\"))","v":""},"","",null,null,""]
[1048,null,null,"",null,"0000000",null,"福島市",null,null,null,null,"",null,"",{"$f":"IF(N1050=\"\",\"\",DATEDIF(N1050,DATE(設定シート!$C$2,設定シート!$C$3,設定シート!$C$4),\"Y\"))","v":""},"","",null,null,""]
[1049,null,null,"",null,"0000000",null,"福島市",null,null,null,null,"",null,"",{"$f":"IF(N1051=\"\",\"\",DATEDIF(N1051,DATE(設定シート!$C$2,設定シート!$C$3,設定シート!$C$4),\"Y\"))","v":""},"","",null,null,""]
[1050,null,null,"",null,"0000000",null,"福島市",null,null,null,null,"",null,"",{"$f":"IF(N1052=\"\",\"\",DATEDIF(N1052,DATE(設定シート!$C$2,設定シート!$C$3,設定シート!$C$4),\"Y\"))","v":""},"","",null,null,""]
[1051,null,null,"",null,"0000000",null,"福島市",null,null,null,null,"",null,"",{"$f":"IF(N1053=\"\",\"\",DATEDIF(N1053,DATE(設定シート!$C$2,設定シート!$C$3,設定シート!$C$4),\"Y\"))","v":""},"","",null,null,""]
[1052,null,null,"",null,"0000000",null,"福島市",null,null,null,null,"",null,"",{"$f":"IF(N1054=\"\",\"\",DATEDIF(N1054,DATE(設定シート!$C$2,設定シート!$C$3,設定シート!$C$4),\"Y\"))","v":""},"","",null,null,""]
[1053,null,null,"",null,"0000000",null,"福島市",null,null,null,null,"",null,"",{"$f":"IF(N1055=\"\",\"\",DATEDIF(N1055,DATE(設定シート!$C$2,設定シート!$C$3,設定シート!$C$4),\"Y\"))","v":""},"","",null,null,""]
[1054,null,null,"",null,"0000000",null,"福島市",null,null,null,null,"",null,"",{"$f":"IF(N1056=\"\",\"\",DATEDIF(N1056,DATE(設定シート!$C$2,設定シート!$C$3,設定シート!$C$4),\"Y\"))","v":""},"","",null,null,""]
[1055,null,null,"",null,"0000000",null,"福島市",null,null,null,null,"",null,"",{"$f":"IF(N1057=\"\",\"\",DATEDIF(N1057,DATE(設定シート!$C$2,設定シート!$C$3,設定シート!$C$4),\"Y\"))","v":""},"","",null,null,""]
[1056,null,null,"",null,"0000000",null,"福島市",null,null,null,null,"",null,"",{"$f":"IF(N1058=\"\",\"\",DATEDIF(N1058,DATE(設定シート!$C$2,設定シート!$C$3,設定シート!$C$4),\"Y\"))","v":""},"","",null,null,""]
[1057,null,null,"",null,"0000000",null,"福島市",null,null,null,null,"",null,"",{"$f":"IF(N1059=\"\",\"\",DATEDIF(N1059,DATE(設定シート!$C$2,設定シート!$C$3,設定シート!$C$4),\"Y\"))","v":""},"","",null,null,""]
[1058,null,null,"",null,"0000000",null,"福島市",null,null,null,null,"",null,"",{"$f":"IF(N1060=\"\",\"\",DATEDIF(N1060,DATE(設定シート!$C$2,設定シート!$C$3,設定シート!$C$4),\"Y\"))","v":""},"","",null,null,""]
[1059,null,null,"",null,"0000000",null,"福島市",null,null,null,null,"",null,"",{"$f":"IF(N1061=\"\",\"\",DATEDIF(N1061,DATE(設定シート!$C$2,設定シート!$C$3,設定シート!$C$4),\"Y\"))","v":""},"","",null,null,""]
[1060,null,null,"",null,"0000000",null,"福島市",null,null,null,null,"",null,"",{"$f":"IF(N1062=\"\",\"\",DATEDIF(N1062,DATE(設定シート!$C$2,設定シート!$C$3,設定シート!$C$4),\"Y\"))","v":""},"","",null,null,""]
[1061,null,null,"",null,"0000000",null,"福島市",null,null,null,null,"",null,"",{"$f":"IF(N1063=\"\",\"\",DATEDIF(N1063,DATE(設定シート!$C$2,設定シート!$C$3,設定シート!$C$4),\"Y\"))","v":""},"","",null,null,""]
[1062,null,null,"",null,"0000000",null,"福島市",null,null,null,null,"",null,"",{"$f":"IF(N1064=\"\",\"\",DATEDIF(N1064,DATE(設定シート!$C$2,設定シート!$C$3,設定シート!$C$4),\"Y\"))","v":""},"","",null,null,""]
[1063,null,null,"",null,"0000000",null,"福島市",null,null,null,null,"",null,"",{"$f":"IF(N1065=\"\",\"\",DATEDIF(N1065,DATE(設定シート!$C$2,設定シート!$C$3,設定シート!$C$4),\"Y\"))","v":""},"","",null,null,""]
[1064,null,null,"",null,"0000000",null,"福島市",null,null,null,null,"",null,"",{"$f":"IF(N1066=\"\",\"\",DATEDIF(N1066,DATE(設定シート!$C$2,設定シート!$C$3,設定シート!$C$4),\"Y\"))","v":""},"","",null,null,""]
[1065,null,null,"",null,"0000000",null,"福島市",null,null,null,null,"",null,"",{"$f":"IF(N1067=\"\",\"\",DATEDIF(N1067,DATE(設定シート!$C$2,設定シート!$C$3,設定シート!$C$4),\"Y\"))","v":""},"","",null,null,""]
[1066,null,null,"",null,"0000000",null,"福島市",null,null,null,null,"",null,"",{"$f":"IF(N1068=\"\",\"\",DATEDIF(N1068,DATE(設定シート!$C$2,設定シート!$C$3,設定シート!$C$4),\"Y\"))","v":""},"","",null,null,""]
[1067,null,null,"",null,"0000000",null,"福島市",null,null,null,null,"",null,"",{"$f":"IF(N1069=\"\",\"\",DATEDIF(N1069,DATE(設定シート!$C$2,設定シート!$C$3,設定シート!$C$4),\"Y\"))","v":""},"","",null,null,""]
[1068,null,null,"",null,"0000000",null,"福島市",null,null,null,null,"",null,"",{"$f":"IF(N1070=\"\",\"\",DATEDIF(N1070,DATE(設定シート!$C$2,設定シート!$C$3,設定シート!$C$4),\"Y\"))","v":""},"","",null,null,""]
[1069,null,null,"",null,"0000000",null,"福島市",null,null,null,null,"",null,"",{"$f":"IF(N1071=\"\",\"\",DATEDIF(N1071,DATE(設定シート!$C$2,設定シート!$C$3,設定シート!$C$4),\"Y\"))","v":""},"","",null,null,""]
[1070,null,null,"",null,"0000000",null,"福島市",null,null,null,null,"",null,"",{"$f":"IF(N1072=\"\",\"\",DATEDIF(N1072,DATE(設定シート!$C$2,設定シート!$C$3,設定シート!$C$4),\"Y\"))","v":""},"","",null,null,""]
[1071,null,null,"",null,"0000000",null,"福島市",null,null,null,null,"",null,"",{"$f":"IF(N1073=\"\",\"\",DATEDIF(N1073,DATE(設定シート!$C$2,設定シート!$C$3,設定シート!$C$4),\"Y\"))","v":""},"","",null,null,""]
[1072,null,null,"",null,"0000000",null,"福島市",null,null,null,null,"",null,"",{"$f":"IF(N1074=\"\",\"\",DATEDIF(N1074,DATE(設定シート!$C$2,設定シート!$C$3,設定シート!$C$4),\"Y\"))","v":""},"","",null,null,""]
[1073,null,null,"",null,"0000000",null,"福島市",null,null,null,null,"",null,"",{"$f":"IF(N1075=\"\",\"\",DATEDIF(N1075,DATE(設定シート!$C$2,設定シート!$C$3,設定シート!$C$4),\"Y\"))","v":""},"","",null,null,""]
[1074,null,null,"",null,"0000000",null,"福島市",null,null,null,null,"",null,"",{"$f":"IF(N1076=\"\",\"\",DATEDIF(N1076,DATE(設定シート!$C$2,設定シート!$C$3,設定シート!$C$4),\"Y\"))","v":""},"","",null,null,""]
[1075,null,null,"",null,"0000000",null,"福島市",null,null,null,null,"",null,"",{"$f":"IF(N1077=\"\",\"\",DATEDIF(N1077,DATE(設定シート!$C$2,設定シート!$C$3,設定シート!$C$4),\"Y\"))","v":""},"","",null,null,""]
[1076,null,null,"",null,"0000000",null,"福島市",null,null,null,null,"",null,"",{"$f":"IF(N1078=\"\",\"\",DATEDIF(N1078,DATE(設定シート!$C$2,設定シート!$C$3,設定シート!$C$4),\"Y\"))","v":""},"","",null,null,""]
[1077,null,null,"",null,"0000000",null,"福島市",null,null,null,null,"",null,"",{"$f":"IF(N1079=\"\",\"\",DATEDIF(N1079,DATE(設定シート!$C$2,設定シート!$C$3,設定シート!$C$4),\"Y\"))","v":""},"","",null,null,""]
[1078,null,null,"",null,"0000000",null,"福島市",null,null,null,null,"",null,"",{"$f":"IF(N1080=\"\",\"\",DATEDIF(N1080,DATE(設定シート!$C$2,設定シート!$C$3,設定シート!$C$4),\"Y\"))","v":""},"","",null,null,""]
[1079,null,null,"",null,"0000000",null,"福島市",null,null,null,null,"",null,"",{"$f":"IF(N1081=\"\",\"\",DATEDIF(N1081,DATE(設定シート!$C$2,設定シート!$C$3,設定シート!$C$4),\"Y\"))","v":""},"","",null,null,""]
[1080,null,null,"",null,"0000000",null,"福島市",null,null,null,null,"",null,"",{"$f":"IF(N1082=\"\",\"\",DATEDIF(N1082,DATE(設定シート!$C$2,設定シート!$C$3,設定シート!$C$4),\"Y\"))","v":""},"","",null,null,""]
[1081,null,null,"",null,"0000000",null,"福島市",null,null,null,null,"",null,"",{"$f":"IF(N1083=\"\",\"\",DATEDIF(N1083,DATE(設定シート!$C$2,設定シート!$C$3,設定シート!$C$4),\"Y\"))","v":""},"","",null,null,""]
[1082,null,null,"",null,"0000000",null,"福島市",null,null,null,null,"",null,"",{"$f":"IF(N1084=\"\",\"\",DATEDIF(N1084,DATE(設定シート!$C$2,設定シート!$C$3,設定シート!$C$4),\"Y\"))","v":""},"","",null,null,""]
[1083,null,null,"",null,"0000000",null,"福島市",null,null,null,null,"",null,"",{"$f":"IF(N1085=\"\",\"\",DATEDIF(N1085,DATE(設定シート!$C$2,設定シート!$C$3,設定シート!$C$4),\"Y\"))","v":""},"","",null,null,""]
[1084,null,null,"",null,"0000000",null,"福島市",null,null,null,null,"",null,"",{"$f":"IF(N1086=\"\",\"\",DATEDIF(N1086,DATE(設定シート!$C$2,設定シート!$C$3,設定シート!$C$4),\"Y\"))","v":""},"","",null,null,""]
[1085,null,null,"",null,"0000000",null,"福島市",null,null,null,null,"",null,"",{"$f":"IF(N1087=\"\",\"\",DATEDIF(N1087,DATE(設定シート!$C$2,設定シート!$C$3,設定シート!$C$4),\"Y\"))","v":""},"","",null,null,""]
[1086,null,null,"",null,"0000000",null,"福島市",null,null,null,null,"",null,"",{"$f":"IF(N1088=\"\",\"\",DATEDIF(N1088,DATE(設定シート!$C$2,設定シート!$C$3,設定シート!$C$4),\"Y\"))","v":""},"","",null,null,""]
[1087,null,null,"",null,"0000000",null,"福島市",null,null,null,null,"",null,"",{"$f":"IF(N1089=\"\",\"\",DATEDIF(N1089,DATE(設定シート!$C$2,設定シート!$C$3,設定シート!$C$4),\"Y\"))","v":""},"","",null,null,""]
[1088,null,null,"",null,"0000000",null,"福島市",null,null,null,null,"",null,"",{"$f":"IF(N1090=\"\",\"\",DATEDIF(N1090,DATE(設定シート!$C$2,設定シート!$C$3,設定シート!$C$4),\"Y\"))","v":""},"","",null,null,""]
[1089,null,null,{"$f":"PHONETIC(C1091)","v":""},null,{"$f":"TEXT(B1091,\"0000000\")","v":"0000000"},null,"福島市",null,null,null,null,{"$f":"IF(L1091=1,\"男\",IF(L1091=2,\"女\",\"\"))","v":""},null,{"$f":"IF(OR(E1091=\"\",N1091=\"\"),\"\",DATEDIF(N1091,E1091,\"Y\"))","v":""},{"$f":"IF(N1091=\"\",\"\",DATEDIF(N1091,DATE(設定シート!$C$2,設定シート!$C$3,設定シート!$C$4),\"Y\"))","v":""},{"$f":"IF(P1091=\"\",\"\",IF(P1091<=69,1,IF(P1091>=70,2,\"\")))","v":""},{"$f":"IF(OR(Q1091=1,Q1091=\"1\"),\"有料\",IF(OR(Q1091=2,Q1091=\"2\"),\"70・後\",IF(Q1091=3,\"生保\",IF(Q1091=4,\"非課税\",\"\"))))","v":""},null,null,{"$f":"IF(AND(L1091=2,P1091>=60),\"一単独\",IF(AND(L1091=2,P1091>=50,P1091<60),\"一併用\",IF(AND(L1091=2,P1091>=40,P1091<50),\"二併用\",\"\")))","v":""}]
[{"$f":"ROW()-2","v":1090},null,null,"",null,"0000000",null,"福島市",null,null,null,null,"",null,"",{"$f":"IF(N1092=\"\",\"\",DATEDIF(N1092,DATE(設定シート!$C$2,設定シート!$C$3,設定シート!$C$4),\"Y\"))","v":""},"","",null,null,""]
[1091,null,null,"",null,"0000000",null,"福島市",null,null,null,null,"",null,"",{"$f":"IF(N1093=\"\",\"\",DATEDIF(N1093,DATE(設定シート!$C$2,設定シート!$C$3,設定シート!$C$4),\"Y\"))","v":""},"","",null,null,""]
[1092,null,null,"",null,"0000000",null,"福島市",null,null,null,null,"",null,"",{"$f":"IF(N1094=\"\",\"\",DATEDIF(N1094,DATE(設定シート!$C$2,設定シート!$C$3,設定シート!$C$4),\"Y\"))","v":""},"","",null,null,""]
[1093,null,null,"",null,"0000000",null,"福島市",null,null,null,null,"",null,"",{"$f":"IF(N1095=\"\",\"\",DATEDIF(N1095,DATE(設定シート!$C$2,設定シート!$C$3,設定シート!$C$4),\"Y\"))","v":""},"","",null,null,""]
[1094,null,null,"",null,"0000000",null,"福島市",null,null,null,null,"",null,"",{"$f":"IF(N1096=\"\",\"\",DATEDIF(N1096,DATE(設定シート!$C$2,設定シート!$C$3,設定シート!$C$4),\"Y\"))","v":""},"","",null,null,""]
[1095,null,null,"",null,"0000000",null,"福島市",null,null,null,null,"",null,"",{"$f":"IF(N1097=\"\",\"\",DATEDIF(N1097,DATE(設定シート!$C$2,設定シート!$C$3,設定シート!$C$4),\"Y\"))","v":""},"","",null,null,""]
[1096,null,null,"",null,"0000000",null,"福島市",null,null,null,null,"",null,"",{"$f":"IF(N1098=\"\",\"\",DATEDIF(N1098,DATE(設定シート!$C$2,設定シート!$C$3,設定シート!$C$4),\"Y\"))","v":""},"","",null,null,""]
[1097,null,null,"",null,"0000000",null,"福島市",null,null,null,null,"",null,"",{"$f":"IF(N1099=\"\",\"\",DATEDIF(N1099,DATE(設定シート!$C$2,設定シート!$C$3,設定シート!$C$4),\"Y\"))","v":""},"","",null,null,""]
[1098,null,null,"",null,"0000000",null,"福島市",null,null,null,null,"",null,"",{"$f":"IF(N1100=\"\",\"\",DATEDIF(N1100,DATE(設定シート!$C$2,設定シート!$C$3,設定シート!$C$4),\"Y\"))","v":""},"","",null,null,""]
[1099,null,null,"",null,"0000000",null,"福島市",null,null,null,null,"",null,"",{"$f":"IF(N1101=\"\",\"\",DATEDIF(N1101,DATE(設定シート!$C$2,設定シート!$C$3,設定シート!$C$4),\"Y\"))","v":""},"","",null,null,""]
[1100,null,null,"",null,"0000000",null,"福島市",null,null,null,null,"",null,"",{"$f":"IF(N1102=\"\",\"\",DATEDIF(N1102,DATE(設定シート!$C$2,設定シート!$C$3,設定シート!$C$4),\"Y\"))","v":""},"","",null,null,""]
[1101,null,null,"",null,"0000000",null,"福島市",null,null,null,null,"",null,"",{"$f":"IF(N1103=\"\",\"\",DATEDIF(N1103,DATE(設定シート!$C$2,設定シート!$C$3,設定シート!$C$4),\"Y\"))","v":""},"","",null,null,""]
[1102,null,null,"",null,"0000000",null,"福島市",null,null,null,null,"",null,"",{"$f":"IF(N1104=\"\",\"\",DATEDIF(N1104,DATE(設定シート!$C$2,設定シート!$C$3,設定シート!$C$4),\"Y\"))","v":""},"","",null,null,""]
[1103,null,null,"",null,"0000000",null,"福島市",null,null,null,null,"",null,"",{"$f":"IF(N1105=\"\",\"\",DATEDIF(N1105,DATE(設定シート!$C$2,設定シート!$C$3,設定シート!$C$4),\"Y\"))","v":""},"","",null,null,""]
[1104,null,null,"",null,"0000000",null,"福島市",null,null,null,null,"",null,"",{"$f":"IF(N1106=\"\",\"\",DATEDIF(N1106,DATE(設定シート!$C$2,設定シート!$C$3,設定シート!$C$4),\"Y\"))","v":""},"","",null,null,""]
[1105,null,null,"",null,"0000000",null,"福島市",null,null,null,null,"",null,"",{"$f":"IF(N1107=\"\",\"\",DATEDIF(N1107,DATE(設定シート!$C$2,設定シート!$C$3,設定シート!$C$4),\"Y\"))","v":""},"","",null,null,""]
[1106,null,null,"",null,"0000000",null,"福島市",null,null,null,null,"",null,"",{"$f":"IF(N1108=\"\",\"\",DATEDIF(N1108,DATE(設定シート!$C$2,設定シート!$C$3,設定シート!$C$4),\"Y\"))","v":""},"","",null,null,""]
[1107,null,null,"",null,"0000000",null,"福島市",null,null,null,null,"",null,"",{"$f":"IF(N1109=\"\",\"\",DATEDIF(N1109,DATE(設定シート!$C$2,設定シート!$C$3,設定シート!$C$4),\"Y\"))","v":""},"","",null,null,""]
[1108,null,null,"",null,"0000000",null,"福島市",null,null,null,null,"",null,"",{"$f":"IF(N1110=\"\",\"\",DATEDIF(N1110,DATE(設定シート!$C$2,設定シート!$C$3,設定シート!$C$4),\"Y\"))","v":""},"","",null,null,""]
[1109,null,null,"",null,"0000000",null,"福島市",null,null,null,null,"",null,"",{"$f":"IF(N1111=\"\",\"\",DATEDIF(N1111,DATE(設定シート!$C$2,設定シート!$C$3,設定シート!$C$4),\"Y\"))","v":""},"","",null,null,""]
[1110,null,null,"",null,"0000000",null,"福島市",null,null,null,null,"",null,"",{"$f":"IF(N1112=\"\",\"\",DATEDIF(N1112,DATE(設定シート!$C$2,設定シート!$C$3,設定シート!$C$4),\"Y\"))","v":""},"","",null,null,""]
[1111,null,null,"",null,"0000000",null,"福島市",null,null,null,null,"",null,"",{"$f":"IF(N1113=\"\",\"\",DATEDIF(N1113,DATE(設定シート!$C$2,設定シート!$C$3,設定シート!$C$4),\"Y\"))","v":""},"","",null,null,""]
[1112,null,null,"",null,"0000000",null,"福島市",null,null,null,null,"",null,"",{"$f":"IF(N1114=\"\",\"\",DATEDIF(N1114,DATE(設定シート!$C$2,設定シート!$C$3,設定シート!$C$4),\"Y\"))","v":""},"","",null,null,""]
[1113,null,null,"",null,"0000000",null,"福島市",null,null,null,null,"",null,"",{"$f":"IF(N1115=\"\",\"\",DATEDIF(N1115,DATE(設定シート!$C$2,設定シート!$C$3,設定シート!$C$4),\"Y\"))","v":""},"","",null,null,""]
[1114,null,null,"",null,"0000000",null,"福島市",null,null,null,null,"",null,"",{"$f":"IF(N1116=\"\",\"\",DATEDIF(N1116,DATE(設定シート!$C$2,設定シート!$C$3,設定シート!$C$4),\"Y\"))","v":""},"","",null,null,""]
[1115,null,null,"",null,"0000000",null,"福島市",null,null,null,null,"",null,"",{"$f":"IF(N1117=\"\",\"\",DATEDIF(N1117,DATE(設定シート!$C$2,設定シート!$C$3,設定シート!$C$4),\"Y\"))","v":""},"","",null,null,""]
[1116,null,null,"",null,"0000000",null,"福島市",null,null,null,null,"",null,"",{"$f":"IF(N1118=\"\",\"\",DATEDIF(N1118,DATE(設定シート!$C$2,設定シート!$C$3,設定シート!$C$4),\"Y\"))","v":""},"","",null,null,""]
[1117,null,null,"",null,"0000000",null,"福島市",null,null,null,null,"",null,"",{"$f":"IF(N1119=\"\",\"\",DATEDIF(N1119,DATE(設定シート!$C$2,設定シート!$C$3,設定シート!$C$4),\"Y\"))","v":""},"","",null,null,""]
[1118,null,null,"",null,"0000000",null,"福島市",null,null,null,null,"",null,"",{"$f":"IF(N1120=\"\",\"\",DATEDIF(N1120,DATE(設定シート!$C$2,設定シート!$C$3,設定シート!$C$4),\"Y\"))","v":""},"","",null,null,""]
[1119,null,null,"",null,"0000000",null,"福島市",null,null,null,null,"",null,"",{"$f":"IF(N1121=\"\",\"\",DATEDIF(N1121,DATE(設定シート!$C$2,設定シート!$C$3,設定シート!$C$4),\"Y\"))","v":""},"","",null,null,""]
[1120,null,null,"",null,"0000000",null,"福島市",null,null,null,null,"",null,"",{"$f":"IF(N1122=\"\",\"\",DATEDIF(N1122,DATE(設定シート!$C$2,設定シート!$C$3,設定シート!$C$4),\"Y\"))","v":""},"","",null,null,""]
[1121,null,null,"",null,"0000000",null,"福島市",null,null,null,null,"",null,"",{"$f":"IF(N1123=\"\",\"\",DATEDIF(N1123,DATE(設定シート!$C$2,設定シート!$C$3,設定シート!$C$4),\"Y\"))","v":""},"","",null,null,""]
[1122,null,null,"",null,"0000000",null,"福島市",null,null,null,null,"",null,"",{"$f":"IF(N1124=\"\",\"\",DATEDIF(N1124,DATE(設定シート!$C$2,設定シート!$C$3,設定シート!$C$4),\"Y\"))","v":""},"","",null,null,""]
[1123,null,null,"",null,"0000000",null,"福島市",null,null,null,null,"",null,"",{"$f":"IF(N1125=\"\",\"\",DATEDIF(N1125,DATE(設定シート!$C$2,設定シート!$C$3,設定シート!$C$4),\"Y\"))","v":""},"","",null,null,""]
[1124,null,null,"",null,"0000000",null,"福島市",null,null,null,null,"",null,"",{"$f":"IF(N1126=\"\",\"\",DATEDIF(N1126,DATE(設定シート!$C$2,設定シート!$C$3,設定シート!$C$4),\"Y\"))","v":""},"","",null,null,""]
[1125,null,null,"",null,"0000000",null,"福島市",null,null,null,null,"",null,"",{"$f":"IF(N1127=\"\",\"\",DATEDIF(N1127,DATE(設定シート!$C$2,設定シート!$C$3,設定シート!$C$4),\"Y\"))","v":""},"","",null,null,""]
[1126,null,null,"",null,"0000000",null,"福島市",null,null,null,null,"",null,"",{"$f":"IF(N1128=\"\",\"\",DATEDIF(N1128,DATE(設定シート!$C$2,設定シート!$C$3,設定シート!$C$4),\"Y\"))","v":""},"","",null,null,""]
[1127,null,null,"",null,"0000000",null,"福島市",null,null,null,null,"",null,"",{"$f":"IF(N1129=\"\",\"\",DATEDIF(N1129,DATE(設定シート!$C$2,設定シート!$C$3,設定シート!$C$4),\"Y\"))","v":""},"","",null,null,""]
[1128,null,null,"",null,"0000000",null,"福島市",null,null,null,null,"",null,"",{"$f":"IF(N1130=\"\",\"\",DATEDIF(N1130,DATE(設定シート!$C$2,設定シート!$C$3,設定シート!$C$4),\"Y\"))","v":""},"","",null,null,""]
[1129,null,null,"",null,"0000000",null,"福島市",null,null,null,null,"",null,"",{"$f":"IF(N1131=\"\",\"\",DATEDIF(N1131,DATE(設定シート!$C$2,設定シート!$C$3,設定シート!$C$4),\"Y\"))","v":""},"","",null,null,""]
[1130,null,null,"",null,"0000000",null,"福島市",null,null,null,null,"",null,"",{"$f":"IF(N1132=\"\",\"\",DATEDIF(N1132,DATE(設定シート!$C$2,設定シート!$C$3,設定シート!$C$4),\"Y\"))","v":""},"","",null,null,""]
[1131,null,null,"",null,"0000000",null,"福島市",null,null,null,null,"",null,"",{"$f":"IF(N1133=\"\",\"\",DATEDIF(N1133,DATE(設定シート!$C$2,設定シート!$C$3,設定シート!$C$4),\"Y\"))","v":""},"","",null,null,""]
[1132,null,null,"",null,"0000000",null,"福島市",null,null,null,null,"",null,"",{"$f":"IF(N1134=\"\",\"\",DATEDIF(N1134,DATE(設定シート!$C$2,設定シート!$C$3,設定シート!$C$4),\"Y\"))","v":""},"","",null,null,""]
[1133,null,null,"",null,"0000000",null,"福島市",null,null,null,null,"",null,"",{"$f":"IF(N1135=\"\",\"\",DATEDIF(N1135,DATE(設定シート!$C$2,設定シート!$C$3,設定シート!$C$4),\"Y\"))","v":""},"","",null,null,""]
[1134,null,null,"",null,"0000000",null,"福島市",null,null,null,null,"",null,"",{"$f":"IF(N1136=\"\",\"\",DATEDIF(N1136,DATE(設定シート!$C$2,設定シート!$C$3,設定シート!$C$4),\"Y\"))","v":""},"","",null,null,""]
[1135,null,null,"",null,"0000000",null,"福島市",null,null,null,null,"",null,"",{"$f":"IF(N1137=\"\",\"\",DATEDIF(N1137,DATE(設定シート!$C$2,設定シート!$C$3,設定シート!$C$4),\"Y\"))","v":""},"","",null,null,""]
[1136,null,null,"",null,"0000000",null,"福島市",null,null,null,null,"",null,"",{"$f":"IF(N1138=\"\",\"\",DATEDIF(N1138,DATE(設定シート!$C$2,設定シート!$C$3,設定シート!$C$4),\"Y\"))","v":""},"","",null,null,""]
[1137,null,null,"",null,"0000000",null,"福島市",null,null,null,null,"",null,"",{"$f":"IF(N1139=\"\",\"\",DATEDIF(N1139,DATE(設定シート!$C$2,設定シート!$C$3,設定シート!$C$4),\"Y\"))","v":""},"","",null,null,""]
[1138,null,null,"",null,"0000000",null,"福島市",null,null,null,null,"",null,"",{"$f":"IF(N1140=\"\",\"\",DATEDIF(N1140,DATE(設定シート!$C$2,設定シート!$C$3,設定シート!$C$4),\"Y\"))","v":""},"","",null,null,""]
[1139,null,null,"",null,"0000000",null,"福島市",null,null,null,null,"",null,"",{"$f":"IF(N1141=\"\",\"\",DATEDIF(N1141,DATE(設定シート!$C$2,設定シート!$C$3,設定シート!$C$4),\"Y\"))","v":""},"","",null,null,""]
[1140,null,null,"",null,"0000000",null,"福島市",null,null,null,null,"",null,"",{"$f":"IF(N1142=\"\",\"\",DATEDIF(N1142,DATE(設定シート!$C$2,設定シート!$C$3,設定シート!$C$4),\"Y\"))","v":""},"","",null,null,""]
[1141,null,null,"",null,"0000000",null,"福島市",null,null,null,null,"",null,"",{"$f":"IF(N1143=\"\",\"\",DATEDIF(N1143,DATE(設定シート!$C$2,設定シート!$C$3,設定シート!$C$4),\"Y\"))","v":""},"","",null,null,""]
[1142,null,null,"",null,"0000000",null,"福島市",null,null,null,null,"",null,"",{"$f":"IF(N1144=\"\",\"\",DATEDIF(N1144,DATE(設定シート!$C$2,設定シート!$C$3,設定シート!$C$4),\"Y\"))","v":""},"","",null,null,""]
[1143,null,null,"",null,"0000000",null,"福島市",null,null,null,null,"",null,"",{"$f":"IF(N1145=\"\",\"\",DATEDIF(N1145,DATE(設定シート!$C$2,設定シート!$C$3,設定シート!$C$4),\"Y\"))","v":""},"","",null,null,""]
[1144,null,null,"",null,"0000000",null,"福島市",null,null,null,null,"",null,"",{"$f":"IF(N1146=\"\",\"\",DATEDIF(N1146,DATE(設定シート!$C$2,設定シート!$C$3,設定シート!$C$4),\"Y\"))","v":""},"","",null,null,""]
[1145,null,null,"",null,"0000000",null,"福島市",null,null,null,null,"",null,"",{"$f":"IF(N1147=\"\",\"\",DATEDIF(N1147,DATE(設定シート!$C$2,設定シート!$C$3,設定シート!$C$4),\"Y\"))","v":""},"","",null,null,""]
[1146,null,null,"",null,"0000000",null,"福島市",null,null,null,null,"",null,"",{"$f":"IF(N1148=\"\",\"\",DATEDIF(N1148,DATE(設定シート!$C$2,設定シート!$C$3,設定シート!$C$4),\"Y\"))","v":""},"","",null,null,""]
[1147,null,null,"",null,"0000000",null,"福島市",null,null,null,null,"",null,"",{"$f":"IF(N1149=\"\",\"\",DATEDIF(N1149,DATE(設定シート!$C$2,設定シート!$C$3,設定シート!$C$4),\"Y\"))","v":""},"","",null,null,""]
[1148,null,null,"",null,"0000000",null,"福島市",null,null,null,null,"",null,"",{"$f":"IF(N1150=\"\",\"\",DATEDIF(N1150,DATE(設定シート!$C$2,設定シート!$C$3,設定シート!$C$4),\"Y\"))","v":""},"","",null,null,""]
[1149,null,null,"",null,"0000000",null,"福島市",null,null,null,null,"",null,"",{"$f":"IF(N1151=\"\",\"\",DATEDIF(N1151,DATE(設定シート!$C$2,設定シート!$C$3,設定シート!$C$4),\"Y\"))","v":""},"","",null,null,""]
[1150,null,null,"",null,"0000000",null,"福島市",null,null,null,null,"",null,"",{"$f":"IF(N1152=\"\",\"\",DATEDIF(N1152,DATE(設定シート!$C$2,設定シート!$C$3,設定シート!$C$4),\"Y\"))","v":""},"","",null,null,""]
[1151,null,null,"",null,"0000000",null,"福島市",null,null,null,null,"",null,"",{"$f":"IF(N1153=\"\",\"\",DATEDIF(N1153,DATE(設定シート!$C$2,設定シート!$C$3,設定シート!$C$4),\"Y\"))","v":""},"","",null,null,""]
[1152,null,null,"",null,"0000000",null,"福島市",null,null,null,null,"",null,"",{"$f":"IF(N1154=\"\",\"\",DATEDIF(N1154,DATE(設定シート!$C$2,設定シート!$C$3,設定シート!$C$4),\"Y\"))","v":""},"","",null,null,""]
[1153,null,null,{"$f":"PHONETIC(C1155)","v":""},null,{"$f":"TEXT(B1155,\"0000000\")","v":"0000000"},null,"福島市",null,null,null,null,{"$f":"IF(L1155=1,\"男\",IF(L1155=2,\"女\",\"\"))","v":""},null,{"$f":"IF(OR(E1155=\"\",N1155=\"\"),\"\",DATEDIF(N1155,E1155,\"Y\"))","v":""},{"$f":"IF(N1155=\"\",\"\",DATEDIF(N1155,DATE(設定シート!$C$2,設定シート!$C$3,設定シート!$C$4),\"Y\"))","v":""},{"$f":"IF(P1155=\"\",\"\",IF(P1155<=69,1,IF(P1155>=70,2,\"\")))","v":""},{"$f":"IF(OR(Q1155=1,Q1155=\"1\"),\"有料\",IF(OR(Q1155=2,Q1155=\"2\"),\"70・後\",IF(Q1155=3,\"生保\",IF(Q1155=4,\"非課税\",\"\"))))","v":""},null,null,{"$f":"IF(AND(L1155=2,P1155>=60),\"一単独\",IF(AND(L1155=2,P1155>=50,P1155<60),\"一併用\",IF(AND(L1155=2,P1155>=40,P1155<50),\"二併用\",\"\")))","v":""}]
[{"$f":"ROW()-2","v":1154},null,null,"",null,"0000000",null,"福島市",null,null,null,null,"",null,"",{"$f":"IF(N1156=\"\",\"\",DATEDIF(N1156,DATE(設定シート!$C$2,設定シート!$C$3,設定シート!$C$4),\"Y\"))","v":""},"","",null,null,""]
[1155,null,null,"",null,"0000000",null,"福島市",null,null,null,null,"",null,"",{"$f":"IF(N1157=\"\",\"\",DATEDIF(N1157,DATE(設定シート!$C$2,設定シート!$C$3,設定シート!$C$4),\"Y\"))","v":""},"","",null,null,""]
[1156,null,null,"",null,"0000000",null,"福島市",null,null,null,null,"",null,"",{"$f":"IF(N1158=\"\",\"\",DATEDIF(N1158,DATE(設定シート!$C$2,設定シート!$C$3,設定シート!$C$4),\"Y\"))","v":""},"","",null,null,""]
[1157,null,null,"",null,"0000000",null,"福島市",null,null,null,null,"",null,"",{"$f":"IF(N1159=\"\",\"\",DATEDIF(N1159,DATE(設定シート!$C$2,設定シート!$C$3,設定シート!$C$4),\"Y\"))","v":""},"","",null,null,""]
[1158,null,null,"",null,"0000000",null,"福島市",null,null,null,null,"",null,"",{"$f":"IF(N1160=\"\",\"\",DATEDIF(N1160,DATE(設定シート!$C$2,設定シート!$C$3,設定シート!$C$4),\"Y\"))","v":""},"","",null,null,""]
[1159,null,null,"",null,"0000000",null,"福島市",null,null,null,null,"",null,"",{"$f":"IF(N1161=\"\",\"\",DATEDIF(N1161,DATE(設定シート!$C$2,設定シート!$C$3,設定シート!$C$4),\"Y\"))","v":""},"","",null,null,""]
[1160,null,null,"",null,"0000000",null,"福島市",null,null,null,null,"",null,"",{"$f":"IF(N1162=\"\",\"\",DATEDIF(N1162,DATE(設定シート!$C$2,設定シート!$C$3,設定シート!$C$4),\"Y\"))","v":""},"","",null,null,""]
[1161,null,null,"",null,"0000000",null,"福島市",null,null,null,null,"",null,"",{"$f":"IF(N1163=\"\",\"\",DATEDIF(N1163,DATE(設定シート!$C$2,設定シート!$C$3,設定シート!$C$4),\"Y\"))","v":""},"","",null,null,""]
[1162,null,null,"",null,"0000000",null,"福島市",null,null,null,null,"",null,"",{"$f":"IF(N1164=\"\",\"\",DATEDIF(N1164,DATE(設定シート!$C$2,設定シート!$C$3,設定シート!$C$4),\"Y\"))","v":""},"","",null,null,""]
[1163,null,null,"",null,"0000000",null,"福島市",null,null,null,null,"",null,"",{"$f":"IF(N1165=\"\",\"\",DATEDIF(N1165,DATE(設定シート!$C$2,設定シート!$C$3,設定シート!$C$4),\"Y\"))","v":""},"","",null,null,""]
[1164,null,null,"",null,"0000000",null,"福島市",null,null,null,null,"",null,"",{"$f":"IF(N1166=\"\",\"\",DATEDIF(N1166,DATE(設定シート!$C$2,設定シート!$C$3,設定シート!$C$4),\"Y\"))","v":""},"","",null,null,""]
[1165,null,null,"",null,"0000000",null,"福島市",null,null,null,null,"",null,"",{"$f":"IF(N1167=\"\",\"\",DATEDIF(N1167,DATE(設定シート!$C$2,設定シート!$C$3,設定シート!$C$4),\"Y\"))","v":""},"","",null,null,""]
[1166,null,null,"",null,"0000000",null,"福島市",null,null,null,null,"",null,"",{"$f":"IF(N1168=\"\",\"\",DATEDIF(N1168,DATE(設定シート!$C$2,設定シート!$C$3,設定シート!$C$4),\"Y\"))","v":""},"","",null,null,""]
[1167,null,null,"",null,"0000000",null,"福島市",null,null,null,null,"",null,"",{"$f":"IF(N1169=\"\",\"\",DATEDIF(N1169,DATE(設定シート!$C$2,設定シート!$C$3,設定シート!$C$4),\"Y\"))","v":""},"","",null,null,""]
[1168,null,null,"",null,"0000000",null,"福島市",null,null,null,null,"",null,"",{"$f":"IF(N1170=\"\",\"\",DATEDIF(N1170,DATE(設定シート!$C$2,設定シート!$C$3,設定シート!$C$4),\"Y\"))","v":""},"","",null,null,""]
[1169,null,null,"",null,"0000000",null,"福島市",null,null,null,null,"",null,"",{"$f":"IF(N1171=\"\",\"\",DATEDIF(N1171,DATE(設定シート!$C$2,設定シート!$C$3,設定シート!$C$4),\"Y\"))","v":""},"","",null,null,""]
[1170,null,null,"",null,"0000000",null,"福島市",null,null,null,null,"",null,"",{"$f":"IF(N1172=\"\",\"\",DATEDIF(N1172,DATE(設定シート!$C$2,設定シート!$C$3,設定シート!$C$4),\"Y\"))","v":""},"","",null,null,""]
[1171,null,null,"",null,"0000000",null,"福島市",null,null,null,null,"",null,"",{"$f":"IF(N1173=\"\",\"\",DATEDIF(N1173,DATE(設定シート!$C$2,設定シート!$C$3,設定シート!$C$4),\"Y\"))","v":""},"","",null,null,""]
[1172,null,null,"",null,"0000000",null,"福島市",null,null,null,null,"",null,"",{"$f":"IF(N1174=\"\",\"\",DATEDIF(N1174,DATE(設定シート!$C$2,設定シート!$C$3,設定シート!$C$4),\"Y\"))","v":""},"","",null,null,""]
[1173,null,null,"",null,"0000000",null,"福島市",null,null,null,null,"",null,"",{"$f":"IF(N1175=\"\",\"\",DATEDIF(N1175,DATE(設定シート!$C$2,設定シート!$C$3,設定シート!$C$4),\"Y\"))","v":""},"","",null,null,""]
[1174,null,null,"",null,"0000000",null,"福島市",null,null,null,null,"",null,"",{"$f":"IF(N1176=\"\",\"\",DATEDIF(N1176,DATE(設定シート!$C$2,設定シート!$C$3,設定シート!$C$4),\"Y\"))","v":""},"","",null,null,""]
[1175,null,null,"",null,"0000000",null,"福島市",null,null,null,null,"",null,"",{"$f":"IF(N1177=\"\",\"\",DATEDIF(N1177,DATE(設定シート!$C$2,設定シート!$C$3,設定シート!$C$4),\"Y\"))","v":""},"","",null,null,""]
[1176,null,null,"",null,"0000000",null,"福島市",null,null,null,null,"",null,"",{"$f":"IF(N1178=\"\",\"\",DATEDIF(N1178,DATE(設定シート!$C$2,設定シート!$C$3,設定シート!$C$4),\"Y\"))","v":""},"","",null,null,""]
[1177,null,null,"",null,"0000000",null,"福島市",null,null,null,null,"",null,"",{"$f":"IF(N1179=\"\",\"\",DATEDIF(N1179,DATE(設定シート!$C$2,設定シート!$C$3,設定シート!$C$4),\"Y\"))","v":""},"","",null,null,""]
[1178,null,null,"",null,"0000000",null,"福島市",null,null,null,null,"",null,"",{"$f":"IF(N1180=\"\",\"\",DATEDIF(N1180,DATE(設定シート!$C$2,設定シート!$C$3,設定シート!$C$4),\"Y\"))","v":""},"","",null,null,""]
[1179,null,null,"",null,"0000000",null,"福島市",null,null,null,null,"",null,"",{"$f":"IF(N1181=\"\",\"\",DATEDIF(N1181,DATE(設定シート!$C$2,設定シート!$C$3,設定シート!$C$4),\"Y\"))","v":""},"","",null,null,""]
[1180,null,null,"",null,"0000000",null,"福島市",null,null,null,null,"",null,"",{"$f":"IF(N1182=\"\",\"\",DATEDIF(N1182,DATE(設定シート!$C$2,設定シート!$C$3,設定シート!$C$4),\"Y\"))","v":""},"","",null,null,""]
[1181,null,null,"",null,"0000000",null,"福島市",null,null,null,null,"",null,"",{"$f":"IF(N1183=\"\",\"\",DATEDIF(N1183,DATE(設定シート!$C$2,設定シート!$C$3,設定シート!$C$4),\"Y\"))","v":""},"","",null,null,""]
[1182,null,null,"",null,"0000000",null,"福島市",null,null,null,null,"",null,"",{"$f":"IF(N1184=\"\",\"\",DATEDIF(N1184,DATE(設定シート!$C$2,設定シート!$C$3,設定シート!$C$4),\"Y\"))","v":""},"","",null,null,""]
[1183,null,null,"",null,"0000000",null,"福島市",null,null,null,null,"",null,"",{"$f":"IF(N1185=\"\",\"\",DATEDIF(N1185,DATE(設定シート!$C$2,設定シート!$C$3,設定シート!$C$4),\"Y\"))","v":""},"","",null,null,""]
[1184,null,null,"",null,"0000000",null,"福島市",null,null,null,null,"",null,"",{"$f":"IF(N1186=\"\",\"\",DATEDIF(N1186,DATE(設定シート!$C$2,設定シート!$C$3,設定シート!$C$4),\"Y\"))","v":""},"","",null,null,""]
[1185,null,null,"",null,"0000000",null,"福島市",null,null,null,null,"",null,"",{"$f":"IF(N1187=\"\",\"\",DATEDIF(N1187,DATE(設定シート!$C$2,設定シート!$C$3,設定シート!$C$4),\"Y\"))","v":""},"","",null,null,""]
[1186,null,null,"",null,"0000000",null,"福島市",null,null,null,null,"",null,"",{"$f":"IF(N1188=\"\",\"\",DATEDIF(N1188,DATE(設定シート!$C$2,設定シート!$C$3,設定シート!$C$4),\"Y\"))","v":""},"","",null,null,""]
[1187,null,null,"",null,"0000000",null,"福島市",null,null,null,null,"",null,"",{"$f":"IF(N1189=\"\",\"\",DATEDIF(N1189,DATE(設定シート!$C$2,設定シート!$C$3,設定シート!$C$4),\"Y\"))","v":""},"","",null,null,""]
[1188,null,null,"",null,"0000000",null,"福島市",null,null,null,null,"",null,"",{"$f":"IF(N1190=\"\",\"\",DATEDIF(N1190,DATE(設定シート!$C$2,設定シート!$C$3,設定シート!$C$4),\"Y\"))","v":""},"","",null,null,""]
[1189,null,null,"",null,"0000000",null,"福島市",null,null,null,null,"",null,"",{"$f":"IF(N1191=\"\",\"\",DATEDIF(N1191,DATE(設定シート!$C$2,設定シート!$C$3,設定シート!$C$4),\"Y\"))","v":""},"","",null,null,""]
[1190,null,null,"",null,"0000000",null,"福島市",null,null,null,null,"",null,"",{"$f":"IF(N1192=\"\",\"\",DATEDIF(N1192,DATE(設定シート!$C$2,設定シート!$C$3,設定シート!$C$4),\"Y\"))","v":""},"","",null,null,""]
[1191,null,null,"",null,"0000000",null,"福島市",null,null,null,null,"",null,"",{"$f":"IF(N1193=\"\",\"\",DATEDIF(N1193,DATE(設定シート!$C$2,設定シート!$C$3,設定シート!$C$4),\"Y\"))","v":""},"","",null,null,""]
[1192,null,null,"",null,"0000000",null,"福島市",null,null,null,null,"",null,"",{"$f":"IF(N1194=\"\",\"\",DATEDIF(N1194,DATE(設定シート!$C$2,設定シート!$C$3,設定シート!$C$4),\"Y\"))","v":""},"","",null,null,""]
[1193,null,null,"",null,"0000000",null,"福島市",null,null,null,null,"",null,"",{"$f":"IF(N1195=\"\",\"\",DATEDIF(N1195,DATE(設定シート!$C$2,設定シート!$C$3,設定シート!$C$4),\"Y\"))","v":""},"","",null,null,""]
[1194,null,null,"",null,"0000000",null,"福島市",null,null,null,null,"",null,"",{"$f":"IF(N1196=\"\",\"\",DATEDIF(N1196,DATE(設定シート!$C$2,設定シート!$C$3,設定シート!$C$4),\"Y\"))","v":""},"","",null,null,""]
[1195,null,null,"",null,"0000000",null,"福島市",null,null,null,null,"",null,"",{"$f":"IF(N1197=\"\",\"\",DATEDIF(N1197,DATE(設定シート!$C$2,設定シート!$C$3,設定シート!$C$4),\"Y\"))","v":""},"","",null,null,""]
[1196,null,null,"",null,"0000000",null,"福島市",null,null,null,null,"",null,"",{"$f":"IF(N1198=\"\",\"\",DATEDIF(N1198,DATE(設定シート!$C$2,設定シート!$C$3,設定シート!$C$4),\"Y\"))","v":""},"","",null,null,""]
[1197,null,null,"",null,"0000000",null,"福島市",null,null,null,null,"",null,"",{"$f":"IF(N1199=\"\",\"\",DATEDIF(N1199,DATE(設定シート!$C$2,設定シート!$C$3,設定シート!$C$4),\"Y\"))","v":""},"","",null,null,""]
[1198,null,null,"",null,"0000000",null,"福島市",null,null,null,null,"",null,"",{"$f":"IF(N1200=\"\",\"\",DATEDIF(N1200,DATE(設定シート!$C$2,設定シート!$C$3,設定シート!$C$4),\"Y\"))","v":""},"","",null,null,""]
[1199,null,null,"",null,"0000000",null,"福島市",null,null,null,null,"",null,"",{"$f":"IF(N1201=\"\",\"\",DATEDIF(N1201,DATE(設定シート!$C$2,設定シート!$C$3,設定シート!$C$4),\"Y\"))","v":""},"","",null,null,""]
[1200,null,null,"",null,"0000000",null,"福島市",null,null,null,null,"",null,"",{"$f":"IF(N1202=\"\",\"\",DATEDIF(N1202,DATE(設定シート!$C$2,設定シート!$C$3,設定シート!$C$4),\"Y\"))","v":""},"","",null,null,""]
[1201,null,null,"",null,"0000000",null,"福島市",null,null,null,null,"",null,"",{"$f":"IF(N1203=\"\",\"\",DATEDIF(N1203,DATE(設定シート!$C$2,設定シート!$C$3,設定シート!$C$4),\"Y\"))","v":""},"","",null,null,""]
[1202,null,null,"",null,"0000000",null,"福島市",null,null,null,null,"",null,"",{"$f":"IF(N1204=\"\",\"\",DATEDIF(N1204,DATE(設定シート!$C$2,設定シート!$C$3,設定シート!$C$4),\"Y\"))","v":""},"","",null,null,""]
[1203,null,null,"",null,"0000000",null,"福島市",null,null,null,null,"",null,"",{"$f":"IF(N1205=\"\",\"\",DATEDIF(N1205,DATE(設定シート!$C$2,設定シート!$C$3,設定シート!$C$4),\"Y\"))","v":""},"","",null,null,""]
[1204,null,null,"",null,"0000000",null,"福島市",null,null,null,null,"",null,"",{"$f":"IF(N1206=\"\",\"\",DATEDIF(N1206,DATE(設定シート!$C$2,設定シート!$C$3,設定シート!$C$4),\"Y\"))","v":""},"","",null,null,""]
[1205,null,null,"",null,"0000000",null,"福島市",null,null,null,null,"",null,"",{"$f":"IF(N1207=\"\",\"\",DATEDIF(N1207,DATE(設定シート!$C$2,設定シート!$C$3,設定シート!$C$4),\"Y\"))","v":""},"","",null,null,""]
[1206,null,null,"",null,"0000000",null,"福島市",null,null,null,null,"",null,"",{"$f":"IF(N1208=\"\",\"\",DATEDIF(N1208,DATE(設定シート!$C$2,設定シート!$C$3,設定シート!$C$4),\"Y\"))","v":""},"","",null,null,""]
[1207,null,null,"",null,"0000000",null,"福島市",null,null,null,null,"",null,"",{"$f":"IF(N1209=\"\",\"\",DATEDIF(N1209,DATE(設定シート!$C$2,設定シート!$C$3,設定シート!$C$4),\"Y\"))","v":""},"","",null,null,""]
[1208,null,null,"",null,"0000000",null,"福島市",null,null,null,null,"",null,"",{"$f":"IF(N1210=\"\",\"\",DATEDIF(N1210,DATE(設定シート!$C$2,設定シート!$C$3,設定シート!$C$4),\"Y\"))","v":""},"","",null,null,""]
[1209,null,null,"",null,"0000000",null,"福島市",null,null,null,null,"",null,"",{"$f":"IF(N1211=\"\",\"\",DATEDIF(N1211,DATE(設定シート!$C$2,設定シート!$C$3,設定シート!$C$4),\"Y\"))","v":""},"","",null,null,""]
[1210,null,null,"",null,"0000000",null,"福島市",null,null,null,null,"",null,"",{"$f":"IF(N1212=\"\",\"\",DATEDIF(N1212,DATE(設定シート!$C$2,設定シート!$C$3,設定シート!$C$4),\"Y\"))","v":""},"","",null,null,""]
[1211,null,null,"",null,"0000000",null,"福島市",null,null,null,null,"",null,"",{"$f":"IF(N1213=\"\",\"\",DATEDIF(N1213,DATE(設定シート!$C$2,設定シート!$C$3,設定シート!$C$4),\"Y\"))","v":""},"","",null,null,""]
[1212,null,null,"",null,"0000000",null,"福島市",null,null,null,null,"",null,"",{"$f":"IF(N1214=\"\",\"\",DATEDIF(N1214,DATE(設定シート!$C$2,設定シート!$C$3,設定シート!$C$4),\"Y\"))","v":""},"","",null,null,""]
[1213,null,null,"",null,"0000000",null,"福島市",null,null,null,null,"",null,"",{"$f":"IF(N1215=\"\",\"\",DATEDIF(N1215,DATE(設定シート!$C$2,設定シート!$C$3,設定シート!$C$4),\"Y\"))","v":""},"","",null,null,""]
[1214,null,null,"",null,"0000000",null,"福島市",null,null,null,null,"",null,"",{"$f":"IF(N1216=\"\",\"\",DATEDIF(N1216,DATE(設定シート!$C$2,設定シート!$C$3,設定シート!$C$4),\"Y\"))","v":""},"","",null,null,""]
[1215,null,null,"",null,"0000000",null,"福島市",null,null,null,null,"",null,"",{"$f":"IF(N1217=\"\",\"\",DATEDIF(N1217,DATE(設定シート!$C$2,設定シート!$C$3,設定シート!$C$4),\"Y\"))","v":""},"","",null,null,""]
[1216,null,null,"",null,"0000000",null,"福島市",null,null,null,null,"",null,"",{"$f":"IF(N1218=\"\",\"\",DATEDIF(N1218,DATE(設定シート!$C$2,設定シート!$C$3,設定シート!$C$4),\"Y\"))","v":""},"","",null,null,""]
[1217,null,null,{"$f":"PHONETIC(C1219)","v":""},null,{"$f":"TEXT(B1219,\"0000000\")","v":"0000000"},null,"福島市",null,null,null,null,{"$f":"IF(L1219=1,\"男\",IF(L1219=2,\"女\",\"\"))","v":""},null,{"$f":"IF(OR(E1219=\"\",N1219=\"\"),\"\",DATEDIF(N1219,E1219,\"Y\"))","v":""},{"$f":"IF(N1219=\"\",\"\",DATEDIF(N1219,DATE(設定シート!$C$2,設定シート!$C$3,設定シート!$C$4),\"Y\"))","v":""},{"$f":"IF(P1219=\"\",\"\",IF(P1219<=69,1,IF(P1219>=70,2,\"\")))","v":""},{"$f":"IF(OR(Q1219=1,Q1219=\"1\"),\"有料\",IF(OR(Q1219=2,Q1219=\"2\"),\"70・後\",IF(Q1219=3,\"生保\",IF(Q1219=4,\"非課税\",\"\"))))","v":""},null,null,{"$f":"IF(AND(L1219=2,P1219>=60),\"一単独\",IF(AND(L1219=2,P1219>=50,P1219<60),\"一併用\",IF(AND(L1219=2,P1219>=40,P1219<50),\"二併用\",\"\")))","v":""}]
[{"$f":"ROW()-2","v":1218},null,null,"",null,"0000000",null,"福島市",null,null,null,null,"",null,"",{"$f":"IF(N1220=\"\",\"\",DATEDIF(N1220,DATE(設定シート!$C$2,設定シート!$C$3,設定シート!$C$4),\"Y\"))","v":""},"","",null,null,""]
[1219,null,null,"",null,"0000000",null,"福島市",null,null,null,null,"",null,"",{"$f":"IF(N1221=\"\",\"\",DATEDIF(N1221,DATE(設定シート!$C$2,設定シート!$C$3,設定シート!$C$4),\"Y\"))","v":""},"","",null,null,""]
[1220,null,null,"",null,"0000000",null,"福島市",null,null,null,null,"",null,"",{"$f":"IF(N1222=\"\",\"\",DATEDIF(N1222,DATE(設定シート!$C$2,設定シート!$C$3,設定シート!$C$4),\"Y\"))","v":""},"","",null,null,""]
[1221,null,null,"",null,"0000000",null,"福島市",null,null,null,null,"",null,"",{"$f":"IF(N1223=\"\",\"\",DATEDIF(N1223,DATE(設定シート!$C$2,設定シート!$C$3,設定シート!$C$4),\"Y\"))","v":""},"","",null,null,""]
[1222,null,null,"",null,"0000000",null,"福島市",null,null,null,null,"",null,"",{"$f":"IF(N1224=\"\",\"\",DATEDIF(N1224,DATE(設定シート!$C$2,設定シート!$C$3,設定シート!$C$4),\"Y\"))","v":""},"","",null,null,""]
[1223,null,null,"",null,"0000000",null,"福島市",null,null,null,null,"",null,"",{"$f":"IF(N1225=\"\",\"\",DATEDIF(N1225,DATE(設定シート!$C$2,設定シート!$C$3,設定シート!$C$4),\"Y\"))","v":""},"","",null,null,""]
[1224,null,null,"",null,"0000000",null,"福島市",null,null,null,null,"",null,"",{"$f":"IF(N1226=\"\",\"\",DATEDIF(N1226,DATE(設定シート!$C$2,設定シート!$C$3,設定シート!$C$4),\"Y\"))","v":""},"","",null,null,""]
[1225,null,null,"",null,"0000000",null,"福島市",null,null,null,null,"",null,"",{"$f":"IF(N1227=\"\",\"\",DATEDIF(N1227,DATE(設定シート!$C$2,設定シート!$C$3,設定シート!$C$4),\"Y\"))","v":""},"","",null,null,""]
[1226,null,null,"",null,"0000000",null,"福島市",null,null,null,null,"",null,"",{"$f":"IF(N1228=\"\",\"\",DATEDIF(N1228,DATE(設定シート!$C$2,設定シート!$C$3,設定シート!$C$4),\"Y\"))","v":""},"","",null,null,""]
[1227,null,null,"",null,"0000000",null,"福島市",null,null,null,null,"",null,"",{"$f":"IF(N1229=\"\",\"\",DATEDIF(N1229,DATE(設定シート!$C$2,設定シート!$C$3,設定シート!$C$4),\"Y\"))","v":""},"","",null,null,""]
[1228,null,null,"",null,"0000000",null,"福島市",null,null,null,null,"",null,"",{"$f":"IF(N1230=\"\",\"\",DATEDIF(N1230,DATE(設定シート!$C$2,設定シート!$C$3,設定シート!$C$4),\"Y\"))","v":""},"","",null,null,""]
[1229,null,null,"",null,"0000000",null,"福島市",null,null,null,null,"",null,"",{"$f":"IF(N1231=\"\",\"\",DATEDIF(N1231,DATE(設定シート!$C$2,設定シート!$C$3,設定シート!$C$4),\"Y\"))","v":""},"","",null,null,""]
[1230,null,null,"",null,"0000000",null,"福島市",null,null,null,null,"",null,"",{"$f":"IF(N1232=\"\",\"\",DATEDIF(N1232,DATE(設定シート!$C$2,設定シート!$C$3,設定シート!$C$4),\"Y\"))","v":""},"","",null,null,""]
[1231,null,null,"",null,"0000000",null,"福島市",null,null,null,null,"",null,"",{"$f":"IF(N1233=\"\",\"\",DATEDIF(N1233,DATE(設定シート!$C$2,設定シート!$C$3,設定シート!$C$4),\"Y\"))","v":""},"","",null,null,""]
[1232,null,null,"",null,"0000000",null,"福島市",null,null,null,null,"",null,"",{"$f":"IF(N1234=\"\",\"\",DATEDIF(N1234,DATE(設定シート!$C$2,設定シート!$C$3,設定シート!$C$4),\"Y\"))","v":""},"","",null,null,""]
[1233,null,null,"",null,"0000000",null,"福島市",null,null,null,null,"",null,"",{"$f":"IF(N1235=\"\",\"\",DATEDIF(N1235,DATE(設定シート!$C$2,設定シート!$C$3,設定シート!$C$4),\"Y\"))","v":""},"","",null,null,""]
[1234,null,null,"",null,"0000000",null,"福島市",null,null,null,null,"",null,"",{"$f":"IF(N1236=\"\",\"\",DATEDIF(N1236,DATE(設定シート!$C$2,設定シート!$C$3,設定シート!$C$4),\"Y\"))","v":""},"","",null,null,""]
[1235,null,null,"",null,"0000000",null,"福島市",null,null,null,null,"",null,"",{"$f":"IF(N1237=\"\",\"\",DATEDIF(N1237,DATE(設定シート!$C$2,設定シート!$C$3,設定シート!$C$4),\"Y\"))","v":""},"","",null,null,""]
[1236,null,null,"",null,"0000000",null,"福島市",null,null,null,null,"",null,"",{"$f":"IF(N1238=\"\",\"\",DATEDIF(N1238,DATE(設定シート!$C$2,設定シート!$C$3,設定シート!$C$4),\"Y\"))","v":""},"","",null,null,""]
[1237,null,null,"",null,"0000000",null,"福島市",null,null,null,null,"",null,"",{"$f":"IF(N1239=\"\",\"\",DATEDIF(N1239,DATE(設定シート!$C$2,設定シート!$C$3,設定シート!$C$4),\"Y\"))","v":""},"","",null,null,""]
[1238,null,null,"",null,"0000000",null,"福島市",null,null,null,null,"",null,"",{"$f":"IF(N1240=\"\",\"\",DATEDIF(N1240,DATE(設定シート!$C$2,設定シート!$C$3,設定シート!$C$4),\"Y\"))","v":""},"","",null,null,""]
[1239,null,null,"",null,"0000000",null,"福島市",null,null,null,null,"",null,"",{"$f":"IF(N1241=\"\",\"\",DATEDIF(N1241,DATE(設定シート!$C$2,設定シート!$C$3,設定シート!$C$4),\"Y\"))","v":""},"","",null,null,""]
[1240,null,null,"",null,"0000000",null,"福島市",null,null,null,null,"",null,"",{"$f":"IF(N1242=\"\",\"\",DATEDIF(N1242,DATE(設定シート!$C$2,設定シート!$C$3,設定シート!$C$4),\"Y\"))","v":""},"","",null,null,""]
[1241,null,null,"",null,"0000000",null,"福島市",null,null,null,null,"",null,"",{"$f":"IF(N1243=\"\",\"\",DATEDIF(N1243,DATE(設定シート!$C$2,設定シート!$C$3,設定シート!$C$4),\"Y\"))","v":""},"","",null,null,""]
[1242,null,null,"",null,"0000000",null,"福島市",null,null,null,null,"",null,"",{"$f":"IF(N1244=\"\",\"\",DATEDIF(N1244,DATE(設定シート!$C$2,設定シート!$C$3,設定シート!$C$4),\"Y\"))","v":""},"","",null,null,""]
[1243,null,null,"",null,"0000000",null,"福島市",null,null,null,null,"",null,"",{"$f":"IF(N1245=\"\",\"\",DATEDIF(N1245,DATE(設定シート!$C$2,設定シート!$C$3,設定シート!$C$4),\"Y\"))","v":""},"","",null,null,""]
[1244,null,null,"",null,"0000000",null,"福島市",null,null,null,null,"",null,"",{"$f":"IF(N1246=\"\",\"\",DATEDIF(N1246,DATE(設定シート!$C$2,設定シート!$C$3,設定シート!$C$4),\"Y\"))","v":""},"","",null,null,""]
[1245,null,null,"",null,"0000000",null,"福島市",null,null,null,null,"",null,"",{"$f":"IF(N1247=\"\",\"\",DATEDIF(N1247,DATE(設定シート!$C$2,設定シート!$C$3,設定シート!$C$4),\"Y\"))","v":""},"","",null,null,""]
[1246,null,null,"",null,"0000000",null,"福島市",null,null,null,null,"",null,"",{"$f":"IF(N1248=\"\",\"\",DATEDIF(N1248,DATE(設定シート!$C$2,設定シート!$C$3,設定シート!$C$4),\"Y\"))","v":""},"","",null,null,""]
[1247,null,null,"",null,"0000000",null,"福島市",null,null,null,null,"",null,"",{"$f":"IF(N1249=\"\",\"\",DATEDIF(N1249,DATE(設定シート!$C$2,設定シート!$C$3,設定シート!$C$4),\"Y\"))","v":""},"","",null,null,""]
[1248,null,null,"",null,"0000000",null,"福島市",null,null,null,null,"",null,"",{"$f":"IF(N1250=\"\",\"\",DATEDIF(N1250,DATE(設定シート!$C$2,設定シート!$C$3,設定シート!$C$4),\"Y\"))","v":""},"","",null,null,""]
[1249,null,null,"",null,"0000000",null,"福島市",null,null,null,null,"",null,"",{"$f":"IF(N1251=\"\",\"\",DATEDIF(N1251,DATE(設定シート!$C$2,設定シート!$C$3,設定シート!$C$4),\"Y\"))","v":""},"","",null,null,""]
[1250,null,null,"",null,"0000000",null,"福島市",null,null,null,null,"",null,"",{"$f":"IF(N1252=\"\",\"\",DATEDIF(N1252,DATE(設定シート!$C$2,設定シート!$C$3,設定シート!$C$4),\"Y\"))","v":""},"","",null,null,""]
[1251,null,null,"",null,"0000000",null,"福島市",null,null,null,null,"",null,"",{"$f":"IF(N1253=\"\",\"\",DATEDIF(N1253,DATE(設定シート!$C$2,設定シート!$C$3,設定シート!$C$4),\"Y\"))","v":""},"","",null,null,""]
[1252,null,null,"",null,"0000000",null,"福島市",null,null,null,null,"",null,"",{"$f":"IF(N1254=\"\",\"\",DATEDIF(N1254,DATE(設定シート!$C$2,設定シート!$C$3,設定シート!$C$4),\"Y\"))","v":""},"","",null,null,""]
[1253,null,null,"",null,"0000000",null,"福島市",null,null,null,null,"",null,"",{"$f":"IF(N1255=\"\",\"\",DATEDIF(N1255,DATE(設定シート!$C$2,設定シート!$C$3,設定シート!$C$4),\"Y\"))","v":""},"","",null,null,""]
[1254,null,null,"",null,"0000000",null,"福島市",null,null,null,null,"",null,"",{"$f":"IF(N1256=\"\",\"\",DATEDIF(N1256,DATE(設定シート!$C$2,設定シート!$C$3,設定シート!$C$4),\"Y\"))","v":""},"","",null,null,""]
[1255,null,null,"",null,"0000000",null,"福島市",null,null,null,null,"",null,"",{"$f":"IF(N1257=\"\",\"\",DATEDIF(N1257,DATE(設定シート!$C$2,設定シート!$C$3,設定シート!$C$4),\"Y\"))","v":""},"","",null,null,""]
[1256,null,null,"",null,"0000000",null,"福島市",null,null,null,null,"",null,"",{"$f":"IF(N1258=\"\",\"\",DATEDIF(N1258,DATE(設定シート!$C$2,設定シート!$C$3,設定シート!$C$4),\"Y\"))","v":""},"","",null,null,""]
[1257,null,null,"",null,"0000000",null,"福島市",null,null,null,null,"",null,"",{"$f":"IF(N1259=\"\",\"\",DATEDIF(N1259,DATE(設定シート!$C$2,設定シート!$C$3,設定シート!$C$4),\"Y\"))","v":""},"","",null,null,""]
[1258,null,null,"",null,"0000000",null,"福島市",null,null,null,null,"",null,"",{"$f":"IF(N1260=\"\",\"\",DATEDIF(N1260,DATE(設定シート!$C$2,設定シート!$C$3,設定シート!$C$4),\"Y\"))","v":""},"","",null,null,""]
[1259,null,null,"",null,"0000000",null,"福島市",null,null,null,null,"",null,"",{"$f":"IF(N1261=\"\",\"\",DATEDIF(N1261,DATE(設定シート!$C$2,設定シート!$C$3,設定シート!$C$4),\"Y\"))","v":""},"","",null,null,""]
[1260,null,null,"",null,"0000000",null,"福島市",null,null,null,null,"",null,"",{"$f":"IF(N1262=\"\",\"\",DATEDIF(N1262,DATE(設定シート!$C$2,設定シート!$C$3,設定シート!$C$4),\"Y\"))","v":""},"","",null,null,""]
[1261,null,null,"",null,"0000000",null,"福島市",null,null,null,null,"",null,"",{"$f":"IF(N1263=\"\",\"\",DATEDIF(N1263,DATE(設定シート!$C$2,設定シート!$C$3,設定シート!$C$4),\"Y\"))","v":""},"","",null,null,""]
[1262,null,null,"",null,"0000000",null,"福島市",null,null,null,null,"",null,"",{"$f":"IF(N1264=\"\",\"\",DATEDIF(N1264,DATE(設定シート!$C$2,設定シート!$C$3,設定シート!$C$4),\"Y\"))","v":""},"","",null,null,""]
[1263,null,null,"",null,"0000000",null,"福島市",null,null,null,null,"",null,"",{"$f":"IF(N1265=\"\",\"\",DATEDIF(N1265,DATE(設定シート!$C$2,設定シート!$C$3,設定シート!$C$4),\"Y\"))","v":""},"","",null,null,""]
[1264,null,null,"",null,"0000000",null,"福島市",null,null,null,null,"",null,"",{"$f":"IF(N1266=\"\",\"\",DATEDIF(N1266,DATE(設定シート!$C$2,設定シート!$C$3,設定シート!$C$4),\"Y\"))","v":""},"","",null,null,""]
[1265,null,null,"",null,"0000000",null,"福島市",null,null,null,null,"",null,"",{"$f":"IF(N1267=\"\",\"\",DATEDIF(N1267,DATE(設定シート!$C$2,設定シート!$C$3,設定シート!$C$4),\"Y\"))","v":""},"","",null,null,""]
[1266,null,null,"",null,"0000000",null,"福島市",null,null,null,null,"",null,"",{"$f":"IF(N1268=\"\",\"\",DATEDIF(N1268,DATE(設定シート!$C$2,設定シート!$C$3,設定シート!$C$4),\"Y\"))","v":""},"","",null,null,""]
[1267,null,null,"",null,"0000000",null,"福島市",null,null,null,null,"",null,"",{"$f":"IF(N1269=\"\",\"\",DATEDIF(N1269,DATE(設定シート!$C$2,設定シート!$C$3,設定シート!$C$4),\"Y\"))","v":""},"","",null,null,""]
[1268,null,null,"",null,"0000000",null,"福島市",null,null,null,null,"",null,"",{"$f":"IF(N1270=\"\",\"\",DATEDIF(N1270,DATE(設定シート!$C$2,設定シート!$C$3,設定シート!$C$4),\"Y\"))","v":""},"","",null,null,""]
[1269,null,null,"",null,"0000000",null,"福島市",null,null,null,null,"",null,"",{"$f":"IF(N1271=\"\",\"\",DATEDIF(N1271,DATE(設定シート!$C$2,設定シート!$C$3,設定シート!$C$4),\"Y\"))","v":""},"","",null,null,""]
[1270,null,null,"",null,"0000000",null,"福島市",null,null,null,null,"",null,"",{"$f":"IF(N1272=\"\",\"\",DATEDIF(N1272,DATE(設定シート!$C$2,設定シート!$C$3,設定シート!$C$4),\"Y\"))","v":""},"","",null,null,""]
[1271,null,null,"",null,"0000000",null,"福島市",null,null,null,null,"",null,"",{"$f":"IF(N1273=\"\",\"\",DATEDIF(N1273,DATE(設定シート!$C$2,設定シート!$C$3,設定シート!$C$4),\"Y\"))","v":""},"","",null,null,""]
[1272,null,null,"",null,"0000000",null,"福島市",null,null,null,null,"",null,"",{"$f":"IF(N1274=\"\",\"\",DATEDIF(N1274,DATE(設定シート!$C$2,設定シート!$C$3,設定シート!$C$4),\"Y\"))","v":""},"","",null,null,""]
[1273,null,null,"",null,"0000000",null,"福島市",null,null,null,null,"",null,"",{"$f":"IF(N1275=\"\",\"\",DATEDIF(N1275,DATE(設定シート!$C$2,設定シート!$C$3,設定シート!$C$4),\"Y\"))","v":""},"","",null,null,""]
[1274,null,null,"",null,"0000000",null,"福島市",null,null,null,null,"",null,"",{"$f":"IF(N1276=\"\",\"\",DATEDIF(N1276,DATE(設定シート!$C$2,設定シート!$C$3,設定シート!$C$4),\"Y\"))","v":""},"","",null,null,""]
[1275,null,null,"",null,"0000000",null,"福島市",null,null,null,null,"",null,"",{"$f":"IF(N1277=\"\",\"\",DATEDIF(N1277,DATE(設定シート!$C$2,設定シート!$C$3,設定シート!$C$4),\"Y\"))","v":""},"","",null,null,""]
[1276,null,null,"",null,"0000000",null,"福島市",null,null,null,null,"",null,"",{"$f":"IF(N1278=\"\",\"\",DATEDIF(N1278,DATE(設定シート!$C$2,設定シート!$C$3,設定シート!$C$4),\"Y\"))","v":""},"","",null,null,""]
[1277,null,null,"",null,"0000000",null,"福島市",null,null,null,null,"",null,"",{"$f":"IF(N1279=\"\",\"\",DATEDIF(N1279,DATE(設定シート!$C$2,設定シート!$C$3,設定シート!$C$4),\"Y\"))","v":""},"","",null,null,""]
[1278,null,null,"",null,"0000000",null,"福島市",null,null,null,null,"",null,"",{"$f":"IF(N1280=\"\",\"\",DATEDIF(N1280,DATE(設定シート!$C$2,設定シート!$C$3,設定シート!$C$4),\"Y\"))","v":""},"","",null,null,""]
[1279,null,null,"",null,"0000000",null,"福島市",null,null,null,null,"",null,"",{"$f":"IF(N1281=\"\",\"\",DATEDIF(N1281,DATE(設定シート!$C$2,設定シート!$C$3,設定シート!$C$4),\"Y\"))","v":""},"","",null,null,""]
[1280,null,null,"",null,"0000000",null,"福島市",null,null,null,null,"",null,"",{"$f":"IF(N1282=\"\",\"\",DATEDIF(N1282,DATE(設定シート!$C$2,設定シート!$C$3,設定シート!$C$4),\"Y\"))","v":""},"","",null,null,""]
[1281,null,null,{"$f":"PHONETIC(C1283)","v":""},null,{"$f":"TEXT(B1283,\"0000000\")","v":"0000000"},null,"福島市",null,null,null,null,{"$f":"IF(L1283=1,\"男\",IF(L1283=2,\"女\",\"\"))","v":""},null,{"$f":"IF(OR(E1283=\"\",N1283=\"\"),\"\",DATEDIF(N1283,E1283,\"Y\"))","v":""},{"$f":"IF(N1283=\"\",\"\",DATEDIF(N1283,DATE(設定シート!$C$2,設定シート!$C$3,設定シート!$C$4),\"Y\"))","v":""},{"$f":"IF(P1283=\"\",\"\",IF(P1283<=69,1,IF(P1283>=70,2,\"\")))","v":""},{"$f":"IF(OR(Q1283=1,Q1283=\"1\"),\"有料\",IF(OR(Q1283=2,Q1283=\"2\"),\"70・後\",IF(Q1283=3,\"生保\",IF(Q1283=4,\"非課税\",\"\"))))","v":""},null,null,{"$f":"IF(AND(L1283=2,P1283>=60),\"一単独\",IF(AND(L1283=2,P1283>=50,P1283<60),\"一併用\",IF(AND(L1283=2,P1283>=40,P1283<50),\"二併用\",\"\")))","v":""}]
[{"$f":"ROW()-2","v":1282},null,null,"",null,"0000000",null,"福島市",null,null,null,null,"",null,"",{"$f":"IF(N1284=\"\",\"\",DATEDIF(N1284,DATE(設定シート!$C$2,設定シート!$C$3,設定シート!$C$4),\"Y\"))","v":""},"","",null,null,""]
[1283,null,null,"",null,"0000000",null,"福島市",null,null,null,null,"",null,"",{"$f":"IF(N1285=\"\",\"\",DATEDIF(N1285,DATE(設定シート!$C$2,設定シート!$C$3,設定シート!$C$4),\"Y\"))","v":""},"","",null,null,""]
[1284,null,null,"",null,"0000000",null,"福島市",null,null,null,null,"",null,"",{"$f":"IF(N1286=\"\",\"\",DATEDIF(N1286,DATE(設定シート!$C$2,設定シート!$C$3,設定シート!$C$4),\"Y\"))","v":""},"","",null,null,""]
[1285,null,null,"",null,"0000000",null,"福島市",null,null,null,null,"",null,"",{"$f":"IF(N1287=\"\",\"\",DATEDIF(N1287,DATE(設定シート!$C$2,設定シート!$C$3,設定シート!$C$4),\"Y\"))","v":""},"","",null,null,""]
[1286,null,null,"",null,"0000000",null,"福島市",null,null,null,null,"",null,"",{"$f":"IF(N1288=\"\",\"\",DATEDIF(N1288,DATE(設定シート!$C$2,設定シート!$C$3,設定シート!$C$4),\"Y\"))","v":""},"","",null,null,""]
[1287,null,null,"",null,"0000000",null,"福島市",null,null,null,null,"",null,"",{"$f":"IF(N1289=\"\",\"\",DATEDIF(N1289,DATE(設定シート!$C$2,設定シート!$C$3,設定シート!$C$4),\"Y\"))","v":""},"","",null,null,""]
[1288,null,null,"",null,"0000000",null,"福島市",null,null,null,null,"",null,"",{"$f":"IF(N1290=\"\",\"\",DATEDIF(N1290,DATE(設定シート!$C$2,設定シート!$C$3,設定シート!$C$4),\"Y\"))","v":""},"","",null,null,""]
[1289,null,null,"",null,"0000000",null,"福島市",null,null,null,null,"",null,"",{"$f":"IF(N1291=\"\",\"\",DATEDIF(N1291,DATE(設定シート!$C$2,設定シート!$C$3,設定シート!$C$4),\"Y\"))","v":""},"","",null,null,""]
[1290,null,null,"",null,"0000000",null,"福島市",null,null,null,null,"",null,"",{"$f":"IF(N1292=\"\",\"\",DATEDIF(N1292,DATE(設定シート!$C$2,設定シート!$C$3,設定シート!$C$4),\"Y\"))","v":""},"","",null,null,""]
[1291,null,null,"",null,"0000000",null,"福島市",null,null,null,null,"",null,"",{"$f":"IF(N1293=\"\",\"\",DATEDIF(N1293,DATE(設定シート!$C$2,設定シート!$C$3,設定シート!$C$4),\"Y\"))","v":""},"","",null,null,""]
[1292,null,null,"",null,"0000000",null,"福島市",null,null,null,null,"",null,"",{"$f":"IF(N1294=\"\",\"\",DATEDIF(N1294,DATE(設定シート!$C$2,設定シート!$C$3,設定シート!$C$4),\"Y\"))","v":""},"","",null,null,""]
[1293,null,null,"",null,"0000000",null,"福島市",null,null,null,null,"",null,"",{"$f":"IF(N1295=\"\",\"\",DATEDIF(N1295,DATE(設定シート!$C$2,設定シート!$C$3,設定シート!$C$4),\"Y\"))","v":""},"","",null,null,""]
[1294,null,null,"",null,"0000000",null,"福島市",null,null,null,null,"",null,"",{"$f":"IF(N1296=\"\",\"\",DATEDIF(N1296,DATE(設定シート!$C$2,設定シート!$C$3,設定シート!$C$4),\"Y\"))","v":""},"","",null,null,""]
[1295,null,null,"",null,"0000000",null,"福島市",null,null,null,null,"",null,"",{"$f":"IF(N1297=\"\",\"\",DATEDIF(N1297,DATE(設定シート!$C$2,設定シート!$C$3,設定シート!$C$4),\"Y\"))","v":""},"","",null,null,""]
[1296,null,null,"",null,"0000000",null,"福島市",null,null,null,null,"",null,"",{"$f":"IF(N1298=\"\",\"\",DATEDIF(N1298,DATE(設定シート!$C$2,設定シート!$C$3,設定シート!$C$4),\"Y\"))","v":""},"","",null,null,""]
[1297,null,null,"",null,"0000000",null,"福島市",null,null,null,null,"",null,"",{"$f":"IF(N1299=\"\",\"\",DATEDIF(N1299,DATE(設定シート!$C$2,設定シート!$C$3,設定シート!$C$4),\"Y\"))","v":""},"","",null,null,""]
[1298,null,null,"",null,"0000000",null,"福島市",null,null,null,null,"",null,"",{"$f":"IF(N1300=\"\",\"\",DATEDIF(N1300,DATE(設定シート!$C$2,設定シート!$C$3,設定シート!$C$4),\"Y\"))","v":""},"","",null,null,""]
[1299,null,null,"",null,"0000000",null,"福島市",null,null,null,null,"",null,"",{"$f":"IF(N1301=\"\",\"\",DATEDIF(N1301,DATE(設定シート!$C$2,設定シート!$C$3,設定シート!$C$4),\"Y\"))","v":""},"","",null,null,""]
[1300,null,null,"",null,"0000000",null,"福島市",null,null,null,null,"",null,"",{"$f":"IF(N1302=\"\",\"\",DATEDIF(N1302,DATE(設定シート!$C$2,設定シート!$C$3,設定シート!$C$4),\"Y\"))","v":""},"","",null,null,""]
[1301,null,null,"",null,"0000000",null,"福島市",null,null,null,null,"",null,"",{"$f":"IF(N1303=\"\",\"\",DATEDIF(N1303,DATE(設定シート!$C$2,設定シート!$C$3,設定シート!$C$4),\"Y\"))","v":""},"","",null,null,""]
[1302,null,null,"",null,"0000000",null,"福島市",null,null,null,null,"",null,"",{"$f":"IF(N1304=\"\",\"\",DATEDIF(N1304,DATE(設定シート!$C$2,設定シート!$C$3,設定シート!$C$4),\"Y\"))","v":""},"","",null,null,""]
[1303,null,null,"",null,"0000000",null,"福島市",null,null,null,null,"",null,"",{"$f":"IF(N1305=\"\",\"\",DATEDIF(N1305,DATE(設定シート!$C$2,設定シート!$C$3,設定シート!$C$4),\"Y\"))","v":""},"","",null,null,""]
[1304,null,null,"",null,"0000000",null,"福島市",null,null,null,null,"",null,"",{"$f":"IF(N1306=\"\",\"\",DATEDIF(N1306,DATE(設定シート!$C$2,設定シート!$C$3,設定シート!$C$4),\"Y\"))","v":""},"","",null,null,""]
[1305,null,null,"",null,"0000000",null,"福島市",null,null,null,null,"",null,"",{"$f":"IF(N1307=\"\",\"\",DATEDIF(N1307,DATE(設定シート!$C$2,設定シート!$C$3,設定シート!$C$4),\"Y\"))","v":""},"","",null,null,""]
[1306,null,null,"",null,"0000000",null,"福島市",null,null,null,null,"",null,"",{"$f":"IF(N1308=\"\",\"\",DATEDIF(N1308,DATE(設定シート!$C$2,設定シート!$C$3,設定シート!$C$4),\"Y\"))","v":""},"","",null,null,""]
[1307,null,null,"",null,"0000000",null,"福島市",null,null,null,null,"",null,"",{"$f":"IF(N1309=\"\",\"\",DATEDIF(N1309,DATE(設定シート!$C$2,設定シート!$C$3,設定シート!$C$4),\"Y\"))","v":""},"","",null,null,""]
[1308,null,null,"",null,"0000000",null,"福島市",null,null,null,null,"",null,"",{"$f":"IF(N1310=\"\",\"\",DATEDIF(N1310,DATE(設定シート!$C$2,設定シート!$C$3,設定シート!$C$4),\"Y\"))","v":""},"","",null,null,""]
[1309,null,null,"",null,"0000000",null,"福島市",null,null,null,null,"",null,"",{"$f":"IF(N1311=\"\",\"\",DATEDIF(N1311,DATE(設定シート!$C$2,設定シート!$C$3,設定シート!$C$4),\"Y\"))","v":""},"","",null,null,""]
[1310,null,null,"",null,"0000000",null,"福島市",null,null,null,null,"",null,"",{"$f":"IF(N1312=\"\",\"\",DATEDIF(N1312,DATE(設定シート!$C$2,設定シート!$C$3,設定シート!$C$4),\"Y\"))","v":""},"","",null,null,""]
[1311,null,null,"",null,"0000000",null,"福島市",null,null,null,null,"",null,"",{"$f":"IF(N1313=\"\",\"\",DATEDIF(N1313,DATE(設定シート!$C$2,設定シート!$C$3,設定シート!$C$4),\"Y\"))","v":""},"","",null,null,""]
[1312,null,null,"",null,"0000000",null,"福島市",null,null,null,null,"",null,"",{"$f":"IF(N1314=\"\",\"\",DATEDIF(N1314,DATE(設定シート!$C$2,設定シート!$C$3,設定シート!$C$4),\"Y\"))","v":""},"","",null,null,""]
[1313,null,null,"",null,"0000000",null,"福島市",null,null,null,null,"",null,"",{"$f":"IF(N1315=\"\",\"\",DATEDIF(N1315,DATE(設定シート!$C$2,設定シート!$C$3,設定シート!$C$4),\"Y\"))","v":""},"","",null,null,""]
[1314,null,null,"",null,"0000000",null,"福島市",null,null,null,null,"",null,"",{"$f":"IF(N1316=\"\",\"\",DATEDIF(N1316,DATE(設定シート!$C$2,設定シート!$C$3,設定シート!$C$4),\"Y\"))","v":""},"","",null,null,""]
[1315,null,null,"",null,"0000000",null,"福島市",null,null,null,null,"",null,"",{"$f":"IF(N1317=\"\",\"\",DATEDIF(N1317,DATE(設定シート!$C$2,設定シート!$C$3,設定シート!$C$4),\"Y\"))","v":""},"","",null,null,""]
[1316,null,null,"",null,"0000000",null,"福島市",null,null,null,null,"",null,"",{"$f":"IF(N1318=\"\",\"\",DATEDIF(N1318,DATE(設定シート!$C$2,設定シート!$C$3,設定シート!$C$4),\"Y\"))","v":""},"","",null,null,""]
[1317,null,null,"",null,"0000000",null,"福島市",null,null,null,null,"",null,"",{"$f":"IF(N1319=\"\",\"\",DATEDIF(N1319,DATE(設定シート!$C$2,設定シート!$C$3,設定シート!$C$4),\"Y\"))","v":""},"","",null,null,""]
[1318,null,null,"",null,"0000000",null,"福島市",null,null,null,null,"",null,"",{"$f":"IF(N1320=\"\",\"\",DATEDIF(N1320,DATE(設定シート!$C$2,設定シート!$C$3,設定シート!$C$4),\"Y\"))","v":""},"","",null,null,""]
[1319,null,null,"",null,"0000000",null,"福島市",null,null,null,null,"",null,"",{"$f":"IF(N1321=\"\",\"\",DATEDIF(N1321,DATE(設定シート!$C$2,設定シート!$C$3,設定シート!$C$4),\"Y\"))","v":""},"","",null,null,""]
[1320,null,null,"",null,"0000000",null,"福島市",null,null,null,null,"",null,"",{"$f":"IF(N1322=\"\",\"\",DATEDIF(N1322,DATE(設定シート!$C$2,設定シート!$C$3,設定シート!$C$4),\"Y\"))","v":""},"","",null,null,""]
[1321,null,null,"",null,"0000000",null,"福島市",null,null,null,null,"",null,"",{"$f":"IF(N1323=\"\",\"\",DATEDIF(N1323,DATE(設定シート!$C$2,設定シート!$C$3,設定シート!$C$4),\"Y\"))","v":""},"","",null,null,""]
[1322,null,null,"",null,"0000000",null,"福島市",null,null,null,null,"",null,"",{"$f":"IF(N1324=\"\",\"\",DATEDIF(N1324,DATE(設定シート!$C$2,設定シート!$C$3,設定シート!$C$4),\"Y\"))","v":""},"","",null,null,""]
[1323,null,null,"",null,"0000000",null,"福島市",null,null,null,null,"",null,"",{"$f":"IF(N1325=\"\",\"\",DATEDIF(N1325,DATE(設定シート!$C$2,設定シート!$C$3,設定シート!$C$4),\"Y\"))","v":""},"","",null,null,""]
[1324,null,null,"",null,"0000000",null,"福島市",null,null,null,null,"",null,"",{"$f":"IF(N1326=\"\",\"\",DATEDIF(N1326,DATE(設定シート!$C$2,設定シート!$C$3,設定シート!$C$4),\"Y\"))","v":""},"","",null,null,""]
[1325,null,null,"",null,"0000000",null,"福島市",null,null,null,null,"",null,"",{"$f":"IF(N1327=\"\",\"\",DATEDIF(N1327,DATE(設定シート!$C$2,設定シート!$C$3,設定シート!$C$4),\"Y\"))","v":""},"","",null,null,""]
[1326,null,null,"",null,"0000000",null,"福島市",null,null,null,null,"",null,"",{"$f":"IF(N1328=\"\",\"\",DATEDIF(N1328,DATE(設定シート!$C$2,設定シート!$C$3,設定シート!$C$4),\"Y\"))","v":""},"","",null,null,""]
[1327,null,null,"",null,"0000000",null,"福島市",null,null,null,null,"",null,"",{"$f":"IF(N1329=\"\",\"\",DATEDIF(N1329,DATE(設定シート!$C$2,設定シート!$C$3,設定シート!$C$4),\"Y\"))","v":""},"","",null,null,""]
[1328,null,null,"",null,"0000000",null,"福島市",null,null,null,null,"",null,"",{"$f":"IF(N1330=\"\",\"\",DATEDIF(N1330,DATE(設定シート!$C$2,設定シート!$C$3,設定シート!$C$4),\"Y\"))","v":""},"","",null,null,""]
[1329,null,null,"",null,"0000000",null,"福島市",null,null,null,null,"",null,"",{"$f":"IF(N1331=\"\",\"\",DATEDIF(N1331,DATE(設定シート!$C$2,設定シート!$C$3,設定シート!$C$4),\"Y\"))","v":""},"","",null,null,""]
[1330,null,null,"",null,"0000000",null,"福島市",null,null,null,null,"",null,"",{"$f":"IF(N1332=\"\",\"\",DATEDIF(N1332,DATE(設定シート!$C$2,設定シート!$C$3,設定シート!$C$4),\"Y\"))","v":""},"","",null,null,""]
[1331,null,null,"",null,"0000000",null,"福島市",null,null,null,null,"",null,"",{"$f":"IF(N1333=\"\",\"\",DATEDIF(N1333,DATE(設定シート!$C$2,設定シート!$C$3,設定シート!$C$4),\"Y\"))","v":""},"","",null,null,""]
[1332,null,null,"",null,"0000000",null,"福島市",null,null,null,null,"",null,"",{"$f":"IF(N1334=\"\",\"\",DATEDIF(N1334,DATE(設定シート!$C$2,設定シート!$C$3,設定シート!$C$4),\"Y\"))","v":""},"","",null,null,""]
[1333,null,null,"",null,"0000000",null,"福島市",null,null,null,null,"",null,"",{"$f":"IF(N1335=\"\",\"\",DATEDIF(N1335,DATE(設定シート!$C$2,設定シート!$C$3,設定シート!$C$4),\"Y\"))","v":""},"","",null,null,""]
[1334,null,null,"",null,"0000000",null,"福島市",null,null,null,null,"",null,"",{"$f":"IF(N1336=\"\",\"\",DATEDIF(N1336,DATE(設定シート!$C$2,設定シート!$C$3,設定シート!$C$4),\"Y\"))","v":""},"","",null,null,""]
[1335,null,null,"",null,"0000000",null,"福島市",null,null,null,null,"",null,"",{"$f":"IF(N1337=\"\",\"\",DATEDIF(N1337,DATE(設定シート!$C$2,設定シート!$C$3,設定シート!$C$4),\"Y\"))","v":""},"","",null,null,""]
[1336,null,null,"",null,"0000000",null,"福島市",null,null,null,null,"",null,"",{"$f":"IF(N1338=\"\",\"\",DATEDIF(N1338,DATE(設定シート!$C$2,設定シート!$C$3,設定シート!$C$4),\"Y\"))","v":""},"","",null,null,""]
[1337,null,null,"",null,"0000000",null,"福島市",null,null,null,null,"",null,"",{"$f":"IF(N1339=\"\",\"\",DATEDIF(N1339,DATE(設定シート!$C$2,設定シート!$C$3,設定シート!$C$4),\"Y\"))","v":""},"","",null,null,""]
[1338,null,null,"",null,"0000000",null,"福島市",null,null,null,null,"",null,"",{"$f":"IF(N1340=\"\",\"\",DATEDIF(N1340,DATE(設定シート!$C$2,設定シート!$C$3,設定シート!$C$4),\"Y\"))","v":""},"","",null,null,""]
[1339,null,null,"",null,"0000000",null,"福島市",null,null,null,null,"",null,"",{"$f":"IF(N1341=\"\",\"\",DATEDIF(N1341,DATE(設定シート!$C$2,設定シート!$C$3,設定シート!$C$4),\"Y\"))","v":""},"","",null,null,""]
[1340,null,null,"",null,"0000000",null,"福島市",null,null,null,null,"",null,"",{"$f":"IF(N1342=\"\",\"\",DATEDIF(N1342,DATE(設定シート!$C$2,設定シート!$C$3,設定シート!$C$4),\"Y\"))","v":""},"","",null,null,""]
[1341,null,null,"",null,"0000000",null,"福島市",null,null,null,null,"",null,"",{"$f":"IF(N1343=\"\",\"\",DATEDIF(N1343,DATE(設定シート!$C$2,設定シート!$C$3,設定シート!$C$4),\"Y\"))","v":""},"","",null,null,""]
[1342,null,null,"",null,"0000000",null,"福島市",null,null,null,null,"",null,"",{"$f":"IF(N1344=\"\",\"\",DATEDIF(N1344,DATE(設定シート!$C$2,設定シート!$C$3,設定シート!$C$4),\"Y\"))","v":""},"","",null,null,""]
[1343,null,null,"",null,"0000000",null,"福島市",null,null,null,null,"",null,"",{"$f":"IF(N1345=\"\",\"\",DATEDIF(N1345,DATE(設定シート!$C$2,設定シート!$C$3,設定シート!$C$4),\"Y\"))","v":""},"","",null,null,""]
[1344,null,null,"",null,"0000000",null,"福島市",null,null,null,null,"",null,"",{"$f":"IF(N1346=\"\",\"\",DATEDIF(N1346,DATE(設定シート!$C$2,設定シート!$C$3,設定シート!$C$4),\"Y\"))","v":""},"","",null,null,""]
[1345,null,null,{"$f":"PHONETIC(C1347)","v":""},null,{"$f":"TEXT(B1347,\"0000000\")","v":"0000000"},null,"福島市",null,null,null,null,{"$f":"IF(L1347=1,\"男\",IF(L1347=2,\"女\",\"\"))","v":""},null,{"$f":"IF(OR(E1347=\"\",N1347=\"\"),\"\",DATEDIF(N1347,E1347,\"Y\"))","v":""},{"$f":"IF(N1347=\"\",\"\",DATEDIF(N1347,DATE(設定シート!$C$2,設定シート!$C$3,設定シート!$C$4),\"Y\"))","v":""},{"$f":"IF(P1347=\"\",\"\",IF(P1347<=69,1,IF(P1347>=70,2,\"\")))","v":""},{"$f":"IF(OR(Q1347=1,Q1347=\"1\"),\"有料\",IF(OR(Q1347=2,Q1347=\"2\"),\"70・後\",IF(Q1347=3,\"生保\",IF(Q1347=4,\"非課税\",\"\"))))","v":""},null,null,{"$f":"IF(AND(L1347=2,P1347>=60),\"一単独\",IF(AND(L1347=2,P1347>=50,P1347<60),\"一併用\",IF(AND(L1347=2,P1347>=40,P1347<50),\"二併用\",\"\")))","v":""}]
[{"$f":"ROW()-2","v":1346},null,null,"",null,"0000000",null,"福島市",null,null,null,null,"",null,"",{"$f":"IF(N1348=\"\",\"\",DATEDIF(N1348,DATE(設定シート!$C$2,設定シート!$C$3,設定シート!$C$4),\"Y\"))","v":""},"","",null,null,""]
[1347,null,null,"",null,"0000000",null,"福島市",null,null,null,null,"",null,"",{"$f":"IF(N1349=\"\",\"\",DATEDIF(N1349,DATE(設定シート!$C$2,設定シート!$C$3,設定シート!$C$4),\"Y\"))","v":""},"","",null,null,""]
[1348,null,null,"",null,"0000000",null,"福島市",null,null,null,null,"",null,"",{"$f":"IF(N1350=\"\",\"\",DATEDIF(N1350,DATE(設定シート!$C$2,設定シート!$C$3,設定シート!$C$4),\"Y\"))","v":""},"","",null,null,""]
[1349,null,null,"",null,"0000000",null,"福島市",null,null,null,null,"",null,"",{"$f":"IF(N1351=\"\",\"\",DATEDIF(N1351,DATE(設定シート!$C$2,設定シート!$C$3,設定シート!$C$4),\"Y\"))","v":""},"","",null,null,""]
[1350,null,null,"",null,"0000000",null,"福島市",null,null,null,null,"",null,"",{"$f":"IF(N1352=\"\",\"\",DATEDIF(N1352,DATE(設定シート!$C$2,設定シート!$C$3,設定シート!$C$4),\"Y\"))","v":""},"","",null,null,""]
[1351,null,null,"",null,"0000000",null,"福島市",null,null,null,null,"",null,"",{"$f":"IF(N1353=\"\",\"\",DATEDIF(N1353,DATE(設定シート!$C$2,設定シート!$C$3,設定シート!$C$4),\"Y\"))","v":""},"","",null,null,""]
[1352,null,null,"",null,"0000000",null,"福島市",null,null,null,null,"",null,"",{"$f":"IF(N1354=\"\",\"\",DATEDIF(N1354,DATE(設定シート!$C$2,設定シート!$C$3,設定シート!$C$4),\"Y\"))","v":""},"","",null,null,""]
[1353,null,null,"",null,"0000000",null,"福島市",null,null,null,null,"",null,"",{"$f":"IF(N1355=\"\",\"\",DATEDIF(N1355,DATE(設定シート!$C$2,設定シート!$C$3,設定シート!$C$4),\"Y\"))","v":""},"","",null,null,""]
[1354,null,null,"",null,"0000000",null,"福島市",null,null,null,null,"",null,"",{"$f":"IF(N1356=\"\",\"\",DATEDIF(N1356,DATE(設定シート!$C$2,設定シート!$C$3,設定シート!$C$4),\"Y\"))","v":""},"","",null,null,""]
[1355,null,null,"",null,"0000000",null,"福島市",null,null,null,null,"",null,"",{"$f":"IF(N1357=\"\",\"\",DATEDIF(N1357,DATE(設定シート!$C$2,設定シート!$C$3,設定シート!$C$4),\"Y\"))","v":""},"","",null,null,""]
[1356,null,null,"",null,"0000000",null,"福島市",null,null,null,null,"",null,"",{"$f":"IF(N1358=\"\",\"\",DATEDIF(N1358,DATE(設定シート!$C$2,設定シート!$C$3,設定シート!$C$4),\"Y\"))","v":""},"","",null,null,""]
[1357,null,null,"",null,"0000000",null,"福島市",null,null,null,null,"",null,"",{"$f":"IF(N1359=\"\",\"\",DATEDIF(N1359,DATE(設定シート!$C$2,設定シート!$C$3,設定シート!$C$4),\"Y\"))","v":""},"","",null,null,""]
[1358,null,null,"",null,"0000000",null,"福島市",null,null,null,null,"",null,"",{"$f":"IF(N1360=\"\",\"\",DATEDIF(N1360,DATE(設定シート!$C$2,設定シート!$C$3,設定シート!$C$4),\"Y\"))","v":""},"","",null,null,""]
[1359,null,null,"",null,"0000000",null,"福島市",null,null,null,null,"",null,"",{"$f":"IF(N1361=\"\",\"\",DATEDIF(N1361,DATE(設定シート!$C$2,設定シート!$C$3,設定シート!$C$4),\"Y\"))","v":""},"","",null,null,""]
[1360,null,null,"",null,"0000000",null,"福島市",null,null,null,null,"",null,"",{"$f":"IF(N1362=\"\",\"\",DATEDIF(N1362,DATE(設定シート!$C$2,設定シート!$C$3,設定シート!$C$4),\"Y\"))","v":""},"","",null,null,""]
[1361,null,null,"",null,"0000000",null,"福島市",null,null,null,null,"",null,"",{"$f":"IF(N1363=\"\",\"\",DATEDIF(N1363,DATE(設定シート!$C$2,設定シート!$C$3,設定シート!$C$4),\"Y\"))","v":""},"","",null,null,""]
[1362,null,null,"",null,"0000000",null,"福島市",null,null,null,null,"",null,"",{"$f":"IF(N1364=\"\",\"\",DATEDIF(N1364,DATE(設定シート!$C$2,設定シート!$C$3,設定シート!$C$4),\"Y\"))","v":""},"","",null,null,""]
[1363,null,null,"",null,"0000000",null,"福島市",null,null,null,null,"",null,"",{"$f":"IF(N1365=\"\",\"\",DATEDIF(N1365,DATE(設定シート!$C$2,設定シート!$C$3,設定シート!$C$4),\"Y\"))","v":""},"","",null,null,""]
[1364,null,null,"",null,"0000000",null,"福島市",null,null,null,null,"",null,"",{"$f":"IF(N1366=\"\",\"\",DATEDIF(N1366,DATE(設定シート!$C$2,設定シート!$C$3,設定シート!$C$4),\"Y\"))","v":""},"","",null,null,""]
[1365,null,null,"",null,"0000000",null,"福島市",null,null,null,null,"",null,"",{"$f":"IF(N1367=\"\",\"\",DATEDIF(N1367,DATE(設定シート!$C$2,設定シート!$C$3,設定シート!$C$4),\"Y\"))","v":""},"","",null,null,""]
[1366,null,null,"",null,"0000000",null,"福島市",null,null,null,null,"",null,"",{"$f":"IF(N1368=\"\",\"\",DATEDIF(N1368,DATE(設定シート!$C$2,設定シート!$C$3,設定シート!$C$4),\"Y\"))","v":""},"","",null,null,""]
[1367,null,null,"",null,"0000000",null,"福島市",null,null,null,null,"",null,"",{"$f":"IF(N1369=\"\",\"\",DATEDIF(N1369,DATE(設定シート!$C$2,設定シート!$C$3,設定シート!$C$4),\"Y\"))","v":""},"","",null,null,""]
[1368,null,null,"",null,"0000000",null,"福島市",null,null,null,null,"",null,"",{"$f":"IF(N1370=\"\",\"\",DATEDIF(N1370,DATE(設定シート!$C$2,設定シート!$C$3,設定シート!$C$4),\"Y\"))","v":""},"","",null,null,""]
[1369,null,null,"",null,"0000000",null,"福島市",null,null,null,null,"",null,"",{"$f":"IF(N1371=\"\",\"\",DATEDIF(N1371,DATE(設定シート!$C$2,設定シート!$C$3,設定シート!$C$4),\"Y\"))","v":""},"","",null,null,""]
[1370,null,null,"",null,"0000000",null,"福島市",null,null,null,null,"",null,"",{"$f":"IF(N1372=\"\",\"\",DATEDIF(N1372,DATE(設定シート!$C$2,設定シート!$C$3,設定シート!$C$4),\"Y\"))","v":""},"","",null,null,""]
[1371,null,null,"",null,"0000000",null,"福島市",null,null,null,null,"",null,"",{"$f":"IF(N1373=\"\",\"\",DATEDIF(N1373,DATE(設定シート!$C$2,設定シート!$C$3,設定シート!$C$4),\"Y\"))","v":""},"","",null,null,""]
[1372,null,null,"",null,"0000000",null,"福島市",null,null,null,null,"",null,"",{"$f":"IF(N1374=\"\",\"\",DATEDIF(N1374,DATE(設定シート!$C$2,設定シート!$C$3,設定シート!$C$4),\"Y\"))","v":""},"","",null,null,""]
[1373,null,null,"",null,"0000000",null,"福島市",null,null,null,null,"",null,"",{"$f":"IF(N1375=\"\",\"\",DATEDIF(N1375,DATE(設定シート!$C$2,設定シート!$C$3,設定シート!$C$4),\"Y\"))","v":""},"","",null,null,""]
[1374,null,null,"",null,"0000000",null,"福島市",null,null,null,null,"",null,"",{"$f":"IF(N1376=\"\",\"\",DATEDIF(N1376,DATE(設定シート!$C$2,設定シート!$C$3,設定シート!$C$4),\"Y\"))","v":""},"","",null,null,""]
[1375,null,null,"",null,"0000000",null,"福島市",null,null,null,null,"",null,"",{"$f":"IF(N1377=\"\",\"\",DATEDIF(N1377,DATE(設定シート!$C$2,設定シート!$C$3,設定シート!$C$4),\"Y\"))","v":""},"","",null,null,""]
[1376,null,null,"",null,"0000000",null,"福島市",null,null,null,null,"",null,"",{"$f":"IF(N1378=\"\",\"\",DATEDIF(N1378,DATE(設定シート!$C$2,設定シート!$C$3,設定シート!$C$4),\"Y\"))","v":""},"","",null,null,""]
[1377,null,null,"",null,"0000000",null,"福島市",null,null,null,null,"",null,"",{"$f":"IF(N1379=\"\",\"\",DATEDIF(N1379,DATE(設定シート!$C$2,設定シート!$C$3,設定シート!$C$4),\"Y\"))","v":""},"","",null,null,""]
[1378,null,null,"",null,"0000000",null,"福島市",null,null,null,null,"",null,"",{"$f":"IF(N1380=\"\",\"\",DATEDIF(N1380,DATE(設定シート!$C$2,設定シート!$C$3,設定シート!$C$4),\"Y\"))","v":""},"","",null,null,""]
[1379,null,null,"",null,"0000000",null,"福島市",null,null,null,null,"",null,"",{"$f":"IF(N1381=\"\",\"\",DATEDIF(N1381,DATE(設定シート!$C$2,設定シート!$C$3,設定シート!$C$4),\"Y\"))","v":""},"","",null,null,""]
[1380,null,null,"",null,"0000000",null,"福島市",null,null,null,null,"",null,"",{"$f":"IF(N1382=\"\",\"\",DATEDIF(N1382,DATE(設定シート!$C$2,設定シート!$C$3,設定シート!$C$4),\"Y\"))","v":""},"","",null,null,""]
[1381,null,null,"",null,"0000000",null,"福島市",null,null,null,null,"",null,"",{"$f":"IF(N1383=\"\",\"\",DATEDIF(N1383,DATE(設定シート!$C$2,設定シート!$C$3,設定シート!$C$4),\"Y\"))","v":""},"","",null,null,""]
[1382,null,null,"",null,"0000000",null,"福島市",null,null,null,null,"",null,"",{"$f":"IF(N1384=\"\",\"\",DATEDIF(N1384,DATE(設定シート!$C$2,設定シート!$C$3,設定シート!$C$4),\"Y\"))","v":""},"","",null,null,""]
[1383,null,null,"",null,"0000000",null,"福島市",null,null,null,null,"",null,"",{"$f":"IF(N1385=\"\",\"\",DATEDIF(N1385,DATE(設定シート!$C$2,設定シート!$C$3,設定シート!$C$4),\"Y\"))","v":""},"","",null,null,""]
[1384,null,null,"",null,"0000000",null,"福島市",null,null,null,null,"",null,"",{"$f":"IF(N1386=\"\",\"\",DATEDIF(N1386,DATE(設定シート!$C$2,設定シート!$C$3,設定シート!$C$4),\"Y\"))","v":""},"","",null,null,""]
[1385,null,null,"",null,"0000000",null,"福島市",null,null,null,null,"",null,"",{"$f":"IF(N1387=\"\",\"\",DATEDIF(N1387,DATE(設定シート!$C$2,設定シート!$C$3,設定シート!$C$4),\"Y\"))","v":""},"","",null,null,""]
[1386,null,null,"",null,"0000000",null,"福島市",null,null,null,null,"",null,"",{"$f":"IF(N1388=\"\",\"\",DATEDIF(N1388,DATE(設定シート!$C$2,設定シート!$C$3,設定シート!$C$4),\"Y\"))","v":""},"","",null,null,""]
[1387,null,null,"",null,"0000000",null,"福島市",null,null,null,null,"",null,"",{"$f":"IF(N1389=\"\",\"\",DATEDIF(N1389,DATE(設定シート!$C$2,設定シート!$C$3,設定シート!$C$4),\"Y\"))","v":""},"","",null,null,""]
[1388,null,null,"",null,"0000000",null,"福島市",null,null,null,null,"",null,"",{"$f":"IF(N1390=\"\",\"\",DATEDIF(N1390,DATE(設定シート!$C$2,設定シート!$C$3,設定シート!$C$4),\"Y\"))","v":""},"","",null,null,""]
[1389,null,null,"",null,"0000000",null,"福島市",null,null,null,null,"",null,"",{"$f":"IF(N1391=\"\",\"\",DATEDIF(N1391,DATE(設定シート!$C$2,設定シート!$C$3,設定シート!$C$4),\"Y\"))","v":""},"","",null,null,""]
[1390,null,null,"",null,"0000000",null,"福島市",null,null,null,null,"",null,"",{"$f":"IF(N1392=\"\",\"\",DATEDIF(N1392,DATE(設定シート!$C$2,設定シート!$C$3,設定シート!$C$4),\"Y\"))","v":""},"","",null,null,""]
[1391,null,null,"",null,"0000000",null,"福島市",null,null,null,null,"",null,"",{"$f":"IF(N1393=\"\",\"\",DATEDIF(N1393,DATE(設定シート!$C$2,設定シート!$C$3,設定シート!$C$4),\"Y\"))","v":""},"","",null,null,""]
[1392,null,null,"",null,"0000000",null,"福島市",null,null,null,null,"",null,"",{"$f":"IF(N1394=\"\",\"\",DATEDIF(N1394,DATE(設定シート!$C$2,設定シート!$C$3,設定シート!$C$4),\"Y\"))","v":""},"","",null,null,""]
[1393,null,null,"",null,"0000000",null,"福島市",null,null,null,null,"",null,"",{"$f":"IF(N1395=\"\",\"\",DATEDIF(N1395,DATE(設定シート!$C$2,設定シート!$C$3,設定シート!$C$4),\"Y\"))","v":""},"","",null,null,""]
[1394,null,null,"",null,"0000000",null,"福島市",null,null,null,null,"",null,"",{"$f":"IF(N1396=\"\",\"\",DATEDIF(N1396,DATE(設定シート!$C$2,設定シート!$C$3,設定シート!$C$4),\"Y\"))","v":""},"","",null,null,""]
[1395,null,null,"",null,"0000000",null,"福島市",null,null,null,null,"",null,"",{"$f":"IF(N1397=\"\",\"\",DATEDIF(N1397,DATE(設定シート!$C$2,設定シート!$C$3,設定シート!$C$4),\"Y\"))","v":""},"","",null,null,""]
[1396,null,null,"",null,"0000000",null,"福島市",null,null,null,null,"",null,"",{"$f":"IF(N1398=\"\",\"\",DATEDIF(N1398,DATE(設定シート!$C$2,設定シート!$C$3,設定シート!$C$4),\"Y\"))","v":""},"","",null,null,""]
[1397,null,null,"",null,"0000000",null,"福島市",null,null,null,null,"",null,"",{"$f":"IF(N1399=\"\",\"\",DATEDIF(N1399,DATE(設定シート!$C$2,設定シート!$C$3,設定シート!$C$4),\"Y\"))","v":""},"","",null,null,""]
[1398,null,null,"",null,"0000000",null,"福島市",null,null,null,null,"",null,"",{"$f":"IF(N1400=\"\",\"\",DATEDIF(N1400,DATE(設定シート!$C$2,設定シート!$C$3,設定シート!$C$4),\"Y\"))","v":""},"","",null,null,""]
[1399,null,null,"",null,"0000000",null,"福島市",null,null,null,null,"",null,"",{"$f":"IF(N1401=\"\",\"\",DATEDIF(N1401,DATE(設定シート!$C$2,設定シート!$C$3,設定シート!$C$4),\"Y\"))","v":""},"","",null,null,""]
[1400,null,null,"",null,"0000000",null,"福島市",null,null,null,null,"",null,"",{"$f":"IF(N1402=\"\",\"\",DATEDIF(N1402,DATE(設定シート!$C$2,設定シート!$C$3,設定シート!$C$4),\"Y\"))","v":""},"","",null,null,""]
[1401,null,null,"",null,"0000000",null,"福島市",null,null,null,null,"",null,"",{"$f":"IF(N1403=\"\",\"\",DATEDIF(N1403,DATE(設定シート!$C$2,設定シート!$C$3,設定シート!$C$4),\"Y\"))","v":""},"","",null,null,""]
[1402,null,null,"",null,"0000000",null,"福島市",null,null,null,null,"",null,"",{"$f":"IF(N1404=\"\",\"\",DATEDIF(N1404,DATE(設定シート!$C$2,設定シート!$C$3,設定シート!$C$4),\"Y\"))","v":""},"","",null,null,""]
[1403,null,null,"",null,"0000000",null,"福島市",null,null,null,null,"",null,"",{"$f":"IF(N1405=\"\",\"\",DATEDIF(N1405,DATE(設定シート!$C$2,設定シート!$C$3,設定シート!$C$4),\"Y\"))","v":""},"","",null,null,""]
[1404,null,null,"",null,"0000000",null,"福島市",null,null,null,null,"",null,"",{"$f":"IF(N1406=\"\",\"\",DATEDIF(N1406,DATE(設定シート!$C$2,設定シート!$C$3,設定シート!$C$4),\"Y\"))","v":""},"","",null,null,""]
[1405,null,null,"",null,"0000000",null,"福島市",null,null,null,null,"",null,"",{"$f":"IF(N1407=\"\",\"\",DATEDIF(N1407,DATE(設定シート!$C$2,設定シート!$C$3,設定シート!$C$4),\"Y\"))","v":""},"","",null,null,""]
[1406,null,null,"",null,"0000000",null,"福島市",null,null,null,null,"",null,"",{"$f":"IF(N1408=\"\",\"\",DATEDIF(N1408,DATE(設定シート!$C$2,設定シート!$C$3,設定シート!$C$4),\"Y\"))","v":""},"","",null,null,""]
[1407,null,null,"",null,"0000000",null,"福島市",null,null,null,null,"",null,"",{"$f":"IF(N1409=\"\",\"\",DATEDIF(N1409,DATE(設定シート!$C$2,設定シート!$C$3,設定シート!$C$4),\"Y\"))","v":""},"","",null,null,""]
[1408,null,null,"",null,"0000000",null,"福島市",null,null,null,null,"",null,"",{"$f":"IF(N1410=\"\",\"\",DATEDIF(N1410,DATE(設定シート!$C$2,設定シート!$C$3,設定シート!$C$4),\"Y\"))","v":""},"","",null,null,""]
[1409,null,null,{"$f":"PHONETIC(C1411)","v":""},null,{"$f":"TEXT(B1411,\"0000000\")","v":"0000000"},null,"福島市",null,null,null,null,{"$f":"IF(L1411=1,\"男\",IF(L1411=2,\"女\",\"\"))","v":""},null,{"$f":"IF(OR(E1411=\"\",N1411=\"\"),\"\",DATEDIF(N1411,E1411,\"Y\"))","v":""},{"$f":"IF(N1411=\"\",\"\",DATEDIF(N1411,DATE(設定シート!$C$2,設定シート!$C$3,設定シート!$C$4),\"Y\"))","v":""},{"$f":"IF(P1411=\"\",\"\",IF(P1411<=69,1,IF(P1411>=70,2,\"\")))","v":""},{"$f":"IF(OR(Q1411=1,Q1411=\"1\"),\"有料\",IF(OR(Q1411=2,Q1411=\"2\"),\"70・後\",IF(Q1411=3,\"生保\",IF(Q1411=4,\"非課税\",\"\"))))","v":""},null,null,{"$f":"IF(AND(L1411=2,P1411>=60),\"一単独\",IF(AND(L1411=2,P1411>=50,P1411<60),\"一併用\",IF(AND(L1411=2,P1411>=40,P1411<50),\"二併用\",\"\")))","v":""}]
[{"$f":"ROW()-2","v":1410},null,null,"",null,"0000000",null,"福島市",null,null,null,null,"",null,"",{"$f":"IF(N1412=\"\",\"\",DATEDIF(N1412,DATE(設定シート!$C$2,設定シート!$C$3,設定シート!$C$4),\"Y\"))","v":""},"","",null,null,""]
[1411,null,null,"",null,"0000000",null,"福島市",null,null,null,null,"",null,"",{"$f":"IF(N1413=\"\",\"\",DATEDIF(N1413,DATE(設定シート!$C$2,設定シート!$C$3,設定シート!$C$4),\"Y\"))","v":""},"","",null,null,""]
[1412,null,null,"",null,"0000000",null,"福島市",null,null,null,null,"",null,"",{"$f":"IF(N1414=\"\",\"\",DATEDIF(N1414,DATE(設定シート!$C$2,設定シート!$C$3,設定シート!$C$4),\"Y\"))","v":""},"","",null,null,""]
[1413,null,null,"",null,"0000000",null,"福島市",null,null,null,null,"",null,"",{"$f":"IF(N1415=\"\",\"\",DATEDIF(N1415,DATE(設定シート!$C$2,設定シート!$C$3,設定シート!$C$4),\"Y\"))","v":""},"","",null,null,""]
[1414,null,null,"",null,"0000000",null,"福島市",null,null,null,null,"",null,"",{"$f":"IF(N1416=\"\",\"\",DATEDIF(N1416,DATE(設定シート!$C$2,設定シート!$C$3,設定シート!$C$4),\"Y\"))","v":""},"","",null,null,""]
[1415,null,null,"",null,"0000000",null,"福島市",null,null,null,null,"",null,"",{"$f":"IF(N1417=\"\",\"\",DATEDIF(N1417,DATE(設定シート!$C$2,設定シート!$C$3,設定シート!$C$4),\"Y\"))","v":""},"","",null,null,""]
[1416,null,null,"",null,"0000000",null,"福島市",null,null,null,null,"",null,"",{"$f":"IF(N1418=\"\",\"\",DATEDIF(N1418,DATE(設定シート!$C$2,設定シート!$C$3,設定シート!$C$4),\"Y\"))","v":""},"","",null,null,""]
[1417,null,null,"",null,"0000000",null,"福島市",null,null,null,null,"",null,"",{"$f":"IF(N1419=\"\",\"\",DATEDIF(N1419,DATE(設定シート!$C$2,設定シート!$C$3,設定シート!$C$4),\"Y\"))","v":""},"","",null,null,""]
[1418,null,null,"",null,"0000000",null,"福島市",null,null,null,null,"",null,"",{"$f":"IF(N1420=\"\",\"\",DATEDIF(N1420,DATE(設定シート!$C$2,設定シート!$C$3,設定シート!$C$4),\"Y\"))","v":""},"","",null,null,""]
[1419,null,null,"",null,"0000000",null,"福島市",null,null,null,null,"",null,"",{"$f":"IF(N1421=\"\",\"\",DATEDIF(N1421,DATE(設定シート!$C$2,設定シート!$C$3,設定シート!$C$4),\"Y\"))","v":""},"","",null,null,""]
[1420,null,null,"",null,"0000000",null,"福島市",null,null,null,null,"",null,"",{"$f":"IF(N1422=\"\",\"\",DATEDIF(N1422,DATE(設定シート!$C$2,設定シート!$C$3,設定シート!$C$4),\"Y\"))","v":""},"","",null,null,""]
[1421,null,null,"",null,"0000000",null,"福島市",null,null,null,null,"",null,"",{"$f":"IF(N1423=\"\",\"\",DATEDIF(N1423,DATE(設定シート!$C$2,設定シート!$C$3,設定シート!$C$4),\"Y\"))","v":""},"","",null,null,""]
[1422,null,null,"",null,"0000000",null,"福島市",null,null,null,null,"",null,"",{"$f":"IF(N1424=\"\",\"\",DATEDIF(N1424,DATE(設定シート!$C$2,設定シート!$C$3,設定シート!$C$4),\"Y\"))","v":""},"","",null,null,""]
[1423,null,null,"",null,"0000000",null,"福島市",null,null,null,null,"",null,"",{"$f":"IF(N1425=\"\",\"\",DATEDIF(N1425,DATE(設定シート!$C$2,設定シート!$C$3,設定シート!$C$4),\"Y\"))","v":""},"","",null,null,""]
[1424,null,null,"",null,"0000000",null,"福島市",null,null,null,null,"",null,"",{"$f":"IF(N1426=\"\",\"\",DATEDIF(N1426,DATE(設定シート!$C$2,設定シート!$C$3,設定シート!$C$4),\"Y\"))","v":""},"","",null,null,""]
[1425,null,null,"",null,"0000000",null,"福島市",null,null,null,null,"",null,"",{"$f":"IF(N1427=\"\",\"\",DATEDIF(N1427,DATE(設定シート!$C$2,設定シート!$C$3,設定シート!$C$4),\"Y\"))","v":""},"","",null,null,""]
[1426,null,null,"",null,"0000000",null,"福島市",null,null,null,null,"",null,"",{"$f":"IF(N1428=\"\",\"\",DATEDIF(N1428,DATE(設定シート!$C$2,設定シート!$C$3,設定シート!$C$4),\"Y\"))","v":""},"","",null,null,""]
[1427,null,null,"",null,"0000000",null,"福島市",null,null,null,null,"",null,"",{"$f":"IF(N1429=\"\",\"\",DATEDIF(N1429,DATE(設定シート!$C$2,設定シート!$C$3,設定シート!$C$4),\"Y\"))","v":""},"","",null,null,""]
[1428,null,null,"",null,"0000000",null,"福島市",null,null,null,null,"",null,"",{"$f":"IF(N1430=\"\",\"\",DATEDIF(N1430,DATE(設定シート!$C$2,設定シート!$C$3,設定シート!$C$4),\"Y\"))","v":""},"","",null,null,""]
[1429,null,null,"",null,"0000000",null,"福島市",null,null,null,null,"",null,"",{"$f":"IF(N1431=\"\",\"\",DATEDIF(N1431,DATE(設定シート!$C$2,設定シート!$C$3,設定シート!$C$4),\"Y\"))","v":""},"","",null,null,""]
[1430,null,null,"",null,"0000000",null,"福島市",null,null,null,null,"",null,"",{"$f":"IF(N1432=\"\",\"\",DATEDIF(N1432,DATE(設定シート!$C$2,設定シート!$C$3,設定シート!$C$4),\"Y\"))","v":""},"","",null,null,""]
[1431,null,null,"",null,"0000000",null,"福島市",null,null,null,null,"",null,"",{"$f":"IF(N1433=\"\",\"\",DATEDIF(N1433,DATE(設定シート!$C$2,設定シート!$C$3,設定シート!$C$4),\"Y\"))","v":""},"","",null,null,""]
[1432,null,null,"",null,"0000000",null,"福島市",null,null,null,null,"",null,"",{"$f":"IF(N1434=\"\",\"\",DATEDIF(N1434,DATE(設定シート!$C$2,設定シート!$C$3,設定シート!$C$4),\"Y\"))","v":""},"","",null,null,""]
[1433,null,null,"",null,"0000000",null,"福島市",null,null,null,null,"",null,"",{"$f":"IF(N1435=\"\",\"\",DATEDIF(N1435,DATE(設定シート!$C$2,設定シート!$C$3,設定シート!$C$4),\"Y\"))","v":""},"","",null,null,""]
[1434,null,null,"",null,"0000000",null,"福島市",null,null,null,null,"",null,"",{"$f":"IF(N1436=\"\",\"\",DATEDIF(N1436,DATE(設定シート!$C$2,設定シート!$C$3,設定シート!$C$4),\"Y\"))","v":""},"","",null,null,""]
[1435,null,null,"",null,"0000000",null,"福島市",null,null,null,null,"",null,"",{"$f":"IF(N1437=\"\",\"\",DATEDIF(N1437,DATE(設定シート!$C$2,設定シート!$C$3,設定シート!$C$4),\"Y\"))","v":""},"","",null,null,""]
[1436,null,null,"",null,"0000000",null,"福島市",null,null,null,null,"",null,"",{"$f":"IF(N1438=\"\",\"\",DATEDIF(N1438,DATE(設定シート!$C$2,設定シート!$C$3,設定シート!$C$4),\"Y\"))","v":""},"","",null,null,""]
[1437,null,null,"",null,"0000000",null,"福島市",null,null,null,null,"",null,"",{"$f":"IF(N1439=\"\",\"\",DATEDIF(N1439,DATE(設定シート!$C$2,設定シート!$C$3,設定シート!$C$4),\"Y\"))","v":""},"","",null,null,""]
[1438,null,null,"",null,"0000000",null,"福島市",null,null,null,null,"",null,"",{"$f":"IF(N1440=\"\",\"\",DATEDIF(N1440,DATE(設定シート!$C$2,設定シート!$C$3,設定シート!$C$4),\"Y\"))","v":""},"","",null,null,""]
[1439,null,null,"",null,"0000000",null,"福島市",null,null,null,null,"",null,"",{"$f":"IF(N1441=\"\",\"\",DATEDIF(N1441,DATE(設定シート!$C$2,設定シート!$C$3,設定シート!$C$4),\"Y\"))","v":""},"","",null,null,""]
[1440,null,null,"",null,"0000000",null,"福島市",null,null,null,null,"",null,"",{"$f":"IF(N1442=\"\",\"\",DATEDIF(N1442,DATE(設定シート!$C$2,設定シート!$C$3,設定シート!$C$4),\"Y\"))","v":""},"","",null,null,""]
[1441,null,null,"",null,"0000000",null,"福島市",null,null,null,null,"",null,"",{"$f":"IF(N1443=\"\",\"\",DATEDIF(N1443,DATE(設定シート!$C$2,設定シート!$C$3,設定シート!$C$4),\"Y\"))","v":""},"","",null,null,""]
[1442,null,null,"",null,"0000000",null,"福島市",null,null,null,null,"",null,"",{"$f":"IF(N1444=\"\",\"\",DATEDIF(N1444,DATE(設定シート!$C$2,設定シート!$C$3,設定シート!$C$4),\"Y\"))","v":""},"","",null,null,""]
[1443,null,null,"",null,"0000000",null,"福島市",null,null,null,null,"",null,"",{"$f":"IF(N1445=\"\",\"\",DATEDIF(N1445,DATE(設定シート!$C$2,設定シート!$C$3,設定シート!$C$4),\"Y\"))","v":""},"","",null,null,""]
[1444,null,null,"",null,"0000000",null,"福島市",null,null,null,null,"",null,"",{"$f":"IF(N1446=\"\",\"\",DATEDIF(N1446,DATE(設定シート!$C$2,設定シート!$C$3,設定シート!$C$4),\"Y\"))","v":""},"","",null,null,""]
[1445,null,null,"",null,"0000000",null,"福島市",null,null,null,null,"",null,"",{"$f":"IF(N1447=\"\",\"\",DATEDIF(N1447,DATE(設定シート!$C$2,設定シート!$C$3,設定シート!$C$4),\"Y\"))","v":""},"","",null,null,""]
[1446,null,null,"",null,"0000000",null,"福島市",null,null,null,null,"",null,"",{"$f":"IF(N1448=\"\",\"\",DATEDIF(N1448,DATE(設定シート!$C$2,設定シート!$C$3,設定シート!$C$4),\"Y\"))","v":""},"","",null,null,""]
[1447,null,null,"",null,"0000000",null,"福島市",null,null,null,null,"",null,"",{"$f":"IF(N1449=\"\",\"\",DATEDIF(N1449,DATE(設定シート!$C$2,設定シート!$C$3,設定シート!$C$4),\"Y\"))","v":""},"","",null,null,""]
[1448,null,null,"",null,"0000000",null,"福島市",null,null,null,null,"",null,"",{"$f":"IF(N1450=\"\",\"\",DATEDIF(N1450,DATE(設定シート!$C$2,設定シート!$C$3,設定シート!$C$4),\"Y\"))","v":""},"","",null,null,""]
[1449,null,null,"",null,"0000000",null,"福島市",null,null,null,null,"",null,"",{"$f":"IF(N1451=\"\",\"\",DATEDIF(N1451,DATE(設定シート!$C$2,設定シート!$C$3,設定シート!$C$4),\"Y\"))","v":""},"","",null,null,""]
[1450,null,null,"",null,"0000000",null,"福島市",null,null,null,null,"",null,"",{"$f":"IF(N1452=\"\",\"\",DATEDIF(N1452,DATE(設定シート!$C$2,設定シート!$C$3,設定シート!$C$4),\"Y\"))","v":""},"","",null,null,""]
[1451,null,null,"",null,"0000000",null,"福島市",null,null,null,null,"",null,"",{"$f":"IF(N1453=\"\",\"\",DATEDIF(N1453,DATE(設定シート!$C$2,設定シート!$C$3,設定シート!$C$4),\"Y\"))","v":""},"","",null,null,""]
[1452,null,null,"",null,"0000000",null,"福島市",null,null,null,null,"",null,"",{"$f":"IF(N1454=\"\",\"\",DATEDIF(N1454,DATE(設定シート!$C$2,設定シート!$C$3,設定シート!$C$4),\"Y\"))","v":""},"","",null,null,""]
[1453,null,null,"",null,"0000000",null,"福島市",null,null,null,null,"",null,"",{"$f":"IF(N1455=\"\",\"\",DATEDIF(N1455,DATE(設定シート!$C$2,設定シート!$C$3,設定シート!$C$4),\"Y\"))","v":""},"","",null,null,""]
[1454,null,null,"",null,"0000000",null,"福島市",null,null,null,null,"",null,"",{"$f":"IF(N1456=\"\",\"\",DATEDIF(N1456,DATE(設定シート!$C$2,設定シート!$C$3,設定シート!$C$4),\"Y\"))","v":""},"","",null,null,""]
[1455,null,null,"",null,"0000000",null,"福島市",null,null,null,null,"",null,"",{"$f":"IF(N1457=\"\",\"\",DATEDIF(N1457,DATE(設定シート!$C$2,設定シート!$C$3,設定シート!$C$4),\"Y\"))","v":""},"","",null,null,""]
[1456,null,null,"",null,"0000000",null,"福島市",null,null,null,null,"",null,"",{"$f":"IF(N1458=\"\",\"\",DATEDIF(N1458,DATE(設定シート!$C$2,設定シート!$C$3,設定シート!$C$4),\"Y\"))","v":""},"","",null,null,""]
[1457,null,null,"",null,"0000000",null,"福島市",null,null,null,null,"",null,"",{"$f":"IF(N1459=\"\",\"\",DATEDIF(N1459,DATE(設定シート!$C$2,設定シート!$C$3,設定シート!$C$4),\"Y\"))","v":""},"","",null,null,""]
[1458,null,null,"",null,"0000000",null,"福島市",null,null,null,null,"",null,"",{"$f":"IF(N1460=\"\",\"\",DATEDIF(N1460,DATE(設定シート!$C$2,設定シート!$C$3,設定シート!$C$4),\"Y\"))","v":""},"","",null,null,""]
[1459,null,null,"",null,"0000000",null,"福島市",null,null,null,null,"",null,"",{"$f":"IF(N1461=\"\",\"\",DATEDIF(N1461,DATE(設定シート!$C$2,設定シート!$C$3,設定シート!$C$4),\"Y\"))","v":""},"","",null,null,""]
[1460,null,null,"",null,"0000000",null,"福島市",null,null,null,null,"",null,"",{"$f":"IF(N1462=\"\",\"\",DATEDIF(N1462,DATE(設定シート!$C$2,設定シート!$C$3,設定シート!$C$4),\"Y\"))","v":""},"","",null,null,""]
[1461,null,null,"",null,"0000000",null,"福島市",null,null,null,null,"",null,"",{"$f":"IF(N1463=\"\",\"\",DATEDIF(N1463,DATE(設定シート!$C$2,設定シート!$C$3,設定シート!$C$4),\"Y\"))","v":""},"","",null,null,""]
[1462,null,null,"",null,"0000000",null,"福島市",null,null,null,null,"",null,"",{"$f":"IF(N1464=\"\",\"\",DATEDIF(N1464,DATE(設定シート!$C$2,設定シート!$C$3,設定シート!$C$4),\"Y\"))","v":""},"","",null,null,""]
[1463,null,null,"",null,"0000000",null,"福島市",null,null,null,null,"",null,"",{"$f":"IF(N1465=\"\",\"\",DATEDIF(N1465,DATE(設定シート!$C$2,設定シート!$C$3,設定シート!$C$4),\"Y\"))","v":""},"","",null,null,""]
[1464,null,null,"",null,"0000000",null,"福島市",null,null,null,null,"",null,"",{"$f":"IF(N1466=\"\",\"\",DATEDIF(N1466,DATE(設定シート!$C$2,設定シート!$C$3,設定シート!$C$4),\"Y\"))","v":""},"","",null,null,""]
[1465,null,null,"",null,"0000000",null,"福島市",null,null,null,null,"",null,"",{"$f":"IF(N1467=\"\",\"\",DATEDIF(N1467,DATE(設定シート!$C$2,設定シート!$C$3,設定シート!$C$4),\"Y\"))","v":""},"","",null,null,""]
[1466,null,null,"",null,"0000000",null,"福島市",null,null,null,null,"",null,"",{"$f":"IF(N1468=\"\",\"\",DATEDIF(N1468,DATE(設定シート!$C$2,設定シート!$C$3,設定シート!$C$4),\"Y\"))","v":""},"","",null,null,""]
[1467,null,null,"",null,"0000000",null,"福島市",null,null,null,null,"",null,"",{"$f":"IF(N1469=\"\",\"\",DATEDIF(N1469,DATE(設定シート!$C$2,設定シート!$C$3,設定シート!$C$4),\"Y\"))","v":""},"","",null,null,""]
[1468,null,null,"",null,"0000000",null,"福島市",null,null,null,null,"",null,"",{"$f":"IF(N1470=\"\",\"\",DATEDIF(N1470,DATE(設定シート!$C$2,設定シート!$C$3,設定シート!$C$4),\"Y\"))","v":""},"","",null,null,""]
[1469,null,null,"",null,"0000000",null,"福島市",null,null,null,null,"",null,"",{"$f":"IF(N1471=\"\",\"\",DATEDIF(N1471,DATE(設定シート!$C$2,設定シート!$C$3,設定シート!$C$4),\"Y\"))","v":""},"","",null,null,""]
[1470,null,null,"",null,"0000000",null,"福島市",null,null,null,null,"",null,"",{"$f":"IF(N1472=\"\",\"\",DATEDIF(N1472,DATE(設定シート!$C$2,設定シート!$C$3,設定シート!$C$4),\"Y\"))","v":""},"","",null,null,""]
[1471,null,null,"",null,"0000000",null,"福島市",null,null,null,null,"",null,"",{"$f":"IF(N1473=\"\",\"\",DATEDIF(N1473,DATE(設定シート!$C$2,設定シート!$C$3,設定シート!$C$4),\"Y\"))","v":""},"","",null,null,""]
[1472,null,null,"",null,"0000000",null,"福島市",null,null,null,null,"",null,"",{"$f":"IF(N1474=\"\",\"\",DATEDIF(N1474,DATE(設定シート!$C$2,設定シート!$C$3,設定シート!$C$4),\"Y\"))","v":""},"","",null,null,""]
[1473,null,null,{"$f":"PHONETIC(C1475)","v":""},null,{"$f":"TEXT(B1475,\"0000000\")","v":"0000000"},null,"福島市",null,null,null,null,{"$f":"IF(L1475=1,\"男\",IF(L1475=2,\"女\",\"\"))","v":""},null,{"$f":"IF(OR(E1475=\"\",N1475=\"\"),\"\",DATEDIF(N1475,E1475,\"Y\"))","v":""},{"$f":"IF(N1475=\"\",\"\",DATEDIF(N1475,DATE(設定シート!$C$2,設定シート!$C$3,設定シート!$C$4),\"Y\"))","v":""},{"$f":"IF(P1475=\"\",\"\",IF(P1475<=69,1,IF(P1475>=70,2,\"\")))","v":""},{"$f":"IF(OR(Q1475=1,Q1475=\"1\"),\"有料\",IF(OR(Q1475=2,Q1475=\"2\"),\"70・後\",IF(Q1475=3,\"生保\",IF(Q1475=4,\"非課税\",\"\"))))","v":""},null,null,{"$f":"IF(AND(L1475=2,P1475>=60),\"一単独\",IF(AND(L1475=2,P1475>=50,P1475<60),\"一併用\",IF(AND(L1475=2,P1475>=40,P1475<50),\"二併用\",\"\")))","v":""}]
[{"$f":"ROW()-2","v":1474},null,null,"",null,"0000000",null,"福島市",null,null,null,null,"",null,"",{"$f":"IF(N1476=\"\",\"\",DATEDIF(N1476,DATE(設定シート!$C$2,設定シート!$C$3,設定シート!$C$4),\"Y\"))","v":""},"","",null,null,""]
[1475,null,null,"",null,"0000000",null,"福島市",null,null,null,null,"",null,"",{"$f":"IF(N1477=\"\",\"\",DATEDIF(N1477,DATE(設定シート!$C$2,設定シート!$C$3,設定シート!$C$4),\"Y\"))","v":""},"","",null,null,""]
[1476,null,null,"",null,"0000000",null,"福島市",null,null,null,null,"",null,"",{"$f":"IF(N1478=\"\",\"\",DATEDIF(N1478,DATE(設定シート!$C$2,設定シート!$C$3,設定シート!$C$4),\"Y\"))","v":""},"","",null,null,""]
[1477,null,null,"",null,"0000000",null,"福島市",null,null,null,null,"",null,"",{"$f":"IF(N1479=\"\",\"\",DATEDIF(N1479,DATE(設定シート!$C$2,設定シート!$C$3,設定シート!$C$4),\"Y\"))","v":""},"","",null,null,""]
[1478,null,null,"",null,"0000000",null,"福島市",null,null,null,null,"",null,"",{"$f":"IF(N1480=\"\",\"\",DATEDIF(N1480,DATE(設定シート!$C$2,設定シート!$C$3,設定シート!$C$4),\"Y\"))","v":""},"","",null,null,""]
[1479,null,null,"",null,"0000000",null,"福島市",null,null,null,null,"",null,"",{"$f":"IF(N1481=\"\",\"\",DATEDIF(N1481,DATE(設定シート!$C$2,設定シート!$C$3,設定シート!$C$4),\"Y\"))","v":""},"","",null,null,""]
[1480,null,null,"",null,"0000000",null,"福島市",null,null,null,null,"",null,"",{"$f":"IF(N1482=\"\",\"\",DATEDIF(N1482,DATE(設定シート!$C$2,設定シート!$C$3,設定シート!$C$4),\"Y\"))","v":""},"","",null,null,""]
[1481,null,null,"",null,"0000000",null,"福島市",null,null,null,null,"",null,"",{"$f":"IF(N1483=\"\",\"\",DATEDIF(N1483,DATE(設定シート!$C$2,設定シート!$C$3,設定シート!$C$4),\"Y\"))","v":""},"","",null,null,""]
[1482,null,null,"",null,"0000000",null,"福島市",null,null,null,null,"",null,"",{"$f":"IF(N1484=\"\",\"\",DATEDIF(N1484,DATE(設定シート!$C$2,設定シート!$C$3,設定シート!$C$4),\"Y\"))","v":""},"","",null,null,""]
[1483,null,null,"",null,"0000000",null,"福島市",null,null,null,null,"",null,"",{"$f":"IF(N1485=\"\",\"\",DATEDIF(N1485,DATE(設定シート!$C$2,設定シート!$C$3,設定シート!$C$4),\"Y\"))","v":""},"","",null,null,""]
[1484,null,null,"",null,"0000000",null,"福島市",null,null,null,null,"",null,"",{"$f":"IF(N1486=\"\",\"\",DATEDIF(N1486,DATE(設定シート!$C$2,設定シート!$C$3,設定シート!$C$4),\"Y\"))","v":""},"","",null,null,""]
[1485,null,null,"",null,"0000000",null,"福島市",null,null,null,null,"",null,"",{"$f":"IF(N1487=\"\",\"\",DATEDIF(N1487,DATE(設定シート!$C$2,設定シート!$C$3,設定シート!$C$4),\"Y\"))","v":""},"","",null,null,""]
[1486,null,null,"",null,"0000000",null,"福島市",null,null,null,null,"",null,"",{"$f":"IF(N1488=\"\",\"\",DATEDIF(N1488,DATE(設定シート!$C$2,設定シート!$C$3,設定シート!$C$4),\"Y\"))","v":""},"","",null,null,""]
[1487,null,null,"",null,"0000000",null,"福島市",null,null,null,null,"",null,"",{"$f":"IF(N1489=\"\",\"\",DATEDIF(N1489,DATE(設定シート!$C$2,設定シート!$C$3,設定シート!$C$4),\"Y\"))","v":""},"","",null,null,""]
[1488,null,null,"",null,"0000000",null,"福島市",null,null,null,null,"",null,"",{"$f":"IF(N1490=\"\",\"\",DATEDIF(N1490,DATE(設定シート!$C$2,設定シート!$C$3,設定シート!$C$4),\"Y\"))","v":""},"","",null,null,""]
[1489,null,null,"",null,"0000000",null,"福島市",null,null,null,null,"",null,"",{"$f":"IF(N1491=\"\",\"\",DATEDIF(N1491,DATE(設定シート!$C$2,設定シート!$C$3,設定シート!$C$4),\"Y\"))","v":""},"","",null,null,""]
[1490,null,null,"",null,"0000000",null,"福島市",null,null,null,null,"",null,"",{"$f":"IF(N1492=\"\",\"\",DATEDIF(N1492,DATE(設定シート!$C$2,設定シート!$C$3,設定シート!$C$4),\"Y\"))","v":""},"","",null,null,""]
[1491,null,null,"",null,"0000000",null,"福島市",null,null,null,null,"",null,"",{"$f":"IF(N1493=\"\",\"\",DATEDIF(N1493,DATE(設定シート!$C$2,設定シート!$C$3,設定シート!$C$4),\"Y\"))","v":""},"","",null,null,""]
[1492,null,null,"",null,"0000000",null,"福島市",null,null,null,null,"",null,"",{"$f":"IF(N1494=\"\",\"\",DATEDIF(N1494,DATE(設定シート!$C$2,設定シート!$C$3,設定シート!$C$4),\"Y\"))","v":""},"","",null,null,""]
[1493,null,null,"",null,"0000000",null,"福島市",null,null,null,null,"",null,"",{"$f":"IF(N1495=\"\",\"\",DATEDIF(N1495,DATE(設定シート!$C$2,設定シート!$C$3,設定シート!$C$4),\"Y\"))","v":""},"","",null,null,""]
[1494,null,null,"",null,"0000000",null,"福島市",null,null,null,null,"",null,"",{"$f":"IF(N1496=\"\",\"\",DATEDIF(N1496,DATE(設定シート!$C$2,設定シート!$C$3,設定シート!$C$4),\"Y\"))","v":""},"","",null,null,""]
[1495,null,null,"",null,"0000000",null,"福島市",null,null,null,null,"",null,"",{"$f":"IF(N1497=\"\",\"\",DATEDIF(N1497,DATE(設定シート!$C$2,設定シート!$C$3,設定シート!$C$4),\"Y\"))","v":""},"","",null,null,""]
[1496,null,null,"",null,"0000000",null,"福島市",null,null,null,null,"",null,"",{"$f":"IF(N1498=\"\",\"\",DATEDIF(N1498,DATE(設定シート!$C$2,設定シート!$C$3,設定シート!$C$4),\"Y\"))","v":""},"","",null,null,""]
[1497,null,null,"",null,"0000000",null,"福島市",null,null,null,null,"",null,"",{"$f":"IF(N1499=\"\",\"\",DATEDIF(N1499,DATE(設定シート!$C$2,設定シート!$C$3,設定シート!$C$4),\"Y\"))","v":""},"","",null,null,""]
[1498,null,null,"",null,"0000000",null,"福島市",null,null,null,null,"",null,"",{"$f":"IF(N1500=\"\",\"\",DATEDIF(N1500,DATE(設定シート!$C$2,設定シート!$C$3,設定シート!$C$4),\"Y\"))","v":""},"","",null,null,""]
[1499,null,null,"",null,"0000000",null,"福島市",null,null,null,null,"",null,"",{"$f":"IF(N1501=\"\",\"\",DATEDIF(N1501,DATE(設定シート!$C$2,設定シート!$C$3,設定シート!$C$4),\"Y\"))","v":""},"","",null,null,""]
[1500,null,null,"",null,"0000000",null,"福島市",null,null,null,null,"",null,"",{"$f":"IF(N1502=\"\",\"\",DATEDIF(N1502,DATE(設定シート!$C$2,設定シート!$C$3,設定シート!$C$4),\"Y\"))","v":""},"","",null,null,""]
[1501,null,null,"",null,"0000000",null,"福島市",null,null,null,null,"",null,"",{"$f":"IF(N1503=\"\",\"\",DATEDIF(N1503,DATE(設定シート!$C$2,設定シート!$C$3,設定シート!$C$4),\"Y\"))","v":""},"","",null,null,""]
[1502,null,null,"",null,"0000000",null,"福島市",null,null,null,null,"",null,"",{"$f":"IF(N1504=\"\",\"\",DATEDIF(N1504,DATE(設定シート!$C$2,設定シート!$C$3,設定シート!$C$4),\"Y\"))","v":""},"","",null,null,""]
[1503,null,null,"",null,"0000000",null,"福島市",null,null,null,null,"",null,"",{"$f":"IF(N1505=\"\",\"\",DATEDIF(N1505,DATE(設定シート!$C$2,設定シート!$C$3,設定シート!$C$4),\"Y\"))","v":""},"","",null,null,""]
[1504,null,null,"",null,"0000000",null,"福島市",null,null,null,null,"",null,"",{"$f":"IF(N1506=\"\",\"\",DATEDIF(N1506,DATE(設定シート!$C$2,設定シート!$C$3,設定シート!$C$4),\"Y\"))","v":""},"","",null,null,""]
[1505,null,null,"",null,"0000000",null,"福島市",null,null,null,null,"",null,"",{"$f":"IF(N1507=\"\",\"\",DATEDIF(N1507,DATE(設定シート!$C$2,設定シート!$C$3,設定シート!$C$4),\"Y\"))","v":""},"","",null,null,""]
[1506,null,null,"",null,"0000000",null,"福島市",null,null,null,null,"",null,"",{"$f":"IF(N1508=\"\",\"\",DATEDIF(N1508,DATE(設定シート!$C$2,設定シート!$C$3,設定シート!$C$4),\"Y\"))","v":""},"","",null,null,""]
[1507,null,null,"",null,"0000000",null,"福島市",null,null,null,null,"",null,"",{"$f":"IF(N1509=\"\",\"\",DATEDIF(N1509,DATE(設定シート!$C$2,設定シート!$C$3,設定シート!$C$4),\"Y\"))","v":""},"","",null,null,""]
[1508,null,null,"",null,"0000000",null,"福島市",null,null,null,null,"",null,"",{"$f":"IF(N1510=\"\",\"\",DATEDIF(N1510,DATE(設定シート!$C$2,設定シート!$C$3,設定シート!$C$4),\"Y\"))","v":""},"","",null,null,""]
[1509,null,null,"",null,"0000000",null,"福島市",null,null,null,null,"",null,"",{"$f":"IF(N1511=\"\",\"\",DATEDIF(N1511,DATE(設定シート!$C$2,設定シート!$C$3,設定シート!$C$4),\"Y\"))","v":""},"","",null,null,""]
[1510,null,null,"",null,"0000000",null,"福島市",null,null,null,null,"",null,"",{"$f":"IF(N1512=\"\",\"\",DATEDIF(N1512,DATE(設定シート!$C$2,設定シート!$C$3,設定シート!$C$4),\"Y\"))","v":""},"","",null,null,""]
[1511,null,null,"",null,"0000000",null,"福島市",null,null,null,null,"",null,"",{"$f":"IF(N1513=\"\",\"\",DATEDIF(N1513,DATE(設定シート!$C$2,設定シート!$C$3,設定シート!$C$4),\"Y\"))","v":""},"","",null,null,""]
[1512,null,null,"",null,"0000000",null,"福島市",null,null,null,null,"",null,"",{"$f":"IF(N1514=\"\",\"\",DATEDIF(N1514,DATE(設定シート!$C$2,設定シート!$C$3,設定シート!$C$4),\"Y\"))","v":""},"","",null,null,""]
[1513,null,null,"",null,"0000000",null,"福島市",null,null,null,null,"",null,"",{"$f":"IF(N1515=\"\",\"\",DATEDIF(N1515,DATE(設定シート!$C$2,設定シート!$C$3,設定シート!$C$4),\"Y\"))","v":""},"","",null,null,""]
[1514,null,null,"",null,"0000000",null,"福島市",null,null,null,null,"",null,"",{"$f":"IF(N1516=\"\",\"\",DATEDIF(N1516,DATE(設定シート!$C$2,設定シート!$C$3,設定シート!$C$4),\"Y\"))","v":""},"","",null,null,""]
[1515,null,null,"",null,"0000000",null,"福島市",null,null,null,null,"",null,"",{"$f":"IF(N1517=\"\",\"\",DATEDIF(N1517,DATE(設定シート!$C$2,設定シート!$C$3,設定シート!$C$4),\"Y\"))","v":""},"","",null,null,""]
[1516,null,null,"",null,"0000000",null,"福島市",null,null,null,null,"",null,"",{"$f":"IF(N1518=\"\",\"\",DATEDIF(N1518,DATE(設定シート!$C$2,設定シート!$C$3,設定シート!$C$4),\"Y\"))","v":""},"","",null,null,""]
[1517,null,null,"",null,"0000000",null,"福島市",null,null,null,null,"",null,"",{"$f":"IF(N1519=\"\",\"\",DATEDIF(N1519,DATE(設定シート!$C$2,設定シート!$C$3,設定シート!$C$4),\"Y\"))","v":""},"","",null,null,""]
[1518,null,null,"",null,"0000000",null,"福島市",null,null,null,null,"",null,"",{"$f":"IF(N1520=\"\",\"\",DATEDIF(N1520,DATE(設定シート!$C$2,設定シート!$C$3,設定シート!$C$4),\"Y\"))","v":""},"","",null,null,""]
[1519,null,null,"",null,"0000000",null,"福島市",null,null,null,null,"",null,"",{"$f":"IF(N1521=\"\",\"\",DATEDIF(N1521,DATE(設定シート!$C$2,設定シート!$C$3,設定シート!$C$4),\"Y\"))","v":""},"","",null,null,""]
[1520,null,null,"",null,"0000000",null,"福島市",null,null,null,null,"",null,"",{"$f":"IF(N1522=\"\",\"\",DATEDIF(N1522,DATE(設定シート!$C$2,設定シート!$C$3,設定シート!$C$4),\"Y\"))","v":""},"","",null,null,""]
[1521,null,null,"",null,"0000000",null,"福島市",null,null,null,null,"",null,"",{"$f":"IF(N1523=\"\",\"\",DATEDIF(N1523,DATE(設定シート!$C$2,設定シート!$C$3,設定シート!$C$4),\"Y\"))","v":""},"","",null,null,""]
[1522,null,null,"",null,"0000000",null,"福島市",null,null,null,null,"",null,"",{"$f":"IF(N1524=\"\",\"\",DATEDIF(N1524,DATE(設定シート!$C$2,設定シート!$C$3,設定シート!$C$4),\"Y\"))","v":""},"","",null,null,""]
[1523,null,null,"",null,"0000000",null,"福島市",null,null,null,null,"",null,"",{"$f":"IF(N1525=\"\",\"\",DATEDIF(N1525,DATE(設定シート!$C$2,設定シート!$C$3,設定シート!$C$4),\"Y\"))","v":""},"","",null,null,""]
[1524,null,null,"",null,"0000000",null,"福島市",null,null,null,null,"",null,"",{"$f":"IF(N1526=\"\",\"\",DATEDIF(N1526,DATE(設定シート!$C$2,設定シート!$C$3,設定シート!$C$4),\"Y\"))","v":""},"","",null,null,""]
[1525,null,null,"",null,"0000000",null,"福島市",null,null,null,null,"",null,"",{"$f":"IF(N1527=\"\",\"\",DATEDIF(N1527,DATE(設定シート!$C$2,設定シート!$C$3,設定シート!$C$4),\"Y\"))","v":""},"","",null,null,""]
[1526,null,null,"",null,"0000000",null,"福島市",null,null,null,null,"",null,"",{"$f":"IF(N1528=\"\",\"\",DATEDIF(N1528,DATE(設定シート!$C$2,設定シート!$C$3,設定シート!$C$4),\"Y\"))","v":""},"","",null,null,""]
[1527,null,null,"",null,"0000000",null,"福島市",null,null,null,null,"",null,"",{"$f":"IF(N1529=\"\",\"\",DATEDIF(N1529,DATE(設定シート!$C$2,設定シート!$C$3,設定シート!$C$4),\"Y\"))","v":""},"","",null,null,""]
[1528,null,null,"",null,"0000000",null,"福島市",null,null,null,null,"",null,"",{"$f":"IF(N1530=\"\",\"\",DATEDIF(N1530,DATE(設定シート!$C$2,設定シート!$C$3,設定シート!$C$4),\"Y\"))","v":""},"","",null,null,""]
[1529,null,null,"",null,"0000000",null,"福島市",null,null,null,null,"",null,"",{"$f":"IF(N1531=\"\",\"\",DATEDIF(N1531,DATE(設定シート!$C$2,設定シート!$C$3,設定シート!$C$4),\"Y\"))","v":""},"","",null,null,""]
[1530,null,null,"",null,"0000000",null,"福島市",null,null,null,null,"",null,"",{"$f":"IF(N1532=\"\",\"\",DATEDIF(N1532,DATE(設定シート!$C$2,設定シート!$C$3,設定シート!$C$4),\"Y\"))","v":""},"","",null,null,""]
[1531,null,null,"",null,"0000000",null,"福島市",null,null,null,null,"",null,"",{"$f":"IF(N1533=\"\",\"\",DATEDIF(N1533,DATE(設定シート!$C$2,設定シート!$C$3,設定シート!$C$4),\"Y\"))","v":""},"","",null,null,""]
[1532,null,null,"",null,"0000000",null,"福島市",null,null,null,null,"",null,"",{"$f":"IF(N1534=\"\",\"\",DATEDIF(N1534,DATE(設定シート!$C$2,設定シート!$C$3,設定シート!$C$4),\"Y\"))","v":""},"","",null,null,""]
[1533,null,null,"",null,"0000000",null,"福島市",null,null,null,null,"",null,"",{"$f":"IF(N1535=\"\",\"\",DATEDIF(N1535,DATE(設定シート!$C$2,設定シート!$C$3,設定シート!$C$4),\"Y\"))","v":""},"","",null,null,""]
[1534,null,null,"",null,"0000000",null,"福島市",null,null,null,null,"",null,"",{"$f":"IF(N1536=\"\",\"\",DATEDIF(N1536,DATE(設定シート!$C$2,設定シート!$C$3,設定シート!$C$4),\"Y\"))","v":""},"","",null,null,""]
[1535,null,null,"",null,"0000000",null,"福島市",null,null,null,null,"",null,"",{"$f":"IF(N1537=\"\",\"\",DATEDIF(N1537,DATE(設定シート!$C$2,設定シート!$C$3,設定シート!$C$4),\"Y\"))","v":""},"","",null,null,""]
[1536,null,null,"",null,"0000000",null,"福島市",null,null,null,null,"",null,"",{"$f":"IF(N1538=\"\",\"\",DATEDIF(N1538,DATE(設定シート!$C$2,設定シート!$C$3,設定シート!$C$4),\"Y\"))","v":""},"","",null,null,""]
[1537,null,null,{"$f":"PHONETIC(C1539)","v":""},null,{"$f":"TEXT(B1539,\"0000000\")","v":"0000000"},null,"福島市",null,null,null,null,{"$f":"IF(L1539=1,\"男\",IF(L1539=2,\"女\",\"\"))","v":""},null,{"$f":"IF(OR(E1539=\"\",N1539=\"\"),\"\",DATEDIF(N1539,E1539,\"Y\"))","v":""},{"$f":"IF(N1539=\"\",\"\",DATEDIF(N1539,DATE(設定シート!$C$2,設定シート!$C$3,設定シート!$C$4),\"Y\"))","v":""},{"$f":"IF(P1539=\"\",\"\",IF(P1539<=69,1,IF(P1539>=70,2,\"\")))","v":""},{"$f":"IF(OR(Q1539=1,Q1539=\"1\"),\"有料\",IF(OR(Q1539=2,Q1539=\"2\"),\"70・後\",IF(Q1539=3,\"生保\",IF(Q1539=4,\"非課税\",\"\"))))","v":""},null,null,{"$f":"IF(AND(L1539=2,P1539>=60),\"一単独\",IF(AND(L1539=2,P1539>=50,P1539<60),\"一併用\",IF(AND(L1539=2,P1539>=40,P1539<50),\"二併用\",\"\")))","v":""}]
[{"$f":"ROW()-2","v":1538},null,null,"",null,"0000000",null,"福島市",null,null,null,null,"",null,"",{"$f":"IF(N1540=\"\",\"\",DATEDIF(N1540,DATE(設定シート!$C$2,設定シート!$C$3,設定シート!$C$4),\"Y\"))","v":""},"","",null,null,""]
[1539,null,null,"",null,"0000000",null,"福島市",null,null,null,null,"",null,"",{"$f":"IF(N1541=\"\",\"\",DATEDIF(N1541,DATE(設定シート!$C$2,設定シート!$C$3,設定シート!$C$4),\"Y\"))","v":""},"","",null,null,""]
[1540,null,null,"",null,"0000000",null,"福島市",null,null,null,null,"",null,"",{"$f":"IF(N1542=\"\",\"\",DATEDIF(N1542,DATE(設定シート!$C$2,設定シート!$C$3,設定シート!$C$4),\"Y\"))","v":""},"","",null,null,""]
[1541,null,null,"",null,"0000000",null,"福島市",null,null,null,null,"",null,"",{"$f":"IF(N1543=\"\",\"\",DATEDIF(N1543,DATE(設定シート!$C$2,設定シート!$C$3,設定シート!$C$4),\"Y\"))","v":""},"","",null,null,""]
[1542,null,null,"",null,"0000000",null,"福島市",null,null,null,null,"",null,"",{"$f":"IF(N1544=\"\",\"\",DATEDIF(N1544,DATE(設定シート!$C$2,設定シート!$C$3,設定シート!$C$4),\"Y\"))","v":""},"","",null,null,""]
[1543,null,null,"",null,"0000000",null,"福島市",null,null,null,null,"",null,"",{"$f":"IF(N1545=\"\",\"\",DATEDIF(N1545,DATE(設定シート!$C$2,設定シート!$C$3,設定シート!$C$4),\"Y\"))","v":""},"","",null,null,""]
[1544,null,null,"",null,"0000000",null,"福島市",null,null,null,null,"",null,"",{"$f":"IF(N1546=\"\",\"\",DATEDIF(N1546,DATE(設定シート!$C$2,設定シート!$C$3,設定シート!$C$4),\"Y\"))","v":""},"","",null,null,""]
[1545,null,null,"",null,"0000000",null,"福島市",null,null,null,null,"",null,"",{"$f":"IF(N1547=\"\",\"\",DATEDIF(N1547,DATE(設定シート!$C$2,設定シート!$C$3,設定シート!$C$4),\"Y\"))","v":""},"","",null,null,""]
[1546,null,null,"",null,"0000000",null,"福島市",null,null,null,null,"",null,"",{"$f":"IF(N1548=\"\",\"\",DATEDIF(N1548,DATE(設定シート!$C$2,設定シート!$C$3,設定シート!$C$4),\"Y\"))","v":""},"","",null,null,""]
[1547,null,null,"",null,"0000000",null,"福島市",null,null,null,null,"",null,"",{"$f":"IF(N1549=\"\",\"\",DATEDIF(N1549,DATE(設定シート!$C$2,設定シート!$C$3,設定シート!$C$4),\"Y\"))","v":""},"","",null,null,""]
[1548,null,null,"",null,"0000000",null,"福島市",null,null,null,null,"",null,"",{"$f":"IF(N1550=\"\",\"\",DATEDIF(N1550,DATE(設定シート!$C$2,設定シート!$C$3,設定シート!$C$4),\"Y\"))","v":""},"","",null,null,""]
[1549,null,null,"",null,"0000000",null,"福島市",null,null,null,null,"",null,"",{"$f":"IF(N1551=\"\",\"\",DATEDIF(N1551,DATE(設定シート!$C$2,設定シート!$C$3,設定シート!$C$4),\"Y\"))","v":""},"","",null,null,""]
[1550,null,null,"",null,"0000000",null,"福島市",null,null,null,null,"",null,"",{"$f":"IF(N1552=\"\",\"\",DATEDIF(N1552,DATE(設定シート!$C$2,設定シート!$C$3,設定シート!$C$4),\"Y\"))","v":""},"","",null,null,""]
[1551,null,null,"",null,"0000000",null,"福島市",null,null,null,null,"",null,"",{"$f":"IF(N1553=\"\",\"\",DATEDIF(N1553,DATE(設定シート!$C$2,設定シート!$C$3,設定シート!$C$4),\"Y\"))","v":""},"","",null,null,""]
[1552,null,null,"",null,"0000000",null,"福島市",null,null,null,null,"",null,"",{"$f":"IF(N1554=\"\",\"\",DATEDIF(N1554,DATE(設定シート!$C$2,設定シート!$C$3,設定シート!$C$4),\"Y\"))","v":""},"","",null,null,""]
[1553,null,null,"",null,"0000000",null,"福島市",null,null,null,null,"",null,"",{"$f":"IF(N1555=\"\",\"\",DATEDIF(N1555,DATE(設定シート!$C$2,設定シート!$C$3,設定シート!$C$4),\"Y\"))","v":""},"","",null,null,""]
[1554,null,null,"",null,"0000000",null,"福島市",null,null,null,null,"",null,"",{"$f":"IF(N1556=\"\",\"\",DATEDIF(N1556,DATE(設定シート!$C$2,設定シート!$C$3,設定シート!$C$4),\"Y\"))","v":""},"","",null,null,""]
[1555,null,null,"",null,"0000000",null,"福島市",null,null,null,null,"",null,"",{"$f":"IF(N1557=\"\",\"\",DATEDIF(N1557,DATE(設定シート!$C$2,設定シート!$C$3,設定シート!$C$4),\"Y\"))","v":""},"","",null,null,""]
[1556,null,null,"",null,"0000000",null,"福島市",null,null,null,null,"",null,"",{"$f":"IF(N1558=\"\",\"\",DATEDIF(N1558,DATE(設定シート!$C$2,設定シート!$C$3,設定シート!$C$4),\"Y\"))","v":""},"","",null,null,""]
[1557,null,null,"",null,"0000000",null,"福島市",null,null,null,null,"",null,"",{"$f":"IF(N1559=\"\",\"\",DATEDIF(N1559,DATE(設定シート!$C$2,設定シート!$C$3,設定シート!$C$4),\"Y\"))","v":""},"","",null,null,""]
[1558,null,null,"",null,"0000000",null,"福島市",null,null,null,null,"",null,"",{"$f":"IF(N1560=\"\",\"\",DATEDIF(N1560,DATE(設定シート!$C$2,設定シート!$C$3,設定シート!$C$4),\"Y\"))","v":""},"","",null,null,""]
[1559,null,null,"",null,"0000000",null,"福島市",null,null,null,null,"",null,"",{"$f":"IF(N1561=\"\",\"\",DATEDIF(N1561,DATE(設定シート!$C$2,設定シート!$C$3,設定シート!$C$4),\"Y\"))","v":""},"","",null,null,""]
[1560,null,null,"",null,"0000000",null,"福島市",null,null,null,null,"",null,"",{"$f":"IF(N1562=\"\",\"\",DATEDIF(N1562,DATE(設定シート!$C$2,設定シート!$C$3,設定シート!$C$4),\"Y\"))","v":""},"","",null,null,""]
[1561,null,null,"",null,"0000000",null,"福島市",null,null,null,null,"",null,"",{"$f":"IF(N1563=\"\",\"\",DATEDIF(N1563,DATE(設定シート!$C$2,設定シート!$C$3,設定シート!$C$4),\"Y\"))","v":""},"","",null,null,""]
[1562,null,null,"",null,"0000000",null,"福島市",null,null,null,null,"",null,"",{"$f":"IF(N1564=\"\",\"\",DATEDIF(N1564,DATE(設定シート!$C$2,設定シート!$C$3,設定シート!$C$4),\"Y\"))","v":""},"","",null,null,""]
[1563,null,null,"",null,"0000000",null,"福島市",null,null,null,null,"",null,"",{"$f":"IF(N1565=\"\",\"\",DATEDIF(N1565,DATE(設定シート!$C$2,設定シート!$C$3,設定シート!$C$4),\"Y\"))","v":""},"","",null,null,""]
[1564,null,null,"",null,"0000000",null,"福島市",null,null,null,null,"",null,"",{"$f":"IF(N1566=\"\",\"\",DATEDIF(N1566,DATE(設定シート!$C$2,設定シート!$C$3,設定シート!$C$4),\"Y\"))","v":""},"","",null,null,""]
[1565,null,null,"",null,"0000000",null,"福島市",null,null,null,null,"",null,"",{"$f":"IF(N1567=\"\",\"\",DATEDIF(N1567,DATE(設定シート!$C$2,設定シート!$C$3,設定シート!$C$4),\"Y\"))","v":""},"","",null,null,""]
[1566,null,null,"",null,"0000000",null,"福島市",null,null,null,null,"",null,"",{"$f":"IF(N1568=\"\",\"\",DATEDIF(N1568,DATE(設定シート!$C$2,設定シート!$C$3,設定シート!$C$4),\"Y\"))","v":""},"","",null,null,""]
[1567,null,null,"",null,"0000000",null,"福島市",null,null,null,null,"",null,"",{"$f":"IF(N1569=\"\",\"\",DATEDIF(N1569,DATE(設定シート!$C$2,設定シート!$C$3,設定シート!$C$4),\"Y\"))","v":""},"","",null,null,""]
[1568,null,null,"",null,"0000000",null,"福島市",null,null,null,null,"",null,"",{"$f":"IF(N1570=\"\",\"\",DATEDIF(N1570,DATE(設定シート!$C$2,設定シート!$C$3,設定シート!$C$4),\"Y\"))","v":""},"","",null,null,""]
[1569,null,null,"",null,"0000000",null,"福島市",null,null,null,null,"",null,"",{"$f":"IF(N1571=\"\",\"\",DATEDIF(N1571,DATE(設定シート!$C$2,設定シート!$C$3,設定シート!$C$4),\"Y\"))","v":""},"","",null,null,""]
[1570,null,null,"",null,"0000000",null,"福島市",null,null,null,null,"",null,"",{"$f":"IF(N1572=\"\",\"\",DATEDIF(N1572,DATE(設定シート!$C$2,設定シート!$C$3,設定シート!$C$4),\"Y\"))","v":""},"","",null,null,""]
[1571,null,null,"",null,"0000000",null,"福島市",null,null,null,null,"",null,"",{"$f":"IF(N1573=\"\",\"\",DATEDIF(N1573,DATE(設定シート!$C$2,設定シート!$C$3,設定シート!$C$4),\"Y\"))","v":""},"","",null,null,""]
[1572,null,null,"",null,"0000000",null,"福島市",null,null,null,null,"",null,"",{"$f":"IF(N1574=\"\",\"\",DATEDIF(N1574,DATE(設定シート!$C$2,設定シート!$C$3,設定シート!$C$4),\"Y\"))","v":""},"","",null,null,""]
[1573,null,null,"",null,"0000000",null,"福島市",null,null,null,null,"",null,"",{"$f":"IF(N1575=\"\",\"\",DATEDIF(N1575,DATE(設定シート!$C$2,設定シート!$C$3,設定シート!$C$4),\"Y\"))","v":""},"","",null,null,""]
[1574,null,null,"",null,"0000000",null,"福島市",null,null,null,null,"",null,"",{"$f":"IF(N1576=\"\",\"\",DATEDIF(N1576,DATE(設定シート!$C$2,設定シート!$C$3,設定シート!$C$4),\"Y\"))","v":""},"","",null,null,""]
[1575,null,null,"",null,"0000000",null,"福島市",null,null,null,null,"",null,"",{"$f":"IF(N1577=\"\",\"\",DATEDIF(N1577,DATE(設定シート!$C$2,設定シート!$C$3,設定シート!$C$4),\"Y\"))","v":""},"","",null,null,""]
[1576,null,null,"",null,"0000000",null,"福島市",null,null,null,null,"",null,"",{"$f":"IF(N1578=\"\",\"\",DATEDIF(N1578,DATE(設定シート!$C$2,設定シート!$C$3,設定シート!$C$4),\"Y\"))","v":""},"","",null,null,""]
[1577,null,null,"",null,"0000000",null,"福島市",null,null,null,null,"",null,"",{"$f":"IF(N1579=\"\",\"\",DATEDIF(N1579,DATE(設定シート!$C$2,設定シート!$C$3,設定シート!$C$4),\"Y\"))","v":""},"","",null,null,""]
[1578,null,null,"",null,"0000000",null,"福島市",null,null,null,null,"",null,"",{"$f":"IF(N1580=\"\",\"\",DATEDIF(N1580,DATE(設定シート!$C$2,設定シート!$C$3,設定シート!$C$4),\"Y\"))","v":""},"","",null,null,""]
[1579,null,null,"",null,"0000000",null,"福島市",null,null,null,null,"",null,"",{"$f":"IF(N1581=\"\",\"\",DATEDIF(N1581,DATE(設定シート!$C$2,設定シート!$C$3,設定シート!$C$4),\"Y\"))","v":""},"","",null,null,""]
[1580,null,null,"",null,"0000000",null,"福島市",null,null,null,null,"",null,"",{"$f":"IF(N1582=\"\",\"\",DATEDIF(N1582,DATE(設定シート!$C$2,設定シート!$C$3,設定シート!$C$4),\"Y\"))","v":""},"","",null,null,""]
[1581,null,null,"",null,"0000000",null,"福島市",null,null,null,null,"",null,"",{"$f":"IF(N1583=\"\",\"\",DATEDIF(N1583,DATE(設定シート!$C$2,設定シート!$C$3,設定シート!$C$4),\"Y\"))","v":""},"","",null,null,""]
[1582,null,null,"",null,"0000000",null,"福島市",null,null,null,null,"",null,"",{"$f":"IF(N1584=\"\",\"\",DATEDIF(N1584,DATE(設定シート!$C$2,設定シート!$C$3,設定シート!$C$4),\"Y\"))","v":""},"","",null,null,""]
[1583,null,null,"",null,"0000000",null,"福島市",null,null,null,null,"",null,"",{"$f":"IF(N1585=\"\",\"\",DATEDIF(N1585,DATE(設定シート!$C$2,設定シート!$C$3,設定シート!$C$4),\"Y\"))","v":""},"","",null,null,""]
[1584,null,null,"",null,"0000000",null,"福島市",null,null,null,null,"",null,"",{"$f":"IF(N1586=\"\",\"\",DATEDIF(N1586,DATE(設定シート!$C$2,設定シート!$C$3,設定シート!$C$4),\"Y\"))","v":""},"","",null,null,""]
[1585,null,null,"",null,"0000000",null,"福島市",null,null,null,null,"",null,"",{"$f":"IF(N1587=\"\",\"\",DATEDIF(N1587,DATE(設定シート!$C$2,設定シート!$C$3,設定シート!$C$4),\"Y\"))","v":""},"","",null,null,""]
[1586,null,null,"",null,"0000000",null,"福島市",null,null,null,null,"",null,"",{"$f":"IF(N1588=\"\",\"\",DATEDIF(N1588,DATE(設定シート!$C$2,設定シート!$C$3,設定シート!$C$4),\"Y\"))","v":""},"","",null,null,""]
[1587,null,null,"",null,"0000000",null,"福島市",null,null,null,null,"",null,"",{"$f":"IF(N1589=\"\",\"\",DATEDIF(N1589,DATE(設定シート!$C$2,設定シート!$C$3,設定シート!$C$4),\"Y\"))","v":""},"","",null,null,""]
[1588,null,null,"",null,"0000000",null,"福島市",null,null,null,null,"",null,"",{"$f":"IF(N1590=\"\",\"\",DATEDIF(N1590,DATE(設定シート!$C$2,設定シート!$C$3,設定シート!$C$4),\"Y\"))","v":""},"","",null,null,""]
[1589,null,null,"",null,"0000000",null,"福島市",null,null,null,null,"",null,"",{"$f":"IF(N1591=\"\",\"\",DATEDIF(N1591,DATE(設定シート!$C$2,設定シート!$C$3,設定シート!$C$4),\"Y\"))","v":""},"","",null,null,""]
[1590,null,null,"",null,"0000000",null,"福島市",null,null,null,null,"",null,"",{"$f":"IF(N1592=\"\",\"\",DATEDIF(N1592,DATE(設定シート!$C$2,設定シート!$C$3,設定シート!$C$4),\"Y\"))","v":""},"","",null,null,""]
[1591,null,null,"",null,"0000000",null,"福島市",null,null,null,null,"",null,"",{"$f":"IF(N1593=\"\",\"\",DATEDIF(N1593,DATE(設定シート!$C$2,設定シート!$C$3,設定シート!$C$4),\"Y\"))","v":""},"","",null,null,""]
[1592,null,null,"",null,"0000000",null,"福島市",null,null,null,null,"",null,"",{"$f":"IF(N1594=\"\",\"\",DATEDIF(N1594,DATE(設定シート!$C$2,設定シート!$C$3,設定シート!$C$4),\"Y\"))","v":""},"","",null,null,""]
[1593,null,null,"",null,"0000000",null,"福島市",null,null,null,null,"",null,"",{"$f":"IF(N1595=\"\",\"\",DATEDIF(N1595,DATE(設定シート!$C$2,設定シート!$C$3,設定シート!$C$4),\"Y\"))","v":""},"","",null,null,""]
[1594,null,null,"",null,"0000000",null,"福島市",null,null,null,null,"",null,"",{"$f":"IF(N1596=\"\",\"\",DATEDIF(N1596,DATE(設定シート!$C$2,設定シート!$C$3,設定シート!$C$4),\"Y\"))","v":""},"","",null,null,""]
[1595,null,null,"",null,"0000000",null,"福島市",null,null,null,null,"",null,"",{"$f":"IF(N1597=\"\",\"\",DATEDIF(N1597,DATE(設定シート!$C$2,設定シート!$C$3,設定シート!$C$4),\"Y\"))","v":""},"","",null,null,""]
[1596,null,null,"",null,"0000000",null,"福島市",null,null,null,null,"",null,"",{"$f":"IF(N1598=\"\",\"\",DATEDIF(N1598,DATE(設定シート!$C$2,設定シート!$C$3,設定シート!$C$4),\"Y\"))","v":""},"","",null,null,""]
[1597,null,null,"",null,"0000000",null,"福島市",null,null,null,null,"",null,"",{"$f":"IF(N1599=\"\",\"\",DATEDIF(N1599,DATE(設定シート!$C$2,設定シート!$C$3,設定シート!$C$4),\"Y\"))","v":""},"","",null,null,""]
[1598,null,null,"",null,"0000000",null,"福島市",null,null,null,null,"",null,"",{"$f":"IF(N1600=\"\",\"\",DATEDIF(N1600,DATE(設定シート!$C$2,設定シート!$C$3,設定シート!$C$4),\"Y\"))","v":""},"","",null,null,""]
[1599,null,null,"",null,"0000000",null,"福島市",null,null,null,null,"",null,"",{"$f":"IF(N1601=\"\",\"\",DATEDIF(N1601,DATE(設定シート!$C$2,設定シート!$C$3,設定シート!$C$4),\"Y\"))","v":""},"","",null,null,""]
[1600,null,null,"",null,"0000000",null,"福島市",null,null,null,null,"",null,"",{"$f":"IF(N1602=\"\",\"\",DATEDIF(N1602,DATE(設定シート!$C$2,設定シート!$C$3,設定シート!$C$4),\"Y\"))","v":""},"","",null,null,""]
[1601,null,null,{"$f":"PHONETIC(C1603)","v":""},null,{"$f":"TEXT(B1603,\"0000000\")","v":"0000000"},null,"福島市",null,null,null,null,{"$f":"IF(L1603=1,\"男\",IF(L1603=2,\"女\",\"\"))","v":""},null,{"$f":"IF(OR(E1603=\"\",N1603=\"\"),\"\",DATEDIF(N1603,E1603,\"Y\"))","v":""},{"$f":"IF(N1603=\"\",\"\",DATEDIF(N1603,DATE(設定シート!$C$2,設定シート!$C$3,設定シート!$C$4),\"Y\"))","v":""},{"$f":"IF(P1603=\"\",\"\",IF(P1603<=69,1,IF(P1603>=70,2,\"\")))","v":""},{"$f":"IF(OR(Q1603=1,Q1603=\"1\"),\"有料\",IF(OR(Q1603=2,Q1603=\"2\"),\"70・後\",IF(Q1603=3,\"生保\",IF(Q1603=4,\"非課税\",\"\"))))","v":""},null,null,{"$f":"IF(AND(L1603=2,P1603>=60),\"一単独\",IF(AND(L1603=2,P1603>=50,P1603<60),\"一併用\",IF(AND(L1603=2,P1603>=40,P1603<50),\"二併用\",\"\")))","v":""}]
[{"$f":"ROW()-2","v":1602},null,null,"",null,"0000000",null,"福島市",null,null,null,null,"",null,"",{"$f":"IF(N1604=\"\",\"\",DATEDIF(N1604,DATE(設定シート!$C$2,設定シート!$C$3,設定シート!$C$4),\"Y\"))","v":""},"","",null,null,""]
[1603,null,null,"",null,"0000000",null,"福島市",null,null,null,null,"",null,"",{"$f":"IF(N1605=\"\",\"\",DATEDIF(N1605,DATE(設定シート!$C$2,設定シート!$C$3,設定シート!$C$4),\"Y\"))","v":""},"","",null,null,""]
[1604,null,null,"",null,"0000000",null,"福島市",null,null,null,null,"",null,"",{"$f":"IF(N1606=\"\",\"\",DATEDIF(N1606,DATE(設定シート!$C$2,設定シート!$C$3,設定シート!$C$4),\"Y\"))","v":""},"","",null,null,""]
[1605,null,null,"",null,"0000000",null,"福島市",null,null,null,null,"",null,"",{"$f":"IF(N1607=\"\",\"\",DATEDIF(N1607,DATE(設定シート!$C$2,設定シート!$C$3,設定シート!$C$4),\"Y\"))","v":""},"","",null,null,""]
[1606,null,null,"",null,"0000000",null,"福島市",null,null,null,null,"",null,"",{"$f":"IF(N1608=\"\",\"\",DATEDIF(N1608,DATE(設定シート!$C$2,設定シート!$C$3,設定シート!$C$4),\"Y\"))","v":""},"","",null,null,""]
[1607,null,null,"",null,"0000000",null,"福島市",null,null,null,null,"",null,"",{"$f":"IF(N1609=\"\",\"\",DATEDIF(N1609,DATE(設定シート!$C$2,設定シート!$C$3,設定シート!$C$4),\"Y\"))","v":""},"","",null,null,""]
[1608,null,null,"",null,"0000000",null,"福島市",null,null,null,null,"",null,"",{"$f":"IF(N1610=\"\",\"\",DATEDIF(N1610,DATE(設定シート!$C$2,設定シート!$C$3,設定シート!$C$4),\"Y\"))","v":""},"","",null,null,""]
[1609,null,null,"",null,"0000000",null,"福島市",null,null,null,null,"",null,"",{"$f":"IF(N1611=\"\",\"\",DATEDIF(N1611,DATE(設定シート!$C$2,設定シート!$C$3,設定シート!$C$4),\"Y\"))","v":""},"","",null,null,""]
[1610,null,null,"",null,"0000000",null,"福島市",null,null,null,null,"",null,"",{"$f":"IF(N1612=\"\",\"\",DATEDIF(N1612,DATE(設定シート!$C$2,設定シート!$C$3,設定シート!$C$4),\"Y\"))","v":""},"","",null,null,""]
[1611,null,null,"",null,"0000000",null,"福島市",null,null,null,null,"",null,"",{"$f":"IF(N1613=\"\",\"\",DATEDIF(N1613,DATE(設定シート!$C$2,設定シート!$C$3,設定シート!$C$4),\"Y\"))","v":""},"","",null,null,""]
[1612,null,null,"",null,"0000000",null,"福島市",null,null,null,null,"",null,"",{"$f":"IF(N1614=\"\",\"\",DATEDIF(N1614,DATE(設定シート!$C$2,設定シート!$C$3,設定シート!$C$4),\"Y\"))","v":""},"","",null,null,""]
[1613,null,null,"",null,"0000000",null,"福島市",null,null,null,null,"",null,"",{"$f":"IF(N1615=\"\",\"\",DATEDIF(N1615,DATE(設定シート!$C$2,設定シート!$C$3,設定シート!$C$4),\"Y\"))","v":""},"","",null,null,""]
[1614,null,null,"",null,"0000000",null,"福島市",null,null,null,null,"",null,"",{"$f":"IF(N1616=\"\",\"\",DATEDIF(N1616,DATE(設定シート!$C$2,設定シート!$C$3,設定シート!$C$4),\"Y\"))","v":""},"","",null,null,""]
[1615,null,null,"",null,"0000000",null,"福島市",null,null,null,null,"",null,"",{"$f":"IF(N1617=\"\",\"\",DATEDIF(N1617,DATE(設定シート!$C$2,設定シート!$C$3,設定シート!$C$4),\"Y\"))","v":""},"","",null,null,""]
[1616,null,null,"",null,"0000000",null,"福島市",null,null,null,null,"",null,"",{"$f":"IF(N1618=\"\",\"\",DATEDIF(N1618,DATE(設定シート!$C$2,設定シート!$C$3,設定シート!$C$4),\"Y\"))","v":""},"","",null,null,""]
[1617,null,null,"",null,"0000000",null,"福島市",null,null,null,null,"",null,"",{"$f":"IF(N1619=\"\",\"\",DATEDIF(N1619,DATE(設定シート!$C$2,設定シート!$C$3,設定シート!$C$4),\"Y\"))","v":""},"","",null,null,""]
[1618,null,null,"",null,"0000000",null,"福島市",null,null,null,null,"",null,"",{"$f":"IF(N1620=\"\",\"\",DATEDIF(N1620,DATE(設定シート!$C$2,設定シート!$C$3,設定シート!$C$4),\"Y\"))","v":""},"","",null,null,""]
[1619,null,null,"",null,"0000000",null,"福島市",null,null,null,null,"",null,"",{"$f":"IF(N1621=\"\",\"\",DATEDIF(N1621,DATE(設定シート!$C$2,設定シート!$C$3,設定シート!$C$4),\"Y\"))","v":""},"","",null,null,""]
[1620,null,null,"",null,"0000000",null,"福島市",null,null,null,null,"",null,"",{"$f":"IF(N1622=\"\",\"\",DATEDIF(N1622,DATE(設定シート!$C$2,設定シート!$C$3,設定シート!$C$4),\"Y\"))","v":""},"","",null,null,""]
[1621,null,null,"",null,"0000000",null,"福島市",null,null,null,null,"",null,"",{"$f":"IF(N1623=\"\",\"\",DATEDIF(N1623,DATE(設定シート!$C$2,設定シート!$C$3,設定シート!$C$4),\"Y\"))","v":""},"","",null,null,""]
[1622,null,null,"",null,"0000000",null,"福島市",null,null,null,null,"",null,"",{"$f":"IF(N1624=\"\",\"\",DATEDIF(N1624,DATE(設定シート!$C$2,設定シート!$C$3,設定シート!$C$4),\"Y\"))","v":""},"","",null,null,""]
[1623,null,null,"",null,"0000000",null,"福島市",null,null,null,null,"",null,"",{"$f":"IF(N1625=\"\",\"\",DATEDIF(N1625,DATE(設定シート!$C$2,設定シート!$C$3,設定シート!$C$4),\"Y\"))","v":""},"","",null,null,""]
[1624,null,null,"",null,"0000000",null,"福島市",null,null,null,null,"",null,"",{"$f":"IF(N1626=\"\",\"\",DATEDIF(N1626,DATE(設定シート!$C$2,設定シート!$C$3,設定シート!$C$4),\"Y\"))","v":""},"","",null,null,""]
[1625,null,null,"",null,"0000000",null,"福島市",null,null,null,null,"",null,"",{"$f":"IF(N1627=\"\",\"\",DATEDIF(N1627,DATE(設定シート!$C$2,設定シート!$C$3,設定シート!$C$4),\"Y\"))","v":""},"","",null,null,""]
[1626,null,null,"",null,"0000000",null,"福島市",null,null,null,null,"",null,"",{"$f":"IF(N1628=\"\",\"\",DATEDIF(N1628,DATE(設定シート!$C$2,設定シート!$C$3,設定シート!$C$4),\"Y\"))","v":""},"","",null,null,""]
[1627,null,null,"",null,"0000000",null,"福島市",null,null,null,null,"",null,"",{"$f":"IF(N1629=\"\",\"\",DATEDIF(N1629,DATE(設定シート!$C$2,設定シート!$C$3,設定シート!$C$4),\"Y\"))","v":""},"","",null,null,""]
[1628,null,null,"",null,"0000000",null,"福島市",null,null,null,null,"",null,"",{"$f":"IF(N1630=\"\",\"\",DATEDIF(N1630,DATE(設定シート!$C$2,設定シート!$C$3,設定シート!$C$4),\"Y\"))","v":""},"","",null,null,""]
[1629,null,null,"",null,"0000000",null,"福島市",null,null,null,null,"",null,"",{"$f":"IF(N1631=\"\",\"\",DATEDIF(N1631,DATE(設定シート!$C$2,設定シート!$C$3,設定シート!$C$4),\"Y\"))","v":""},"","",null,null,""]
[1630,null,null,"",null,"0000000",null,"福島市",null,null,null,null,"",null,"",{"$f":"IF(N1632=\"\",\"\",DATEDIF(N1632,DATE(設定シート!$C$2,設定シート!$C$3,設定シート!$C$4),\"Y\"))","v":""},"","",null,null,""]
[1631,null,null,"",null,"0000000",null,"福島市",null,null,null,null,"",null,"",{"$f":"IF(N1633=\"\",\"\",DATEDIF(N1633,DATE(設定シート!$C$2,設定シート!$C$3,設定シート!$C$4),\"Y\"))","v":""},"","",null,null,""]
[1632,null,null,"",null,"0000000",null,"福島市",null,null,null,null,"",null,"",{"$f":"IF(N1634=\"\",\"\",DATEDIF(N1634,DATE(設定シート!$C$2,設定シート!$C$3,設定シート!$C$4),\"Y\"))","v":""},"","",null,null,""]
[1633,null,null,"",null,"0000000",null,"福島市",null,null,null,null,"",null,"",{"$f":"IF(N1635=\"\",\"\",DATEDIF(N1635,DATE(設定シート!$C$2,設定シート!$C$3,設定シート!$C$4),\"Y\"))","v":""},"","",null,null,""]
[1634,null,null,"",null,"0000000",null,"福島市",null,null,null,null,"",null,"",{"$f":"IF(N1636=\"\",\"\",DATEDIF(N1636,DATE(設定シート!$C$2,設定シート!$C$3,設定シート!$C$4),\"Y\"))","v":""},"","",null,null,""]
[1635,null,null,"",null,"0000000",null,"福島市",null,null,null,null,"",null,"",{"$f":"IF(N1637=\"\",\"\",DATEDIF(N1637,DATE(設定シート!$C$2,設定シート!$C$3,設定シート!$C$4),\"Y\"))","v":""},"","",null,null,""]
[1636,null,null,"",null,"0000000",null,"福島市",null,null,null,null,"",null,"",{"$f":"IF(N1638=\"\",\"\",DATEDIF(N1638,DATE(設定シート!$C$2,設定シート!$C$3,設定シート!$C$4),\"Y\"))","v":""},"","",null,null,""]
[1637,null,null,"",null,"0000000",null,"福島市",null,null,null,null,"",null,"",{"$f":"IF(N1639=\"\",\"\",DATEDIF(N1639,DATE(設定シート!$C$2,設定シート!$C$3,設定シート!$C$4),\"Y\"))","v":""},"","",null,null,""]
[1638,null,null,"",null,"0000000",null,"福島市",null,null,null,null,"",null,"",{"$f":"IF(N1640=\"\",\"\",DATEDIF(N1640,DATE(設定シート!$C$2,設定シート!$C$3,設定シート!$C$4),\"Y\"))","v":""},"","",null,null,""]
[1639,null,null,"",null,"0000000",null,"福島市",null,null,null,null,"",null,"",{"$f":"IF(N1641=\"\",\"\",DATEDIF(N1641,DATE(設定シート!$C$2,設定シート!$C$3,設定シート!$C$4),\"Y\"))","v":""},"","",null,null,""]
[1640,null,null,"",null,"0000000",null,"福島市",null,null,null,null,"",null,"",{"$f":"IF(N1642=\"\",\"\",DATEDIF(N1642,DATE(設定シート!$C$2,設定シート!$C$3,設定シート!$C$4),\"Y\"))","v":""},"","",null,null,""]
[1641,null,null,"",null,"0000000",null,"福島市",null,null,null,null,"",null,"",{"$f":"IF(N1643=\"\",\"\",DATEDIF(N1643,DATE(設定シート!$C$2,設定シート!$C$3,設定シート!$C$4),\"Y\"))","v":""},"","",null,null,""]
[1642,null,null,"",null,"0000000",null,"福島市",null,null,null,null,"",null,"",{"$f":"IF(N1644=\"\",\"\",DATEDIF(N1644,DATE(設定シート!$C$2,設定シート!$C$3,設定シート!$C$4),\"Y\"))","v":""},"","",null,null,""]
[1643,null,null,"",null,"0000000",null,"福島市",null,null,null,null,"",null,"",{"$f":"IF(N1645=\"\",\"\",DATEDIF(N1645,DATE(設定シート!$C$2,設定シート!$C$3,設定シート!$C$4),\"Y\"))","v":""},"","",null,null,""]
[1644,null,null,"",null,"0000000",null,"福島市",null,null,null,null,"",null,"",{"$f":"IF(N1646=\"\",\"\",DATEDIF(N1646,DATE(設定シート!$C$2,設定シート!$C$3,設定シート!$C$4),\"Y\"))","v":""},"","",null,null,""]
[1645,null,null,"",null,"0000000",null,"福島市",null,null,null,null,"",null,"",{"$f":"IF(N1647=\"\",\"\",DATEDIF(N1647,DATE(設定シート!$C$2,設定シート!$C$3,設定シート!$C$4),\"Y\"))","v":""},"","",null,null,""]
[1646,null,null,"",null,"0000000",null,"福島市",null,null,null,null,"",null,"",{"$f":"IF(N1648=\"\",\"\",DATEDIF(N1648,DATE(設定シート!$C$2,設定シート!$C$3,設定シート!$C$4),\"Y\"))","v":""},"","",null,null,""]
[1647,null,null,"",null,"0000000",null,"福島市",null,null,null,null,"",null,"",{"$f":"IF(N1649=\"\",\"\",DATEDIF(N1649,DATE(設定シート!$C$2,設定シート!$C$3,設定シート!$C$4),\"Y\"))","v":""},"","",null,null,""]
[1648,null,null,"",null,"0000000",null,"福島市",null,null,null,null,"",null,"",{"$f":"IF(N1650=\"\",\"\",DATEDIF(N1650,DATE(設定シート!$C$2,設定シート!$C$3,設定シート!$C$4),\"Y\"))","v":""},"","",null,null,""]
[1649,null,null,"",null,"0000000",null,"福島市",null,null,null,null,"",null,"",{"$f":"IF(N1651=\"\",\"\",DATEDIF(N1651,DATE(設定シート!$C$2,設定シート!$C$3,設定シート!$C$4),\"Y\"))","v":""},"","",null,null,""]
[1650,null,null,"",null,"0000000",null,"福島市",null,null,null,null,"",null,"",{"$f":"IF(N1652=\"\",\"\",DATEDIF(N1652,DATE(設定シート!$C$2,設定シート!$C$3,設定シート!$C$4),\"Y\"))","v":""},"","",null,null,""]
[1651,null,null,"",null,"0000000",null,"福島市",null,null,null,null,"",null,"",{"$f":"IF(N1653=\"\",\"\",DATEDIF(N1653,DATE(設定シート!$C$2,設定シート!$C$3,設定シート!$C$4),\"Y\"))","v":""},"","",null,null,""]
[1652,null,null,"",null,"0000000",null,"福島市",null,null,null,null,"",null,"",{"$f":"IF(N1654=\"\",\"\",DATEDIF(N1654,DATE(設定シート!$C$2,設定シート!$C$3,設定シート!$C$4),\"Y\"))","v":""},"","",null,null,""]
[1653,null,null,"",null,"0000000",null,"福島市",null,null,null,null,"",null,"",{"$f":"IF(N1655=\"\",\"\",DATEDIF(N1655,DATE(設定シート!$C$2,設定シート!$C$3,設定シート!$C$4),\"Y\"))","v":""},"","",null,null,""]
[1654,null,null,"",null,"0000000",null,"福島市",null,null,null,null,"",null,"",{"$f":"IF(N1656=\"\",\"\",DATEDIF(N1656,DATE(設定シート!$C$2,設定シート!$C$3,設定シート!$C$4),\"Y\"))","v":""},"","",null,null,""]
[1655,null,null,"",null,"0000000",null,"福島市",null,null,null,null,"",null,"",{"$f":"IF(N1657=\"\",\"\",DATEDIF(N1657,DATE(設定シート!$C$2,設定シート!$C$3,設定シート!$C$4),\"Y\"))","v":""},"","",null,null,""]
[1656,null,null,"",null,"0000000",null,"福島市",null,null,null,null,"",null,"",{"$f":"IF(N1658=\"\",\"\",DATEDIF(N1658,DATE(設定シート!$C$2,設定シート!$C$3,設定シート!$C$4),\"Y\"))","v":""},"","",null,null,""]
[1657,null,null,"",null,"0000000",null,"福島市",null,null,null,null,"",null,"",{"$f":"IF(N1659=\"\",\"\",DATEDIF(N1659,DATE(設定シート!$C$2,設定シート!$C$3,設定シート!$C$4),\"Y\"))","v":""},"","",null,null,""]
[1658,null,null,"",null,"0000000",null,"福島市",null,null,null,null,"",null,"",{"$f":"IF(N1660=\"\",\"\",DATEDIF(N1660,DATE(設定シート!$C$2,設定シート!$C$3,設定シート!$C$4),\"Y\"))","v":""},"","",null,null,""]
[1659,null,null,"",null,"0000000",null,"福島市",null,null,null,null,"",null,"",{"$f":"IF(N1661=\"\",\"\",DATEDIF(N1661,DATE(設定シート!$C$2,設定シート!$C$3,設定シート!$C$4),\"Y\"))","v":""},"","",null,null,""]
[1660,null,null,"",null,"0000000",null,"福島市",null,null,null,null,"",null,"",{"$f":"IF(N1662=\"\",\"\",DATEDIF(N1662,DATE(設定シート!$C$2,設定シート!$C$3,設定シート!$C$4),\"Y\"))","v":""},"","",null,null,""]
[1661,null,null,"",null,"0000000",null,"福島市",null,null,null,null,"",null,"",{"$f":"IF(N1663=\"\",\"\",DATEDIF(N1663,DATE(設定シート!$C$2,設定シート!$C$3,設定シート!$C$4),\"Y\"))","v":""},"","",null,null,""]
[1662,null,null,"",null,"0000000",null,"福島市",null,null,null,null,"",null,"",{"$f":"IF(N1664=\"\",\"\",DATEDIF(N1664,DATE(設定シート!$C$2,設定シート!$C$3,設定シート!$C$4),\"Y\"))","v":""},"","",null,null,""]
[1663,null,null,"",null,"0000000",null,"福島市",null,null,null,null,"",null,"",{"$f":"IF(N1665=\"\",\"\",DATEDIF(N1665,DATE(設定シート!$C$2,設定シート!$C$3,設定シート!$C$4),\"Y\"))","v":""},"","",null,null,""]
[1664,null,null,"",null,"0000000",null,"福島市",null,null,null,null,"",null,"",{"$f":"IF(N1666=\"\",\"\",DATEDIF(N1666,DATE(設定シート!$C$2,設定シート!$C$3,設定シート!$C$4),\"Y\"))","v":""},"","",null,null,""]
[1665,null,null,{"$f":"PHONETIC(C1667)","v":""},null,{"$f":"TEXT(B1667,\"0000000\")","v":"0000000"},null,"福島市",null,null,null,null,{"$f":"IF(L1667=1,\"男\",IF(L1667=2,\"女\",\"\"))","v":""},null,{"$f":"IF(OR(E1667=\"\",N1667=\"\"),\"\",DATEDIF(N1667,E1667,\"Y\"))","v":""},{"$f":"IF(N1667=\"\",\"\",DATEDIF(N1667,DATE(設定シート!$C$2,設定シート!$C$3,設定シート!$C$4),\"Y\"))","v":""},{"$f":"IF(P1667=\"\",\"\",IF(P1667<=69,1,IF(P1667>=70,2,\"\")))","v":""},{"$f":"IF(OR(Q1667=1,Q1667=\"1\"),\"有料\",IF(OR(Q1667=2,Q1667=\"2\"),\"70・後\",IF(Q1667=3,\"生保\",IF(Q1667=4,\"非課税\",\"\"))))","v":""},null,null,{"$f":"IF(AND(L1667=2,P1667>=60),\"一単独\",IF(AND(L1667=2,P1667>=50,P1667<60),\"一併用\",IF(AND(L1667=2,P1667>=40,P1667<50),\"二併用\",\"\")))","v":""}]
[{"$f":"ROW()-2","v":1666},null,null,"",null,"0000000",null,"福島市",null,null,null,null,"",null,"",{"$f":"IF(N1668=\"\",\"\",DATEDIF(N1668,DATE(設定シート!$C$2,設定シート!$C$3,設定シート!$C$4),\"Y\"))","v":""},"","",null,null,""]
[1667,null,null,"",null,"0000000",null,"福島市",null,null,null,null,"",null,"",{"$f":"IF(N1669=\"\",\"\",DATEDIF(N1669,DATE(設定シート!$C$2,設定シート!$C$3,設定シート!$C$4),\"Y\"))","v":""},"","",null,null,""]
[1668,null,null,"",null,"0000000",null,"福島市",null,null,null,null,"",null,"",{"$f":"IF(N1670=\"\",\"\",DATEDIF(N1670,DATE(設定シート!$C$2,設定シート!$C$3,設定シート!$C$4),\"Y\"))","v":""},"","",null,null,""]
[1669,null,null,"",null,"0000000",null,"福島市",null,null,null,null,"",null,"",{"$f":"IF(N1671=\"\",\"\",DATEDIF(N1671,DATE(設定シート!$C$2,設定シート!$C$3,設定シート!$C$4),\"Y\"))","v":""},"","",null,null,""]
[1670,null,null,"",null,"0000000",null,"福島市",null,null,null,null,"",null,"",{"$f":"IF(N1672=\"\",\"\",DATEDIF(N1672,DATE(設定シート!$C$2,設定シート!$C$3,設定シート!$C$4),\"Y\"))","v":""},"","",null,null,""]
[1671,null,null,"",null,"0000000",null,"福島市",null,null,null,null,"",null,"",{"$f":"IF(N1673=\"\",\"\",DATEDIF(N1673,DATE(設定シート!$C$2,設定シート!$C$3,設定シート!$C$4),\"Y\"))","v":""},"","",null,null,""]
[1672,null,null,"",null,"0000000",null,"福島市",null,null,null,null,"",null,"",{"$f":"IF(N1674=\"\",\"\",DATEDIF(N1674,DATE(設定シート!$C$2,設定シート!$C$3,設定シート!$C$4),\"Y\"))","v":""},"","",null,null,""]
[1673,null,null,"",null,"0000000",null,"福島市",null,null,null,null,"",null,"",{"$f":"IF(N1675=\"\",\"\",DATEDIF(N1675,DATE(設定シート!$C$2,設定シート!$C$3,設定シート!$C$4),\"Y\"))","v":""},"","",null,null,""]
[1674,null,null,"",null,"0000000",null,"福島市",null,null,null,null,"",null,"",{"$f":"IF(N1676=\"\",\"\",DATEDIF(N1676,DATE(設定シート!$C$2,設定シート!$C$3,設定シート!$C$4),\"Y\"))","v":""},"","",null,null,""]
[1675,null,null,"",null,"0000000",null,"福島市",null,null,null,null,"",null,"",{"$f":"IF(N1677=\"\",\"\",DATEDIF(N1677,DATE(設定シート!$C$2,設定シート!$C$3,設定シート!$C$4),\"Y\"))","v":""},"","",null,null,""]
[1676,null,null,"",null,"0000000",null,"福島市",null,null,null,null,"",null,"",{"$f":"IF(N1678=\"\",\"\",DATEDIF(N1678,DATE(設定シート!$C$2,設定シート!$C$3,設定シート!$C$4),\"Y\"))","v":""},"","",null,null,""]
[1677,null,null,"",null,"0000000",null,"福島市",null,null,null,null,"",null,"",{"$f":"IF(N1679=\"\",\"\",DATEDIF(N1679,DATE(設定シート!$C$2,設定シート!$C$3,設定シート!$C$4),\"Y\"))","v":""},"","",null,null,""]
[1678,null,null,"",null,"0000000",null,"福島市",null,null,null,null,"",null,"",{"$f":"IF(N1680=\"\",\"\",DATEDIF(N1680,DATE(設定シート!$C$2,設定シート!$C$3,設定シート!$C$4),\"Y\"))","v":""},"","",null,null,""]
[1679,null,null,"",null,"0000000",null,"福島市",null,null,null,null,"",null,"",{"$f":"IF(N1681=\"\",\"\",DATEDIF(N1681,DATE(設定シート!$C$2,設定シート!$C$3,設定シート!$C$4),\"Y\"))","v":""},"","",null,null,""]
[1680,null,null,"",null,"0000000",null,"福島市",null,null,null,null,"",null,"",{"$f":"IF(N1682=\"\",\"\",DATEDIF(N1682,DATE(設定シート!$C$2,設定シート!$C$3,設定シート!$C$4),\"Y\"))","v":""},"","",null,null,""]
[1681,null,null,"",null,"0000000",null,"福島市",null,null,null,null,"",null,"",{"$f":"IF(N1683=\"\",\"\",DATEDIF(N1683,DATE(設定シート!$C$2,設定シート!$C$3,設定シート!$C$4),\"Y\"))","v":""},"","",null,null,""]
[1682,null,null,"",null,"0000000",null,"福島市",null,null,null,null,"",null,"",{"$f":"IF(N1684=\"\",\"\",DATEDIF(N1684,DATE(設定シート!$C$2,設定シート!$C$3,設定シート!$C$4),\"Y\"))","v":""},"","",null,null,""]
[1683,null,null,"",null,"0000000",null,"福島市",null,null,null,null,"",null,"",{"$f":"IF(N1685=\"\",\"\",DATEDIF(N1685,DATE(設定シート!$C$2,設定シート!$C$3,設定シート!$C$4),\"Y\"))","v":""},"","",null,null,""]
[1684,null,null,"",null,"0000000",null,"福島市",null,null,null,null,"",null,"",{"$f":"IF(N1686=\"\",\"\",DATEDIF(N1686,DATE(設定シート!$C$2,設定シート!$C$3,設定シート!$C$4),\"Y\"))","v":""},"","",null,null,""]
[1685,null,null,"",null,"0000000",null,"福島市",null,null,null,null,"",null,"",{"$f":"IF(N1687=\"\",\"\",DATEDIF(N1687,DATE(設定シート!$C$2,設定シート!$C$3,設定シート!$C$4),\"Y\"))","v":""},"","",null,null,""]
[1686,null,null,"",null,"0000000",null,"福島市",null,null,null,null,"",null,"",{"$f":"IF(N1688=\"\",\"\",DATEDIF(N1688,DATE(設定シート!$C$2,設定シート!$C$3,設定シート!$C$4),\"Y\"))","v":""},"","",null,null,""]
[1687,null,null,"",null,"0000000",null,"福島市",null,null,null,null,"",null,"",{"$f":"IF(N1689=\"\",\"\",DATEDIF(N1689,DATE(設定シート!$C$2,設定シート!$C$3,設定シート!$C$4),\"Y\"))","v":""},"","",null,null,""]
[1688,null,null,"",null,"0000000",null,"福島市",null,null,null,null,"",null,"",{"$f":"IF(N1690=\"\",\"\",DATEDIF(N1690,DATE(設定シート!$C$2,設定シート!$C$3,設定シート!$C$4),\"Y\"))","v":""},"","",null,null,""]
[1689,null,null,"",null,"0000000",null,"福島市",null,null,null,null,"",null,"",{"$f":"IF(N1691=\"\",\"\",DATEDIF(N1691,DATE(設定シート!$C$2,設定シート!$C$3,設定シート!$C$4),\"Y\"))","v":""},"","",null,null,""]
[1690,null,null,"",null,"0000000",null,"福島市",null,null,null,null,"",null,"",{"$f":"IF(N1692=\"\",\"\",DATEDIF(N1692,DATE(設定シート!$C$2,設定シート!$C$3,設定シート!$C$4),\"Y\"))","v":""},"","",null,null,""]
[1691,null,null,"",null,"0000000",null,"福島市",null,null,null,null,"",null,"",{"$f":"IF(N1693=\"\",\"\",DATEDIF(N1693,DATE(設定シート!$C$2,設定シート!$C$3,設定シート!$C$4),\"Y\"))","v":""},"","",null,null,""]
[1692,null,null,"",null,"0000000",null,"福島市",null,null,null,null,"",null,"",{"$f":"IF(N1694=\"\",\"\",DATEDIF(N1694,DATE(設定シート!$C$2,設定シート!$C$3,設定シート!$C$4),\"Y\"))","v":""},"","",null,null,""]
[1693,null,null,"",null,"0000000",null,"福島市",null,null,null,null,"",null,"",{"$f":"IF(N1695=\"\",\"\",DATEDIF(N1695,DATE(設定シート!$C$2,設定シート!$C$3,設定シート!$C$4),\"Y\"))","v":""},"","",null,null,""]
[1694,null,null,"",null,"0000000",null,"福島市",null,null,null,null,"",null,"",{"$f":"IF(N1696=\"\",\"\",DATEDIF(N1696,DATE(設定シート!$C$2,設定シート!$C$3,設定シート!$C$4),\"Y\"))","v":""},"","",null,null,""]
[1695,null,null,"",null,"0000000",null,"福島市",null,null,null,null,"",null,"",{"$f":"IF(N1697=\"\",\"\",DATEDIF(N1697,DATE(設定シート!$C$2,設定シート!$C$3,設定シート!$C$4),\"Y\"))","v":""},"","",null,null,""]
[1696,null,null,"",null,"0000000",null,"福島市",null,null,null,null,"",null,"",{"$f":"IF(N1698=\"\",\"\",DATEDIF(N1698,DATE(設定シート!$C$2,設定シート!$C$3,設定シート!$C$4),\"Y\"))","v":""},"","",null,null,""]
[1697,null,null,"",null,"0000000",null,"福島市",null,null,null,null,"",null,"",{"$f":"IF(N1699=\"\",\"\",DATEDIF(N1699,DATE(設定シート!$C$2,設定シート!$C$3,設定シート!$C$4),\"Y\"))","v":""},"","",null,null,""]
[1698,null,null,"",null,"0000000",null,"福島市",null,null,null,null,"",null,"",{"$f":"IF(N1700=\"\",\"\",DATEDIF(N1700,DATE(設定シート!$C$2,設定シート!$C$3,設定シート!$C$4),\"Y\"))","v":""},"","",null,null,""]
[1699,null,null,"",null,"0000000",null,"福島市",null,null,null,null,"",null,"",{"$f":"IF(N1701=\"\",\"\",DATEDIF(N1701,DATE(設定シート!$C$2,設定シート!$C$3,設定シート!$C$4),\"Y\"))","v":""},"","",null,null,""]
[1700,null,null,"",null,"0000000",null,"福島市",null,null,null,null,"",null,"",{"$f":"IF(N1702=\"\",\"\",DATEDIF(N1702,DATE(設定シート!$C$2,設定シート!$C$3,設定シート!$C$4),\"Y\"))","v":""},"","",null,null,""]
[1701,null,null,"",null,"0000000",null,"福島市",null,null,null,null,"",null,"",{"$f":"IF(N1703=\"\",\"\",DATEDIF(N1703,DATE(設定シート!$C$2,設定シート!$C$3,設定シート!$C$4),\"Y\"))","v":""},"","",null,null,""]
[1702,null,null,"",null,"0000000",null,"福島市",null,null,null,null,"",null,"",{"$f":"IF(N1704=\"\",\"\",DATEDIF(N1704,DATE(設定シート!$C$2,設定シート!$C$3,設定シート!$C$4),\"Y\"))","v":""},"","",null,null,""]
[1703,null,null,"",null,"0000000",null,"福島市",null,null,null,null,"",null,"",{"$f":"IF(N1705=\"\",\"\",DATEDIF(N1705,DATE(設定シート!$C$2,設定シート!$C$3,設定シート!$C$4),\"Y\"))","v":""},"","",null,null,""]
[1704,null,null,"",null,"0000000",null,"福島市",null,null,null,null,"",null,"",{"$f":"IF(N1706=\"\",\"\",DATEDIF(N1706,DATE(設定シート!$C$2,設定シート!$C$3,設定シート!$C$4),\"Y\"))","v":""},"","",null,null,""]
[1705,null,null,"",null,"0000000",null,"福島市",null,null,null,null,"",null,"",{"$f":"IF(N1707=\"\",\"\",DATEDIF(N1707,DATE(設定シート!$C$2,設定シート!$C$3,設定シート!$C$4),\"Y\"))","v":""},"","",null,null,""]
[1706,null,null,"",null,"0000000",null,"福島市",null,null,null,null,"",null,"",{"$f":"IF(N1708=\"\",\"\",DATEDIF(N1708,DATE(設定シート!$C$2,設定シート!$C$3,設定シート!$C$4),\"Y\"))","v":""},"","",null,null,""]
[1707,null,null,"",null,"0000000",null,"福島市",null,null,null,null,"",null,"",{"$f":"IF(N1709=\"\",\"\",DATEDIF(N1709,DATE(設定シート!$C$2,設定シート!$C$3,設定シート!$C$4),\"Y\"))","v":""},"","",null,null,""]
[1708,null,null,"",null,"0000000",null,"福島市",null,null,null,null,"",null,"",{"$f":"IF(N1710=\"\",\"\",DATEDIF(N1710,DATE(設定シート!$C$2,設定シート!$C$3,設定シート!$C$4),\"Y\"))","v":""},"","",null,null,""]
[1709,null,null,"",null,"0000000",null,"福島市",null,null,null,null,"",null,"",{"$f":"IF(N1711=\"\",\"\",DATEDIF(N1711,DATE(設定シート!$C$2,設定シート!$C$3,設定シート!$C$4),\"Y\"))","v":""},"","",null,null,""]
[1710,null,null,"",null,"0000000",null,"福島市",null,null,null,null,"",null,"",{"$f":"IF(N1712=\"\",\"\",DATEDIF(N1712,DATE(設定シート!$C$2,設定シート!$C$3,設定シート!$C$4),\"Y\"))","v":""},"","",null,null,""]
[1711,null,null,"",null,"0000000",null,"福島市",null,null,null,null,"",null,"",{"$f":"IF(N1713=\"\",\"\",DATEDIF(N1713,DATE(設定シート!$C$2,設定シート!$C$3,設定シート!$C$4),\"Y\"))","v":""},"","",null,null,""]
[1712,null,null,"",null,"0000000",null,"福島市",null,null,null,null,"",null,"",{"$f":"IF(N1714=\"\",\"\",DATEDIF(N1714,DATE(設定シート!$C$2,設定シート!$C$3,設定シート!$C$4),\"Y\"))","v":""},"","",null,null,""]
[1713,null,null,"",null,"0000000",null,"福島市",null,null,null,null,"",null,"",{"$f":"IF(N1715=\"\",\"\",DATEDIF(N1715,DATE(設定シート!$C$2,設定シート!$C$3,設定シート!$C$4),\"Y\"))","v":""},"","",null,null,""]
[1714,null,null,"",null,"0000000",null,"福島市",null,null,null,null,"",null,"",{"$f":"IF(N1716=\"\",\"\",DATEDIF(N1716,DATE(設定シート!$C$2,設定シート!$C$3,設定シート!$C$4),\"Y\"))","v":""},"","",null,null,""]
[1715,null,null,"",null,"0000000",null,"福島市",null,null,null,null,"",null,"",{"$f":"IF(N1717=\"\",\"\",DATEDIF(N1717,DATE(設定シート!$C$2,設定シート!$C$3,設定シート!$C$4),\"Y\"))","v":""},"","",null,null,""]
[1716,null,null,"",null,"0000000",null,"福島市",null,null,null,null,"",null,"",{"$f":"IF(N1718=\"\",\"\",DATEDIF(N1718,DATE(設定シート!$C$2,設定シート!$C$3,設定シート!$C$4),\"Y\"))","v":""},"","",null,null,""]
[1717,null,null,"",null,"0000000",null,"福島市",null,null,null,null,"",null,"",{"$f":"IF(N1719=\"\",\"\",DATEDIF(N1719,DATE(設定シート!$C$2,設定シート!$C$3,設定シート!$C$4),\"Y\"))","v":""},"","",null,null,""]
[1718,null,null,"",null,"0000000",null,"福島市",null,null,null,null,"",null,"",{"$f":"IF(N1720=\"\",\"\",DATEDIF(N1720,DATE(設定シート!$C$2,設定シート!$C$3,設定シート!$C$4),\"Y\"))","v":""},"","",null,null,""]
[1719,null,null,"",null,"0000000",null,"福島市",null,null,null,null,"",null,"",{"$f":"IF(N1721=\"\",\"\",DATEDIF(N1721,DATE(設定シート!$C$2,設定シート!$C$3,設定シート!$C$4),\"Y\"))","v":""},"","",null,null,""]
[1720,null,null,"",null,"0000000",null,"福島市",null,null,null,null,"",null,"",{"$f":"IF(N1722=\"\",\"\",DATEDIF(N1722,DATE(設定シート!$C$2,設定シート!$C$3,設定シート!$C$4),\"Y\"))","v":""},"","",null,null,""]
[1721,null,null,"",null,"0000000",null,"福島市",null,null,null,null,"",null,"",{"$f":"IF(N1723=\"\",\"\",DATEDIF(N1723,DATE(設定シート!$C$2,設定シート!$C$3,設定シート!$C$4),\"Y\"))","v":""},"","",null,null,""]
[1722,null,null,"",null,"0000000",null,"福島市",null,null,null,null,"",null,"",{"$f":"IF(N1724=\"\",\"\",DATEDIF(N1724,DATE(設定シート!$C$2,設定シート!$C$3,設定シート!$C$4),\"Y\"))","v":""},"","",null,null,""]
[1723,null,null,"",null,"0000000",null,"福島市",null,null,null,null,"",null,"",{"$f":"IF(N1725=\"\",\"\",DATEDIF(N1725,DATE(設定シート!$C$2,設定シート!$C$3,設定シート!$C$4),\"Y\"))","v":""},"","",null,null,""]
[1724,null,null,"",null,"0000000",null,"福島市",null,null,null,null,"",null,"",{"$f":"IF(N1726=\"\",\"\",DATEDIF(N1726,DATE(設定シート!$C$2,設定シート!$C$3,設定シート!$C$4),\"Y\"))","v":""},"","",null,null,""]
[1725,null,null,"",null,"0000000",null,"福島市",null,null,null,null,"",null,"",{"$f":"IF(N1727=\"\",\"\",DATEDIF(N1727,DATE(設定シート!$C$2,設定シート!$C$3,設定シート!$C$4),\"Y\"))","v":""},"","",null,null,""]
[1726,null,null,"",null,"0000000",null,"福島市",null,null,null,null,"",null,"",{"$f":"IF(N1728=\"\",\"\",DATEDIF(N1728,DATE(設定シート!$C$2,設定シート!$C$3,設定シート!$C$4),\"Y\"))","v":""},"","",null,null,""]
[1727,null,null,"",null,"0000000",null,"福島市",null,null,null,null,"",null,"",{"$f":"IF(N1729=\"\",\"\",DATEDIF(N1729,DATE(設定シート!$C$2,設定シート!$C$3,設定シート!$C$4),\"Y\"))","v":""},"","",null,null,""]
[1728,null,null,"",null,"0000000",null,"福島市",null,null,null,null,"",null,"",{"$f":"IF(N1730=\"\",\"\",DATEDIF(N1730,DATE(設定シート!$C$2,設定シート!$C$3,設定シート!$C$4),\"Y\"))","v":""},"","",null,null,""]
[1729,null,null,{"$f":"PHONETIC(C1731)","v":""},null,{"$f":"TEXT(B1731,\"0000000\")","v":"0000000"},null,"福島市",null,null,null,null,{"$f":"IF(L1731=1,\"男\",IF(L1731=2,\"女\",\"\"))","v":""},null,{"$f":"IF(OR(E1731=\"\",N1731=\"\"),\"\",DATEDIF(N1731,E1731,\"Y\"))","v":""},{"$f":"IF(N1731=\"\",\"\",DATEDIF(N1731,DATE(設定シート!$C$2,設定シート!$C$3,設定シート!$C$4),\"Y\"))","v":""},{"$f":"IF(P1731=\"\",\"\",IF(P1731<=69,1,IF(P1731>=70,2,\"\")))","v":""},{"$f":"IF(OR(Q1731=1,Q1731=\"1\"),\"有料\",IF(OR(Q1731=2,Q1731=\"2\"),\"70・後\",IF(Q1731=3,\"生保\",IF(Q1731=4,\"非課税\",\"\"))))","v":""},null,null,{"$f":"IF(AND(L1731=2,P1731>=60),\"一単独\",IF(AND(L1731=2,P1731>=50,P1731<60),\"一併用\",IF(AND(L1731=2,P1731>=40,P1731<50),\"二併用\",\"\")))","v":""}]
[{"$f":"ROW()-2","v":1730},null,null,"",null,"0000000",null,"福島市",null,null,null,null,"",null,"",{"$f":"IF(N1732=\"\",\"\",DATEDIF(N1732,DATE(設定シート!$C$2,設定シート!$C$3,設定シート!$C$4),\"Y\"))","v":""},"","",null,null,""]
[1731,null,null,"",null,"0000000",null,"福島市",null,null,null,null,"",null,"",{"$f":"IF(N1733=\"\",\"\",DATEDIF(N1733,DATE(設定シート!$C$2,設定シート!$C$3,設定シート!$C$4),\"Y\"))","v":""},"","",null,null,""]
[1732,null,null,"",null,"0000000",null,"福島市",null,null,null,null,"",null,"",{"$f":"IF(N1734=\"\",\"\",DATEDIF(N1734,DATE(設定シート!$C$2,設定シート!$C$3,設定シート!$C$4),\"Y\"))","v":""},"","",null,null,""]
[1733,null,null,"",null,"0000000",null,"福島市",null,null,null,null,"",null,"",{"$f":"IF(N1735=\"\",\"\",DATEDIF(N1735,DATE(設定シート!$C$2,設定シート!$C$3,設定シート!$C$4),\"Y\"))","v":""},"","",null,null,""]
[1734,null,null,"",null,"0000000",null,"福島市",null,null,null,null,"",null,"",{"$f":"IF(N1736=\"\",\"\",DATEDIF(N1736,DATE(設定シート!$C$2,設定シート!$C$3,設定シート!$C$4),\"Y\"))","v":""},"","",null,null,""]
[1735,null,null,"",null,"0000000",null,"福島市",null,null,null,null,"",null,"",{"$f":"IF(N1737=\"\",\"\",DATEDIF(N1737,DATE(設定シート!$C$2,設定シート!$C$3,設定シート!$C$4),\"Y\"))","v":""},"","",null,null,""]
[1736,null,null,"",null,"0000000",null,"福島市",null,null,null,null,"",null,"",{"$f":"IF(N1738=\"\",\"\",DATEDIF(N1738,DATE(設定シート!$C$2,設定シート!$C$3,設定シート!$C$4),\"Y\"))","v":""},"","",null,null,""]
[1737,null,null,"",null,"0000000",null,"福島市",null,null,null,null,"",null,"",{"$f":"IF(N1739=\"\",\"\",DATEDIF(N1739,DATE(設定シート!$C$2,設定シート!$C$3,設定シート!$C$4),\"Y\"))","v":""},"","",null,null,""]
[1738,null,null,"",null,"0000000",null,"福島市",null,null,null,null,"",null,"",{"$f":"IF(N1740=\"\",\"\",DATEDIF(N1740,DATE(設定シート!$C$2,設定シート!$C$3,設定シート!$C$4),\"Y\"))","v":""},"","",null,null,""]
[1739,null,null,"",null,"0000000",null,"福島市",null,null,null,null,"",null,"",{"$f":"IF(N1741=\"\",\"\",DATEDIF(N1741,DATE(設定シート!$C$2,設定シート!$C$3,設定シート!$C$4),\"Y\"))","v":""},"","",null,null,""]
[1740,null,null,"",null,"0000000",null,"福島市",null,null,null,null,"",null,"",{"$f":"IF(N1742=\"\",\"\",DATEDIF(N1742,DATE(設定シート!$C$2,設定シート!$C$3,設定シート!$C$4),\"Y\"))","v":""},"","",null,null,""]
[1741,null,null,"",null,"0000000",null,"福島市",null,null,null,null,"",null,"",{"$f":"IF(N1743=\"\",\"\",DATEDIF(N1743,DATE(設定シート!$C$2,設定シート!$C$3,設定シート!$C$4),\"Y\"))","v":""},"","",null,null,""]
[1742,null,null,"",null,"0000000",null,"福島市",null,null,null,null,"",null,"",{"$f":"IF(N1744=\"\",\"\",DATEDIF(N1744,DATE(設定シート!$C$2,設定シート!$C$3,設定シート!$C$4),\"Y\"))","v":""},"","",null,null,""]
[1743,null,null,"",null,"0000000",null,"福島市",null,null,null,null,"",null,"",{"$f":"IF(N1745=\"\",\"\",DATEDIF(N1745,DATE(設定シート!$C$2,設定シート!$C$3,設定シート!$C$4),\"Y\"))","v":""},"","",null,null,""]
[1744,null,null,"",null,"0000000",null,"福島市",null,null,null,null,"",null,"",{"$f":"IF(N1746=\"\",\"\",DATEDIF(N1746,DATE(設定シート!$C$2,設定シート!$C$3,設定シート!$C$4),\"Y\"))","v":""},"","",null,null,""]
[1745,null,null,"",null,"0000000",null,"福島市",null,null,null,null,"",null,"",{"$f":"IF(N1747=\"\",\"\",DATEDIF(N1747,DATE(設定シート!$C$2,設定シート!$C$3,設定シート!$C$4),\"Y\"))","v":""},"","",null,null,""]
[1746,null,null,"",null,"0000000",null,"福島市",null,null,null,null,"",null,"",{"$f":"IF(N1748=\"\",\"\",DATEDIF(N1748,DATE(設定シート!$C$2,設定シート!$C$3,設定シート!$C$4),\"Y\"))","v":""},"","",null,null,""]
[1747,null,null,"",null,"0000000",null,"福島市",null,null,null,null,"",null,"",{"$f":"IF(N1749=\"\",\"\",DATEDIF(N1749,DATE(設定シート!$C$2,設定シート!$C$3,設定シート!$C$4),\"Y\"))","v":""},"","",null,null,""]
[1748,null,null,"",null,"0000000",null,"福島市",null,null,null,null,"",null,"",{"$f":"IF(N1750=\"\",\"\",DATEDIF(N1750,DATE(設定シート!$C$2,設定シート!$C$3,設定シート!$C$4),\"Y\"))","v":""},"","",null,null,""]
[1749,null,null,"",null,"0000000",null,"福島市",null,null,null,null,"",null,"",{"$f":"IF(N1751=\"\",\"\",DATEDIF(N1751,DATE(設定シート!$C$2,設定シート!$C$3,設定シート!$C$4),\"Y\"))","v":""},"","",null,null,""]
[1750,null,null,"",null,"0000000",null,"福島市",null,null,null,null,"",null,"",{"$f":"IF(N1752=\"\",\"\",DATEDIF(N1752,DATE(設定シート!$C$2,設定シート!$C$3,設定シート!$C$4),\"Y\"))","v":""},"","",null,null,""]
[1751,null,null,"",null,"0000000",null,"福島市",null,null,null,null,"",null,"",{"$f":"IF(N1753=\"\",\"\",DATEDIF(N1753,DATE(設定シート!$C$2,設定シート!$C$3,設定シート!$C$4),\"Y\"))","v":""},"","",null,null,""]
[1752,null,null,"",null,"0000000",null,"福島市",null,null,null,null,"",null,"",{"$f":"IF(N1754=\"\",\"\",DATEDIF(N1754,DATE(設定シート!$C$2,設定シート!$C$3,設定シート!$C$4),\"Y\"))","v":""},"","",null,null,""]
[1753,null,null,"",null,"0000000",null,"福島市",null,null,null,null,"",null,"",{"$f":"IF(N1755=\"\",\"\",DATEDIF(N1755,DATE(設定シート!$C$2,設定シート!$C$3,設定シート!$C$4),\"Y\"))","v":""},"","",null,null,""]
[1754,null,null,"",null,"0000000",null,"福島市",null,null,null,null,"",null,"",{"$f":"IF(N1756=\"\",\"\",DATEDIF(N1756,DATE(設定シート!$C$2,設定シート!$C$3,設定シート!$C$4),\"Y\"))","v":""},"","",null,null,""]
[1755,null,null,"",null,"0000000",null,"福島市",null,null,null,null,"",null,"",{"$f":"IF(N1757=\"\",\"\",DATEDIF(N1757,DATE(設定シート!$C$2,設定シート!$C$3,設定シート!$C$4),\"Y\"))","v":""},"","",null,null,""]
[1756,null,null,"",null,"0000000",null,"福島市",null,null,null,null,"",null,"",{"$f":"IF(N1758=\"\",\"\",DATEDIF(N1758,DATE(設定シート!$C$2,設定シート!$C$3,設定シート!$C$4),\"Y\"))","v":""},"","",null,null,""]
[1757,null,null,"",null,"0000000",null,"福島市",null,null,null,null,"",null,"",{"$f":"IF(N1759=\"\",\"\",DATEDIF(N1759,DATE(設定シート!$C$2,設定シート!$C$3,設定シート!$C$4),\"Y\"))","v":""},"","",null,null,""]
[1758,null,null,"",null,"0000000",null,"福島市",null,null,null,null,"",null,"",{"$f":"IF(N1760=\"\",\"\",DATEDIF(N1760,DATE(設定シート!$C$2,設定シート!$C$3,設定シート!$C$4),\"Y\"))","v":""},"","",null,null,""]
[1759,null,null,"",null,"0000000",null,"福島市",null,null,null,null,"",null,"",{"$f":"IF(N1761=\"\",\"\",DATEDIF(N1761,DATE(設定シート!$C$2,設定シート!$C$3,設定シート!$C$4),\"Y\"))","v":""},"","",null,null,""]
[1760,null,null,"",null,"0000000",null,"福島市",null,null,null,null,"",null,"",{"$f":"IF(N1762=\"\",\"\",DATEDIF(N1762,DATE(設定シート!$C$2,設定シート!$C$3,設定シート!$C$4),\"Y\"))","v":""},"","",null,null,""]
[1761,null,null,"",null,"0000000",null,"福島市",null,null,null,null,"",null,"",{"$f":"IF(N1763=\"\",\"\",DATEDIF(N1763,DATE(設定シート!$C$2,設定シート!$C$3,設定シート!$C$4),\"Y\"))","v":""},"","",null,null,""]
[1762,null,null,"",null,"0000000",null,"福島市",null,null,null,null,"",null,"",{"$f":"IF(N1764=\"\",\"\",DATEDIF(N1764,DATE(設定シート!$C$2,設定シート!$C$3,設定シート!$C$4),\"Y\"))","v":""},"","",null,null,""]
[1763,null,null,"",null,"0000000",null,"福島市",null,null,null,null,"",null,"",{"$f":"IF(N1765=\"\",\"\",DATEDIF(N1765,DATE(設定シート!$C$2,設定シート!$C$3,設定シート!$C$4),\"Y\"))","v":""},"","",null,null,""]
[1764,null,null,"",null,"0000000",null,"福島市",null,null,null,null,"",null,"",{"$f":"IF(N1766=\"\",\"\",DATEDIF(N1766,DATE(設定シート!$C$2,設定シート!$C$3,設定シート!$C$4),\"Y\"))","v":""},"","",null,null,""]
[1765,null,null,"",null,"0000000",null,"福島市",null,null,null,null,"",null,"",{"$f":"IF(N1767=\"\",\"\",DATEDIF(N1767,DATE(設定シート!$C$2,設定シート!$C$3,設定シート!$C$4),\"Y\"))","v":""},"","",null,null,""]
[1766,null,null,"",null,"0000000",null,"福島市",null,null,null,null,"",null,"",{"$f":"IF(N1768=\"\",\"\",DATEDIF(N1768,DATE(設定シート!$C$2,設定シート!$C$3,設定シート!$C$4),\"Y\"))","v":""},"","",null,null,""]
[1767,null,null,"",null,"0000000",null,"福島市",null,null,null,null,"",null,"",{"$f":"IF(N1769=\"\",\"\",DATEDIF(N1769,DATE(設定シート!$C$2,設定シート!$C$3,設定シート!$C$4),\"Y\"))","v":""},"","",null,null,""]
[1768,null,null,"",null,"0000000",null,"福島市",null,null,null,null,"",null,"",{"$f":"IF(N1770=\"\",\"\",DATEDIF(N1770,DATE(設定シート!$C$2,設定シート!$C$3,設定シート!$C$4),\"Y\"))","v":""},"","",null,null,""]
[1769,null,null,"",null,"0000000",null,"福島市",null,null,null,null,"",null,"",{"$f":"IF(N1771=\"\",\"\",DATEDIF(N1771,DATE(設定シート!$C$2,設定シート!$C$3,設定シート!$C$4),\"Y\"))","v":""},"","",null,null,""]
[1770,null,null,"",null,"0000000",null,"福島市",null,null,null,null,"",null,"",{"$f":"IF(N1772=\"\",\"\",DATEDIF(N1772,DATE(設定シート!$C$2,設定シート!$C$3,設定シート!$C$4),\"Y\"))","v":""},"","",null,null,""]
[1771,null,null,"",null,"0000000",null,"福島市",null,null,null,null,"",null,"",{"$f":"IF(N1773=\"\",\"\",DATEDIF(N1773,DATE(設定シート!$C$2,設定シート!$C$3,設定シート!$C$4),\"Y\"))","v":""},"","",null,null,""]
[1772,null,null,"",null,"0000000",null,"福島市",null,null,null,null,"",null,"",{"$f":"IF(N1774=\"\",\"\",DATEDIF(N1774,DATE(設定シート!$C$2,設定シート!$C$3,設定シート!$C$4),\"Y\"))","v":""},"","",null,null,""]
[1773,null,null,"",null,"0000000",null,"福島市",null,null,null,null,"",null,"",{"$f":"IF(N1775=\"\",\"\",DATEDIF(N1775,DATE(設定シート!$C$2,設定シート!$C$3,設定シート!$C$4),\"Y\"))","v":""},"","",null,null,""]
[1774,null,null,"",null,"0000000",null,"福島市",null,null,null,null,"",null,"",{"$f":"IF(N1776=\"\",\"\",DATEDIF(N1776,DATE(設定シート!$C$2,設定シート!$C$3,設定シート!$C$4),\"Y\"))","v":""},"","",null,null,""]
[1775,null,null,"",null,"0000000",null,"福島市",null,null,null,null,"",null,"",{"$f":"IF(N1777=\"\",\"\",DATEDIF(N1777,DATE(設定シート!$C$2,設定シート!$C$3,設定シート!$C$4),\"Y\"))","v":""},"","",null,null,""]
[1776,null,null,"",null,"0000000",null,"福島市",null,null,null,null,"",null,"",{"$f":"IF(N1778=\"\",\"\",DATEDIF(N1778,DATE(設定シート!$C$2,設定シート!$C$3,設定シート!$C$4),\"Y\"))","v":""},"","",null,null,""]
[1777,null,null,"",null,"0000000",null,"福島市",null,null,null,null,"",null,"",{"$f":"IF(N1779=\"\",\"\",DATEDIF(N1779,DATE(設定シート!$C$2,設定シート!$C$3,設定シート!$C$4),\"Y\"))","v":""},"","",null,null,""]
[1778,null,null,"",null,"0000000",null,"福島市",null,null,null,null,"",null,"",{"$f":"IF(N1780=\"\",\"\",DATEDIF(N1780,DATE(設定シート!$C$2,設定シート!$C$3,設定シート!$C$4),\"Y\"))","v":""},"","",null,null,""]
[1779,null,null,"",null,"0000000",null,"福島市",null,null,null,null,"",null,"",{"$f":"IF(N1781=\"\",\"\",DATEDIF(N1781,DATE(設定シート!$C$2,設定シート!$C$3,設定シート!$C$4),\"Y\"))","v":""},"","",null,null,""]
[1780,null,null,"",null,"0000000",null,"福島市",null,null,null,null,"",null,"",{"$f":"IF(N1782=\"\",\"\",DATEDIF(N1782,DATE(設定シート!$C$2,設定シート!$C$3,設定シート!$C$4),\"Y\"))","v":""},"","",null,null,""]
[1781,null,null,"",null,"0000000",null,"福島市",null,null,null,null,"",null,"",{"$f":"IF(N1783=\"\",\"\",DATEDIF(N1783,DATE(設定シート!$C$2,設定シート!$C$3,設定シート!$C$4),\"Y\"))","v":""},"","",null,null,""]
[1782,null,null,"",null,"0000000",null,"福島市",null,null,null,null,"",null,"",{"$f":"IF(N1784=\"\",\"\",DATEDIF(N1784,DATE(設定シート!$C$2,設定シート!$C$3,設定シート!$C$4),\"Y\"))","v":""},"","",null,null,""]
[1783,null,null,"",null,"0000000",null,"福島市",null,null,null,null,"",null,"",{"$f":"IF(N1785=\"\",\"\",DATEDIF(N1785,DATE(設定シート!$C$2,設定シート!$C$3,設定シート!$C$4),\"Y\"))","v":""},"","",null,null,""]
[1784,null,null,"",null,"0000000",null,"福島市",null,null,null,null,"",null,"",{"$f":"IF(N1786=\"\",\"\",DATEDIF(N1786,DATE(設定シート!$C$2,設定シート!$C$3,設定シート!$C$4),\"Y\"))","v":""},"","",null,null,""]
[1785,null,null,"",null,"0000000",null,"福島市",null,null,null,null,"",null,"",{"$f":"IF(N1787=\"\",\"\",DATEDIF(N1787,DATE(設定シート!$C$2,設定シート!$C$3,設定シート!$C$4),\"Y\"))","v":""},"","",null,null,""]
[1786,null,null,"",null,"0000000",null,"福島市",null,null,null,null,"",null,"",{"$f":"IF(N1788=\"\",\"\",DATEDIF(N1788,DATE(設定シート!$C$2,設定シート!$C$3,設定シート!$C$4),\"Y\"))","v":""},"","",null,null,""]
[1787,null,null,"",null,"0000000",null,"福島市",null,null,null,null,"",null,"",{"$f":"IF(N1789=\"\",\"\",DATEDIF(N1789,DATE(設定シート!$C$2,設定シート!$C$3,設定シート!$C$4),\"Y\"))","v":""},"","",null,null,""]
[1788,null,null,"",null,"0000000",null,"福島市",null,null,null,null,"",null,"",{"$f":"IF(N1790=\"\",\"\",DATEDIF(N1790,DATE(設定シート!$C$2,設定シート!$C$3,設定シート!$C$4),\"Y\"))","v":""},"","",null,null,""]
[1789,null,null,"",null,"0000000",null,"福島市",null,null,null,null,"",null,"",{"$f":"IF(N1791=\"\",\"\",DATEDIF(N1791,DATE(設定シート!$C$2,設定シート!$C$3,設定シート!$C$4),\"Y\"))","v":""},"","",null,null,""]
[1790,null,null,"",null,"0000000",null,"福島市",null,null,null,null,"",null,"",{"$f":"IF(N1792=\"\",\"\",DATEDIF(N1792,DATE(設定シート!$C$2,設定シート!$C$3,設定シート!$C$4),\"Y\"))","v":""},"","",null,null,""]
[1791,null,null,"",null,"0000000",null,"福島市",null,null,null,null,"",null,"",{"$f":"IF(N1793=\"\",\"\",DATEDIF(N1793,DATE(設定シート!$C$2,設定シート!$C$3,設定シート!$C$4),\"Y\"))","v":""},"","",null,null,""]
[1792,null,null,"",null,"0000000",null,"福島市",null,null,null,null,"",null,"",{"$f":"IF(N1794=\"\",\"\",DATEDIF(N1794,DATE(設定シート!$C$2,設定シート!$C$3,設定シート!$C$4),\"Y\"))","v":""},"","",null,null,""]
[1793,null,null,{"$f":"PHONETIC(C1795)","v":""},null,{"$f":"TEXT(B1795,\"0000000\")","v":"0000000"},null,"福島市",null,null,null,null,{"$f":"IF(L1795=1,\"男\",IF(L1795=2,\"女\",\"\"))","v":""},null,{"$f":"IF(OR(E1795=\"\",N1795=\"\"),\"\",DATEDIF(N1795,E1795,\"Y\"))","v":""},{"$f":"IF(N1795=\"\",\"\",DATEDIF(N1795,DATE(設定シート!$C$2,設定シート!$C$3,設定シート!$C$4),\"Y\"))","v":""},{"$f":"IF(P1795=\"\",\"\",IF(P1795<=69,1,IF(P1795>=70,2,\"\")))","v":""},{"$f":"IF(OR(Q1795=1,Q1795=\"1\"),\"有料\",IF(OR(Q1795=2,Q1795=\"2\"),\"70・後\",IF(Q1795=3,\"生保\",IF(Q1795=4,\"非課税\",\"\"))))","v":""},null,null,{"$f":"IF(AND(L1795=2,P1795>=60),\"一単独\",IF(AND(L1795=2,P1795>=50,P1795<60),\"一併用\",IF(AND(L1795=2,P1795>=40,P1795<50),\"二併用\",\"\")))","v":""}]
[{"$f":"ROW()-2","v":1794},null,null,"",null,"0000000",null,"福島市",null,null,null,null,"",null,"",{"$f":"IF(N1796=\"\",\"\",DATEDIF(N1796,DATE(設定シート!$C$2,設定シート!$C$3,設定シート!$C$4),\"Y\"))","v":""},"","",null,null,""]
[1795,null,null,"",null,"0000000",null,"福島市",null,null,null,null,"",null,"",{"$f":"IF(N1797=\"\",\"\",DATEDIF(N1797,DATE(設定シート!$C$2,設定シート!$C$3,設定シート!$C$4),\"Y\"))","v":""},"","",null,null,""]
[1796,null,null,"",null,"0000000",null,"福島市",null,null,null,null,"",null,"",{"$f":"IF(N1798=\"\",\"\",DATEDIF(N1798,DATE(設定シート!$C$2,設定シート!$C$3,設定シート!$C$4),\"Y\"))","v":""},"","",null,null,""]
[1797,null,null,"",null,"0000000",null,"福島市",null,null,null,null,"",null,"",{"$f":"IF(N1799=\"\",\"\",DATEDIF(N1799,DATE(設定シート!$C$2,設定シート!$C$3,設定シート!$C$4),\"Y\"))","v":""},"","",null,null,""]
[1798,null,null,"",null,"0000000",null,"福島市",null,null,null,null,"",null,"",{"$f":"IF(N1800=\"\",\"\",DATEDIF(N1800,DATE(設定シート!$C$2,設定シート!$C$3,設定シート!$C$4),\"Y\"))","v":""},"","",null,null,""]
[1799,null,null,"",null,"0000000",null,"福島市",null,null,null,null,"",null,"",{"$f":"IF(N1801=\"\",\"\",DATEDIF(N1801,DATE(設定シート!$C$2,設定シート!$C$3,設定シート!$C$4),\"Y\"))","v":""},"","",null,null,""]
[1800,null,null,"",null,"0000000",null,"福島市",null,null,null,null,"",null,"",{"$f":"IF(N1802=\"\",\"\",DATEDIF(N1802,DATE(設定シート!$C$2,設定シート!$C$3,設定シート!$C$4),\"Y\"))","v":""},"","",null,null,""]
[1801,null,null,"",null,"0000000",null,"福島市",null,null,null,null,"",null,"",{"$f":"IF(N1803=\"\",\"\",DATEDIF(N1803,DATE(設定シート!$C$2,設定シート!$C$3,設定シート!$C$4),\"Y\"))","v":""},"","",null,null,""]
[1802,null,null,"",null,"0000000",null,"福島市",null,null,null,null,"",null,"",{"$f":"IF(N1804=\"\",\"\",DATEDIF(N1804,DATE(設定シート!$C$2,設定シート!$C$3,設定シート!$C$4),\"Y\"))","v":""},"","",null,null,""]
[1803,null,null,"",null,"0000000",null,"福島市",null,null,null,null,"",null,"",{"$f":"IF(N1805=\"\",\"\",DATEDIF(N1805,DATE(設定シート!$C$2,設定シート!$C$3,設定シート!$C$4),\"Y\"))","v":""},"","",null,null,""]
[1804,null,null,"",null,"0000000",null,"福島市",null,null,null,null,"",null,"",{"$f":"IF(N1806=\"\",\"\",DATEDIF(N1806,DATE(設定シート!$C$2,設定シート!$C$3,設定シート!$C$4),\"Y\"))","v":""},"","",null,null,""]
[1805,null,null,"",null,"0000000",null,"福島市",null,null,null,null,"",null,"",{"$f":"IF(N1807=\"\",\"\",DATEDIF(N1807,DATE(設定シート!$C$2,設定シート!$C$3,設定シート!$C$4),\"Y\"))","v":""},"","",null,null,""]
[1806,null,null,"",null,"0000000",null,"福島市",null,null,null,null,"",null,"",{"$f":"IF(N1808=\"\",\"\",DATEDIF(N1808,DATE(設定シート!$C$2,設定シート!$C$3,設定シート!$C$4),\"Y\"))","v":""},"","",null,null,""]
[1807,null,null,"",null,"0000000",null,"福島市",null,null,null,null,"",null,"",{"$f":"IF(N1809=\"\",\"\",DATEDIF(N1809,DATE(設定シート!$C$2,設定シート!$C$3,設定シート!$C$4),\"Y\"))","v":""},"","",null,null,""]
[1808,null,null,"",null,"0000000",null,"福島市",null,null,null,null,"",null,null,{"$f":"IF(N1810=\"\",\"\",DATEDIF(N1810,DATE(設定シート!$C$2,設定シート!$C$3,設定シート!$C$4),\"Y\"))","v":""},"","",null,null,""]
[1809,null,null,"",null,"0000000",null,"福島市",null,null,null,null,"",null,"",{"$f":"IF(N1811=\"\",\"\",DATEDIF(N1811,DATE(設定シート!$C$2,設定シート!$C$3,設定シート!$C$4),\"Y\"))","v":""},"","",null,null,""]
[1810,null,null,"",null,"0000000",null,"福島市",null,null,null,null,"",null,"",{"$f":"IF(N1812=\"\",\"\",DATEDIF(N1812,DATE(設定シート!$C$2,設定シート!$C$3,設定シート!$C$4),\"Y\"))","v":""},"","",null,null,""]
[1811,null,null,"",null,"0000000",null,"福島市",null,null,null,null,"",null,"",{"$f":"IF(N1813=\"\",\"\",DATEDIF(N1813,DATE(設定シート!$C$2,設定シート!$C$3,設定シート!$C$4),\"Y\"))","v":""},"","",null,null,""]
[1812,null,null,"",null,"0000000",null,"福島市",null,null,null,null,"",null,"",{"$f":"IF(N1814=\"\",\"\",DATEDIF(N1814,DATE(設定シート!$C$2,設定シート!$C$3,設定シート!$C$4),\"Y\"))","v":""},"","",null,null,""]
[1813,null,null,"",null,"0000000",null,"福島市",null,null,null,null,"",null,62,{"$f":"IF(N1815=\"\",\"\",DATEDIF(N1815,DATE(設定シート!$C$2,設定シート!$C$3,設定シート!$C$4),\"Y\"))","v":""},"","",null,null,""]
[1814,null,null,"",null,"0000000",null,"福島市",null,null,null,null,"",null,81,{"$f":"IF(N1816=\"\",\"\",DATEDIF(N1816,DATE(設定シート!$C$2,設定シート!$C$3,設定シート!$C$4),\"Y\"))","v":""},"","",null,null,""]
[1815,null,null,"",null,"0000000",null,"福島市",null,null,null,null,"",null,"",{"$f":"IF(N1817=\"\",\"\",DATEDIF(N1817,DATE(設定シート!$C$2,設定シート!$C$3,設定シート!$C$4),\"Y\"))","v":""},"","",null,null,""]
[1816,null,null,"",null,"0000000",null,"福島市",null,null,null,null,"",null,"",{"$f":"IF(N1818=\"\",\"\",DATEDIF(N1818,DATE(設定シート!$C$2,設定シート!$C$3,設定シート!$C$4),\"Y\"))","v":""},"","",null,null,""]
[1817,null,null,"",null,"0000000",null,"福島市",null,null,null,null,"",null,"",{"$f":"IF(N1819=\"\",\"\",DATEDIF(N1819,DATE(設定シート!$C$2,設定シート!$C$3,設定シート!$C$4),\"Y\"))","v":""},"","",null,null,""]
[1818,null,null,"",null,"0000000",null,"福島市",null,null,null,null,"",null,"",{"$f":"IF(N1820=\"\",\"\",DATEDIF(N1820,DATE(設定シート!$C$2,設定シート!$C$3,設定シート!$C$4),\"Y\"))","v":""},"","",null,null,""]
[1819,null,null,"",null,"0000000",null,"福島市",null,null,null,null,"",null,"",{"$f":"IF(N1821=\"\",\"\",DATEDIF(N1821,DATE(設定シート!$C$2,設定シート!$C$3,設定シート!$C$4),\"Y\"))","v":""},"","",null,null,""]
[1820,null,null,"",null,"0000000",null,"福島市",null,null,null,null,"",null,"",{"$f":"IF(N1822=\"\",\"\",DATEDIF(N1822,DATE(設定シート!$C$2,設定シート!$C$3,設定シート!$C$4),\"Y\"))","v":""},"","",null,null,""]
[1821,null,null,"",null,"0000000",null,"福島市",null,null,null,null,"",null,"",{"$f":"IF(N1823=\"\",\"\",DATEDIF(N1823,DATE(設定シート!$C$2,設定シート!$C$3,設定シート!$C$4),\"Y\"))","v":""},"","",null,null,""]
[1822,null,null,"",null,"0000000",null,"福島市",null,null,null,null,"",null,"",{"$f":"IF(N1824=\"\",\"\",DATEDIF(N1824,DATE(設定シート!$C$2,設定シート!$C$3,設定シート!$C$4),\"Y\"))","v":""},"","",null,null,""]
[1823,null,null,"",null,"0000000",null,"福島市",null,null,null,null,"",null,"",{"$f":"IF(N1825=\"\",\"\",DATEDIF(N1825,DATE(設定シート!$C$2,設定シート!$C$3,設定シート!$C$4),\"Y\"))","v":""},"","",null,null,""]
[1824,null,null,"",null,"0000000",null,"福島市",null,null,null,null,"",null,"",{"$f":"IF(N1826=\"\",\"\",DATEDIF(N1826,DATE(設定シート!$C$2,設定シート!$C$3,設定シート!$C$4),\"Y\"))","v":""},"","",null,null,""]
[1825,null,null,"",null,"0000000",null,"福島市",null,null,null,null,"",null,"",{"$f":"IF(N1827=\"\",\"\",DATEDIF(N1827,DATE(設定シート!$C$2,設定シート!$C$3,設定シート!$C$4),\"Y\"))","v":""},"","",null,null,""]
[1826,null,null,"",null,"0000000",null,"福島市",null,null,null,null,"",null,"",{"$f":"IF(N1828=\"\",\"\",DATEDIF(N1828,DATE(設定シート!$C$2,設定シート!$C$3,設定シート!$C$4),\"Y\"))","v":""},"","",null,null,""]
[1827,null,null,"",null,"0000000",null,"福島市",null,null,null,null,"",null,"",{"$f":"IF(N1829=\"\",\"\",DATEDIF(N1829,DATE(設定シート!$C$2,設定シート!$C$3,設定シート!$C$4),\"Y\"))","v":""},"","",null,null,""]
[1828,null,null,"",null,"0000000",null,"福島市",null,null,null,null,"",null,"",{"$f":"IF(N1830=\"\",\"\",DATEDIF(N1830,DATE(設定シート!$C$2,設定シート!$C$3,設定シート!$C$4),\"Y\"))","v":""},"","",null,null,""]
[1829,null,null,"",null,"0000000",null,"福島市",null,null,null,null,"",null,"",{"$f":"IF(N1831=\"\",\"\",DATEDIF(N1831,DATE(設定シート!$C$2,設定シート!$C$3,設定シート!$C$4),\"Y\"))","v":""},"","",null,null,""]
[1830,null,null,"",null,"0000000",null,"福島市",null,null,null,null,"",null,null,{"$f":"IF(N1832=\"\",\"\",DATEDIF(N1832,DATE(設定シート!$C$2,設定シート!$C$3,設定シート!$C$4),\"Y\"))","v":""},"","",null,null,""]
[1831,null,null,"",null,"0000000",null,"福島市",null,null,null,null,"",null,null,{"$f":"IF(N1833=\"\",\"\",DATEDIF(N1833,DATE(設定シート!$C$2,設定シート!$C$3,設定シート!$C$4),\"Y\"))","v":""},"","",null,null,""]
[1832,null,null,"",null,"0000000",null,"福島市",null,null,null,null,"",null,"",{"$f":"IF(N1834=\"\",\"\",DATEDIF(N1834,DATE(設定シート!$C$2,設定シート!$C$3,設定シート!$C$4),\"Y\"))","v":""},"","",null,null,""]
[1833,null,null,"",null,"0000000",null,"福島市",null,null,null,null,"",null,"",{"$f":"IF(N1835=\"\",\"\",DATEDIF(N1835,DATE(設定シート!$C$2,設定シート!$C$3,設定シート!$C$4),\"Y\"))","v":""},"","",null,null,""]
[1834,null,null,"",null,"0000000",null,"福島市",null,null,null,null,"",null,"",{"$f":"IF(N1836=\"\",\"\",DATEDIF(N1836,DATE(設定シート!$C$2,設定シート!$C$3,設定シート!$C$4),\"Y\"))","v":""},"","",null,null,""]
[1835,null,null,"",null,"0000000",null,"福島市",null,null,null,null,"",null,"",{"$f":"IF(N1837=\"\",\"\",DATEDIF(N1837,DATE(設定シート!$C$2,設定シート!$C$3,設定シート!$C$4),\"Y\"))","v":""},"","",null,null,""]
[1836,null,null,"",null,"0000000",null,"福島市",null,null,null,null,"",null,"",{"$f":"IF(N1838=\"\",\"\",DATEDIF(N1838,DATE(設定シート!$C$2,設定シート!$C$3,設定シート!$C$4),\"Y\"))","v":""},"","",null,null,""]
[1837,null,null,"",null,"0000000",null,"福島市",null,null,null,null,"",null,"",{"$f":"IF(N1839=\"\",\"\",DATEDIF(N1839,DATE(設定シート!$C$2,設定シート!$C$3,設定シート!$C$4),\"Y\"))","v":""},"","",null,null,""]
[1838,null,null,"",null,"0000000",null,"福島市",null,null,null,null,"",null,"",{"$f":"IF(N1840=\"\",\"\",DATEDIF(N1840,DATE(設定シート!$C$2,設定シート!$C$3,設定シート!$C$4),\"Y\"))","v":""},"","",null,null,""]
[1839,null,null,"",null,"0000000",null,"福島市",null,null,null,null,"",null,"",{"$f":"IF(N1841=\"\",\"\",DATEDIF(N1841,DATE(設定シート!$C$2,設定シート!$C$3,設定シート!$C$4),\"Y\"))","v":""},"","",null,null,""]
[1840,null,null,"",null,"0000000",null,"福島市",null,null,null,null,"",null,"",{"$f":"IF(N1842=\"\",\"\",DATEDIF(N1842,DATE(設定シート!$C$2,設定シート!$C$3,設定シート!$C$4),\"Y\"))","v":""},"","",null,null,""]
[1841,null,null,"",null,"0000000",null,"福島市",null,null,null,null,"",null,null,{"$f":"IF(N1843=\"\",\"\",DATEDIF(N1843,DATE(設定シート!$C$2,設定シート!$C$3,設定シート!$C$4),\"Y\"))","v":""},"","",null,null,""]
[1842,null,null,"",null,"0000000",null,"福島市",null,null,null,null,"",null,"",{"$f":"IF(N1844=\"\",\"\",DATEDIF(N1844,DATE(設定シート!$C$2,設定シート!$C$3,設定シート!$C$4),\"Y\"))","v":""},"","",null,null,""]
[1843,null,null,"",null,"0000000",null,"福島市",null,null,null,null,"",null,"",{"$f":"IF(N1845=\"\",\"\",DATEDIF(N1845,DATE(設定シート!$C$2,設定シート!$C$3,設定シート!$C$4),\"Y\"))","v":""},"","",null,null,""]
[1844,null,null,"",null,"0000000",null,"福島市",null,null,null,null,"",null,"",{"$f":"IF(N1846=\"\",\"\",DATEDIF(N1846,DATE(設定シート!$C$2,設定シート!$C$3,設定シート!$C$4),\"Y\"))","v":""},"","",null,null,""]
[1845,null,null,"",null,"0000000",null,"福島市",null,null,null,null,"",null,"",{"$f":"IF(N1847=\"\",\"\",DATEDIF(N1847,DATE(設定シート!$C$2,設定シート!$C$3,設定シート!$C$4),\"Y\"))","v":""},"","",null,null,""]
[1846,null,null,"",null,"0000000",null,"福島市",null,null,null,null,"",null,"",{"$f":"IF(N1848=\"\",\"\",DATEDIF(N1848,DATE(設定シート!$C$2,設定シート!$C$3,設定シート!$C$4),\"Y\"))","v":""},"","",null,null,""]
[1847,null,null,"",null,"0000000",null,"福島市",null,null,null,null,"",null,"",{"$f":"IF(N1849=\"\",\"\",DATEDIF(N1849,DATE(設定シート!$C$2,設定シート!$C$3,設定シート!$C$4),\"Y\"))","v":""},"","",null,null,""]
[1848,null,null,"",null,"0000000",null,"福島市",null,null,null,null,"",null,"",{"$f":"IF(N1850=\"\",\"\",DATEDIF(N1850,DATE(設定シート!$C$2,設定シート!$C$3,設定シート!$C$4),\"Y\"))","v":""},"","",null,null,""]
[1849,null,null,"",null,"0000000",null,"福島市",null,null,null,null,"",null,"",{"$f":"IF(N1851=\"\",\"\",DATEDIF(N1851,DATE(設定シート!$C$2,設定シート!$C$3,設定シート!$C$4),\"Y\"))","v":""},"","",null,null,""]
[1850,null,null,"",null,"0000000",null,"福島市",null,null,null,null,"",null,"",{"$f":"IF(N1852=\"\",\"\",DATEDIF(N1852,DATE(設定シート!$C$2,設定シート!$C$3,設定シート!$C$4),\"Y\"))","v":""},"","",null,null,""]
[1851,null,null,"",null,"0000000",null,"福島市",null,null,null,null,"",null,"",{"$f":"IF(N1853=\"\",\"\",DATEDIF(N1853,DATE(設定シート!$C$2,設定シート!$C$3,設定シート!$C$4),\"Y\"))","v":""},"","",null,null,""]
[1852,null,null,"",null,"0000000",null,"福島市",null,null,null,null,"",null,"",{"$f":"IF(N1854=\"\",\"\",DATEDIF(N1854,DATE(設定シート!$C$2,設定シート!$C$3,設定シート!$C$4),\"Y\"))","v":""},"","",null,null,""]
[1853,null,null,"",null,"0000000",null,"福島市",null,null,null,null,"",null,"",{"$f":"IF(N1855=\"\",\"\",DATEDIF(N1855,DATE(設定シート!$C$2,設定シート!$C$3,設定シート!$C$4),\"Y\"))","v":""},"","",null,null,""]
[1854,null,null,"",null,"0000000",null,"福島市",null,null,null,null,"",null,"",{"$f":"IF(N1856=\"\",\"\",DATEDIF(N1856,DATE(設定シート!$C$2,設定シート!$C$3,設定シート!$C$4),\"Y\"))","v":""},"","",null,null,""]
[1855,null,null,"",null,"0000000",null,"福島市",null,null,null,null,"",null,"",{"$f":"IF(N1857=\"\",\"\",DATEDIF(N1857,DATE(設定シート!$C$2,設定シート!$C$3,設定シート!$C$4),\"Y\"))","v":""},"","",null,null,""]
[1856,null,null,"",null,"0000000",null,"福島市",null,null,null,null,"",null,"",{"$f":"IF(N1858=\"\",\"\",DATEDIF(N1858,DATE(設定シート!$C$2,設定シート!$C$3,設定シート!$C$4),\"Y\"))","v":""},"","",null,null,""]
[1857,null,null,{"$f":"PHONETIC(C1859)","v":""},null,{"$f":"TEXT(B1859,\"0000000\")","v":"0000000"},null,"福島市",null,null,null,null,{"$f":"IF(L1859=1,\"男\",IF(L1859=2,\"女\",\"\"))","v":""},null,{"$f":"IF(OR(E1859=\"\",N1859=\"\"),\"\",DATEDIF(N1859,E1859,\"Y\"))","v":""},{"$f":"IF(N1859=\"\",\"\",DATEDIF(N1859,DATE(設定シート!$C$2,設定シート!$C$3,設定シート!$C$4),\"Y\"))","v":""},{"$f":"IF(P1859=\"\",\"\",IF(P1859<=69,1,IF(P1859>=70,2,\"\")))","v":""},{"$f":"IF(OR(Q1859=1,Q1859=\"1\"),\"有料\",IF(OR(Q1859=2,Q1859=\"2\"),\"70・後\",IF(Q1859=3,\"生保\",IF(Q1859=4,\"非課税\",\"\"))))","v":""},null,null,{"$f":"IF(AND(L1859=2,P1859>=60),\"一単独\",IF(AND(L1859=2,P1859>=50,P1859<60),\"一併用\",IF(AND(L1859=2,P1859>=40,P1859<50),\"二併用\",\"\")))","v":""}]
[{"$f":"ROW()-2","v":1858},null,null,"",null,"0000000",null,"福島市",null,null,null,null,"",null,"",{"$f":"IF(N1860=\"\",\"\",DATEDIF(N1860,DATE(設定シート!$C$2,設定シート!$C$3,設定シート!$C$4),\"Y\"))","v":""},"","",null,null,""]
[1859,null,null,"",null,"0000000",null,"福島市",null,null,null,null,"",null,"",{"$f":"IF(N1861=\"\",\"\",DATEDIF(N1861,DATE(設定シート!$C$2,設定シート!$C$3,設定シート!$C$4),\"Y\"))","v":""},"","",null,null,""]
[1860,null,null,"",null,"0000000",null,"福島市",null,null,null,null,"",null,"",{"$f":"IF(N1862=\"\",\"\",DATEDIF(N1862,DATE(設定シート!$C$2,設定シート!$C$3,設定シート!$C$4),\"Y\"))","v":""},"","",null,null,""]
[1861,null,null,"",null,"0000000",null,"福島市",null,null,null,null,"",null,"",{"$f":"IF(N1863=\"\",\"\",DATEDIF(N1863,DATE(設定シート!$C$2,設定シート!$C$3,設定シート!$C$4),\"Y\"))","v":""},"","",null,null,""]
[1862,null,null,"",null,"0000000",null,"福島市",null,null,null,null,"",null,"",{"$f":"IF(N1864=\"\",\"\",DATEDIF(N1864,DATE(設定シート!$C$2,設定シート!$C$3,設定シート!$C$4),\"Y\"))","v":""},"","",null,null,""]
[1863,null,null,"",null,"0000000",null,"福島市",null,null,null,null,"",null,"",{"$f":"IF(N1865=\"\",\"\",DATEDIF(N1865,DATE(設定シート!$C$2,設定シート!$C$3,設定シート!$C$4),\"Y\"))","v":""},"","",null,null,""]
[1864,null,null,"",null,"0000000",null,"福島市",null,null,null,null,"",null,"",{"$f":"IF(N1866=\"\",\"\",DATEDIF(N1866,DATE(設定シート!$C$2,設定シート!$C$3,設定シート!$C$4),\"Y\"))","v":""},"","",null,null,""]
[1865,null,null,"",null,"0000000",null,"福島市",null,null,null,null,"",null,"",{"$f":"IF(N1867=\"\",\"\",DATEDIF(N1867,DATE(設定シート!$C$2,設定シート!$C$3,設定シート!$C$4),\"Y\"))","v":""},"","",null,null,""]
[1866,null,null,"",null,"0000000",null,"福島市",null,null,null,null,"",null,"",{"$f":"IF(N1868=\"\",\"\",DATEDIF(N1868,DATE(設定シート!$C$2,設定シート!$C$3,設定シート!$C$4),\"Y\"))","v":""},"","",null,null,""]
[1867,null,null,"",null,"0000000",null,"福島市",null,null,null,null,"",null,null,{"$f":"IF(N1869=\"\",\"\",DATEDIF(N1869,DATE(設定シート!$C$2,設定シート!$C$3,設定シート!$C$4),\"Y\"))","v":""},"","",null,null,""]
[1868,null,null,"",null,"0000000",null,"福島市",null,null,null,null,"",null,"",{"$f":"IF(N1870=\"\",\"\",DATEDIF(N1870,DATE(設定シート!$C$2,設定シート!$C$3,設定シート!$C$4),\"Y\"))","v":""},"","",null,null,""]
[1869,null,null,"",null,"0000000",null,"福島市",null,null,null,null,"",null,"",{"$f":"IF(N1871=\"\",\"\",DATEDIF(N1871,DATE(設定シート!$C$2,設定シート!$C$3,設定シート!$C$4),\"Y\"))","v":""},"","",null,null,""]
[1870,null,null,"",null,"0000000",null,"福島市",null,null,null,null,"",null,"",{"$f":"IF(N1872=\"\",\"\",DATEDIF(N1872,DATE(設定シート!$C$2,設定シート!$C$3,設定シート!$C$4),\"Y\"))","v":""},"","",null,null,""]
[1871,null,null,"",null,"0000000",null,"福島市",null,null,null,null,"",null,"",{"$f":"IF(N1873=\"\",\"\",DATEDIF(N1873,DATE(設定シート!$C$2,設定シート!$C$3,設定シート!$C$4),\"Y\"))","v":""},"","",null,null,""]
[1872,null,null,"",null,"0000000",null,"福島市",null,null,null,null,"",null,"",{"$f":"IF(N1874=\"\",\"\",DATEDIF(N1874,DATE(設定シート!$C$2,設定シート!$C$3,設定シート!$C$4),\"Y\"))","v":""},"","",null,null,""]
[1873,null,null,"",null,"0000000",null,"福島市",null,null,null,null,"",null,"",{"$f":"IF(N1875=\"\",\"\",DATEDIF(N1875,DATE(設定シート!$C$2,設定シート!$C$3,設定シート!$C$4),\"Y\"))","v":""},"","",null,null,""]
[1874,null,null,"",null,"0000000",null,"福島市",null,null,null,null,"",null,"",{"$f":"IF(N1876=\"\",\"\",DATEDIF(N1876,DATE(設定シート!$C$2,設定シート!$C$3,設定シート!$C$4),\"Y\"))","v":""},"","",null,null,""]
[1875,null,null,"",null,"0000000",null,"福島市",null,null,null,null,"",null,"",{"$f":"IF(N1877=\"\",\"\",DATEDIF(N1877,DATE(設定シート!$C$2,設定シート!$C$3,設定シート!$C$4),\"Y\"))","v":""},"","",null,null,""]
[1876,null,null,"",null,"0000000",null,"福島市",null,null,null,null,"",null,"",{"$f":"IF(N1878=\"\",\"\",DATEDIF(N1878,DATE(設定シート!$C$2,設定シート!$C$3,設定シート!$C$4),\"Y\"))","v":""},"","",null,null,""]
[1877,null,null,"",null,"0000000",null,"福島市",null,null,null,null,"",null,null,{"$f":"IF(N1879=\"\",\"\",DATEDIF(N1879,DATE(設定シート!$C$2,設定シート!$C$3,設定シート!$C$4),\"Y\"))","v":""},"","",null,null,""]
[1878,null,null,"",null,"0000000",null,"福島市",null,null,null,null,"",null,"",{"$f":"IF(N1880=\"\",\"\",DATEDIF(N1880,DATE(設定シート!$C$2,設定シート!$C$3,設定シート!$C$4),\"Y\"))","v":""},"","",null,null,""]
[1879,null,null,"",null,"0000000",null,"福島市",null,null,null,null,"",null,"",{"$f":"IF(N1881=\"\",\"\",DATEDIF(N1881,DATE(設定シート!$C$2,設定シート!$C$3,設定シート!$C$4),\"Y\"))","v":""},"","",null,null,""]
[1880,null,null,"",null,"0000000",null,"福島市",null,null,null,null,"",null,"",{"$f":"IF(N1882=\"\",\"\",DATEDIF(N1882,DATE(設定シート!$C$2,設定シート!$C$3,設定シート!$C$4),\"Y\"))","v":""},"","",null,null,""]
[1881,null,null,"",null,"0000000",null,"福島市",null,null,null,null,"",null,"",{"$f":"IF(N1883=\"\",\"\",DATEDIF(N1883,DATE(設定シート!$C$2,設定シート!$C$3,設定シート!$C$4),\"Y\"))","v":""},"","",null,null,""]
[1882,null,null,"",null,"0000000",null,"福島市",null,null,null,null,"",null,"",{"$f":"IF(N1884=\"\",\"\",DATEDIF(N1884,DATE(設定シート!$C$2,設定シート!$C$3,設定シート!$C$4),\"Y\"))","v":""},"","",null,null,""]
[1883,null,null,"",null,"0000000",null,"福島市",null,null,null,null,"",null,"",{"$f":"IF(N1885=\"\",\"\",DATEDIF(N1885,DATE(設定シート!$C$2,設定シート!$C$3,設定シート!$C$4),\"Y\"))","v":""},"","",null,null,""]
[1884,null,null,"",null,"0000000",null,"福島市",null,null,null,null,"",null,"",{"$f":"IF(N1886=\"\",\"\",DATEDIF(N1886,DATE(設定シート!$C$2,設定シート!$C$3,設定シート!$C$4),\"Y\"))","v":""},"","",null,null,""]
[1885,null,null,"",null,"0000000",null,"福島市",null,null,null,null,"",null,"",{"$f":"IF(N1887=\"\",\"\",DATEDIF(N1887,DATE(設定シート!$C$2,設定シート!$C$3,設定シート!$C$4),\"Y\"))","v":""},"","",null,null,""]
[1886,null,null,"",null,"0000000",null,"福島市",null,null,null,null,"",null,"",{"$f":"IF(N1888=\"\",\"\",DATEDIF(N1888,DATE(設定シート!$C$2,設定シート!$C$3,設定シート!$C$4),\"Y\"))","v":""},"","",null,null,""]
[1887,null,null,"",null,"0000000",null,"福島市",null,null,null,null,"",null,"",{"$f":"IF(N1889=\"\",\"\",DATEDIF(N1889,DATE(設定シート!$C$2,設定シート!$C$3,設定シート!$C$4),\"Y\"))","v":""},"","",null,null,""]
[1888,null,null,"",null,"0000000",null,"福島市",null,null,null,null,"",null,"",{"$f":"IF(N1890=\"\",\"\",DATEDIF(N1890,DATE(設定シート!$C$2,設定シート!$C$3,設定シート!$C$4),\"Y\"))","v":""},"","",null,null,""]
[1889,null,null,"",null,"0000000",null,"福島市",null,null,null,null,"",null,"",{"$f":"IF(N1891=\"\",\"\",DATEDIF(N1891,DATE(設定シート!$C$2,設定シート!$C$3,設定シート!$C$4),\"Y\"))","v":""},"","",null,null,""]
[1890,null,null,"",null,"0000000",null,"福島市",null,null,null,null,"",null,"",{"$f":"IF(N1892=\"\",\"\",DATEDIF(N1892,DATE(設定シート!$C$2,設定シート!$C$3,設定シート!$C$4),\"Y\"))","v":""},"","",null,null,""]
[1891,null,null,"",null,"0000000",null,"福島市",null,null,null,null,"",null,"",{"$f":"IF(N1893=\"\",\"\",DATEDIF(N1893,DATE(設定シート!$C$2,設定シート!$C$3,設定シート!$C$4),\"Y\"))","v":""},"","",null,null,""]
[1892,null,null,"",null,"0000000",null,"福島市",null,null,null,null,"",null,"",{"$f":"IF(N1894=\"\",\"\",DATEDIF(N1894,DATE(設定シート!$C$2,設定シート!$C$3,設定シート!$C$4),\"Y\"))","v":""},"","",null,null,""]
[1893,null,null,"",null,"0000000",null,"福島市",null,null,null,null,"",null,"",{"$f":"IF(N1895=\"\",\"\",DATEDIF(N1895,DATE(設定シート!$C$2,設定シート!$C$3,設定シート!$C$4),\"Y\"))","v":""},"","",null,null,""]
[1894,null,null,"",null,"0000000",null,"福島市",null,null,null,null,"",null,"",{"$f":"IF(N1896=\"\",\"\",DATEDIF(N1896,DATE(設定シート!$C$2,設定シート!$C$3,設定シート!$C$4),\"Y\"))","v":""},"","",null,null,""]
[1895,null,null,"",null,"0000000",null,"福島市",null,null,null,null,"",null,"",{"$f":"IF(N1897=\"\",\"\",DATEDIF(N1897,DATE(設定シート!$C$2,設定シート!$C$3,設定シート!$C$4),\"Y\"))","v":""},"","",null,null,""]
[1896,null,null,"",null,"0000000",null,"福島市",null,null,null,null,"",null,"",{"$f":"IF(N1898=\"\",\"\",DATEDIF(N1898,DATE(設定シート!$C$2,設定シート!$C$3,設定シート!$C$4),\"Y\"))","v":""},"","",null,null,""]
[1897,null,null,"",null,"0000000",null,"福島市",null,null,null,null,"",null,"",{"$f":"IF(N1899=\"\",\"\",DATEDIF(N1899,DATE(設定シート!$C$2,設定シート!$C$3,設定シート!$C$4),\"Y\"))","v":""},"","",null,null,""]
[1898,null,null,"",null,"0000000",null,"福島市",null,null,null,null,"",null,"",{"$f":"IF(N1900=\"\",\"\",DATEDIF(N1900,DATE(設定シート!$C$2,設定シート!$C$3,設定シート!$C$4),\"Y\"))","v":""},"","",null,null,""]
[1899,null,null,"",null,"0000000",null,"福島市",null,null,null,null,"",null,"",{"$f":"IF(N1901=\"\",\"\",DATEDIF(N1901,DATE(設定シート!$C$2,設定シート!$C$3,設定シート!$C$4),\"Y\"))","v":""},"","",null,null,""]
[1900,null,null,"",null,"0000000",null,"福島市",null,null,null,null,"",null,"",{"$f":"IF(N1902=\"\",\"\",DATEDIF(N1902,DATE(設定シート!$C$2,設定シート!$C$3,設定シート!$C$4),\"Y\"))","v":""},"","",null,null,""]
[1901,null,null,"",null,"0000000",null,"福島市",null,null,null,null,"",null,"",{"$f":"IF(N1903=\"\",\"\",DATEDIF(N1903,DATE(設定シート!$C$2,設定シート!$C$3,設定シート!$C$4),\"Y\"))","v":""},"","",null,null,""]
[1902,null,null,"",null,"0000000",null,"福島市",null,null,null,null,"",null,"",{"$f":"IF(N1904=\"\",\"\",DATEDIF(N1904,DATE(設定シート!$C$2,設定シート!$C$3,設定シート!$C$4),\"Y\"))","v":""},"","",null,null,""]
[1903,null,null,"",null,"0000000",null,"福島市",null,null,null,null,"",null,"",{"$f":"IF(N1905=\"\",\"\",DATEDIF(N1905,DATE(設定シート!$C$2,設定シート!$C$3,設定シート!$C$4),\"Y\"))","v":""},"","",null,null,""]
[1904,null,null,"",null,"0000000",null,"福島市",null,null,null,null,"",null,"",{"$f":"IF(N1906=\"\",\"\",DATEDIF(N1906,DATE(設定シート!$C$2,設定シート!$C$3,設定シート!$C$4),\"Y\"))","v":""},"","",null,null,""]
[1905,null,null,"",null,"0000000",null,"福島市",null,null,null,null,"",null,"",{"$f":"IF(N1907=\"\",\"\",DATEDIF(N1907,DATE(設定シート!$C$2,設定シート!$C$3,設定シート!$C$4),\"Y\"))","v":""},"","",null,null,""]
[1906,null,null,"",null,"0000000",null,"福島市",null,null,null,null,"",null,"",{"$f":"IF(N1908=\"\",\"\",DATEDIF(N1908,DATE(設定シート!$C$2,設定シート!$C$3,設定シート!$C$4),\"Y\"))","v":""},"","",null,null,""]
[1907,null,null,"",null,"0000000",null,"福島市",null,null,null,null,"",null,"",{"$f":"IF(N1909=\"\",\"\",DATEDIF(N1909,DATE(設定シート!$C$2,設定シート!$C$3,設定シート!$C$4),\"Y\"))","v":""},"","",null,null,""]
[1908,null,null,"",null,"0000000",null,"福島市",null,null,null,null,"",null,"",{"$f":"IF(N1910=\"\",\"\",DATEDIF(N1910,DATE(設定シート!$C$2,設定シート!$C$3,設定シート!$C$4),\"Y\"))","v":""},"","",null,null,""]
[1909,null,null,"",null,"0000000",null,"福島市",null,null,null,null,"",null,"",{"$f":"IF(N1911=\"\",\"\",DATEDIF(N1911,DATE(設定シート!$C$2,設定シート!$C$3,設定シート!$C$4),\"Y\"))","v":""},"","",null,null,""]
[1910,null,null,"",null,"0000000",null,"福島市",null,null,null,null,"",null,"",{"$f":"IF(N1912=\"\",\"\",DATEDIF(N1912,DATE(設定シート!$C$2,設定シート!$C$3,設定シート!$C$4),\"Y\"))","v":""},"","",null,null,""]
[1911,null,null,"",null,"0000000",null,"福島市",null,null,null,null,"",null,"",{"$f":"IF(N1913=\"\",\"\",DATEDIF(N1913,DATE(設定シート!$C$2,設定シート!$C$3,設定シート!$C$4),\"Y\"))","v":""},"","",null,null,""]
[1912,null,null,"",null,"0000000",null,"福島市",null,null,null,null,"",null,"",{"$f":"IF(N1914=\"\",\"\",DATEDIF(N1914,DATE(設定シート!$C$2,設定シート!$C$3,設定シート!$C$4),\"Y\"))","v":""},"","",null,null,""]
[1913,null,null,"",null,"0000000",null,"福島市",null,null,null,null,"",null,"",{"$f":"IF(N1915=\"\",\"\",DATEDIF(N1915,DATE(設定シート!$C$2,設定シート!$C$3,設定シート!$C$4),\"Y\"))","v":""},"","",null,null,""]
[1914,null,null,"",null,"0000000",null,"福島市",null,null,null,null,"",null,"",{"$f":"IF(N1916=\"\",\"\",DATEDIF(N1916,DATE(設定シート!$C$2,設定シート!$C$3,設定シート!$C$4),\"Y\"))","v":""},"","",null,null,""]
[1915,null,null,"",null,"0000000",null,"福島市",null,null,null,null,"",null,"",{"$f":"IF(N1917=\"\",\"\",DATEDIF(N1917,DATE(設定シート!$C$2,設定シート!$C$3,設定シート!$C$4),\"Y\"))","v":""},"","",null,null,""]
[1916,null,null,"",null,"0000000",null,"福島市",null,null,null,null,"",null,"",{"$f":"IF(N1918=\"\",\"\",DATEDIF(N1918,DATE(設定シート!$C$2,設定シート!$C$3,設定シート!$C$4),\"Y\"))","v":""},"","",null,null,""]
[1917,null,null,"",null,"0000000",null,"福島市",null,null,null,null,"",null,"",{"$f":"IF(N1919=\"\",\"\",DATEDIF(N1919,DATE(設定シート!$C$2,設定シート!$C$3,設定シート!$C$4),\"Y\"))","v":""},"","",null,null,""]
[1918,null,null,"",null,"0000000",null,"福島市",null,null,null,null,"",null,"",{"$f":"IF(N1920=\"\",\"\",DATEDIF(N1920,DATE(設定シート!$C$2,設定シート!$C$3,設定シート!$C$4),\"Y\"))","v":""},"","",null,null,""]
[1919,null,null,"",null,"0000000",null,"福島市",null,null,null,null,"",null,"",{"$f":"IF(N1921=\"\",\"\",DATEDIF(N1921,DATE(設定シート!$C$2,設定シート!$C$3,設定シート!$C$4),\"Y\"))","v":""},"","",null,null,""]
[1920,null,null,"",null,"0000000",null,"福島市",null,null,null,null,"",null,"",{"$f":"IF(N1922=\"\",\"\",DATEDIF(N1922,DATE(設定シート!$C$2,設定シート!$C$3,設定シート!$C$4),\"Y\"))","v":""},"","",null,null,""]
[1921,null,null,{"$f":"PHONETIC(C1923)","v":""},null,{"$f":"TEXT(B1923,\"0000000\")","v":"0000000"},null,"福島市",null,null,null,null,{"$f":"IF(L1923=1,\"男\",IF(L1923=2,\"女\",\"\"))","v":""},null,{"$f":"IF(OR(E1923=\"\",N1923=\"\"),\"\",DATEDIF(N1923,E1923,\"Y\"))","v":""},{"$f":"IF(N1923=\"\",\"\",DATEDIF(N1923,DATE(設定シート!$C$2,設定シート!$C$3,設定シート!$C$4),\"Y\"))","v":""},{"$f":"IF(P1923=\"\",\"\",IF(P1923<=69,1,IF(P1923>=70,2,\"\")))","v":""},{"$f":"IF(OR(Q1923=1,Q1923=\"1\"),\"有料\",IF(OR(Q1923=2,Q1923=\"2\"),\"70・後\",IF(Q1923=3,\"生保\",IF(Q1923=4,\"非課税\",\"\"))))","v":""},null,null,{"$f":"IF(AND(L1923=2,P1923>=60),\"一単独\",IF(AND(L1923=2,P1923>=50,P1923<60),\"一併用\",IF(AND(L1923=2,P1923>=40,P1923<50),\"二併用\",\"\")))","v":""}]
[{"$f":"ROW()-2","v":1922},null,null,"",null,"0000000",null,"福島市",null,null,null,null,"",null,"",{"$f":"IF(N1924=\"\",\"\",DATEDIF(N1924,DATE(設定シート!$C$2,設定シート!$C$3,設定シート!$C$4),\"Y\"))","v":""},"","",null,null,""]
[1923,null,null,"",null,"0000000",null,"福島市",null,null,null,null,"",null,"",{"$f":"IF(N1925=\"\",\"\",DATEDIF(N1925,DATE(設定シート!$C$2,設定シート!$C$3,設定シート!$C$4),\"Y\"))","v":""},"","",null,null,""]
[1924,null,null,"",null,"0000000",null,"福島市",null,null,null,null,"",null,"",{"$f":"IF(N1926=\"\",\"\",DATEDIF(N1926,DATE(設定シート!$C$2,設定シート!$C$3,設定シート!$C$4),\"Y\"))","v":""},"","",null,null,""]
[1925,null,null,"",null,"0000000",null,"福島市",null,null,null,null,"",null,"",{"$f":"IF(N1927=\"\",\"\",DATEDIF(N1927,DATE(設定シート!$C$2,設定シート!$C$3,設定シート!$C$4),\"Y\"))","v":""},"","",null,null,""]
[1926,null,null,"",null,"0000000",null,"福島市",null,null,null,null,"",null,"",{"$f":"IF(N1928=\"\",\"\",DATEDIF(N1928,DATE(設定シート!$C$2,設定シート!$C$3,設定シート!$C$4),\"Y\"))","v":""},"","",null,null,""]
[1927,null,null,"",null,"0000000",null,"福島市",null,null,null,null,"",null,"",{"$f":"IF(N1929=\"\",\"\",DATEDIF(N1929,DATE(設定シート!$C$2,設定シート!$C$3,設定シート!$C$4),\"Y\"))","v":""},"","",null,null,""]
[1928,null,null,"",null,"0000000",null,"福島市",null,null,null,null,"",null,"",{"$f":"IF(N1930=\"\",\"\",DATEDIF(N1930,DATE(設定シート!$C$2,設定シート!$C$3,設定シート!$C$4),\"Y\"))","v":""},"","",null,null,""]
[1929,null,null,"",null,"0000000",null,"福島市",null,null,null,null,"",null,"",{"$f":"IF(N1931=\"\",\"\",DATEDIF(N1931,DATE(設定シート!$C$2,設定シート!$C$3,設定シート!$C$4),\"Y\"))","v":""},"","",null,null,""]
[1930,null,null,"",null,"0000000",null,"福島市",null,null,null,null,"",null,"",{"$f":"IF(N1932=\"\",\"\",DATEDIF(N1932,DATE(設定シート!$C$2,設定シート!$C$3,設定シート!$C$4),\"Y\"))","v":""},"","",null,null,""]
[1931,null,null,"",null,"0000000",null,"福島市",null,null,null,null,"",null,"",{"$f":"IF(N1933=\"\",\"\",DATEDIF(N1933,DATE(設定シート!$C$2,設定シート!$C$3,設定シート!$C$4),\"Y\"))","v":""},"","",null,null,""]
[1932,null,null,"",null,"0000000",null,"福島市",null,null,null,null,"",null,"",{"$f":"IF(N1934=\"\",\"\",DATEDIF(N1934,DATE(設定シート!$C$2,設定シート!$C$3,設定シート!$C$4),\"Y\"))","v":""},"","",null,null,""]
[1933,null,null,"",null,"0000000",null,"福島市",null,null,null,null,"",null,"",{"$f":"IF(N1935=\"\",\"\",DATEDIF(N1935,DATE(設定シート!$C$2,設定シート!$C$3,設定シート!$C$4),\"Y\"))","v":""},"","",null,null,""]
[1934,null,null,"",null,"0000000",null,"福島市",null,null,null,null,"",null,"",{"$f":"IF(N1936=\"\",\"\",DATEDIF(N1936,DATE(設定シート!$C$2,設定シート!$C$3,設定シート!$C$4),\"Y\"))","v":""},"","",null,null,""]
[1935,null,null,"",null,"0000000",null,"福島市",null,null,null,null,"",null,"",{"$f":"IF(N1937=\"\",\"\",DATEDIF(N1937,DATE(設定シート!$C$2,設定シート!$C$3,設定シート!$C$4),\"Y\"))","v":""},"","",null,null,""]
[1936,null,null,"",null,"0000000",null,"福島市",null,null,null,null,"",null,"",{"$f":"IF(N1938=\"\",\"\",DATEDIF(N1938,DATE(設定シート!$C$2,設定シート!$C$3,設定シート!$C$4),\"Y\"))","v":""},"","",null,null,""]
[1937,null,null,"",null,"0000000",null,"福島市",null,null,null,null,"",null,"",{"$f":"IF(N1939=\"\",\"\",DATEDIF(N1939,DATE(設定シート!$C$2,設定シート!$C$3,設定シート!$C$4),\"Y\"))","v":""},"","",null,null,""]
[1938,null,null,"",null,"0000000",null,"福島市",null,null,null,null,"",null,"",{"$f":"IF(N1940=\"\",\"\",DATEDIF(N1940,DATE(設定シート!$C$2,設定シート!$C$3,設定シート!$C$4),\"Y\"))","v":""},"","",null,null,""]
[1939,null,null,"",null,"0000000",null,"福島市",null,null,null,null,"",null,"",{"$f":"IF(N1941=\"\",\"\",DATEDIF(N1941,DATE(設定シート!$C$2,設定シート!$C$3,設定シート!$C$4),\"Y\"))","v":""},"","",null,null,""]
[1940,null,null,"",null,"0000000",null,"福島市",null,null,null,null,"",null,"",{"$f":"IF(N1942=\"\",\"\",DATEDIF(N1942,DATE(設定シート!$C$2,設定シート!$C$3,設定シート!$C$4),\"Y\"))","v":""},"","",null,null,""]
[1941,null,null,"",null,"0000000",null,"福島市",null,null,null,null,"",null,"",{"$f":"IF(N1943=\"\",\"\",DATEDIF(N1943,DATE(設定シート!$C$2,設定シート!$C$3,設定シート!$C$4),\"Y\"))","v":""},"","",null,null,""]
[1942,null,null,"",null,"0000000",null,"福島市",null,null,null,null,"",null,"",{"$f":"IF(N1944=\"\",\"\",DATEDIF(N1944,DATE(設定シート!$C$2,設定シート!$C$3,設定シート!$C$4),\"Y\"))","v":""},"","",null,null,""]
[1943,null,null,"",null,"0000000",null,"福島市",null,null,null,null,"",null,"",{"$f":"IF(N1945=\"\",\"\",DATEDIF(N1945,DATE(設定シート!$C$2,設定シート!$C$3,設定シート!$C$4),\"Y\"))","v":""},"","",null,null,""]
[1944,null,null,"",null,"0000000",null,"福島市",null,null,null,null,"",null,"",{"$f":"IF(N1946=\"\",\"\",DATEDIF(N1946,DATE(設定シート!$C$2,設定シート!$C$3,設定シート!$C$4),\"Y\"))","v":""},"","",null,null,""]
[1945,null,null,"",null,"0000000",null,"福島市",null,null,null,null,"",null,"",{"$f":"IF(N1947=\"\",\"\",DATEDIF(N1947,DATE(設定シート!$C$2,設定シート!$C$3,設定シート!$C$4),\"Y\"))","v":""},"","",null,null,""]
[1946,null,null,"",null,"0000000",null,"福島市",null,null,null,null,"",null,"",{"$f":"IF(N1948=\"\",\"\",DATEDIF(N1948,DATE(設定シート!$C$2,設定シート!$C$3,設定シート!$C$4),\"Y\"))","v":""},"","",null,null,""]
[1947,null,null,"",null,"0000000",null,"福島市",null,null,null,null,"",null,"",{"$f":"IF(N1949=\"\",\"\",DATEDIF(N1949,DATE(設定シート!$C$2,設定シート!$C$3,設定シート!$C$4),\"Y\"))","v":""},"","",null,null,""]
[1948,null,null,"",null,"0000000",null,"福島市",null,null,null,null,"",null,"",{"$f":"IF(N1950=\"\",\"\",DATEDIF(N1950,DATE(設定シート!$C$2,設定シート!$C$3,設定シート!$C$4),\"Y\"))","v":""},"","",null,null,""]
[1949,null,null,"",null,"0000000",null,"福島市",null,null,null,null,"",null,"",{"$f":"IF(N1951=\"\",\"\",DATEDIF(N1951,DATE(設定シート!$C$2,設定シート!$C$3,設定シート!$C$4),\"Y\"))","v":""},"","",null,null,""]
[1950,null,null,"",null,"0000000",null,"福島市",null,null,null,null,"",null,"",{"$f":"IF(N1952=\"\",\"\",DATEDIF(N1952,DATE(設定シート!$C$2,設定シート!$C$3,設定シート!$C$4),\"Y\"))","v":""},"","",null,null,""]
[1951,null,null,"",null,"0000000",null,"福島市",null,null,null,null,"",null,"",{"$f":"IF(N1953=\"\",\"\",DATEDIF(N1953,DATE(設定シート!$C$2,設定シート!$C$3,設定シート!$C$4),\"Y\"))","v":""},"","",null,null,""]
[1952,null,null,"",null,"0000000",null,"福島市",null,null,null,null,"",null,"",{"$f":"IF(N1954=\"\",\"\",DATEDIF(N1954,DATE(設定シート!$C$2,設定シート!$C$3,設定シート!$C$4),\"Y\"))","v":""},"","",null,null,""]
[1953,null,null,"",null,"0000000",null,"福島市",null,null,null,null,"",null,"",{"$f":"IF(N1955=\"\",\"\",DATEDIF(N1955,DATE(設定シート!$C$2,設定シート!$C$3,設定シート!$C$4),\"Y\"))","v":""},"","",null,null,""]
[1954,null,null,"",null,"0000000",null,"福島市",null,null,null,null,"",null,"",{"$f":"IF(N1956=\"\",\"\",DATEDIF(N1956,DATE(設定シート!$C$2,設定シート!$C$3,設定シート!$C$4),\"Y\"))","v":""},"","",null,null,""]
[1955,null,null,"",null,"0000000",null,"福島市",null,null,null,null,"",null,"",{"$f":"IF(N1957=\"\",\"\",DATEDIF(N1957,DATE(設定シート!$C$2,設定シート!$C$3,設定シート!$C$4),\"Y\"))","v":""},"","",null,null,""]
[1956,null,null,"",null,"0000000",null,"福島市",null,null,null,null,"",null,"",{"$f":"IF(N1958=\"\",\"\",DATEDIF(N1958,DATE(設定シート!$C$2,設定シート!$C$3,設定シート!$C$4),\"Y\"))","v":""},"","",null,null,""]
[1957,null,null,"",null,"0000000",null,"福島市",null,null,null,null,"",null,"",{"$f":"IF(N1959=\"\",\"\",DATEDIF(N1959,DATE(設定シート!$C$2,設定シート!$C$3,設定シート!$C$4),\"Y\"))","v":""},"","",null,null,""]
[1958,null,null,"",null,"0000000",null,"福島市",null,null,null,null,"",null,"",{"$f":"IF(N1960=\"\",\"\",DATEDIF(N1960,DATE(設定シート!$C$2,設定シート!$C$3,設定シート!$C$4),\"Y\"))","v":""},"","",null,null,""]
[1959,null,null,"",null,"0000000",null,"福島市",null,null,null,null,"",null,"",{"$f":"IF(N1961=\"\",\"\",DATEDIF(N1961,DATE(設定シート!$C$2,設定シート!$C$3,設定シート!$C$4),\"Y\"))","v":""},"","",null,null,""]
[1960,null,null,"",null,"0000000",null,"福島市",null,null,null,null,"",null,"",{"$f":"IF(N1962=\"\",\"\",DATEDIF(N1962,DATE(設定シート!$C$2,設定シート!$C$3,設定シート!$C$4),\"Y\"))","v":""},"","",null,null,""]
[1961,null,null,"",null,"0000000",null,"福島市",null,null,null,null,"",null,"",{"$f":"IF(N1963=\"\",\"\",DATEDIF(N1963,DATE(設定シート!$C$2,設定シート!$C$3,設定シート!$C$4),\"Y\"))","v":""},"","",null,null,""]
[1962,null,null,"",null,"0000000",null,"福島市",null,null,null,null,"",null,"",{"$f":"IF(N1964=\"\",\"\",DATEDIF(N1964,DATE(設定シート!$C$2,設定シート!$C$3,設定シート!$C$4),\"Y\"))","v":""},"","",null,null,""]
[1963,null,null,"",null,"0000000",null,"福島市",null,null,null,null,"",null,"",{"$f":"IF(N1965=\"\",\"\",DATEDIF(N1965,DATE(設定シート!$C$2,設定シート!$C$3,設定シート!$C$4),\"Y\"))","v":""},"","",null,null,""]
[1964,null,null,"",null,"0000000",null,"福島市",null,null,null,null,"",null,"",{"$f":"IF(N1966=\"\",\"\",DATEDIF(N1966,DATE(設定シート!$C$2,設定シート!$C$3,設定シート!$C$4),\"Y\"))","v":""},"","",null,null,""]
[1965,null,null,"",null,"0000000",null,"福島市",null,null,null,null,"",null,"",{"$f":"IF(N1967=\"\",\"\",DATEDIF(N1967,DATE(設定シート!$C$2,設定シート!$C$3,設定シート!$C$4),\"Y\"))","v":""},"","",null,null,""]
[1966,null,null,"",null,"0000000",null,"福島市",null,null,null,null,"",null,"",{"$f":"IF(N1968=\"\",\"\",DATEDIF(N1968,DATE(設定シート!$C$2,設定シート!$C$3,設定シート!$C$4),\"Y\"))","v":""},"","",null,null,""]
[1967,null,null,"",null,"0000000",null,"福島市",null,null,null,null,"",null,"",{"$f":"IF(N1969=\"\",\"\",DATEDIF(N1969,DATE(設定シート!$C$2,設定シート!$C$3,設定シート!$C$4),\"Y\"))","v":""},"","",null,null,""]
[1968,null,null,"",null,"0000000",null,"福島市",null,null,null,null,"",null,"",{"$f":"IF(N1970=\"\",\"\",DATEDIF(N1970,DATE(設定シート!$C$2,設定シート!$C$3,設定シート!$C$4),\"Y\"))","v":""},"","",null,null,""]
[1969,null,null,"",null,"0000000",null,"福島市",null,null,null,null,"",null,"",{"$f":"IF(N1971=\"\",\"\",DATEDIF(N1971,DATE(設定シート!$C$2,設定シート!$C$3,設定シート!$C$4),\"Y\"))","v":""},"","",null,null,""]
[1970,null,null,"",null,"0000000",null,"福島市",null,null,null,null,"",null,"",{"$f":"IF(N1972=\"\",\"\",DATEDIF(N1972,DATE(設定シート!$C$2,設定シート!$C$3,設定シート!$C$4),\"Y\"))","v":""},"","",null,null,""]
[1971,null,null,"",null,"0000000",null,"福島市",null,null,null,null,"",null,"",{"$f":"IF(N1973=\"\",\"\",DATEDIF(N1973,DATE(設定シート!$C$2,設定シート!$C$3,設定シート!$C$4),\"Y\"))","v":""},"","",null,null,""]
[1972,null,null,"",null,"0000000",null,"福島市",null,null,null,null,"",null,"",{"$f":"IF(N1974=\"\",\"\",DATEDIF(N1974,DATE(設定シート!$C$2,設定シート!$C$3,設定シート!$C$4),\"Y\"))","v":""},"","",null,null,""]
[1973,null,null,"",null,"0000000",null,"福島市",null,null,null,null,"",null,"",{"$f":"IF(N1975=\"\",\"\",DATEDIF(N1975,DATE(設定シート!$C$2,設定シート!$C$3,設定シート!$C$4),\"Y\"))","v":""},"","",null,null,""]
[1974,null,null,"",null,"0000000",null,"福島市",null,null,null,null,"",null,"",{"$f":"IF(N1976=\"\",\"\",DATEDIF(N1976,DATE(設定シート!$C$2,設定シート!$C$3,設定シート!$C$4),\"Y\"))","v":""},"","",null,null,""]
[1975,null,null,"",null,"0000000",null,"福島市",null,null,null,null,"",null,"",{"$f":"IF(N1977=\"\",\"\",DATEDIF(N1977,DATE(設定シート!$C$2,設定シート!$C$3,設定シート!$C$4),\"Y\"))","v":""},"","",null,null,""]
[1976,null,null,"",null,"0000000",null,"福島市",null,null,null,null,"",null,"",{"$f":"IF(N1978=\"\",\"\",DATEDIF(N1978,DATE(設定シート!$C$2,設定シート!$C$3,設定シート!$C$4),\"Y\"))","v":""},"","",null,null,""]
[1977,null,null,"",null,"0000000",null,"福島市",null,null,null,null,"",null,"",{"$f":"IF(N1979=\"\",\"\",DATEDIF(N1979,DATE(設定シート!$C$2,設定シート!$C$3,設定シート!$C$4),\"Y\"))","v":""},"","",null,null,""]
[1978,null,null,"",null,"0000000",null,"福島市",null,null,null,null,"",null,"",{"$f":"IF(N1980=\"\",\"\",DATEDIF(N1980,DATE(設定シート!$C$2,設定シート!$C$3,設定シート!$C$4),\"Y\"))","v":""},"","",null,null,""]
[1979,null,null,"",null,"0000000",null,"福島市",null,null,null,null,"",null,"",{"$f":"IF(N1981=\"\",\"\",DATEDIF(N1981,DATE(設定シート!$C$2,設定シート!$C$3,設定シート!$C$4),\"Y\"))","v":""},"","",null,null,""]
[1980,null,null,"",null,"0000000",null,"福島市",null,null,null,null,"",null,"",{"$f":"IF(N1982=\"\",\"\",DATEDIF(N1982,DATE(設定シート!$C$2,設定シート!$C$3,設定シート!$C$4),\"Y\"))","v":""},"","",null,null,""]
[1981,null,null,"",null,"0000000",null,"福島市",null,null,null,null,"",null,"",{"$f":"IF(N1983=\"\",\"\",DATEDIF(N1983,DATE(設定シート!$C$2,設定シート!$C$3,設定シート!$C$4),\"Y\"))","v":""},"","",null,null,""]
[1982,null,null,"",null,"0000000",null,"福島市",null,null,null,null,"",null,"",{"$f":"IF(N1984=\"\",\"\",DATEDIF(N1984,DATE(設定シート!$C$2,設定シート!$C$3,設定シート!$C$4),\"Y\"))","v":""},"","",null,null,""]
[1983,null,null,"",null,"0000000",null,"福島市",null,null,null,null,"",null,"",{"$f":"IF(N1985=\"\",\"\",DATEDIF(N1985,DATE(設定シート!$C$2,設定シート!$C$3,設定シート!$C$4),\"Y\"))","v":""},"","",null,null,""]
[1984,null,null,"",null,"0000000",null,"福島市",null,null,null,null,"",null,"",{"$f":"IF(N1986=\"\",\"\",DATEDIF(N1986,DATE(設定シート!$C$2,設定シート!$C$3,設定シート!$C$4),\"Y\"))","v":""},"","",null,null,""]
[1985,null,null,{"$f":"PHONETIC(C1987)","v":""},null,{"$f":"TEXT(B1987,\"0000000\")","v":"0000000"},null,"福島市",null,null,null,null,{"$f":"IF(L1987=1,\"男\",IF(L1987=2,\"女\",\"\"))","v":""},null,{"$f":"IF(OR(E1987=\"\",N1987=\"\"),\"\",DATEDIF(N1987,E1987,\"Y\"))","v":""},{"$f":"IF(N1987=\"\",\"\",DATEDIF(N1987,DATE(設定シート!$C$2,設定シート!$C$3,設定シート!$C$4),\"Y\"))","v":""},{"$f":"IF(P1987=\"\",\"\",IF(P1987<=69,1,IF(P1987>=70,2,\"\")))","v":""},{"$f":"IF(OR(Q1987=1,Q1987=\"1\"),\"有料\",IF(OR(Q1987=2,Q1987=\"2\"),\"70・後\",IF(Q1987=3,\"生保\",IF(Q1987=4,\"非課税\",\"\"))))","v":""},null,null,{"$f":"IF(AND(L1987=2,P1987>=60),\"一単独\",IF(AND(L1987=2,P1987>=50,P1987<60),\"一併用\",IF(AND(L1987=2,P1987>=40,P1987<50),\"二併用\",\"\")))","v":""}]
[{"$f":"ROW()-2","v":1986},null,null,"",null,"0000000",null,"福島市",null,null,null,null,"",null,"",{"$f":"IF(N1988=\"\",\"\",DATEDIF(N1988,DATE(設定シート!$C$2,設定シート!$C$3,設定シート!$C$4),\"Y\"))","v":""},"","",null,null,""]
[1987,null,null,"",null,"0000000",null,"福島市",null,null,null,null,"",null,"",{"$f":"IF(N1989=\"\",\"\",DATEDIF(N1989,DATE(設定シート!$C$2,設定シート!$C$3,設定シート!$C$4),\"Y\"))","v":""},"","",null,null,""]
[1988,null,null,"",null,"0000000",null,"福島市",null,null,null,null,"",null,"",{"$f":"IF(N1990=\"\",\"\",DATEDIF(N1990,DATE(設定シート!$C$2,設定シート!$C$3,設定シート!$C$4),\"Y\"))","v":""},"","",null,null,""]
[1989,null,null,"",null,"0000000",null,"福島市",null,null,null,null,"",null,"",{"$f":"IF(N1991=\"\",\"\",DATEDIF(N1991,DATE(設定シート!$C$2,設定シート!$C$3,設定シート!$C$4),\"Y\"))","v":""},"","",null,null,""]
[1990,null,null,"",null,"0000000",null,"福島市",null,null,null,null,"",null,"",{"$f":"IF(N1992=\"\",\"\",DATEDIF(N1992,DATE(設定シート!$C$2,設定シート!$C$3,設定シート!$C$4),\"Y\"))","v":""},"","",null,null,""]
[1991,null,null,"",null,"0000000",null,"福島市",null,null,null,null,"",null,"",{"$f":"IF(N1993=\"\",\"\",DATEDIF(N1993,DATE(設定シート!$C$2,設定シート!$C$3,設定シート!$C$4),\"Y\"))","v":""},"","",null,null,""]
[1992,null,null,"",null,"0000000",null,"福島市",null,null,null,null,"",null,"",{"$f":"IF(N1994=\"\",\"\",DATEDIF(N1994,DATE(設定シート!$C$2,設定シート!$C$3,設定シート!$C$4),\"Y\"))","v":""},"","",null,null,""]
[1993,null,null,"",null,"0000000",null,"福島市",null,null,null,null,"",null,"",{"$f":"IF(N1995=\"\",\"\",DATEDIF(N1995,DATE(設定シート!$C$2,設定シート!$C$3,設定シート!$C$4),\"Y\"))","v":""},"","",null,null,""]
[1994,null,null,"",null,"0000000",null,"福島市",null,null,null,null,"",null,"",{"$f":"IF(N1996=\"\",\"\",DATEDIF(N1996,DATE(設定シート!$C$2,設定シート!$C$3,設定シート!$C$4),\"Y\"))","v":""},"","",null,null,""]
[1995,null,null,"",null,"0000000",null,"福島市",null,null,null,null,"",null,"",{"$f":"IF(N1997=\"\",\"\",DATEDIF(N1997,DATE(設定シート!$C$2,設定シート!$C$3,設定シート!$C$4),\"Y\"))","v":""},"","",null,null,""]
[1996,null,null,"",null,"0000000",null,"福島市",null,null,null,null,"",null,"",{"$f":"IF(N1998=\"\",\"\",DATEDIF(N1998,DATE(設定シート!$C$2,設定シート!$C$3,設定シート!$C$4),\"Y\"))","v":""},"","",null,null,""]
[1997,null,null,"",null,"0000000",null,"福島市",null,null,null,null,"",null,"",{"$f":"IF(N1999=\"\",\"\",DATEDIF(N1999,DATE(設定シート!$C$2,設定シート!$C$3,設定シート!$C$4),\"Y\"))","v":""},"","",null,null,""]
[1998,null,null,"",null,"0000000",null,"福島市",null,null,null,null,"",null,"",{"$f":"IF(N2000=\"\",\"\",DATEDIF(N2000,DATE(設定シート!$C$2,設定シート!$C$3,設定シート!$C$4),\"Y\"))","v":""},"","",null,null,""]
[1999,null,null,"",null,"0000000",null,"福島市",null,null,null,null,"",null,{"$f":"IF(OR(E2001=\"\",N2001=\"\"),\"\",DATEDIF(N2001,E2001,\"Y\"))","v":""},{"$f":"IF(N2001=\"\",\"\",DATEDIF(N2001,DATE(設定シート!$C$2,設定シート!$C$3,設定シート!$C$4),\"Y\"))","v":""},"","",null,null,""]
[2000,null,null,"",null,{"$f":"TEXT(B2002,\"0000000\")","v":"0000000"},null,"福島市",null,null,null,null,"",null,"",{"$f":"IF(N2002=\"\",\"\",DATEDIF(N2002,DATE(設定シート!$C$2,設定シート!$C$3,設定シート!$C$4),\"Y\"))","v":""},"","",null,null,""]
[2001,null,null,"",null,"0000000",null,"福島市",null,null,null,null,"",null,"",{"$f":"IF(N2003=\"\",\"\",DATEDIF(N2003,DATE(設定シート!$C$2,設定シート!$C$3,設定シート!$C$4),\"Y\"))","v":""},"","",null,null,""]
[2002,null,null,"",null,"0000000",null,"福島市",null,null,null,null,{"$f":"IF(L2004=1,\"男\",IF(L2004=2,\"女\",\"\"))","v":""},null,{"$f":"IF(OR(E2004=\"\",N2004=\"\"),\"\",DATEDIF(N2004,E2004,\"Y\"))","v":""},{"$f":"IF(N2004=\"\",\"\",DATEDIF(N2004,DATE(設定シート!$C$2,設定シート!$C$3,設定シート!$C$4),\"Y\"))","v":""},"",{"$f":"IF(OR(Q2004=1,Q2004=\"1\"),\"有料\",IF(OR(Q2004=2,Q2004=\"2\"),\"70・後\",IF(Q2004=3,\"生保\",IF(Q2004=4,\"非課税\",\"\"))))","v":""},null,null,{"$f":"IF(AND(L2004=2,P2004>=60),\"一単独\",IF(AND(L2004=2,P2004>=50,P2004<60),\"一併用\",IF(AND(L2004=2,P2004>=40,P2004<50),\"二併用\",\"\")))","v":""}]
[2003,null,null,"",null,"0000000",null,"福島市",null,null,null,null,"",null,"",{"$f":"IF(N2005=\"\",\"\",DATEDIF(N2005,DATE(設定シート!$C$2,設定シート!$C$3,設定シート!$C$4),\"Y\"))","v":""},"","",null,null,""]
[2004,null,null,"",null,"0000000",null,"福島市",null,null,null,null,"",null,"",{"$f":"IF(N2006=\"\",\"\",DATEDIF(N2006,DATE(設定シート!$C$2,設定シート!$C$3,設定シート!$C$4),\"Y\"))","v":""},"","",null,null,""]
[2005,null,null,"",null,"0000000",null,"福島市",null,null,null,null,"",null,"",{"$f":"IF(N2007=\"\",\"\",DATEDIF(N2007,DATE(設定シート!$C$2,設定シート!$C$3,設定シート!$C$4),\"Y\"))","v":""},"","",null,null,""]
[2006,null,null,"",null,"0000000",null,"福島市",null,null,null,null,"",null,"",{"$f":"IF(N2008=\"\",\"\",DATEDIF(N2008,DATE(設定シート!$C$2,設定シート!$C$3,設定シート!$C$4),\"Y\"))","v":""},"","",null,null,""]
[2007,null,null,"",null,"0000000",null,"福島市",null,null,null,null,"",null,"",{"$f":"IF(N2009=\"\",\"\",DATEDIF(N2009,DATE(設定シート!$C$2,設定シート!$C$3,設定シート!$C$4),\"Y\"))","v":""},"","",null,null,""]
[2008,null,null,"",null,"0000000",null,"福島市",null,null,null,null,"",null,"",{"$f":"IF(N2010=\"\",\"\",DATEDIF(N2010,DATE(設定シート!$C$2,設定シート!$C$3,設定シート!$C$4),\"Y\"))","v":""},"","",null,null,""]
[2009,null,null,"",null,"0000000",null,"福島市",null,null,null,null,"",null,"",{"$f":"IF(N2011=\"\",\"\",DATEDIF(N2011,DATE(設定シート!$C$2,設定シート!$C$3,設定シート!$C$4),\"Y\"))","v":""},"","",null,null,""]
[2010,null,null,"",null,"0000000",null,"福島市",null,null,null,null,"",null,"",{"$f":"IF(N2012=\"\",\"\",DATEDIF(N2012,DATE(設定シート!$C$2,設定シート!$C$3,設定シート!$C$4),\"Y\"))","v":""},"","",null,null,""]
[2011,null,null,"",null,"0000000",null,"福島市",null,null,null,null,"",null,"",{"$f":"IF(N2013=\"\",\"\",DATEDIF(N2013,DATE(設定シート!$C$2,設定シート!$C$3,設定シート!$C$4),\"Y\"))","v":""},"","",null,null,""]
[2012,null,null,"",null,"0000000",null,"福島市",null,null,null,null,"",null,"",{"$f":"IF(N2014=\"\",\"\",DATEDIF(N2014,DATE(設定シート!$C$2,設定シート!$C$3,設定シート!$C$4),\"Y\"))","v":""},"","",null,null,""]
[2013,null,null,"",null,"0000000",null,"福島市",null,null,null,null,"",null,"",{"$f":"IF(N2015=\"\",\"\",DATEDIF(N2015,DATE(設定シート!$C$2,設定シート!$C$3,設定シート!$C$4),\"Y\"))","v":""},"","",null,null,""]
[2014,null,null,"",null,"0000000",null,"福島市",null,null,null,null,"",null,"",{"$f":"IF(N2016=\"\",\"\",DATEDIF(N2016,DATE(設定シート!$C$2,設定シート!$C$3,設定シート!$C$4),\"Y\"))","v":""},"","",null,null,""]
[2015,null,null,"",null,"0000000",null,"福島市",null,null,null,null,"",null,"",{"$f":"IF(N2017=\"\",\"\",DATEDIF(N2017,DATE(設定シート!$C$2,設定シート!$C$3,設定シート!$C$4),\"Y\"))","v":""},"","",null,null,""]
[2016,null,null,"",null,"0000000",null,"福島市",null,null,null,null,"",null,"",{"$f":"IF(N2018=\"\",\"\",DATEDIF(N2018,DATE(設定シート!$C$2,設定シート!$C$3,設定シート!$C$4),\"Y\"))","v":""},"","",null,null,""]
[2017,null,null,"",null,"0000000",null,"福島市",null,null,null,null,"",null,"",{"$f":"IF(N2019=\"\",\"\",DATEDIF(N2019,DATE(設定シート!$C$2,設定シート!$C$3,設定シート!$C$4),\"Y\"))","v":""},"","",null,null,""]
[2018,null,null,"",null,"0000000",null,"福島市",null,null,null,null,"",null,"",{"$f":"IF(N2020=\"\",\"\",DATEDIF(N2020,DATE(設定シート!$C$2,設定シート!$C$3,設定シート!$C$4),\"Y\"))","v":""},"","",null,null,""]
[2019,null,null,"",null,"0000000",null,"福島市",null,null,null,null,"",null,"",{"$f":"IF(N2021=\"\",\"\",DATEDIF(N2021,DATE(設定シート!$C$2,設定シート!$C$3,設定シート!$C$4),\"Y\"))","v":""},"","",null,null,""]
[2020,null,null,"",null,"0000000",null,"福島市",null,null,null,null,"",null,"",{"$f":"IF(N2022=\"\",\"\",DATEDIF(N2022,DATE(設定シート!$C$2,設定シート!$C$3,設定シート!$C$4),\"Y\"))","v":""},"","",null,null,""]
[2021,null,null,"",null,"0000000",null,"福島市",null,null,null,null,"",null,"",{"$f":"IF(N2023=\"\",\"\",DATEDIF(N2023,DATE(設定シート!$C$2,設定シート!$C$3,設定シート!$C$4),\"Y\"))","v":""},"","",null,null,""]
[2022,null,null,"",null,"0000000",null,"福島市",null,null,null,null,"",null,"",{"$f":"IF(N2024=\"\",\"\",DATEDIF(N2024,DATE(設定シート!$C$2,設定シート!$C$3,設定シート!$C$4),\"Y\"))","v":""},"","",null,null,""]
[2023,null,null,"",null,"0000000",null,"福島市",null,null,null,null,"",null,"",{"$f":"IF(N2025=\"\",\"\",DATEDIF(N2025,DATE(設定シート!$C$2,設定シート!$C$3,設定シート!$C$4),\"Y\"))","v":""},"","",null,null,""]
[2024,null,null,"",null,"0000000",null,"福島市",null,null,null,null,"",null,"",{"$f":"IF(N2026=\"\",\"\",DATEDIF(N2026,DATE(設定シート!$C$2,設定シート!$C$3,設定シート!$C$4),\"Y\"))","v":""},"","",null,null,""]
[2025,null,null,"",null,"0000000",null,"福島市",null,null,null,null,"",null,"",{"$f":"IF(N2027=\"\",\"\",DATEDIF(N2027,DATE(設定シート!$C$2,設定シート!$C$3,設定シート!$C$4),\"Y\"))","v":""},"","",null,null,""]
[2026,null,null,"",null,"0000000",null,"福島市",null,null,null,null,"",null,"",{"$f":"IF(N2028=\"\",\"\",DATEDIF(N2028,DATE(設定シート!$C$2,設定シート!$C$3,設定シート!$C$4),\"Y\"))","v":""},"","",null,null,""]
[2027,null,null,"",null,"0000000",null,"福島市",null,null,null,null,"",null,"",{"$f":"IF(N2029=\"\",\"\",DATEDIF(N2029,DATE(設定シート!$C$2,設定シート!$C$3,設定シート!$C$4),\"Y\"))","v":""},"","",null,null,""]
[2028,null,null,"",null,"0000000",null,"福島市",null,null,null,null,"",null,"",{"$f":"IF(N2030=\"\",\"\",DATEDIF(N2030,DATE(設定シート!$C$2,設定シート!$C$3,設定シート!$C$4),\"Y\"))","v":""},"","",null,null,""]
[2029,null,null,"",null,"0000000",null,"福島市",null,null,null,null,"",null,"",{"$f":"IF(N2031=\"\",\"\",DATEDIF(N2031,DATE(設定シート!$C$2,設定シート!$C$3,設定シート!$C$4),\"Y\"))","v":""},"","",null,null,""]
[2030,null,null,"",null,"0000000",null,"福島市",null,null,null,null,"",null,"",{"$f":"IF(N2032=\"\",\"\",DATEDIF(N2032,DATE(設定シート!$C$2,設定シート!$C$3,設定シート!$C$4),\"Y\"))","v":""},"","",null,null,""]
[2031,null,null,"",null,"0000000",null,"福島市",null,null,null,null,"",null,"",{"$f":"IF(N2033=\"\",\"\",DATEDIF(N2033,DATE(設定シート!$C$2,設定シート!$C$3,設定シート!$C$4),\"Y\"))","v":""},"","",null,null,""]
[2032,null,null,"",null,"0000000",null,"福島市",null,null,null,null,"",null,"",{"$f":"IF(N2034=\"\",\"\",DATEDIF(N2034,DATE(設定シート!$C$2,設定シート!$C$3,設定シート!$C$4),\"Y\"))","v":""},"","",null,null,""]
[2033,null,null,"",null,"0000000",null,"福島市",null,null,null,null,"",null,"",{"$f":"IF(N2035=\"\",\"\",DATEDIF(N2035,DATE(設定シート!$C$2,設定シート!$C$3,設定シート!$C$4),\"Y\"))","v":""},"","",null,null,""]
[2034,null,null,"",null,"0000000",null,"福島市",null,null,null,null,"",null,"",{"$f":"IF(N2036=\"\",\"\",DATEDIF(N2036,DATE(設定シート!$C$2,設定シート!$C$3,設定シート!$C$4),\"Y\"))","v":""},"","",null,null,""]
[2035,null,null,"",null,"0000000",null,"福島市",null,null,null,null,"",null,"",{"$f":"IF(N2037=\"\",\"\",DATEDIF(N2037,DATE(設定シート!$C$2,設定シート!$C$3,設定シート!$C$4),\"Y\"))","v":""},"","",null,null,""]
[2036,null,null,"",null,"0000000",null,"福島市",null,null,null,null,"",null,"",{"$f":"IF(N2038=\"\",\"\",DATEDIF(N2038,DATE(設定シート!$C$2,設定シート!$C$3,設定シート!$C$4),\"Y\"))","v":""},"","",null,null,""]
[2037,null,null,"",null,"0000000",null,"福島市",null,null,null,null,"",null,"",{"$f":"IF(N2039=\"\",\"\",DATEDIF(N2039,DATE(設定シート!$C$2,設定シート!$C$3,設定シート!$C$4),\"Y\"))","v":""},"","",null,null,""]
[2038,null,null,"",null,"0000000",null,"福島市",null,null,null,null,"",null,"",{"$f":"IF(N2040=\"\",\"\",DATEDIF(N2040,DATE(設定シート!$C$2,設定シート!$C$3,設定シート!$C$4),\"Y\"))","v":""},"","",null,null,""]
[2039,null,null,"",null,"0000000",null,"福島市",null,null,null,null,"",null,"",{"$f":"IF(N2041=\"\",\"\",DATEDIF(N2041,DATE(設定シート!$C$2,設定シート!$C$3,設定シート!$C$4),\"Y\"))","v":""},"","",null,null,""]
[2040,null,null,"",null,"0000000",null,"福島市",null,null,null,null,"",null,"",{"$f":"IF(N2042=\"\",\"\",DATEDIF(N2042,DATE(設定シート!$C$2,設定シート!$C$3,設定シート!$C$4),\"Y\"))","v":""},"","",null,null,""]
[2041,null,null,"",null,"0000000",null,"福島市",null,null,null,null,"",null,"",{"$f":"IF(N2043=\"\",\"\",DATEDIF(N2043,DATE(設定シート!$C$2,設定シート!$C$3,設定シート!$C$4),\"Y\"))","v":""},"","",null,null,""]
[2042,null,null,"",null,"0000000",null,"福島市",null,null,null,null,"",null,"",{"$f":"IF(N2044=\"\",\"\",DATEDIF(N2044,DATE(設定シート!$C$2,設定シート!$C$3,設定シート!$C$4),\"Y\"))","v":""},"","",null,null,""]
[2043,null,null,"",null,"0000000",null,"福島市",null,null,null,null,"",null,"",{"$f":"IF(N2045=\"\",\"\",DATEDIF(N2045,DATE(設定シート!$C$2,設定シート!$C$3,設定シート!$C$4),\"Y\"))","v":""},"","",null,null,""]
[2044,null,null,"",null,"0000000",null,"福島市",null,null,null,null,"",null,"",{"$f":"IF(N2046=\"\",\"\",DATEDIF(N2046,DATE(設定シート!$C$2,設定シート!$C$3,設定シート!$C$4),\"Y\"))","v":""},"","",null,null,""]
[2045,null,null,"",null,"0000000",null,"福島市",null,null,null,null,"",null,"",{"$f":"IF(N2047=\"\",\"\",DATEDIF(N2047,DATE(設定シート!$C$2,設定シート!$C$3,設定シート!$C$4),\"Y\"))","v":""},"","",null,null,""]
[2046,null,null,"",null,"0000000",null,"福島市",null,null,null,null,"",null,"",{"$f":"IF(N2048=\"\",\"\",DATEDIF(N2048,DATE(設定シート!$C$2,設定シート!$C$3,設定シート!$C$4),\"Y\"))","v":""},"","",null,null,""]
[2047,null,null,"",null,"0000000",null,"福島市",null,null,null,null,"",null,"",{"$f":"IF(N2049=\"\",\"\",DATEDIF(N2049,DATE(設定シート!$C$2,設定シート!$C$3,設定シート!$C$4),\"Y\"))","v":""},"","",null,null,""]
[2048,null,null,"",null,"0000000",null,"福島市",null,null,null,null,"",null,"",{"$f":"IF(N2050=\"\",\"\",DATEDIF(N2050,DATE(設定シート!$C$2,設定シート!$C$3,設定シート!$C$4),\"Y\"))","v":""},"","",null,null,""]
[2049,null,null,{"$f":"PHONETIC(C2051)","v":""},null,"0000000",null,"福島市",null,null,null,null,"",null,"",{"$f":"IF(N2051=\"\",\"\",DATEDIF(N2051,DATE(設定シート!$C$2,設定シート!$C$3,設定シート!$C$4),\"Y\"))","v":""},{"$f":"IF(P2051=\"\",\"\",IF(P2051<=69,1,IF(P2051>=70,2,\"\")))","v":""},"",null,null,""]
[2050,null,null,"",null,"0000000",null,"福島市",null,null,null,null,"",null,"",{"$f":"IF(N2052=\"\",\"\",DATEDIF(N2052,DATE(設定シート!$C$2,設定シート!$C$3,設定シート!$C$4),\"Y\"))","v":""},"","",null,null,""]
[2051,null,null,"",null,"0000000",null,"福島市",null,null,null,null,"",null,"",{"$f":"IF(N2053=\"\",\"\",DATEDIF(N2053,DATE(設定シート!$C$2,設定シート!$C$3,設定シート!$C$4),\"Y\"))","v":""},"","",null,null,""]
[2052,null,null,"",null,"0000000",null,"福島市",null,null,null,null,"",null,"",{"$f":"IF(N2054=\"\",\"\",DATEDIF(N2054,DATE(設定シート!$C$2,設定シート!$C$3,設定シート!$C$4),\"Y\"))","v":""},"","",null,null,""]
[2053,null,null,"",null,"0000000",null,"福島市",null,null,null,null,"",null,"",{"$f":"IF(N2055=\"\",\"\",DATEDIF(N2055,DATE(設定シート!$C$2,設定シート!$C$3,設定シート!$C$4),\"Y\"))","v":""},"","",null,null,""]
[2054,null,null,"",null,"0000000",null,"福島市",null,null,null,null,"",null,"",{"$f":"IF(N2056=\"\",\"\",DATEDIF(N2056,DATE(設定シート!$C$2,設定シート!$C$3,設定シート!$C$4),\"Y\"))","v":""},"","",null,null,""]
[2055,null,null,"",null,"0000000",null,"福島市",null,null,null,null,"",null,"",{"$f":"IF(N2057=\"\",\"\",DATEDIF(N2057,DATE(設定シート!$C$2,設定シート!$C$3,設定シート!$C$4),\"Y\"))","v":""},"","",null,null,""]
[2056,null,null,"",null,"0000000",null,"福島市",null,null,null,null,"",null,"",{"$f":"IF(N2058=\"\",\"\",DATEDIF(N2058,DATE(設定シート!$C$2,設定シート!$C$3,設定シート!$C$4),\"Y\"))","v":""},"","",null,null,""]
[2057,null,null,"",null,"0000000",null,"福島市",null,null,null,null,"",null,"",{"$f":"IF(N2059=\"\",\"\",DATEDIF(N2059,DATE(設定シート!$C$2,設定シート!$C$3,設定シート!$C$4),\"Y\"))","v":""},"","",null,null,""]
[2058,null,null,"",null,"0000000",null,"福島市",null,null,null,null,"",null,"",{"$f":"IF(N2060=\"\",\"\",DATEDIF(N2060,DATE(設定シート!$C$2,設定シート!$C$3,設定シート!$C$4),\"Y\"))","v":""},"","",null,null,""]
[2059,null,null,"",null,"0000000",null,"福島市",null,null,null,null,"",null,"",{"$f":"IF(N2061=\"\",\"\",DATEDIF(N2061,DATE(設定シート!$C$2,設定シート!$C$3,設定シート!$C$4),\"Y\"))","v":""},"","",null,null,""]
[2060,null,null,"",null,"0000000",null,"福島市",null,null,null,null,"",null,"",{"$f":"IF(N2062=\"\",\"\",DATEDIF(N2062,DATE(設定シート!$C$2,設定シート!$C$3,設定シート!$C$4),\"Y\"))","v":""},"","",null,null,""]
[2061,null,null,"",null,"0000000",null,"福島市",null,null,null,null,"",null,"",{"$f":"IF(N2063=\"\",\"\",DATEDIF(N2063,DATE(設定シート!$C$2,設定シート!$C$3,設定シート!$C$4),\"Y\"))","v":""},"","",null,null,""]
[2062,null,null,"",null,"0000000",null,"福島市",null,null,null,null,"",null,"",{"$f":"IF(N2064=\"\",\"\",DATEDIF(N2064,DATE(設定シート!$C$2,設定シート!$C$3,設定シート!$C$4),\"Y\"))","v":""},"","",null,null,""]
[2063,null,null,"",null,"0000000",null,"福島市",null,null,null,null,"",null,"",{"$f":"IF(N2065=\"\",\"\",DATEDIF(N2065,DATE(設定シート!$C$2,設定シート!$C$3,設定シート!$C$4),\"Y\"))","v":""},"","",null,null,""]
[2064,null,null,"",null,{"$f":"TEXT(B2066,\"0000000\")","v":"0000000"},null,"福島市",null,null,null,null,"",null,"",{"$f":"IF(N2066=\"\",\"\",DATEDIF(N2066,DATE(設定シート!$C$2,設定シート!$C$3,設定シート!$C$4),\"Y\"))","v":""},"","",null,null,""]
[2065,null,null,"",null,"0000000",null,"福島市",null,null,null,null,"",null,"",{"$f":"IF(N2067=\"\",\"\",DATEDIF(N2067,DATE(設定シート!$C$2,設定シート!$C$3,設定シート!$C$4),\"Y\"))","v":""},"","",null,null,""]
[2066,null,null,"",null,"0000000",null,"福島市",null,null,null,null,{"$f":"IF(L2068=1,\"男\",IF(L2068=2,\"女\",\"\"))","v":""},null,{"$f":"IF(OR(E2068=\"\",N2068=\"\"),\"\",DATEDIF(N2068,E2068,\"Y\"))","v":""},{"$f":"IF(N2068=\"\",\"\",DATEDIF(N2068,DATE(設定シート!$C$2,設定シート!$C$3,設定シート!$C$4),\"Y\"))","v":""},"",{"$f":"IF(OR(Q2068=1,Q2068=\"1\"),\"有料\",IF(OR(Q2068=2,Q2068=\"2\"),\"70・後\",IF(Q2068=3,\"生保\",IF(Q2068=4,\"非課税\",\"\"))))","v":""},null,null,{"$f":"IF(AND(L2068=2,P2068>=60),\"一単独\",IF(AND(L2068=2,P2068>=50,P2068<60),\"一併用\",IF(AND(L2068=2,P2068>=40,P2068<50),\"二併用\",\"\")))","v":""}]
[2067,null,null,"",null,"0000000",null,"福島市",null,null,null,null,"",null,"",{"$f":"IF(N2069=\"\",\"\",DATEDIF(N2069,DATE(設定シート!$C$2,設定シート!$C$3,設定シート!$C$4),\"Y\"))","v":""},"","",null,null,""]
[2068,null,null,"",null,"0000000",null,"福島市",null,null,null,null,"",null,"",{"$f":"IF(N2070=\"\",\"\",DATEDIF(N2070,DATE(設定シート!$C$2,設定シート!$C$3,設定シート!$C$4),\"Y\"))","v":""},"","",null,null,""]
[2069,null,null,"",null,"0000000",null,"福島市",null,null,null,null,"",null,"",{"$f":"IF(N2071=\"\",\"\",DATEDIF(N2071,DATE(設定シート!$C$2,設定シート!$C$3,設定シート!$C$4),\"Y\"))","v":""},"","",null,null,""]
[2070,null,null,"",null,"0000000",null,"福島市",null,null,null,null,"",null,"",{"$f":"IF(N2072=\"\",\"\",DATEDIF(N2072,DATE(設定シート!$C$2,設定シート!$C$3,設定シート!$C$4),\"Y\"))","v":""},"","",null,null,""]
[2071,null,null,"",null,"0000000",null,"福島市",null,null,null,null,"",null,"",{"$f":"IF(N2073=\"\",\"\",DATEDIF(N2073,DATE(設定シート!$C$2,設定シート!$C$3,設定シート!$C$4),\"Y\"))","v":""},"","",null,null,""]
[2072,null,null,"",null,"0000000",null,"福島市",null,null,null,null,"",null,"",{"$f":"IF(N2074=\"\",\"\",DATEDIF(N2074,DATE(設定シート!$C$2,設定シート!$C$3,設定シート!$C$4),\"Y\"))","v":""},"","",null,null,""]
[2073,null,null,"",null,"0000000",null,"福島市",null,null,null,null,"",null,"",{"$f":"IF(N2075=\"\",\"\",DATEDIF(N2075,DATE(設定シート!$C$2,設定シート!$C$3,設定シート!$C$4),\"Y\"))","v":""},"","",null,null,""]
[2074,null,null,"",null,"0000000",null,"福島市",null,null,null,null,"",null,"",{"$f":"IF(N2076=\"\",\"\",DATEDIF(N2076,DATE(設定シート!$C$2,設定シート!$C$3,設定シート!$C$4),\"Y\"))","v":""},"","",null,null,""]
[2075,null,null,"",null,"0000000",null,"福島市",null,null,null,null,"",null,"",{"$f":"IF(N2077=\"\",\"\",DATEDIF(N2077,DATE(設定シート!$C$2,設定シート!$C$3,設定シート!$C$4),\"Y\"))","v":""},"","",null,null,""]
[2076,null,null,"",null,"0000000",null,"福島市",null,null,null,null,"",null,"",{"$f":"IF(N2078=\"\",\"\",DATEDIF(N2078,DATE(設定シート!$C$2,設定シート!$C$3,設定シート!$C$4),\"Y\"))","v":""},"","",null,null,""]
[2077,null,null,"",null,"0000000",null,"福島市",null,null,null,null,"",null,"",{"$f":"IF(N2079=\"\",\"\",DATEDIF(N2079,DATE(設定シート!$C$2,設定シート!$C$3,設定シート!$C$4),\"Y\"))","v":""},"","",null,null,""]
[2078,null,null,"",null,"0000000",null,"福島市",null,null,null,null,"",null,"",{"$f":"IF(N2080=\"\",\"\",DATEDIF(N2080,DATE(設定シート!$C$2,設定シート!$C$3,設定シート!$C$4),\"Y\"))","v":""},"","",null,null,""]
[2079,null,null,"",null,"0000000",null,"福島市",null,null,null,null,"",null,"",{"$f":"IF(N2081=\"\",\"\",DATEDIF(N2081,DATE(設定シート!$C$2,設定シート!$C$3,設定シート!$C$4),\"Y\"))","v":""},"","",null,null,""]
[2080,null,null,"",null,"0000000",null,"福島市",null,null,null,null,"",null,"",{"$f":"IF(N2082=\"\",\"\",DATEDIF(N2082,DATE(設定シート!$C$2,設定シート!$C$3,設定シート!$C$4),\"Y\"))","v":""},"","",null,null,""]
[2081,null,null,"",null,"0000000",null,"福島市",null,null,null,null,"",null,"",{"$f":"IF(N2083=\"\",\"\",DATEDIF(N2083,DATE(設定シート!$C$2,設定シート!$C$3,設定シート!$C$4),\"Y\"))","v":""},"","",null,null,""]
[2082,null,null,"",null,"0000000",null,"福島市",null,null,null,null,"",null,"",{"$f":"IF(N2084=\"\",\"\",DATEDIF(N2084,DATE(設定シート!$C$2,設定シート!$C$3,設定シート!$C$4),\"Y\"))","v":""},"","",null,null,""]
[2083,null,null,"",null,"0000000",null,"福島市",null,null,null,null,"",null,"",{"$f":"IF(N2085=\"\",\"\",DATEDIF(N2085,DATE(設定シート!$C$2,設定シート!$C$3,設定シート!$C$4),\"Y\"))","v":""},"","",null,null,""]
[2084,null,null,"",null,"0000000",null,"福島市",null,null,null,null,"",null,"",{"$f":"IF(N2086=\"\",\"\",DATEDIF(N2086,DATE(設定シート!$C$2,設定シート!$C$3,設定シート!$C$4),\"Y\"))","v":""},"","",null,null,""]
[2085,null,null,"",null,"0000000",null,"福島市",null,null,null,null,"",null,"",{"$f":"IF(N2087=\"\",\"\",DATEDIF(N2087,DATE(設定シート!$C$2,設定シート!$C$3,設定シート!$C$4),\"Y\"))","v":""},"","",null,null,""]
[2086,null,null,"",null,"0000000",null,"福島市",null,null,null,null,"",null,"",{"$f":"IF(N2088=\"\",\"\",DATEDIF(N2088,DATE(設定シート!$C$2,設定シート!$C$3,設定シート!$C$4),\"Y\"))","v":""},"","",null,null,""]
[2087,null,null,"",null,"0000000",null,"福島市",null,null,null,null,"",null,"",{"$f":"IF(N2089=\"\",\"\",DATEDIF(N2089,DATE(設定シート!$C$2,設定シート!$C$3,設定シート!$C$4),\"Y\"))","v":""},"","",null,null,""]
[2088,null,null,"",null,"0000000",null,"福島市",null,null,null,null,"",null,"",{"$f":"IF(N2090=\"\",\"\",DATEDIF(N2090,DATE(設定シート!$C$2,設定シート!$C$3,設定シート!$C$4),\"Y\"))","v":""},"","",null,null,""]
[2089,null,null,"",null,"0000000",null,"福島市",null,null,null,null,"",null,"",{"$f":"IF(N2091=\"\",\"\",DATEDIF(N2091,DATE(設定シート!$C$2,設定シート!$C$3,設定シート!$C$4),\"Y\"))","v":""},"","",null,null,""]
[2090,null,null,"",null,"0000000",null,"福島市",null,null,null,null,"",null,"",{"$f":"IF(N2092=\"\",\"\",DATEDIF(N2092,DATE(設定シート!$C$2,設定シート!$C$3,設定シート!$C$4),\"Y\"))","v":""},"","",null,null,""]
[2091,null,null,"",null,"0000000",null,"福島市",null,null,null,null,"",null,"",{"$f":"IF(N2093=\"\",\"\",DATEDIF(N2093,DATE(設定シート!$C$2,設定シート!$C$3,設定シート!$C$4),\"Y\"))","v":""},"","",null,null,""]
[2092,null,null,"",null,"0000000",null,"福島市",null,null,null,null,"",null,"",{"$f":"IF(N2094=\"\",\"\",DATEDIF(N2094,DATE(設定シート!$C$2,設定シート!$C$3,設定シート!$C$4),\"Y\"))","v":""},"","",null,null,""]
[2093,null,null,"",null,"0000000",null,"福島市",null,null,null,null,"",null,"",{"$f":"IF(N2095=\"\",\"\",DATEDIF(N2095,DATE(設定シート!$C$2,設定シート!$C$3,設定シート!$C$4),\"Y\"))","v":""},"","",null,null,""]
[2094,null,null,"",null,"0000000",null,"福島市",null,null,null,null,"",null,"",{"$f":"IF(N2096=\"\",\"\",DATEDIF(N2096,DATE(設定シート!$C$2,設定シート!$C$3,設定シート!$C$4),\"Y\"))","v":""},"","",null,null,""]
[2095,null,null,"",null,"0000000",null,"福島市",null,null,null,null,"",null,"",{"$f":"IF(N2097=\"\",\"\",DATEDIF(N2097,DATE(設定シート!$C$2,設定シート!$C$3,設定シート!$C$4),\"Y\"))","v":""},"","",null,null,""]
[2096,null,null,"",null,"0000000",null,"福島市",null,null,null,null,"",null,"",{"$f":"IF(N2098=\"\",\"\",DATEDIF(N2098,DATE(設定シート!$C$2,設定シート!$C$3,設定シート!$C$4),\"Y\"))","v":""},"","",null,null,""]
[2097,null,null,"",null,"0000000",null,"福島市",null,null,null,null,"",null,"",{"$f":"IF(N2099=\"\",\"\",DATEDIF(N2099,DATE(設定シート!$C$2,設定シート!$C$3,設定シート!$C$4),\"Y\"))","v":""},"","",null,null,""]
[2098,null,null,"",null,"0000000",null,"福島市",null,null,null,null,"",null,"",{"$f":"IF(N2100=\"\",\"\",DATEDIF(N2100,DATE(設定シート!$C$2,設定シート!$C$3,設定シート!$C$4),\"Y\"))","v":""},"","",null,null,""]
[2099,null,null,"",null,"0000000",null,"福島市",null,null,null,null,"",null,"",{"$f":"IF(N2101=\"\",\"\",DATEDIF(N2101,DATE(設定シート!$C$2,設定シート!$C$3,設定シート!$C$4),\"Y\"))","v":""},"","",null,null,""]
[2100,null,null,"",null,"0000000",null,"福島市",null,null,null,null,"",null,"",{"$f":"IF(N2102=\"\",\"\",DATEDIF(N2102,DATE(設定シート!$C$2,設定シート!$C$3,設定シート!$C$4),\"Y\"))","v":""},"","",null,null,""]
[2101,null,null,"",null,"0000000",null,"福島市",null,null,null,null,"",null,"",{"$f":"IF(N2103=\"\",\"\",DATEDIF(N2103,DATE(設定シート!$C$2,設定シート!$C$3,設定シート!$C$4),\"Y\"))","v":""},"","",null,null,""]
[2102,null,null,"",null,"0000000",null,"福島市",null,null,null,null,"",null,"",{"$f":"IF(N2104=\"\",\"\",DATEDIF(N2104,DATE(設定シート!$C$2,設定シート!$C$3,設定シート!$C$4),\"Y\"))","v":""},"","",null,null,""]
[2103,null,null,"",null,"0000000",null,"福島市",null,null,null,null,"",null,"",{"$f":"IF(N2105=\"\",\"\",DATEDIF(N2105,DATE(設定シート!$C$2,設定シート!$C$3,設定シート!$C$4),\"Y\"))","v":""},"","",null,null,""]
[2104,null,null,"",null,"0000000",null,"福島市",null,null,null,null,"",null,"",{"$f":"IF(N2106=\"\",\"\",DATEDIF(N2106,DATE(設定シート!$C$2,設定シート!$C$3,設定シート!$C$4),\"Y\"))","v":""},"","",null,null,""]
[2105,null,null,"",null,"0000000",null,"福島市",null,null,null,null,"",null,"",{"$f":"IF(N2107=\"\",\"\",DATEDIF(N2107,DATE(設定シート!$C$2,設定シート!$C$3,設定シート!$C$4),\"Y\"))","v":""},"","",null,null,""]
[2106,null,null,"",null,"0000000",null,"福島市",null,null,null,null,"",null,"",{"$f":"IF(N2108=\"\",\"\",DATEDIF(N2108,DATE(設定シート!$C$2,設定シート!$C$3,設定シート!$C$4),\"Y\"))","v":""},"","",null,null,""]
[2107,null,null,"",null,"0000000",null,"福島市",null,null,null,null,"",null,"",{"$f":"IF(N2109=\"\",\"\",DATEDIF(N2109,DATE(設定シート!$C$2,設定シート!$C$3,設定シート!$C$4),\"Y\"))","v":""},"","",null,null,""]
[2108,null,null,"",null,"0000000",null,"福島市",null,null,null,null,"",null,"",{"$f":"IF(N2110=\"\",\"\",DATEDIF(N2110,DATE(設定シート!$C$2,設定シート!$C$3,設定シート!$C$4),\"Y\"))","v":""},"","",null,null,""]
[2109,null,null,"",null,"0000000",null,"福島市",null,null,null,null,"",null,"",{"$f":"IF(N2111=\"\",\"\",DATEDIF(N2111,DATE(設定シート!$C$2,設定シート!$C$3,設定シート!$C$4),\"Y\"))","v":""},"","",null,null,""]
[2110,null,null,"",null,"0000000",null,"福島市",null,null,null,null,"",null,"",{"$f":"IF(N2112=\"\",\"\",DATEDIF(N2112,DATE(設定シート!$C$2,設定シート!$C$3,設定シート!$C$4),\"Y\"))","v":""},"","",null,null,""]
[2111,null,null,"",null,"0000000",null,"福島市",null,null,null,null,"",null,"",{"$f":"IF(N2113=\"\",\"\",DATEDIF(N2113,DATE(設定シート!$C$2,設定シート!$C$3,設定シート!$C$4),\"Y\"))","v":""},"","",null,null,""]
[2112,null,null,"",null,"0000000",null,"福島市",null,null,null,null,"",null,"",{"$f":"IF(N2114=\"\",\"\",DATEDIF(N2114,DATE(設定シート!$C$2,設定シート!$C$3,設定シート!$C$4),\"Y\"))","v":""},"","",null,null,""]
[2113,null,null,{"$f":"PHONETIC(C2115)","v":""},null,"0000000",null,"福島市",null,null,null,null,"",null,"",{"$f":"IF(N2115=\"\",\"\",DATEDIF(N2115,DATE(設定シート!$C$2,設定シート!$C$3,設定シート!$C$4),\"Y\"))","v":""},{"$f":"IF(P2115=\"\",\"\",IF(P2115<=69,1,IF(P2115>=70,2,\"\")))","v":""},"",null,null,""]
[2114,null,null,"",null,"0000000",null,"福島市",null,null,null,null,"",null,"",{"$f":"IF(N2116=\"\",\"\",DATEDIF(N2116,DATE(設定シート!$C$2,設定シート!$C$3,設定シート!$C$4),\"Y\"))","v":""},"","",null,null,""]
[2115,null,null,"",null,"0000000",null,"福島市",null,null,null,null,"",null,"",{"$f":"IF(N2117=\"\",\"\",DATEDIF(N2117,DATE(設定シート!$C$2,設定シート!$C$3,設定シート!$C$4),\"Y\"))","v":""},"","",null,null,""]
[2116,null,null,"",null,"0000000",null,"福島市",null,null,null,null,"",null,"",{"$f":"IF(N2118=\"\",\"\",DATEDIF(N2118,DATE(設定シート!$C$2,設定シート!$C$3,設定シート!$C$4),\"Y\"))","v":""},"","",null,null,""]
[2117,null,null,"",null,"0000000",null,"福島市",null,null,null,null,"",null,"",{"$f":"IF(N2119=\"\",\"\",DATEDIF(N2119,DATE(設定シート!$C$2,設定シート!$C$3,設定シート!$C$4),\"Y\"))","v":""},"","",null,null,""]
[2118,null,null,"",null,"0000000",null,"福島市",null,null,null,null,"",null,"",{"$f":"IF(N2120=\"\",\"\",DATEDIF(N2120,DATE(設定シート!$C$2,設定シート!$C$3,設定シート!$C$4),\"Y\"))","v":""},"","",null,null,""]
[2119,null,null,"",null,"0000000",null,"福島市",null,null,null,null,"",null,"",{"$f":"IF(N2121=\"\",\"\",DATEDIF(N2121,DATE(設定シート!$C$2,設定シート!$C$3,設定シート!$C$4),\"Y\"))","v":""},"","",null,null,""]
[2120,null,null,"",null,"0000000",null,"福島市",null,null,null,null,"",null,"",{"$f":"IF(N2122=\"\",\"\",DATEDIF(N2122,DATE(設定シート!$C$2,設定シート!$C$3,設定シート!$C$4),\"Y\"))","v":""},"","",null,null,""]
[2121,null,null,"",null,"0000000",null,"福島市",null,null,null,null,"",null,"",{"$f":"IF(N2123=\"\",\"\",DATEDIF(N2123,DATE(設定シート!$C$2,設定シート!$C$3,設定シート!$C$4),\"Y\"))","v":""},"","",null,null,""]
[2122,null,null,"",null,"0000000",null,"福島市",null,null,null,null,"",null,"",{"$f":"IF(N2124=\"\",\"\",DATEDIF(N2124,DATE(設定シート!$C$2,設定シート!$C$3,設定シート!$C$4),\"Y\"))","v":""},"","",null,null,""]
[2123,null,null,"",null,"0000000",null,"福島市",null,null,null,null,"",null,"",{"$f":"IF(N2125=\"\",\"\",DATEDIF(N2125,DATE(設定シート!$C$2,設定シート!$C$3,設定シート!$C$4),\"Y\"))","v":""},"","",null,null,""]
[2124,null,null,"",null,"0000000",null,"福島市",null,null,null,null,"",null,"",{"$f":"IF(N2126=\"\",\"\",DATEDIF(N2126,DATE(設定シート!$C$2,設定シート!$C$3,設定シート!$C$4),\"Y\"))","v":""},"","",null,null,""]
[2125,null,null,"",null,"0000000",null,"福島市",null,null,null,null,"",null,"",{"$f":"IF(N2127=\"\",\"\",DATEDIF(N2127,DATE(設定シート!$C$2,設定シート!$C$3,設定シート!$C$4),\"Y\"))","v":""},"","",null,null,""]
[2126,null,null,"",null,"0000000",null,"福島市",null,null,null,null,"",null,"",{"$f":"IF(N2128=\"\",\"\",DATEDIF(N2128,DATE(設定シート!$C$2,設定シート!$C$3,設定シート!$C$4),\"Y\"))","v":""},"","",null,null,""]
[2127,null,null,"",null,"0000000",null,"福島市",null,null,null,null,"",null,"",{"$f":"IF(N2129=\"\",\"\",DATEDIF(N2129,DATE(設定シート!$C$2,設定シート!$C$3,設定シート!$C$4),\"Y\"))","v":""},"","",null,null,""]
[2128,null,null,"",null,{"$f":"TEXT(B2130,\"0000000\")","v":"0000000"},null,"福島市",null,null,null,null,"",null,"",{"$f":"IF(N2130=\"\",\"\",DATEDIF(N2130,DATE(設定シート!$C$2,設定シート!$C$3,設定シート!$C$4),\"Y\"))","v":""},"","",null,null,""]
[2129,null,null,"",null,"0000000",null,"福島市",null,null,null,null,"",null,"",{"$f":"IF(N2131=\"\",\"\",DATEDIF(N2131,DATE(設定シート!$C$2,設定シート!$C$3,設定シート!$C$4),\"Y\"))","v":""},"","",null,null,""]
[2130,null,null,"",null,"0000000",null,"福島市",null,null,null,null,{"$f":"IF(L2132=1,\"男\",IF(L2132=2,\"女\",\"\"))","v":""},null,{"$f":"IF(OR(E2132=\"\",N2132=\"\"),\"\",DATEDIF(N2132,E2132,\"Y\"))","v":""},{"$f":"IF(N2132=\"\",\"\",DATEDIF(N2132,DATE(設定シート!$C$2,設定シート!$C$3,設定シート!$C$4),\"Y\"))","v":""},"",{"$f":"IF(OR(Q2132=1,Q2132=\"1\"),\"有料\",IF(OR(Q2132=2,Q2132=\"2\"),\"70・後\",IF(Q2132=3,\"生保\",IF(Q2132=4,\"非課税\",\"\"))))","v":""},null,null,{"$f":"IF(AND(L2132=2,P2132>=60),\"一単独\",IF(AND(L2132=2,P2132>=50,P2132<60),\"一併用\",IF(AND(L2132=2,P2132>=40,P2132<50),\"二併用\",\"\")))","v":""}]
[2131,null,null,"",null,"0000000",null,"福島市",null,null,null,null,"",null,"",{"$f":"IF(N2133=\"\",\"\",DATEDIF(N2133,DATE(設定シート!$C$2,設定シート!$C$3,設定シート!$C$4),\"Y\"))","v":""},"","",null,null,""]
[2132,null,null,"",null,"0000000",null,"福島市",null,null,null,null,"",null,"",{"$f":"IF(N2134=\"\",\"\",DATEDIF(N2134,DATE(設定シート!$C$2,設定シート!$C$3,設定シート!$C$4),\"Y\"))","v":""},"","",null,null,""]
[2133,null,null,"",null,"0000000",null,"福島市",null,null,null,null,"",null,"",{"$f":"IF(N2135=\"\",\"\",DATEDIF(N2135,DATE(設定シート!$C$2,設定シート!$C$3,設定シート!$C$4),\"Y\"))","v":""},"","",null,null,""]
[2134,null,null,"",null,"0000000",null,"福島市",null,null,null,null,"",null,"",{"$f":"IF(N2136=\"\",\"\",DATEDIF(N2136,DATE(設定シート!$C$2,設定シート!$C$3,設定シート!$C$4),\"Y\"))","v":""},"","",null,null,""]
[2135,null,null,"",null,"0000000",null,"福島市",null,null,null,null,"",null,"",{"$f":"IF(N2137=\"\",\"\",DATEDIF(N2137,DATE(設定シート!$C$2,設定シート!$C$3,設定シート!$C$4),\"Y\"))","v":""},"","",null,null,""]
[2136,null,null,"",null,"0000000",null,"福島市",null,null,null,null,"",null,"",{"$f":"IF(N2138=\"\",\"\",DATEDIF(N2138,DATE(設定シート!$C$2,設定シート!$C$3,設定シート!$C$4),\"Y\"))","v":""},"","",null,null,""]
[2137,null,null,"",null,"0000000",null,"福島市",null,null,null,null,"",null,"",{"$f":"IF(N2139=\"\",\"\",DATEDIF(N2139,DATE(設定シート!$C$2,設定シート!$C$3,設定シート!$C$4),\"Y\"))","v":""},"","",null,null,""]
[2138,null,null,"",null,"0000000",null,"福島市",null,null,null,null,"",null,"",{"$f":"IF(N2140=\"\",\"\",DATEDIF(N2140,DATE(設定シート!$C$2,設定シート!$C$3,設定シート!$C$4),\"Y\"))","v":""},"","",null,null,""]
[2139,null,null,"",null,"0000000",null,"福島市",null,null,null,null,"",null,"",{"$f":"IF(N2141=\"\",\"\",DATEDIF(N2141,DATE(設定シート!$C$2,設定シート!$C$3,設定シート!$C$4),\"Y\"))","v":""},"","",null,null,""]
[2140,null,null,"",null,"0000000",null,"福島市",null,null,null,null,"",null,"",{"$f":"IF(N2142=\"\",\"\",DATEDIF(N2142,DATE(設定シート!$C$2,設定シート!$C$3,設定シート!$C$4),\"Y\"))","v":""},"","",null,null,""]
[2141,null,null,"",null,"0000000",null,"福島市",null,null,null,null,"",null,"",{"$f":"IF(N2143=\"\",\"\",DATEDIF(N2143,DATE(設定シート!$C$2,設定シート!$C$3,設定シート!$C$4),\"Y\"))","v":""},"","",null,null,""]
[2142,null,null,"",null,"0000000",null,"福島市",null,null,null,null,"",null,"",{"$f":"IF(N2144=\"\",\"\",DATEDIF(N2144,DATE(設定シート!$C$2,設定シート!$C$3,設定シート!$C$4),\"Y\"))","v":""},"","",null,null,""]
[2143,null,null,"",null,"0000000",null,"福島市",null,null,null,null,"",null,"",{"$f":"IF(N2145=\"\",\"\",DATEDIF(N2145,DATE(設定シート!$C$2,設定シート!$C$3,設定シート!$C$4),\"Y\"))","v":""},"","",null,null,""]
[2144,null,null,"",null,"0000000",null,"福島市",null,null,null,null,"",null,"",{"$f":"IF(N2146=\"\",\"\",DATEDIF(N2146,DATE(設定シート!$C$2,設定シート!$C$3,設定シート!$C$4),\"Y\"))","v":""},"","",null,null,""]
[2145,null,null,"",null,"0000000",null,"福島市",null,null,null,null,"",null,"",{"$f":"IF(N2147=\"\",\"\",DATEDIF(N2147,DATE(設定シート!$C$2,設定シート!$C$3,設定シート!$C$4),\"Y\"))","v":""},"","",null,null,""]
[2146,null,null,"",null,"0000000",null,"福島市",null,null,null,null,"",null,"",{"$f":"IF(N2148=\"\",\"\",DATEDIF(N2148,DATE(設定シート!$C$2,設定シート!$C$3,設定シート!$C$4),\"Y\"))","v":""},"","",null,null,""]
[2147,null,null,"",null,"0000000",null,"福島市",null,null,null,null,"",null,"",{"$f":"IF(N2149=\"\",\"\",DATEDIF(N2149,DATE(設定シート!$C$2,設定シート!$C$3,設定シート!$C$4),\"Y\"))","v":""},"","",null,null,""]
[2148,null,null,"",null,"0000000",null,"福島市",null,null,null,null,"",null,"",{"$f":"IF(N2150=\"\",\"\",DATEDIF(N2150,DATE(設定シート!$C$2,設定シート!$C$3,設定シート!$C$4),\"Y\"))","v":""},"","",null,null,""]
[2149,null,null,"",null,"0000000",null,"福島市",null,null,null,null,"",null,"",{"$f":"IF(N2151=\"\",\"\",DATEDIF(N2151,DATE(設定シート!$C$2,設定シート!$C$3,設定シート!$C$4),\"Y\"))","v":""},"","",null,null,""]
[2150,null,null,"",null,"0000000",null,"福島市",null,null,null,null,"",null,"",{"$f":"IF(N2152=\"\",\"\",DATEDIF(N2152,DATE(設定シート!$C$2,設定シート!$C$3,設定シート!$C$4),\"Y\"))","v":""},"","",null,null,""]
[2151,null,null,"",null,"0000000",null,"福島市",null,null,null,null,"",null,"",{"$f":"IF(N2153=\"\",\"\",DATEDIF(N2153,DATE(設定シート!$C$2,設定シート!$C$3,設定シート!$C$4),\"Y\"))","v":""},"","",null,null,""]
[2152,null,null,"",null,"0000000",null,"福島市",null,null,null,null,"",null,"",{"$f":"IF(N2154=\"\",\"\",DATEDIF(N2154,DATE(設定シート!$C$2,設定シート!$C$3,設定シート!$C$4),\"Y\"))","v":""},"","",null,null,""]
[2153,null,null,"",null,"0000000",null,"福島市",null,null,null,null,"",null,"",{"$f":"IF(N2155=\"\",\"\",DATEDIF(N2155,DATE(設定シート!$C$2,設定シート!$C$3,設定シート!$C$4),\"Y\"))","v":""},"","",null,null,""]
[2154,null,null,"",null,"0000000",null,"福島市",null,null,null,null,"",null,"",{"$f":"IF(N2156=\"\",\"\",DATEDIF(N2156,DATE(設定シート!$C$2,設定シート!$C$3,設定シート!$C$4),\"Y\"))","v":""},"","",null,null,""]
[2155,null,null,"",null,"0000000",null,"福島市",null,null,null,null,"",null,"",{"$f":"IF(N2157=\"\",\"\",DATEDIF(N2157,DATE(設定シート!$C$2,設定シート!$C$3,設定シート!$C$4),\"Y\"))","v":""},"","",null,null,""]
[2156,null,null,"",null,"0000000",null,"福島市",null,null,null,null,"",null,"",{"$f":"IF(N2158=\"\",\"\",DATEDIF(N2158,DATE(設定シート!$C$2,設定シート!$C$3,設定シート!$C$4),\"Y\"))","v":""},"","",null,null,""]
[2157,null,null,"",null,"0000000",null,"福島市",null,null,null,null,"",null,"",{"$f":"IF(N2159=\"\",\"\",DATEDIF(N2159,DATE(設定シート!$C$2,設定シート!$C$3,設定シート!$C$4),\"Y\"))","v":""},"","",null,null,""]
[2158,null,null,"",null,"0000000",null,"福島市",null,null,null,null,"",null,"",{"$f":"IF(N2160=\"\",\"\",DATEDIF(N2160,DATE(設定シート!$C$2,設定シート!$C$3,設定シート!$C$4),\"Y\"))","v":""},"","",null,null,""]
[2159,null,null,"",null,"0000000",null,"福島市",null,null,null,null,"",null,"",{"$f":"IF(N2161=\"\",\"\",DATEDIF(N2161,DATE(設定シート!$C$2,設定シート!$C$3,設定シート!$C$4),\"Y\"))","v":""},"","",null,null,""]
[2160,null,null,"",null,"0000000",null,"福島市",null,null,null,null,"",null,"",{"$f":"IF(N2162=\"\",\"\",DATEDIF(N2162,DATE(設定シート!$C$2,設定シート!$C$3,設定シート!$C$4),\"Y\"))","v":""},"","",null,null,""]
[2161,null,null,"",null,"0000000",null,"福島市",null,null,null,null,"",null,"",{"$f":"IF(N2163=\"\",\"\",DATEDIF(N2163,DATE(設定シート!$C$2,設定シート!$C$3,設定シート!$C$4),\"Y\"))","v":""},"","",null,null,""]
[2162,null,null,"",null,"0000000",null,"福島市",null,null,null,null,"",null,"",{"$f":"IF(N2164=\"\",\"\",DATEDIF(N2164,DATE(設定シート!$C$2,設定シート!$C$3,設定シート!$C$4),\"Y\"))","v":""},"","",null,null,""]
[2163,null,null,"",null,"0000000",null,"福島市",null,null,null,null,"",null,"",{"$f":"IF(N2165=\"\",\"\",DATEDIF(N2165,DATE(設定シート!$C$2,設定シート!$C$3,設定シート!$C$4),\"Y\"))","v":""},"","",null,null,""]
[2164,null,null,"",null,"0000000",null,"福島市",null,null,null,null,"",null,"",{"$f":"IF(N2166=\"\",\"\",DATEDIF(N2166,DATE(設定シート!$C$2,設定シート!$C$3,設定シート!$C$4),\"Y\"))","v":""},"","",null,null,""]
[2165,null,null,"",null,"0000000",null,"福島市",null,null,null,null,"",null,"",{"$f":"IF(N2167=\"\",\"\",DATEDIF(N2167,DATE(設定シート!$C$2,設定シート!$C$3,設定シート!$C$4),\"Y\"))","v":""},"","",null,null,""]
[2166,null,null,"",null,"0000000",null,"福島市",null,null,null,null,"",null,"",{"$f":"IF(N2168=\"\",\"\",DATEDIF(N2168,DATE(設定シート!$C$2,設定シート!$C$3,設定シート!$C$4),\"Y\"))","v":""},"","",null,null,""]
[2167,null,null,"",null,"0000000",null,"福島市",null,null,null,null,"",null,"",{"$f":"IF(N2169=\"\",\"\",DATEDIF(N2169,DATE(設定シート!$C$2,設定シート!$C$3,設定シート!$C$4),\"Y\"))","v":""},"","",null,null,""]
[2168,null,null,"",null,"0000000",null,"福島市",null,null,null,null,"",null,"",{"$f":"IF(N2170=\"\",\"\",DATEDIF(N2170,DATE(設定シート!$C$2,設定シート!$C$3,設定シート!$C$4),\"Y\"))","v":""},"","",null,null,""]
[2169,null,null,"",null,"0000000",null,"福島市",null,null,null,null,"",null,"",{"$f":"IF(N2171=\"\",\"\",DATEDIF(N2171,DATE(設定シート!$C$2,設定シート!$C$3,設定シート!$C$4),\"Y\"))","v":""},"","",null,null,""]
[2170,null,null,"",null,"0000000",null,"福島市",null,null,null,null,"",null,"",{"$f":"IF(N2172=\"\",\"\",DATEDIF(N2172,DATE(設定シート!$C$2,設定シート!$C$3,設定シート!$C$4),\"Y\"))","v":""},"","",null,null,""]
[2171,null,null,"",null,"0000000",null,"福島市",null,null,null,null,"",null,"",{"$f":"IF(N2173=\"\",\"\",DATEDIF(N2173,DATE(設定シート!$C$2,設定シート!$C$3,設定シート!$C$4),\"Y\"))","v":""},"","",null,null,""]
[2172,null,null,"",null,"0000000",null,"福島市",null,null,null,null,"",null,"",{"$f":"IF(N2174=\"\",\"\",DATEDIF(N2174,DATE(設定シート!$C$2,設定シート!$C$3,設定シート!$C$4),\"Y\"))","v":""},"","",null,null,""]
[2173,null,null,"",null,"0000000",null,"福島市",null,null,null,null,"",null,"",{"$f":"IF(N2175=\"\",\"\",DATEDIF(N2175,DATE(設定シート!$C$2,設定シート!$C$3,設定シート!$C$4),\"Y\"))","v":""},"","",null,null,""]
[2174,null,null,"",null,"0000000",null,"福島市",null,null,null,null,"",null,"",{"$f":"IF(N2176=\"\",\"\",DATEDIF(N2176,DATE(設定シート!$C$2,設定シート!$C$3,設定シート!$C$4),\"Y\"))","v":""},"","",null,null,""]
[2175,null,null,"",null,"0000000",null,"福島市",null,null,null,null,"",null,"",{"$f":"IF(N2177=\"\",\"\",DATEDIF(N2177,DATE(設定シート!$C$2,設定シート!$C$3,設定シート!$C$4),\"Y\"))","v":""},"","",null,null,""]
[2176,null,null,"",null,"0000000",null,"福島市",null,null,null,null,"",null,"",{"$f":"IF(N2178=\"\",\"\",DATEDIF(N2178,DATE(設定シート!$C$2,設定シート!$C$3,設定シート!$C$4),\"Y\"))","v":""},"","",null,null,""]
[2177,null,null,{"$f":"PHONETIC(C2179)","v":""},null,"0000000",null,"福島市",null,null,null,null,"",null,"",{"$f":"IF(N2179=\"\",\"\",DATEDIF(N2179,DATE(設定シート!$C$2,設定シート!$C$3,設定シート!$C$4),\"Y\"))","v":""},{"$f":"IF(P2179=\"\",\"\",IF(P2179<=69,1,IF(P2179>=70,2,\"\")))","v":""},"",null,null,""]
[2178,null,null,"",null,"0000000",null,"福島市",null,null,null,null,"",null,"",{"$f":"IF(N2180=\"\",\"\",DATEDIF(N2180,DATE(設定シート!$C$2,設定シート!$C$3,設定シート!$C$4),\"Y\"))","v":""},"","",null,null,""]
[2179,null,null,"",null,"0000000",null,"福島市",null,null,null,null,"",null,"",{"$f":"IF(N2181=\"\",\"\",DATEDIF(N2181,DATE(設定シート!$C$2,設定シート!$C$3,設定シート!$C$4),\"Y\"))","v":""},"","",null,null,""]
[2180,null,null,"",null,"0000000",null,"福島市",null,null,null,null,"",null,"",{"$f":"IF(N2182=\"\",\"\",DATEDIF(N2182,DATE(設定シート!$C$2,設定シート!$C$3,設定シート!$C$4),\"Y\"))","v":""},"","",null,null,""]
[2181,null,null,"",null,"0000000",null,"福島市",null,null,null,null,"",null,"",{"$f":"IF(N2183=\"\",\"\",DATEDIF(N2183,DATE(設定シート!$C$2,設定シート!$C$3,設定シート!$C$4),\"Y\"))","v":""},"","",null,null,""]
[2182,null,null,"",null,"0000000",null,"福島市",null,null,null,null,"",null,"",{"$f":"IF(N2184=\"\",\"\",DATEDIF(N2184,DATE(設定シート!$C$2,設定シート!$C$3,設定シート!$C$4),\"Y\"))","v":""},"","",null,null,""]
[2183,null,null,"",null,"0000000",null,"福島市",null,null,null,null,"",null,"",{"$f":"IF(N2185=\"\",\"\",DATEDIF(N2185,DATE(設定シート!$C$2,設定シート!$C$3,設定シート!$C$4),\"Y\"))","v":""},"","",null,null,""]
[2184,null,null,"",null,"0000000",null,"福島市",null,null,null,null,"",null,"",{"$f":"IF(N2186=\"\",\"\",DATEDIF(N2186,DATE(設定シート!$C$2,設定シート!$C$3,設定シート!$C$4),\"Y\"))","v":""},"","",null,null,""]
[2185,null,null,"",null,"0000000",null,"福島市",null,null,null,null,"",null,"",{"$f":"IF(N2187=\"\",\"\",DATEDIF(N2187,DATE(設定シート!$C$2,設定シート!$C$3,設定シート!$C$4),\"Y\"))","v":""},"","",null,null,""]
[2186,null,null,"",null,"0000000",null,"福島市",null,null,null,null,"",null,"",{"$f":"IF(N2188=\"\",\"\",DATEDIF(N2188,DATE(設定シート!$C$2,設定シート!$C$3,設定シート!$C$4),\"Y\"))","v":""},"","",null,null,""]
[2187,null,null,"",null,"0000000",null,"福島市",null,null,null,null,"",null,"",{"$f":"IF(N2189=\"\",\"\",DATEDIF(N2189,DATE(設定シート!$C$2,設定シート!$C$3,設定シート!$C$4),\"Y\"))","v":""},"","",null,null,""]
[2188,null,null,"",null,"0000000",null,"福島市",null,null,null,null,"",null,"",{"$f":"IF(N2190=\"\",\"\",DATEDIF(N2190,DATE(設定シート!$C$2,設定シート!$C$3,設定シート!$C$4),\"Y\"))","v":""},"","",null,null,""]
[2189,null,null,"",null,"0000000",null,"福島市",null,null,null,null,"",null,"",{"$f":"IF(N2191=\"\",\"\",DATEDIF(N2191,DATE(設定シート!$C$2,設定シート!$C$3,設定シート!$C$4),\"Y\"))","v":""},"","",null,null,""]
[2190,null,null,"",null,"0000000",null,"福島市",null,null,null,null,"",null,"",{"$f":"IF(N2192=\"\",\"\",DATEDIF(N2192,DATE(設定シート!$C$2,設定シート!$C$3,設定シート!$C$4),\"Y\"))","v":""},"","",null,null,""]
[2191,null,null,"",null,"0000000",null,"福島市",null,null,null,null,"",null,"",{"$f":"IF(N2193=\"\",\"\",DATEDIF(N2193,DATE(設定シート!$C$2,設定シート!$C$3,設定シート!$C$4),\"Y\"))","v":""},"","",null,null,""]
[2192,null,null,"",null,{"$f":"TEXT(B2194,\"0000000\")","v":"0000000"},null,"福島市",null,null,null,null,"",null,"",{"$f":"IF(N2194=\"\",\"\",DATEDIF(N2194,DATE(設定シート!$C$2,設定シート!$C$3,設定シート!$C$4),\"Y\"))","v":""},"","",null,null,""]
[2193,null,null,"",null,"0000000",null,"福島市",null,null,null,null,"",null,"",{"$f":"IF(N2195=\"\",\"\",DATEDIF(N2195,DATE(設定シート!$C$2,設定シート!$C$3,設定シート!$C$4),\"Y\"))","v":""},"","",null,null,""]
[2194,null,null,"",null,"0000000",null,"福島市",null,null,null,null,{"$f":"IF(L2196=1,\"男\",IF(L2196=2,\"女\",\"\"))","v":""},null,{"$f":"IF(OR(E2196=\"\",N2196=\"\"),\"\",DATEDIF(N2196,E2196,\"Y\"))","v":""},{"$f":"IF(N2196=\"\",\"\",DATEDIF(N2196,DATE(設定シート!$C$2,設定シート!$C$3,設定シート!$C$4),\"Y\"))","v":""},"",{"$f":"IF(OR(Q2196=1,Q2196=\"1\"),\"有料\",IF(OR(Q2196=2,Q2196=\"2\"),\"70・後\",IF(Q2196=3,\"生保\",IF(Q2196=4,\"非課税\",\"\"))))","v":""},null,null,{"$f":"IF(AND(L2196=2,P2196>=60),\"一単独\",IF(AND(L2196=2,P2196>=50,P2196<60),\"一併用\",IF(AND(L2196=2,P2196>=40,P2196<50),\"二併用\",\"\")))","v":""}]
[2195,null,null,"",null,"0000000",null,"福島市",null,null,null,null,"",null,"",{"$f":"IF(N2197=\"\",\"\",DATEDIF(N2197,DATE(設定シート!$C$2,設定シート!$C$3,設定シート!$C$4),\"Y\"))","v":""},"","",null,null,""]
[2196,null,null,"",null,"0000000",null,"福島市",null,null,null,null,"",null,"",{"$f":"IF(N2198=\"\",\"\",DATEDIF(N2198,DATE(設定シート!$C$2,設定シート!$C$3,設定シート!$C$4),\"Y\"))","v":""},"","",null,null,""]
[2197,null,null,"",null,"0000000",null,"福島市",null,null,null,null,"",null,"",{"$f":"IF(N2199=\"\",\"\",DATEDIF(N2199,DATE(設定シート!$C$2,設定シート!$C$3,設定シート!$C$4),\"Y\"))","v":""},"","",null,null,""]
[2198,null,null,"",null,"0000000",null,"福島市",null,null,null,null,"",null,"",{"$f":"IF(N2200=\"\",\"\",DATEDIF(N2200,DATE(設定シート!$C$2,設定シート!$C$3,設定シート!$C$4),\"Y\"))","v":""},"","",null,null,""]
[2199,null,null,"",null,"0000000",null,"福島市",null,null,null,null,"",null,"",{"$f":"IF(N2201=\"\",\"\",DATEDIF(N2201,DATE(設定シート!$C$2,設定シート!$C$3,設定シート!$C$4),\"Y\"))","v":""},"","",null,null,""]
[2200,null,null,"",null,"0000000",null,"福島市",null,null,null,null,"",null,"",{"$f":"IF(N2202=\"\",\"\",DATEDIF(N2202,DATE(設定シート!$C$2,設定シート!$C$3,設定シート!$C$4),\"Y\"))","v":""},"","",null,null,""]
[2201,null,null,"",null,"0000000",null,"福島市",null,null,null,null,"",null,"",{"$f":"IF(N2203=\"\",\"\",DATEDIF(N2203,DATE(設定シート!$C$2,設定シート!$C$3,設定シート!$C$4),\"Y\"))","v":""},"","",null,null,""]
[2202,null,null,"",null,"0000000",null,"福島市",null,null,null,null,"",null,"",{"$f":"IF(N2204=\"\",\"\",DATEDIF(N2204,DATE(設定シート!$C$2,設定シート!$C$3,設定シート!$C$4),\"Y\"))","v":""},"","",null,null,""]
[2203,null,null,"",null,"0000000",null,"福島市",null,null,null,null,"",null,"",{"$f":"IF(N2205=\"\",\"\",DATEDIF(N2205,DATE(設定シート!$C$2,設定シート!$C$3,設定シート!$C$4),\"Y\"))","v":""},"","",null,null,""]
[2204,null,null,"",null,"0000000",null,"福島市",null,null,null,null,"",null,"",{"$f":"IF(N2206=\"\",\"\",DATEDIF(N2206,DATE(設定シート!$C$2,設定シート!$C$3,設定シート!$C$4),\"Y\"))","v":""},"","",null,null,""]
[2205,null,null,"",null,"0000000",null,"福島市",null,null,null,null,"",null,"",{"$f":"IF(N2207=\"\",\"\",DATEDIF(N2207,DATE(設定シート!$C$2,設定シート!$C$3,設定シート!$C$4),\"Y\"))","v":""},"","",null,null,""]
[2206,null,null,"",null,"0000000",null,"福島市",null,null,null,null,"",null,"",{"$f":"IF(N2208=\"\",\"\",DATEDIF(N2208,DATE(設定シート!$C$2,設定シート!$C$3,設定シート!$C$4),\"Y\"))","v":""},"","",null,null,""]
[2207,null,null,"",null,"0000000",null,"福島市",null,null,null,null,"",null,"",{"$f":"IF(N2209=\"\",\"\",DATEDIF(N2209,DATE(設定シート!$C$2,設定シート!$C$3,設定シート!$C$4),\"Y\"))","v":""},"","",null,null,""]
[2208,null,null,"",null,"0000000",null,"福島市",null,null,null,null,"",null,"",{"$f":"IF(N2210=\"\",\"\",DATEDIF(N2210,DATE(設定シート!$C$2,設定シート!$C$3,設定シート!$C$4),\"Y\"))","v":""},"","",null,null,""]
[2209,null,null,"",null,"0000000",null,"福島市",null,null,null,null,"",null,"",{"$f":"IF(N2211=\"\",\"\",DATEDIF(N2211,DATE(設定シート!$C$2,設定シート!$C$3,設定シート!$C$4),\"Y\"))","v":""},"","",null,null,""]
[2210,null,null,"",null,"0000000",null,"福島市",null,null,null,null,"",null,"",{"$f":"IF(N2212=\"\",\"\",DATEDIF(N2212,DATE(設定シート!$C$2,設定シート!$C$3,設定シート!$C$4),\"Y\"))","v":""},"","",null,null,""]
[2211,null,null,"",null,"0000000",null,"福島市",null,null,null,null,"",null,"",{"$f":"IF(N2213=\"\",\"\",DATEDIF(N2213,DATE(設定シート!$C$2,設定シート!$C$3,設定シート!$C$4),\"Y\"))","v":""},"","",null,null,""]
[2212,null,null,"",null,"0000000",null,"福島市",null,null,null,null,"",null,"",{"$f":"IF(N2214=\"\",\"\",DATEDIF(N2214,DATE(設定シート!$C$2,設定シート!$C$3,設定シート!$C$4),\"Y\"))","v":""},"","",null,null,""]
[2213,null,null,"",null,"0000000",null,"福島市",null,null,null,null,"",null,"",{"$f":"IF(N2215=\"\",\"\",DATEDIF(N2215,DATE(設定シート!$C$2,設定シート!$C$3,設定シート!$C$4),\"Y\"))","v":""},"","",null,null,""]
[2214,null,null,"",null,"0000000",null,"福島市",null,null,null,null,"",null,"",{"$f":"IF(N2216=\"\",\"\",DATEDIF(N2216,DATE(設定シート!$C$2,設定シート!$C$3,設定シート!$C$4),\"Y\"))","v":""},"","",null,null,""]
[2215,null,null,"",null,"0000000",null,"福島市",null,null,null,null,"",null,"",{"$f":"IF(N2217=\"\",\"\",DATEDIF(N2217,DATE(設定シート!$C$2,設定シート!$C$3,設定シート!$C$4),\"Y\"))","v":""},"","",null,null,""]
[2216,null,null,"",null,"0000000",null,"福島市",null,null,null,null,"",null,"",{"$f":"IF(N2218=\"\",\"\",DATEDIF(N2218,DATE(設定シート!$C$2,設定シート!$C$3,設定シート!$C$4),\"Y\"))","v":""},"","",null,null,""]
[2217,null,null,"",null,"0000000",null,"福島市",null,null,null,null,"",null,"",{"$f":"IF(N2219=\"\",\"\",DATEDIF(N2219,DATE(設定シート!$C$2,設定シート!$C$3,設定シート!$C$4),\"Y\"))","v":""},"","",null,null,""]
[2218,null,null,"",null,"0000000",null,"福島市",null,null,null,null,"",null,"",{"$f":"IF(N2220=\"\",\"\",DATEDIF(N2220,DATE(設定シート!$C$2,設定シート!$C$3,設定シート!$C$4),\"Y\"))","v":""},"","",null,null,""]
[2219,null,null,"",null,"0000000",null,"福島市",null,null,null,null,"",null,"",{"$f":"IF(N2221=\"\",\"\",DATEDIF(N2221,DATE(設定シート!$C$2,設定シート!$C$3,設定シート!$C$4),\"Y\"))","v":""},"","",null,null,""]
[2220,null,null,"",null,"0000000",null,"福島市",null,null,null,null,"",null,"",{"$f":"IF(N2222=\"\",\"\",DATEDIF(N2222,DATE(設定シート!$C$2,設定シート!$C$3,設定シート!$C$4),\"Y\"))","v":""},"","",null,null,""]
[2221,null,null,"",null,"0000000",null,"福島市",null,null,null,null,"",null,"",{"$f":"IF(N2223=\"\",\"\",DATEDIF(N2223,DATE(設定シート!$C$2,設定シート!$C$3,設定シート!$C$4),\"Y\"))","v":""},"","",null,null,""]
[2222,null,null,"",null,"0000000",null,"福島市",null,null,null,null,"",null,"",{"$f":"IF(N2224=\"\",\"\",DATEDIF(N2224,DATE(設定シート!$C$2,設定シート!$C$3,設定シート!$C$4),\"Y\"))","v":""},"","",null,null,""]
[2223,null,null,"",null,"0000000",null,"福島市",null,null,null,null,"",null,"",{"$f":"IF(N2225=\"\",\"\",DATEDIF(N2225,DATE(設定シート!$C$2,設定シート!$C$3,設定シート!$C$4),\"Y\"))","v":""},"","",null,null,""]
[2224,null,null,"",null,"0000000",null,"福島市",null,null,null,null,"",null,"",{"$f":"IF(N2226=\"\",\"\",DATEDIF(N2226,DATE(設定シート!$C$2,設定シート!$C$3,設定シート!$C$4),\"Y\"))","v":""},"","",null,null,""]
[2225,null,null,"",null,"0000000",null,"福島市",null,null,null,null,"",null,"",{"$f":"IF(N2227=\"\",\"\",DATEDIF(N2227,DATE(設定シート!$C$2,設定シート!$C$3,設定シート!$C$4),\"Y\"))","v":""},"","",null,null,""]
[2226,null,null,"",null,"0000000",null,"福島市",null,null,null,null,"",null,"",{"$f":"IF(N2228=\"\",\"\",DATEDIF(N2228,DATE(設定シート!$C$2,設定シート!$C$3,設定シート!$C$4),\"Y\"))","v":""},"","",null,null,""]
[2227,null,null,"",null,"0000000",null,"福島市",null,null,null,null,"",null,"",{"$f":"IF(N2229=\"\",\"\",DATEDIF(N2229,DATE(設定シート!$C$2,設定シート!$C$3,設定シート!$C$4),\"Y\"))","v":""},"","",null,null,""]
[2228,null,null,"",null,"0000000",null,"福島市",null,null,null,null,"",null,"",{"$f":"IF(N2230=\"\",\"\",DATEDIF(N2230,DATE(設定シート!$C$2,設定シート!$C$3,設定シート!$C$4),\"Y\"))","v":""},"","",null,null,""]
[2229,null,null,"",null,"0000000",null,"福島市",null,null,null,null,"",null,"",{"$f":"IF(N2231=\"\",\"\",DATEDIF(N2231,DATE(設定シート!$C$2,設定シート!$C$3,設定シート!$C$4),\"Y\"))","v":""},"","",null,null,""]
[2230,null,null,"",null,"0000000",null,"福島市",null,null,null,null,"",null,"",{"$f":"IF(N2232=\"\",\"\",DATEDIF(N2232,DATE(設定シート!$C$2,設定シート!$C$3,設定シート!$C$4),\"Y\"))","v":""},"","",null,null,""]
[2231,null,null,"",null,"0000000",null,"福島市",null,null,null,null,"",null,"",{"$f":"IF(N2233=\"\",\"\",DATEDIF(N2233,DATE(設定シート!$C$2,設定シート!$C$3,設定シート!$C$4),\"Y\"))","v":""},"","",null,null,""]
[2232,null,null,"",null,"0000000",null,"福島市",null,null,null,null,"",null,"",{"$f":"IF(N2234=\"\",\"\",DATEDIF(N2234,DATE(設定シート!$C$2,設定シート!$C$3,設定シート!$C$4),\"Y\"))","v":""},"","",null,null,""]
[2233,null,null,"",null,"0000000",null,"福島市",null,null,null,null,"",null,"",{"$f":"IF(N2235=\"\",\"\",DATEDIF(N2235,DATE(設定シート!$C$2,設定シート!$C$3,設定シート!$C$4),\"Y\"))","v":""},"","",null,null,""]
[2234,null,null,"",null,"0000000",null,"福島市",null,null,null,null,"",null,"",{"$f":"IF(N2236=\"\",\"\",DATEDIF(N2236,DATE(設定シート!$C$2,設定シート!$C$3,設定シート!$C$4),\"Y\"))","v":""},"","",null,null,""]
[2235,null,null,"",null,"0000000",null,"福島市",null,null,null,null,"",null,"",{"$f":"IF(N2237=\"\",\"\",DATEDIF(N2237,DATE(設定シート!$C$2,設定シート!$C$3,設定シート!$C$4),\"Y\"))","v":""},"","",null,null,""]
[2236,null,null,"",null,"0000000",null,"福島市",null,null,null,null,"",null,"",{"$f":"IF(N2238=\"\",\"\",DATEDIF(N2238,DATE(設定シート!$C$2,設定シート!$C$3,設定シート!$C$4),\"Y\"))","v":""},"","",null,null,""]
[2237,null,null,"",null,"0000000",null,"福島市",null,null,null,null,"",null,"",{"$f":"IF(N2239=\"\",\"\",DATEDIF(N2239,DATE(設定シート!$C$2,設定シート!$C$3,設定シート!$C$4),\"Y\"))","v":""},"","",null,null,""]
[2238,null,null,"",null,"0000000",null,"福島市",null,null,null,null,"",null,"",{"$f":"IF(N2240=\"\",\"\",DATEDIF(N2240,DATE(設定シート!$C$2,設定シート!$C$3,設定シート!$C$4),\"Y\"))","v":""},"","",null,null,""]
[2239,null,null,"",null,"0000000",null,"福島市",null,null,null,null,"",null,"",{"$f":"IF(N2241=\"\",\"\",DATEDIF(N2241,DATE(設定シート!$C$2,設定シート!$C$3,設定シート!$C$4),\"Y\"))","v":""},"","",null,null,""]
[{"$f":"ROW()-2","v":2240},null,null,"",null,"0000000",null,"福島市",null,null,null,null,"",null,"",{"$f":"IF(N2242=\"\",\"\",DATEDIF(N2242,DATE(設定シート!$C$2,設定シート!$C$3,設定シート!$C$4),\"Y\"))","v":""},"","",null,null,""]
[2241,null,null,{"$f":"PHONETIC(C2243)","v":""},null,"0000000",null,"福島市",null,null,null,null,"",null,"",{"$f":"IF(N2243=\"\",\"\",DATEDIF(N2243,DATE(設定シート!$C$2,設定シート!$C$3,設定シート!$C$4),\"Y\"))","v":""},{"$f":"IF(P2243=\"\",\"\",IF(P2243<=69,1,IF(P2243>=70,2,\"\")))","v":""},"",null,null,""]
[2242,null,null,"",null,"0000000",null,"福島市",null,null,null,null,"",null,"",{"$f":"IF(N2244=\"\",\"\",DATEDIF(N2244,DATE(設定シート!$C$2,設定シート!$C$3,設定シート!$C$4),\"Y\"))","v":""},"","",null,null,""]
[2243,null,null,"",null,"0000000",null,"福島市",null,null,null,null,"",null,"",{"$f":"IF(N2245=\"\",\"\",DATEDIF(N2245,DATE(設定シート!$C$2,設定シート!$C$3,設定シート!$C$4),\"Y\"))","v":""},"","",null,null,""]
[2244,null,null,"",null,"0000000",null,"福島市",null,null,null,null,"",null,"",{"$f":"IF(N2246=\"\",\"\",DATEDIF(N2246,DATE(設定シート!$C$2,設定シート!$C$3,設定シート!$C$4),\"Y\"))","v":""},"","",null,null,""]
[2245,null,null,"",null,"0000000",null,"福島市",null,null,null,null,"",null,"",{"$f":"IF(N2247=\"\",\"\",DATEDIF(N2247,DATE(設定シート!$C$2,設定シート!$C$3,設定シート!$C$4),\"Y\"))","v":""},"","",null,null,""]
[2246,null,null,"",null,"0000000",null,"福島市",null,null,null,null,"",null,"",{"$f":"IF(N2248=\"\",\"\",DATEDIF(N2248,DATE(設定シート!$C$2,設定シート!$C$3,設定シート!$C$4),\"Y\"))","v":""},"","",null,null,""]
[2247,null,null,"",null,"0000000",null,"福島市",null,null,null,null,"",null,"",{"$f":"IF(N2249=\"\",\"\",DATEDIF(N2249,DATE(設定シート!$C$2,設定シート!$C$3,設定シート!$C$4),\"Y\"))","v":""},"","",null,null,""]
[2248,null,null,"",null,"0000000",null,"福島市",null,null,null,null,"",null,"",{"$f":"IF(N2250=\"\",\"\",DATEDIF(N2250,DATE(設定シート!$C$2,設定シート!$C$3,設定シート!$C$4),\"Y\"))","v":""},"","",null,null,""]
[2249,null,null,"",null,"0000000",null,"福島市",null,null,null,null,"",null,"",{"$f":"IF(N2251=\"\",\"\",DATEDIF(N2251,DATE(設定シート!$C$2,設定シート!$C$3,設定シート!$C$4),\"Y\"))","v":""},"","",null,null,""]
[2250,null,null,"",null,"0000000",null,"福島市",null,null,null,null,"",null,"",{"$f":"IF(N2252=\"\",\"\",DATEDIF(N2252,DATE(設定シート!$C$2,設定シート!$C$3,設定シート!$C$4),\"Y\"))","v":""},"","",null,null,""]
[2251,null,null,"",null,"0000000",null,"福島市",null,null,null,null,"",null,"",{"$f":"IF(N2253=\"\",\"\",DATEDIF(N2253,DATE(設定シート!$C$2,設定シート!$C$3,設定シート!$C$4),\"Y\"))","v":""},"","",null,null,""]
[2252,null,null,"",null,"0000000",null,"福島市",null,null,null,null,"",null,"",{"$f":"IF(N2254=\"\",\"\",DATEDIF(N2254,DATE(設定シート!$C$2,設定シート!$C$3,設定シート!$C$4),\"Y\"))","v":""},"","",null,null,""]
[2253,null,null,"",null,"0000000",null,"福島市",null,null,null,null,"",null,"",{"$f":"IF(N2255=\"\",\"\",DATEDIF(N2255,DATE(設定シート!$C$2,設定シート!$C$3,設定シート!$C$4),\"Y\"))","v":""},"","",null,null,""]
[2254,null,null,"",null,"0000000",null,"福島市",null,null,null,null,"",null,"",{"$f":"IF(N2256=\"\",\"\",DATEDIF(N2256,DATE(設定シート!$C$2,設定シート!$C$3,設定シート!$C$4),\"Y\"))","v":""},"","",null,null,""]
[2255,null,null,"",null,"0000000",null,"福島市",null,null,null,null,"",null,"",{"$f":"IF(N2257=\"\",\"\",DATEDIF(N2257,DATE(設定シート!$C$2,設定シート!$C$3,設定シート!$C$4),\"Y\"))","v":""},"","",null,null,""]
[2256,null,null,"",null,{"$f":"TEXT(B2258,\"0000000\")","v":"0000000"},null,"福島市",null,null,null,null,"",null,"",{"$f":"IF(N2258=\"\",\"\",DATEDIF(N2258,DATE(設定シート!$C$2,設定シート!$C$3,設定シート!$C$4),\"Y\"))","v":""},"","",null,null,""]
[2257,null,null,"",null,"0000000",null,"福島市",null,null,null,null,"",null,"",{"$f":"IF(N2259=\"\",\"\",DATEDIF(N2259,DATE(設定シート!$C$2,設定シート!$C$3,設定シート!$C$4),\"Y\"))","v":""},"","",null,null,""]
[2258,null,null,"",null,"0000000",null,"福島市",null,null,null,null,{"$f":"IF(L2260=1,\"男\",IF(L2260=2,\"女\",\"\"))","v":""},null,{"$f":"IF(OR(E2260=\"\",N2260=\"\"),\"\",DATEDIF(N2260,E2260,\"Y\"))","v":""},{"$f":"IF(N2260=\"\",\"\",DATEDIF(N2260,DATE(設定シート!$C$2,設定シート!$C$3,設定シート!$C$4),\"Y\"))","v":""},"",{"$f":"IF(OR(Q2260=1,Q2260=\"1\"),\"有料\",IF(OR(Q2260=2,Q2260=\"2\"),\"70・後\",IF(Q2260=3,\"生保\",IF(Q2260=4,\"非課税\",\"\"))))","v":""},null,null,{"$f":"IF(AND(L2260=2,P2260>=60),\"一単独\",IF(AND(L2260=2,P2260>=50,P2260<60),\"一併用\",IF(AND(L2260=2,P2260>=40,P2260<50),\"二併用\",\"\")))","v":""}]
[2259,null,null,"",null,"0000000",null,"福島市",null,null,null,null,"",null,"",{"$f":"IF(N2261=\"\",\"\",DATEDIF(N2261,DATE(設定シート!$C$2,設定シート!$C$3,設定シート!$C$4),\"Y\"))","v":""},"","",null,null,""]
[2260,null,null,"",null,"0000000",null,"福島市",null,null,null,null,"",null,"",{"$f":"IF(N2262=\"\",\"\",DATEDIF(N2262,DATE(設定シート!$C$2,設定シート!$C$3,設定シート!$C$4),\"Y\"))","v":""},"","",null,null,""]
[2261,null,null,"",null,"0000000",null,"福島市",null,null,null,null,"",null,"",{"$f":"IF(N2263=\"\",\"\",DATEDIF(N2263,DATE(設定シート!$C$2,設定シート!$C$3,設定シート!$C$4),\"Y\"))","v":""},"","",null,null,""]
[2262,null,null,"",null,"0000000",null,"福島市",null,null,null,null,"",null,"",{"$f":"IF(N2264=\"\",\"\",DATEDIF(N2264,DATE(設定シート!$C$2,設定シート!$C$3,設定シート!$C$4),\"Y\"))","v":""},"","",null,null,""]
[2263,null,null,"",null,"0000000",null,"福島市",null,null,null,null,"",null,"",{"$f":"IF(N2265=\"\",\"\",DATEDIF(N2265,DATE(設定シート!$C$2,設定シート!$C$3,設定シート!$C$4),\"Y\"))","v":""},"","",null,null,""]
[2264,null,null,"",null,"0000000",null,"福島市",null,null,null,null,"",null,"",{"$f":"IF(N2266=\"\",\"\",DATEDIF(N2266,DATE(設定シート!$C$2,設定シート!$C$3,設定シート!$C$4),\"Y\"))","v":""},"","",null,null,""]
[2265,null,null,"",null,"0000000",null,"福島市",null,null,null,null,"",null,"",{"$f":"IF(N2267=\"\",\"\",DATEDIF(N2267,DATE(設定シート!$C$2,設定シート!$C$3,設定シート!$C$4),\"Y\"))","v":""},"","",null,null,""]
[2266,null,null,"",null,"0000000",null,"福島市",null,null,null,null,"",null,"",{"$f":"IF(N2268=\"\",\"\",DATEDIF(N2268,DATE(設定シート!$C$2,設定シート!$C$3,設定シート!$C$4),\"Y\"))","v":""},"","",null,null,""]
[2267,null,null,"",null,"0000000",null,"福島市",null,null,null,null,"",null,"",{"$f":"IF(N2269=\"\",\"\",DATEDIF(N2269,DATE(設定シート!$C$2,設定シート!$C$3,設定シート!$C$4),\"Y\"))","v":""},"","",null,null,""]
[2268,null,null,"",null,"0000000",null,"福島市",null,null,null,null,"",null,"",{"$f":"IF(N2270=\"\",\"\",DATEDIF(N2270,DATE(設定シート!$C$2,設定シート!$C$3,設定シート!$C$4),\"Y\"))","v":""},"","",null,null,""]
[2269,null,null,"",null,"0000000",null,"福島市",null,null,null,null,"",null,"",{"$f":"IF(N2271=\"\",\"\",DATEDIF(N2271,DATE(設定シート!$C$2,設定シート!$C$3,設定シート!$C$4),\"Y\"))","v":""},"","",null,null,""]
[2270,null,null,"",null,"0000000",null,"福島市",null,null,null,null,"",null,"",{"$f":"IF(N2272=\"\",\"\",DATEDIF(N2272,DATE(設定シート!$C$2,設定シート!$C$3,設定シート!$C$4),\"Y\"))","v":""},"","",null,null,""]
[2271,null,null,"",null,"0000000",null,"福島市",null,null,null,null,"",null,"",{"$f":"IF(N2273=\"\",\"\",DATEDIF(N2273,DATE(設定シート!$C$2,設定シート!$C$3,設定シート!$C$4),\"Y\"))","v":""},"","",null,null,""]
[2272,null,null,"",null,"0000000",null,"福島市",null,null,null,null,"",null,"",{"$f":"IF(N2274=\"\",\"\",DATEDIF(N2274,DATE(設定シート!$C$2,設定シート!$C$3,設定シート!$C$4),\"Y\"))","v":""},"","",null,null,""]
[2273,null,null,"",null,"0000000",null,"福島市",null,null,null,null,"",null,"",{"$f":"IF(N2275=\"\",\"\",DATEDIF(N2275,DATE(設定シート!$C$2,設定シート!$C$3,設定シート!$C$4),\"Y\"))","v":""},"","",null,null,""]
[2274,null,null,"",null,"0000000",null,"福島市",null,null,null,null,"",null,"",{"$f":"IF(N2276=\"\",\"\",DATEDIF(N2276,DATE(設定シート!$C$2,設定シート!$C$3,設定シート!$C$4),\"Y\"))","v":""},"","",null,null,""]
[2275,null,null,"",null,"0000000",null,"福島市",null,null,null,null,"",null,"",{"$f":"IF(N2277=\"\",\"\",DATEDIF(N2277,DATE(設定シート!$C$2,設定シート!$C$3,設定シート!$C$4),\"Y\"))","v":""},"","",null,null,""]
[2276,null,null,"",null,"0000000",null,"福島市",null,null,null,null,"",null,"",{"$f":"IF(N2278=\"\",\"\",DATEDIF(N2278,DATE(設定シート!$C$2,設定シート!$C$3,設定シート!$C$4),\"Y\"))","v":""},"","",null,null,""]
[2277,null,null,"",null,"0000000",null,"福島市",null,null,null,null,"",null,"",{"$f":"IF(N2279=\"\",\"\",DATEDIF(N2279,DATE(設定シート!$C$2,設定シート!$C$3,設定シート!$C$4),\"Y\"))","v":""},"","",null,null,""]
[2278,null,null,"",null,"0000000",null,"福島市",null,null,null,null,"",null,"",{"$f":"IF(N2280=\"\",\"\",DATEDIF(N2280,DATE(設定シート!$C$2,設定シート!$C$3,設定シート!$C$4),\"Y\"))","v":""},"","",null,null,""]
[2279,null,null,"",null,"0000000",null,"福島市",null,null,null,null,"",null,"",{"$f":"IF(N2281=\"\",\"\",DATEDIF(N2281,DATE(設定シート!$C$2,設定シート!$C$3,設定シート!$C$4),\"Y\"))","v":""},"","",null,null,""]
[2280,null,null,"",null,"0000000",null,"福島市",null,null,null,null,"",null,"",{"$f":"IF(N2282=\"\",\"\",DATEDIF(N2282,DATE(設定シート!$C$2,設定シート!$C$3,設定シート!$C$4),\"Y\"))","v":""},"","",null,null,""]
[2281,null,null,"",null,"0000000",null,"福島市",null,null,null,null,"",null,"",{"$f":"IF(N2283=\"\",\"\",DATEDIF(N2283,DATE(設定シート!$C$2,設定シート!$C$3,設定シート!$C$4),\"Y\"))","v":""},"","",null,null,""]
[2282,null,null,"",null,"0000000",null,"福島市",null,null,null,null,"",null,"",{"$f":"IF(N2284=\"\",\"\",DATEDIF(N2284,DATE(設定シート!$C$2,設定シート!$C$3,設定シート!$C$4),\"Y\"))","v":""},"","",null,null,""]
[2283,null,null,"",null,"0000000",null,"福島市",null,null,null,null,"",null,"",{"$f":"IF(N2285=\"\",\"\",DATEDIF(N2285,DATE(設定シート!$C$2,設定シート!$C$3,設定シート!$C$4),\"Y\"))","v":""},"","",null,null,""]
[2284,null,null,"",null,"0000000",null,"福島市",null,null,null,null,"",null,"",{"$f":"IF(N2286=\"\",\"\",DATEDIF(N2286,DATE(設定シート!$C$2,設定シート!$C$3,設定シート!$C$4),\"Y\"))","v":""},"","",null,null,""]
[2285,null,null,"",null,"0000000",null,"福島市",null,null,null,null,"",null,"",{"$f":"IF(N2287=\"\",\"\",DATEDIF(N2287,DATE(設定シート!$C$2,設定シート!$C$3,設定シート!$C$4),\"Y\"))","v":""},"","",null,null,""]
[2286,null,null,"",null,"0000000",null,"福島市",null,null,null,null,"",null,"",{"$f":"IF(N2288=\"\",\"\",DATEDIF(N2288,DATE(設定シート!$C$2,設定シート!$C$3,設定シート!$C$4),\"Y\"))","v":""},"","",null,null,""]
[2287,null,null,"",null,"0000000",null,"福島市",null,null,null,null,"",null,"",{"$f":"IF(N2289=\"\",\"\",DATEDIF(N2289,DATE(設定シート!$C$2,設定シート!$C$3,設定シート!$C$4),\"Y\"))","v":""},"","",null,null,""]
[2288,null,null,"",null,"0000000",null,"福島市",null,null,null,null,"",null,"",{"$f":"IF(N2290=\"\",\"\",DATEDIF(N2290,DATE(設定シート!$C$2,設定シート!$C$3,設定シート!$C$4),\"Y\"))","v":""},"","",null,null,""]
[2289,null,null,"",null,"0000000",null,"福島市",null,null,null,null,"",null,"",{"$f":"IF(N2291=\"\",\"\",DATEDIF(N2291,DATE(設定シート!$C$2,設定シート!$C$3,設定シート!$C$4),\"Y\"))","v":""},"","",null,null,""]
[2290,null,null,"",null,"0000000",null,"福島市",null,null,null,null,"",null,"",{"$f":"IF(N2292=\"\",\"\",DATEDIF(N2292,DATE(設定シート!$C$2,設定シート!$C$3,設定シート!$C$4),\"Y\"))","v":""},"","",null,null,""]
[2291,null,null,"",null,"0000000",null,"福島市",null,null,null,null,"",null,"",{"$f":"IF(N2293=\"\",\"\",DATEDIF(N2293,DATE(設定シート!$C$2,設定シート!$C$3,設定シート!$C$4),\"Y\"))","v":""},"","",null,null,""]
[2292,null,null,"",null,"0000000",null,"福島市",null,null,null,null,"",null,"",{"$f":"IF(N2294=\"\",\"\",DATEDIF(N2294,DATE(設定シート!$C$2,設定シート!$C$3,設定シート!$C$4),\"Y\"))","v":""},"","",null,null,""]
[2293,null,null,"",null,"0000000",null,"福島市",null,null,null,null,"",null,"",{"$f":"IF(N2295=\"\",\"\",DATEDIF(N2295,DATE(設定シート!$C$2,設定シート!$C$3,設定シート!$C$4),\"Y\"))","v":""},"","",null,null,""]
[2294,null,null,"",null,"0000000",null,"福島市",null,null,null,null,"",null,"",{"$f":"IF(N2296=\"\",\"\",DATEDIF(N2296,DATE(設定シート!$C$2,設定シート!$C$3,設定シート!$C$4),\"Y\"))","v":""},"","",null,null,""]
[2295,null,null,"",null,"0000000",null,"福島市",null,null,null,null,"",null,"",{"$f":"IF(N2297=\"\",\"\",DATEDIF(N2297,DATE(設定シート!$C$2,設定シート!$C$3,設定シート!$C$4),\"Y\"))","v":""},"","",null,null,""]
[2296,null,null,"",null,"0000000",null,"福島市",null,null,null,null,"",null,"",{"$f":"IF(N2298=\"\",\"\",DATEDIF(N2298,DATE(設定シート!$C$2,設定シート!$C$3,設定シート!$C$4),\"Y\"))","v":""},"","",null,null,""]
[2297,null,null,"",null,"0000000",null,"福島市",null,null,null,null,"",null,"",{"$f":"IF(N2299=\"\",\"\",DATEDIF(N2299,DATE(設定シート!$C$2,設定シート!$C$3,設定シート!$C$4),\"Y\"))","v":""},"","",null,null,""]
[2298,null,null,"",null,"0000000",null,"福島市",null,null,null,null,"",null,"",{"$f":"IF(N2300=\"\",\"\",DATEDIF(N2300,DATE(設定シート!$C$2,設定シート!$C$3,設定シート!$C$4),\"Y\"))","v":""},"","",null,null,""]
[2299,null,null,"",null,"0000000",null,"福島市",null,null,null,null,"",null,"",{"$f":"IF(N2301=\"\",\"\",DATEDIF(N2301,DATE(設定シート!$C$2,設定シート!$C$3,設定シート!$C$4),\"Y\"))","v":""},"","",null,null,""]
[2300,null,null,"",null,"0000000",null,"福島市",null,null,null,null,"",null,"",{"$f":"IF(N2302=\"\",\"\",DATEDIF(N2302,DATE(設定シート!$C$2,設定シート!$C$3,設定シート!$C$4),\"Y\"))","v":""},"","",null,null,""]
[2301,null,null,"",null,"0000000",null,"福島市",null,null,null,null,"",null,"",{"$f":"IF(N2303=\"\",\"\",DATEDIF(N2303,DATE(設定シート!$C$2,設定シート!$C$3,設定シート!$C$4),\"Y\"))","v":""},"","",null,null,""]
[2302,null,null,"",null,"0000000",null,"福島市",null,null,null,null,"",null,"",{"$f":"IF(N2304=\"\",\"\",DATEDIF(N2304,DATE(設定シート!$C$2,設定シート!$C$3,設定シート!$C$4),\"Y\"))","v":""},"","",null,null,""]
[2303,null,null,"",null,"0000000",null,"福島市",null,null,null,null,"",null,"",{"$f":"IF(N2305=\"\",\"\",DATEDIF(N2305,DATE(設定シート!$C$2,設定シート!$C$3,設定シート!$C$4),\"Y\"))","v":""},"","",null,null,""]
[{"$f":"ROW()-2","v":2304},null,null,"",null,"0000000",null,"福島市",null,null,null,null,"",null,"",{"$f":"IF(N2306=\"\",\"\",DATEDIF(N2306,DATE(設定シート!$C$2,設定シート!$C$3,設定シート!$C$4),\"Y\"))","v":""},"","",null,null,""]
[2305,null,null,{"$f":"PHONETIC(C2307)","v":""},null,"0000000",null,"福島市",null,null,null,null,"",null,"",{"$f":"IF(N2307=\"\",\"\",DATEDIF(N2307,DATE(設定シート!$C$2,設定シート!$C$3,設定シート!$C$4),\"Y\"))","v":""},{"$f":"IF(P2307=\"\",\"\",IF(P2307<=69,1,IF(P2307>=70,2,\"\")))","v":""},"",null,null,""]
[2306,null,null,"",null,"0000000",null,"福島市",null,null,null,null,"",null,"",{"$f":"IF(N2308=\"\",\"\",DATEDIF(N2308,DATE(設定シート!$C$2,設定シート!$C$3,設定シート!$C$4),\"Y\"))","v":""},"","",null,null,""]
[2307,null,null,"",null,"0000000",null,"福島市",null,null,null,null,"",null,"",{"$f":"IF(N2309=\"\",\"\",DATEDIF(N2309,DATE(設定シート!$C$2,設定シート!$C$3,設定シート!$C$4),\"Y\"))","v":""},"","",null,null,""]
[2308,null,null,"",null,"0000000",null,"福島市",null,null,null,null,"",null,"",{"$f":"IF(N2310=\"\",\"\",DATEDIF(N2310,DATE(設定シート!$C$2,設定シート!$C$3,設定シート!$C$4),\"Y\"))","v":""},"","",null,null,""]
[2309,null,null,"",null,"0000000",null,"福島市",null,null,null,null,"",null,"",{"$f":"IF(N2311=\"\",\"\",DATEDIF(N2311,DATE(設定シート!$C$2,設定シート!$C$3,設定シート!$C$4),\"Y\"))","v":""},"","",null,null,""]
[2310,null,null,"",null,"0000000",null,"福島市",null,null,null,null,"",null,"",{"$f":"IF(N2312=\"\",\"\",DATEDIF(N2312,DATE(設定シート!$C$2,設定シート!$C$3,設定シート!$C$4),\"Y\"))","v":""},"","",null,null,""]
[2311,null,null,"",null,"0000000",null,"福島市",null,null,null,null,"",null,"",{"$f":"IF(N2313=\"\",\"\",DATEDIF(N2313,DATE(設定シート!$C$2,設定シート!$C$3,設定シート!$C$4),\"Y\"))","v":""},"","",null,null,""]
[2312,null,null,"",null,"0000000",null,"福島市",null,null,null,null,"",null,"",{"$f":"IF(N2314=\"\",\"\",DATEDIF(N2314,DATE(設定シート!$C$2,設定シート!$C$3,設定シート!$C$4),\"Y\"))","v":""},"","",null,null,""]
[2313,null,null,"",null,"0000000",null,"福島市",null,null,null,null,"",null,"",{"$f":"IF(N2315=\"\",\"\",DATEDIF(N2315,DATE(設定シート!$C$2,設定シート!$C$3,設定シート!$C$4),\"Y\"))","v":""},"","",null,null,""]
[2314,null,null,"",null,"0000000",null,"福島市",null,null,null,null,"",null,"",{"$f":"IF(N2316=\"\",\"\",DATEDIF(N2316,DATE(設定シート!$C$2,設定シート!$C$3,設定シート!$C$4),\"Y\"))","v":""},"","",null,null,""]
[2315,null,null,"",null,"0000000",null,"福島市",null,null,null,null,"",null,"",{"$f":"IF(N2317=\"\",\"\",DATEDIF(N2317,DATE(設定シート!$C$2,設定シート!$C$3,設定シート!$C$4),\"Y\"))","v":""},"","",null,null,""]
[2316,null,null,"",null,"0000000",null,"福島市",null,null,null,null,"",null,"",{"$f":"IF(N2318=\"\",\"\",DATEDIF(N2318,DATE(設定シート!$C$2,設定シート!$C$3,設定シート!$C$4),\"Y\"))","v":""},"","",null,null,""]
[2317,null,null,"",null,"0000000",null,"福島市",null,null,null,null,"",null,"",{"$f":"IF(N2319=\"\",\"\",DATEDIF(N2319,DATE(設定シート!$C$2,設定シート!$C$3,設定シート!$C$4),\"Y\"))","v":""},"","",null,null,""]
[2318,null,null,"",null,"0000000",null,"福島市",null,null,null,null,"",null,"",{"$f":"IF(N2320=\"\",\"\",DATEDIF(N2320,DATE(設定シート!$C$2,設定シート!$C$3,設定シート!$C$4),\"Y\"))","v":""},"","",null,null,""]
[2319,null,null,"",null,"0000000",null,"福島市",null,null,null,null,"",null,"",{"$f":"IF(N2321=\"\",\"\",DATEDIF(N2321,DATE(設定シート!$C$2,設定シート!$C$3,設定シート!$C$4),\"Y\"))","v":""},"","",null,null,""]
[2320,null,null,"",null,{"$f":"TEXT(B2322,\"0000000\")","v":"0000000"},null,"福島市",null,null,null,null,"",null,"",{"$f":"IF(N2322=\"\",\"\",DATEDIF(N2322,DATE(設定シート!$C$2,設定シート!$C$3,設定シート!$C$4),\"Y\"))","v":""},"","",null,null,""]
[2321,null,null,"",null,"0000000",null,"福島市",null,null,null,null,"",null,"",{"$f":"IF(N2323=\"\",\"\",DATEDIF(N2323,DATE(設定シート!$C$2,設定シート!$C$3,設定シート!$C$4),\"Y\"))","v":""},"","",null,null,""]
[2322,null,null,"",null,"0000000",null,"福島市",null,null,null,null,{"$f":"IF(L2324=1,\"男\",IF(L2324=2,\"女\",\"\"))","v":""},null,{"$f":"IF(OR(E2324=\"\",N2324=\"\"),\"\",DATEDIF(N2324,E2324,\"Y\"))","v":""},{"$f":"IF(N2324=\"\",\"\",DATEDIF(N2324,DATE(設定シート!$C$2,設定シート!$C$3,設定シート!$C$4),\"Y\"))","v":""},"",{"$f":"IF(OR(Q2324=1,Q2324=\"1\"),\"有料\",IF(OR(Q2324=2,Q2324=\"2\"),\"70・後\",IF(Q2324=3,\"生保\",IF(Q2324=4,\"非課税\",\"\"))))","v":""},null,null,{"$f":"IF(AND(L2324=2,P2324>=60),\"一単独\",IF(AND(L2324=2,P2324>=50,P2324<60),\"一併用\",IF(AND(L2324=2,P2324>=40,P2324<50),\"二併用\",\"\")))","v":""}]
[2323,null,null,"",null,"0000000",null,"福島市",null,null,null,null,"",null,"",{"$f":"IF(N2325=\"\",\"\",DATEDIF(N2325,DATE(設定シート!$C$2,設定シート!$C$3,設定シート!$C$4),\"Y\"))","v":""},"","",null,null,""]
[2324,null,null,"",null,"0000000",null,"福島市",null,null,null,null,"",null,"",{"$f":"IF(N2326=\"\",\"\",DATEDIF(N2326,DATE(設定シート!$C$2,設定シート!$C$3,設定シート!$C$4),\"Y\"))","v":""},"","",null,null,""]
[2325,null,null,"",null,"0000000",null,"福島市",null,null,null,null,"",null,"",{"$f":"IF(N2327=\"\",\"\",DATEDIF(N2327,DATE(設定シート!$C$2,設定シート!$C$3,設定シート!$C$4),\"Y\"))","v":""},"","",null,null,""]
[2326,null,null,"",null,"0000000",null,"福島市",null,null,null,null,"",null,"",{"$f":"IF(N2328=\"\",\"\",DATEDIF(N2328,DATE(設定シート!$C$2,設定シート!$C$3,設定シート!$C$4),\"Y\"))","v":""},"","",null,null,""]
[2327,null,null,"",null,"0000000",null,"福島市",null,null,null,null,"",null,"",{"$f":"IF(N2329=\"\",\"\",DATEDIF(N2329,DATE(設定シート!$C$2,設定シート!$C$3,設定シート!$C$4),\"Y\"))","v":""},"","",null,null,""]
[2328,null,null,"",null,"0000000",null,"福島市",null,null,null,null,"",null,"",{"$f":"IF(N2330=\"\",\"\",DATEDIF(N2330,DATE(設定シート!$C$2,設定シート!$C$3,設定シート!$C$4),\"Y\"))","v":""},"","",null,null,""]
[2329,null,null,"",null,"0000000",null,"福島市",null,null,null,null,"",null,"",{"$f":"IF(N2331=\"\",\"\",DATEDIF(N2331,DATE(設定シート!$C$2,設定シート!$C$3,設定シート!$C$4),\"Y\"))","v":""},"","",null,null,""]
[2330,null,null,"",null,"0000000",null,"福島市",null,null,null,null,"",null,"",{"$f":"IF(N2332=\"\",\"\",DATEDIF(N2332,DATE(設定シート!$C$2,設定シート!$C$3,設定シート!$C$4),\"Y\"))","v":""},"","",null,null,""]
[2331,null,null,"",null,"0000000",null,"福島市",null,null,null,null,"",null,"",{"$f":"IF(N2333=\"\",\"\",DATEDIF(N2333,DATE(設定シート!$C$2,設定シート!$C$3,設定シート!$C$4),\"Y\"))","v":""},"","",null,null,""]
[2332,null,null,"",null,"0000000",null,"福島市",null,null,null,null,"",null,"",{"$f":"IF(N2334=\"\",\"\",DATEDIF(N2334,DATE(設定シート!$C$2,設定シート!$C$3,設定シート!$C$4),\"Y\"))","v":""},"","",null,null,""]
[2333,null,null,"",null,"0000000",null,"福島市",null,null,null,null,"",null,"",{"$f":"IF(N2335=\"\",\"\",DATEDIF(N2335,DATE(設定シート!$C$2,設定シート!$C$3,設定シート!$C$4),\"Y\"))","v":""},"","",null,null,""]
[2334,null,null,"",null,"0000000",null,"福島市",null,null,null,null,"",null,"",{"$f":"IF(N2336=\"\",\"\",DATEDIF(N2336,DATE(設定シート!$C$2,設定シート!$C$3,設定シート!$C$4),\"Y\"))","v":""},"","",null,null,""]
[2335,null,null,"",null,"0000000",null,"福島市",null,null,null,null,"",null,"",{"$f":"IF(N2337=\"\",\"\",DATEDIF(N2337,DATE(設定シート!$C$2,設定シート!$C$3,設定シート!$C$4),\"Y\"))","v":""},"","",null,null,""]
[2336,null,null,"",null,"0000000",null,"福島市",null,null,null,null,"",null,"",{"$f":"IF(N2338=\"\",\"\",DATEDIF(N2338,DATE(設定シート!$C$2,設定シート!$C$3,設定シート!$C$4),\"Y\"))","v":""},"","",null,null,""]
[2337,null,null,"",null,"0000000",null,"福島市",null,null,null,null,"",null,"",{"$f":"IF(N2339=\"\",\"\",DATEDIF(N2339,DATE(設定シート!$C$2,設定シート!$C$3,設定シート!$C$4),\"Y\"))","v":""},"","",null,null,""]
[2338,null,null,"",null,"0000000",null,"福島市",null,null,null,null,"",null,"",{"$f":"IF(N2340=\"\",\"\",DATEDIF(N2340,DATE(設定シート!$C$2,設定シート!$C$3,設定シート!$C$4),\"Y\"))","v":""},"","",null,null,""]
[2339,null,null,"",null,"0000000",null,"福島市",null,null,null,null,"",null,"",{"$f":"IF(N2341=\"\",\"\",DATEDIF(N2341,DATE(設定シート!$C$2,設定シート!$C$3,設定シート!$C$4),\"Y\"))","v":""},"","",null,null,""]
[2340,null,null,"",null,"0000000",null,"福島市",null,null,null,null,"",null,"",{"$f":"IF(N2342=\"\",\"\",DATEDIF(N2342,DATE(設定シート!$C$2,設定シート!$C$3,設定シート!$C$4),\"Y\"))","v":""},"","",null,null,""]
[2341,null,null,"",null,"0000000",null,"福島市",null,null,null,null,"",null,"",{"$f":"IF(N2343=\"\",\"\",DATEDIF(N2343,DATE(設定シート!$C$2,設定シート!$C$3,設定シート!$C$4),\"Y\"))","v":""},"","",null,null,""]
[2342,null,null,"",null,"0000000",null,"福島市",null,null,null,null,"",null,"",{"$f":"IF(N2344=\"\",\"\",DATEDIF(N2344,DATE(設定シート!$C$2,設定シート!$C$3,設定シート!$C$4),\"Y\"))","v":""},"","",null,null,""]
[2343,null,null,"",null,"0000000",null,"福島市",null,null,null,null,"",null,"",{"$f":"IF(N2345=\"\",\"\",DATEDIF(N2345,DATE(設定シート!$C$2,設定シート!$C$3,設定シート!$C$4),\"Y\"))","v":""},"","",null,null,""]
[2344,null,null,"",null,"0000000",null,"福島市",null,null,null,null,"",null,"",{"$f":"IF(N2346=\"\",\"\",DATEDIF(N2346,DATE(設定シート!$C$2,設定シート!$C$3,設定シート!$C$4),\"Y\"))","v":""},"","",null,null,""]
[2345,null,null,"",null,"0000000",null,"福島市",null,null,null,null,"",null,"",{"$f":"IF(N2347=\"\",\"\",DATEDIF(N2347,DATE(設定シート!$C$2,設定シート!$C$3,設定シート!$C$4),\"Y\"))","v":""},"","",null,null,""]
[2346,null,null,"",null,"0000000",null,"福島市",null,null,null,null,"",null,"",{"$f":"IF(N2348=\"\",\"\",DATEDIF(N2348,DATE(設定シート!$C$2,設定シート!$C$3,設定シート!$C$4),\"Y\"))","v":""},"","",null,null,""]
[2347,null,null,"",null,"0000000",null,"福島市",null,null,null,null,"",null,"",{"$f":"IF(N2349=\"\",\"\",DATEDIF(N2349,DATE(設定シート!$C$2,設定シート!$C$3,設定シート!$C$4),\"Y\"))","v":""},"","",null,null,""]
[2348,null,null,"",null,"0000000",null,"福島市",null,null,null,null,"",null,"",{"$f":"IF(N2350=\"\",\"\",DATEDIF(N2350,DATE(設定シート!$C$2,設定シート!$C$3,設定シート!$C$4),\"Y\"))","v":""},"","",null,null,""]
[2349,null,null,"",null,"0000000",null,"福島市",null,null,null,null,"",null,"",{"$f":"IF(N2351=\"\",\"\",DATEDIF(N2351,DATE(設定シート!$C$2,設定シート!$C$3,設定シート!$C$4),\"Y\"))","v":""},"","",null,null,""]
[2350,null,null,"",null,"0000000",null,"福島市",null,null,null,null,"",null,"",{"$f":"IF(N2352=\"\",\"\",DATEDIF(N2352,DATE(設定シート!$C$2,設定シート!$C$3,設定シート!$C$4),\"Y\"))","v":""},"","",null,null,""]
[2351,null,null,"",null,"0000000",null,"福島市",null,null,null,null,"",null,"",{"$f":"IF(N2353=\"\",\"\",DATEDIF(N2353,DATE(設定シート!$C$2,設定シート!$C$3,設定シート!$C$4),\"Y\"))","v":""},"","",null,null,""]
[2352,null,null,"",null,"0000000",null,"福島市",null,null,null,null,"",null,"",{"$f":"IF(N2354=\"\",\"\",DATEDIF(N2354,DATE(設定シート!$C$2,設定シート!$C$3,設定シート!$C$4),\"Y\"))","v":""},"","",null,null,""]
[2353,null,null,"",null,"0000000",null,"福島市",null,null,null,null,"",null,"",{"$f":"IF(N2355=\"\",\"\",DATEDIF(N2355,DATE(設定シート!$C$2,設定シート!$C$3,設定シート!$C$4),\"Y\"))","v":""},"","",null,null,""]
[2354,null,null,"",null,"0000000",null,"福島市",null,null,null,null,"",null,"",{"$f":"IF(N2356=\"\",\"\",DATEDIF(N2356,DATE(設定シート!$C$2,設定シート!$C$3,設定シート!$C$4),\"Y\"))","v":""},"","",null,null,""]
[2355,null,null,"",null,"0000000",null,"福島市",null,null,null,null,"",null,"",{"$f":"IF(N2357=\"\",\"\",DATEDIF(N2357,DATE(設定シート!$C$2,設定シート!$C$3,設定シート!$C$4),\"Y\"))","v":""},"","",null,null,""]
[2356,null,null,"",null,"0000000",null,"福島市",null,null,null,null,"",null,"",{"$f":"IF(N2358=\"\",\"\",DATEDIF(N2358,DATE(設定シート!$C$2,設定シート!$C$3,設定シート!$C$4),\"Y\"))","v":""},"","",null,null,""]
[2357,null,null,"",null,"0000000",null,"福島市",null,null,null,null,"",null,"",{"$f":"IF(N2359=\"\",\"\",DATEDIF(N2359,DATE(設定シート!$C$2,設定シート!$C$3,設定シート!$C$4),\"Y\"))","v":""},"","",null,null,""]
[2358,null,null,"",null,"0000000",null,"福島市",null,null,null,null,"",null,"",{"$f":"IF(N2360=\"\",\"\",DATEDIF(N2360,DATE(設定シート!$C$2,設定シート!$C$3,設定シート!$C$4),\"Y\"))","v":""},"","",null,null,""]
[2359,null,null,"",null,"0000000",null,"福島市",null,null,null,null,"",null,"",{"$f":"IF(N2361=\"\",\"\",DATEDIF(N2361,DATE(設定シート!$C$2,設定シート!$C$3,設定シート!$C$4),\"Y\"))","v":""},"","",null,null,""]
[2360,null,null,"",null,"0000000",null,"福島市",null,null,null,null,"",null,"",{"$f":"IF(N2362=\"\",\"\",DATEDIF(N2362,DATE(設定シート!$C$2,設定シート!$C$3,設定シート!$C$4),\"Y\"))","v":""},"","",null,null,""]
[2361,null,null,"",null,"0000000",null,"福島市",null,null,null,null,"",null,"",{"$f":"IF(N2363=\"\",\"\",DATEDIF(N2363,DATE(設定シート!$C$2,設定シート!$C$3,設定シート!$C$4),\"Y\"))","v":""},"","",null,null,""]
[2362,null,null,"",null,"0000000",null,"福島市",null,null,null,null,"",null,"",{"$f":"IF(N2364=\"\",\"\",DATEDIF(N2364,DATE(設定シート!$C$2,設定シート!$C$3,設定シート!$C$4),\"Y\"))","v":""},"","",null,null,""]
[2363,null,null,"",null,"0000000",null,"福島市",null,null,null,null,"",null,"",{"$f":"IF(N2365=\"\",\"\",DATEDIF(N2365,DATE(設定シート!$C$2,設定シート!$C$3,設定シート!$C$4),\"Y\"))","v":""},"","",null,null,""]
[2364,null,null,"",null,"0000000",null,"福島市",null,null,null,null,"",null,"",{"$f":"IF(N2366=\"\",\"\",DATEDIF(N2366,DATE(設定シート!$C$2,設定シート!$C$3,設定シート!$C$4),\"Y\"))","v":""},"","",null,null,""]
[2365,null,null,"",null,"0000000",null,"福島市",null,null,null,null,"",null,"",{"$f":"IF(N2367=\"\",\"\",DATEDIF(N2367,DATE(設定シート!$C$2,設定シート!$C$3,設定シート!$C$4),\"Y\"))","v":""},"","",null,null,""]
[2366,null,null,"",null,"0000000",null,"福島市",null,null,null,null,"",null,"",{"$f":"IF(N2368=\"\",\"\",DATEDIF(N2368,DATE(設定シート!$C$2,設定シート!$C$3,設定シート!$C$4),\"Y\"))","v":""},"","",null,null,""]
[2367,null,null,"",null,"0000000",null,"福島市",null,null,null,null,"",null,"",{"$f":"IF(N2369=\"\",\"\",DATEDIF(N2369,DATE(設定シート!$C$2,設定シート!$C$3,設定シート!$C$4),\"Y\"))","v":""},"","",null,null,""]
[{"$f":"ROW()-2","v":2368},null,null,"",null,"0000000",null,"福島市",null,null,null,null,"",null,"",{"$f":"IF(N2370=\"\",\"\",DATEDIF(N2370,DATE(設定シート!$C$2,設定シート!$C$3,設定シート!$C$4),\"Y\"))","v":""},"","",null,null,""]
[2369,null,null,{"$f":"PHONETIC(C2371)","v":""},null,"0000000",null,"福島市",null,null,null,null,"",null,"",{"$f":"IF(N2371=\"\",\"\",DATEDIF(N2371,DATE(設定シート!$C$2,設定シート!$C$3,設定シート!$C$4),\"Y\"))","v":""},{"$f":"IF(P2371=\"\",\"\",IF(P2371<=69,1,IF(P2371>=70,2,\"\")))","v":""},"",null,null,""]
[2370,null,null,"",null,"0000000",null,"福島市",null,null,null,null,"",null,"",{"$f":"IF(N2372=\"\",\"\",DATEDIF(N2372,DATE(設定シート!$C$2,設定シート!$C$3,設定シート!$C$4),\"Y\"))","v":""},"","",null,null,""]
[2371,null,null,"",null,"0000000",null,"福島市",null,null,null,null,"",null,"",{"$f":"IF(N2373=\"\",\"\",DATEDIF(N2373,DATE(設定シート!$C$2,設定シート!$C$3,設定シート!$C$4),\"Y\"))","v":""},"","",null,null,""]
[2372,null,null,"",null,"0000000",null,"福島市",null,null,null,null,"",null,"",{"$f":"IF(N2374=\"\",\"\",DATEDIF(N2374,DATE(設定シート!$C$2,設定シート!$C$3,設定シート!$C$4),\"Y\"))","v":""},"","",null,null,""]
[2373,null,null,"",null,"0000000",null,"福島市",null,null,null,null,"",null,"",{"$f":"IF(N2375=\"\",\"\",DATEDIF(N2375,DATE(設定シート!$C$2,設定シート!$C$3,設定シート!$C$4),\"Y\"))","v":""},"","",null,null,""]
[2374,null,null,"",null,"0000000",null,"福島市",null,null,null,null,"",null,"",{"$f":"IF(N2376=\"\",\"\",DATEDIF(N2376,DATE(設定シート!$C$2,設定シート!$C$3,設定シート!$C$4),\"Y\"))","v":""},"","",null,null,""]
[2375,null,null,"",null,"0000000",null,"福島市",null,null,null,null,"",null,"",{"$f":"IF(N2377=\"\",\"\",DATEDIF(N2377,DATE(設定シート!$C$2,設定シート!$C$3,設定シート!$C$4),\"Y\"))","v":""},"","",null,null,""]
[2376,null,null,"",null,"0000000",null,"福島市",null,null,null,null,"",null,"",{"$f":"IF(N2378=\"\",\"\",DATEDIF(N2378,DATE(設定シート!$C$2,設定シート!$C$3,設定シート!$C$4),\"Y\"))","v":""},"","",null,null,""]
[2377,null,null,"",null,"0000000",null,"福島市",null,null,null,null,"",null,"",{"$f":"IF(N2379=\"\",\"\",DATEDIF(N2379,DATE(設定シート!$C$2,設定シート!$C$3,設定シート!$C$4),\"Y\"))","v":""},"","",null,null,""]
[2378,null,null,"",null,"0000000",null,"福島市",null,null,null,null,"",null,"",{"$f":"IF(N2380=\"\",\"\",DATEDIF(N2380,DATE(設定シート!$C$2,設定シート!$C$3,設定シート!$C$4),\"Y\"))","v":""},"","",null,null,""]
[2379,null,null,"",null,"0000000",null,"福島市",null,null,null,null,"",null,"",{"$f":"IF(N2381=\"\",\"\",DATEDIF(N2381,DATE(設定シート!$C$2,設定シート!$C$3,設定シート!$C$4),\"Y\"))","v":""},"","",null,null,""]
[2380,null,null,"",null,"0000000",null,"福島市",null,null,null,null,"",null,"",{"$f":"IF(N2382=\"\",\"\",DATEDIF(N2382,DATE(設定シート!$C$2,設定シート!$C$3,設定シート!$C$4),\"Y\"))","v":""},"","",null,null,""]
[2381,null,null,"",null,"0000000",null,"福島市",null,null,null,null,"",null,"",{"$f":"IF(N2383=\"\",\"\",DATEDIF(N2383,DATE(設定シート!$C$2,設定シート!$C$3,設定シート!$C$4),\"Y\"))","v":""},"","",null,null,""]
[2382,null,null,"",null,"0000000",null,"福島市",null,null,null,null,"",null,"",{"$f":"IF(N2384=\"\",\"\",DATEDIF(N2384,DATE(設定シート!$C$2,設定シート!$C$3,設定シート!$C$4),\"Y\"))","v":""},"","",null,null,""]
[2383,null,null,"",null,"0000000",null,"福島市",null,null,null,null,"",null,"",{"$f":"IF(N2385=\"\",\"\",DATEDIF(N2385,DATE(設定シート!$C$2,設定シート!$C$3,設定シート!$C$4),\"Y\"))","v":""},"","",null,null,""]
[2384,null,null,"",null,{"$f":"TEXT(B2386,\"0000000\")","v":"0000000"},null,"福島市",null,null,null,null,"",null,"",{"$f":"IF(N2386=\"\",\"\",DATEDIF(N2386,DATE(設定シート!$C$2,設定シート!$C$3,設定シート!$C$4),\"Y\"))","v":""},"","",null,null,""]
[2385,null,null,"",null,"0000000",null,"福島市",null,null,null,null,"",null,"",{"$f":"IF(N2387=\"\",\"\",DATEDIF(N2387,DATE(設定シート!$C$2,設定シート!$C$3,設定シート!$C$4),\"Y\"))","v":""},"","",null,null,""]
[2386,null,null,"",null,"0000000",null,"福島市",null,null,null,null,{"$f":"IF(L2388=1,\"男\",IF(L2388=2,\"女\",\"\"))","v":""},null,{"$f":"IF(OR(E2388=\"\",N2388=\"\"),\"\",DATEDIF(N2388,E2388,\"Y\"))","v":""},{"$f":"IF(N2388=\"\",\"\",DATEDIF(N2388,DATE(設定シート!$C$2,設定シート!$C$3,設定シート!$C$4),\"Y\"))","v":""},"",{"$f":"IF(OR(Q2388=1,Q2388=\"1\"),\"有料\",IF(OR(Q2388=2,Q2388=\"2\"),\"70・後\",IF(Q2388=3,\"生保\",IF(Q2388=4,\"非課税\",\"\"))))","v":""},null,null,{"$f":"IF(AND(L2388=2,P2388>=60),\"一単独\",IF(AND(L2388=2,P2388>=50,P2388<60),\"一併用\",IF(AND(L2388=2,P2388>=40,P2388<50),\"二併用\",\"\")))","v":""}]
[2387,null,null,"",null,"0000000",null,"福島市",null,null,null,null,"",null,"",{"$f":"IF(N2389=\"\",\"\",DATEDIF(N2389,DATE(設定シート!$C$2,設定シート!$C$3,設定シート!$C$4),\"Y\"))","v":""},"","",null,null,""]
[2388,null,null,"",null,"0000000",null,"福島市",null,null,null,null,"",null,"",{"$f":"IF(N2390=\"\",\"\",DATEDIF(N2390,DATE(設定シート!$C$2,設定シート!$C$3,設定シート!$C$4),\"Y\"))","v":""},"","",null,null,""]
[2389,null,null,"",null,"0000000",null,"福島市",null,null,null,null,"",null,"",{"$f":"IF(N2391=\"\",\"\",DATEDIF(N2391,DATE(設定シート!$C$2,設定シート!$C$3,設定シート!$C$4),\"Y\"))","v":""},"","",null,null,""]
[2390,null,null,"",null,"0000000",null,"福島市",null,null,null,null,"",null,"",{"$f":"IF(N2392=\"\",\"\",DATEDIF(N2392,DATE(設定シート!$C$2,設定シート!$C$3,設定シート!$C$4),\"Y\"))","v":""},"","",null,null,""]
[2391,null,null,"",null,"0000000",null,"福島市",null,null,null,null,"",null,"",{"$f":"IF(N2393=\"\",\"\",DATEDIF(N2393,DATE(設定シート!$C$2,設定シート!$C$3,設定シート!$C$4),\"Y\"))","v":""},"","",null,null,""]
[2392,null,null,"",null,"0000000",null,"福島市",null,null,null,null,"",null,"",{"$f":"IF(N2394=\"\",\"\",DATEDIF(N2394,DATE(設定シート!$C$2,設定シート!$C$3,設定シート!$C$4),\"Y\"))","v":""},"","",null,null,""]
[2393,null,null,"",null,"0000000",null,"福島市",null,null,null,null,"",null,"",{"$f":"IF(N2395=\"\",\"\",DATEDIF(N2395,DATE(設定シート!$C$2,設定シート!$C$3,設定シート!$C$4),\"Y\"))","v":""},"","",null,null,""]
[2394,null,null,"",null,"0000000",null,"福島市",null,null,null,null,"",null,"",{"$f":"IF(N2396=\"\",\"\",DATEDIF(N2396,DATE(設定シート!$C$2,設定シート!$C$3,設定シート!$C$4),\"Y\"))","v":""},"","",null,null,""]
[2395,null,null,"",null,"0000000",null,"福島市",null,null,null,null,"",null,"",{"$f":"IF(N2397=\"\",\"\",DATEDIF(N2397,DATE(設定シート!$C$2,設定シート!$C$3,設定シート!$C$4),\"Y\"))","v":""},"","",null,null,""]
[2396,null,null,"",null,"0000000",null,"福島市",null,null,null,null,"",null,"",{"$f":"IF(N2398=\"\",\"\",DATEDIF(N2398,DATE(設定シート!$C$2,設定シート!$C$3,設定シート!$C$4),\"Y\"))","v":""},"","",null,null,""]
[2397,null,null,"",null,"0000000",null,"福島市",null,null,null,null,"",null,"",{"$f":"IF(N2399=\"\",\"\",DATEDIF(N2399,DATE(設定シート!$C$2,設定シート!$C$3,設定シート!$C$4),\"Y\"))","v":""},"","",null,null,""]
[2398,null,null,"",null,"0000000",null,"福島市",null,null,null,null,"",null,"",{"$f":"IF(N2400=\"\",\"\",DATEDIF(N2400,DATE(設定シート!$C$2,設定シート!$C$3,設定シート!$C$4),\"Y\"))","v":""},"","",null,null,""]
[2399,null,null,"",null,"0000000",null,"福島市",null,null,null,null,"",null,"",{"$f":"IF(N2401=\"\",\"\",DATEDIF(N2401,DATE(設定シート!$C$2,設定シート!$C$3,設定シート!$C$4),\"Y\"))","v":""},"","",null,null,""]
[2400,null,null,"",null,"0000000",null,"福島市",null,null,null,null,"",null,"",{"$f":"IF(N2402=\"\",\"\",DATEDIF(N2402,DATE(設定シート!$C$2,設定シート!$C$3,設定シート!$C$4),\"Y\"))","v":""},"","",null,null,""]
[2401,null,null,"",null,"0000000",null,"福島市",null,null,null,null,"",null,"",{"$f":"IF(N2403=\"\",\"\",DATEDIF(N2403,DATE(設定シート!$C$2,設定シート!$C$3,設定シート!$C$4),\"Y\"))","v":""},"","",null,null,""]
[2402,null,null,"",null,"0000000",null,"福島市",null,null,null,null,"",null,"",{"$f":"IF(N2404=\"\",\"\",DATEDIF(N2404,DATE(設定シート!$C$2,設定シート!$C$3,設定シート!$C$4),\"Y\"))","v":""},"","",null,null,""]
[2403,null,null,"",null,"0000000",null,"福島市",null,null,null,null,"",null,"",{"$f":"IF(N2405=\"\",\"\",DATEDIF(N2405,DATE(設定シート!$C$2,設定シート!$C$3,設定シート!$C$4),\"Y\"))","v":""},"","",null,null,""]
[2404,null,null,"",null,"0000000",null,"福島市",null,null,null,null,"",null,"",{"$f":"IF(N2406=\"\",\"\",DATEDIF(N2406,DATE(設定シート!$C$2,設定シート!$C$3,設定シート!$C$4),\"Y\"))","v":""},"","",null,null,""]
[2405,null,null,"",null,"0000000",null,"福島市",null,null,null,null,"",null,"",{"$f":"IF(N2407=\"\",\"\",DATEDIF(N2407,DATE(設定シート!$C$2,設定シート!$C$3,設定シート!$C$4),\"Y\"))","v":""},"","",null,null,""]
[2406,null,null,"",null,"0000000",null,"福島市",null,null,null,null,"",null,"",{"$f":"IF(N2408=\"\",\"\",DATEDIF(N2408,DATE(設定シート!$C$2,設定シート!$C$3,設定シート!$C$4),\"Y\"))","v":""},"","",null,null,""]
[2407,null,null,"",null,"0000000",null,"福島市",null,null,null,null,"",null,"",{"$f":"IF(N2409=\"\",\"\",DATEDIF(N2409,DATE(設定シート!$C$2,設定シート!$C$3,設定シート!$C$4),\"Y\"))","v":""},"","",null,null,""]
[2408,null,null,"",null,"0000000",null,"福島市",null,null,null,null,"",null,"",{"$f":"IF(N2410=\"\",\"\",DATEDIF(N2410,DATE(設定シート!$C$2,設定シート!$C$3,設定シート!$C$4),\"Y\"))","v":""},"","",null,null,""]
[2409,null,null,"",null,"0000000",null,"福島市",null,null,null,null,"",null,"",{"$f":"IF(N2411=\"\",\"\",DATEDIF(N2411,DATE(設定シート!$C$2,設定シート!$C$3,設定シート!$C$4),\"Y\"))","v":""},"","",null,null,""]
[2410,null,null,"",null,"0000000",null,"福島市",null,null,null,null,"",null,"",{"$f":"IF(N2412=\"\",\"\",DATEDIF(N2412,DATE(設定シート!$C$2,設定シート!$C$3,設定シート!$C$4),\"Y\"))","v":""},"","",null,null,""]
[2411,null,null,"",null,"0000000",null,"福島市",null,null,null,null,"",null,"",{"$f":"IF(N2413=\"\",\"\",DATEDIF(N2413,DATE(設定シート!$C$2,設定シート!$C$3,設定シート!$C$4),\"Y\"))","v":""},"","",null,null,""]
[2412,null,null,"",null,"0000000",null,"福島市",null,null,null,null,"",null,"",{"$f":"IF(N2414=\"\",\"\",DATEDIF(N2414,DATE(設定シート!$C$2,設定シート!$C$3,設定シート!$C$4),\"Y\"))","v":""},"","",null,null,""]
[2413,null,null,"",null,"0000000",null,"福島市",null,null,null,null,"",null,"",{"$f":"IF(N2415=\"\",\"\",DATEDIF(N2415,DATE(設定シート!$C$2,設定シート!$C$3,設定シート!$C$4),\"Y\"))","v":""},"","",null,null,""]
[2414,null,null,"",null,"0000000",null,"福島市",null,null,null,null,"",null,"",{"$f":"IF(N2416=\"\",\"\",DATEDIF(N2416,DATE(設定シート!$C$2,設定シート!$C$3,設定シート!$C$4),\"Y\"))","v":""},"","",null,null,""]
[2415,null,null,"",null,"0000000",null,"福島市",null,null,null,null,"",null,"",{"$f":"IF(N2417=\"\",\"\",DATEDIF(N2417,DATE(設定シート!$C$2,設定シート!$C$3,設定シート!$C$4),\"Y\"))","v":""},"","",null,null,""]
[2416,null,null,"",null,"0000000",null,"福島市",null,null,null,null,"",null,"",{"$f":"IF(N2418=\"\",\"\",DATEDIF(N2418,DATE(設定シート!$C$2,設定シート!$C$3,設定シート!$C$4),\"Y\"))","v":""},"","",null,null,""]
[2417,null,null,"",null,"0000000",null,"福島市",null,null,null,null,"",null,"",{"$f":"IF(N2419=\"\",\"\",DATEDIF(N2419,DATE(設定シート!$C$2,設定シート!$C$3,設定シート!$C$4),\"Y\"))","v":""},"","",null,null,""]
[2418,null,null,"",null,"0000000",null,"福島市",null,null,null,null,"",null,"",{"$f":"IF(N2420=\"\",\"\",DATEDIF(N2420,DATE(設定シート!$C$2,設定シート!$C$3,設定シート!$C$4),\"Y\"))","v":""},"","",null,null,""]
[2419,null,null,"",null,"0000000",null,"福島市",null,null,null,null,"",null,"",{"$f":"IF(N2421=\"\",\"\",DATEDIF(N2421,DATE(設定シート!$C$2,設定シート!$C$3,設定シート!$C$4),\"Y\"))","v":""},"","",null,null,""]
[2420,null,null,"",null,"0000000",null,"福島市",null,null,null,null,"",null,"",{"$f":"IF(N2422=\"\",\"\",DATEDIF(N2422,DATE(設定シート!$C$2,設定シート!$C$3,設定シート!$C$4),\"Y\"))","v":""},"","",null,null,""]
[2421,null,null,"",null,"0000000",null,"福島市",null,null,null,null,"",null,"",{"$f":"IF(N2423=\"\",\"\",DATEDIF(N2423,DATE(設定シート!$C$2,設定シート!$C$3,設定シート!$C$4),\"Y\"))","v":""},"","",null,null,""]
[2422,null,null,"",null,"0000000",null,"福島市",null,null,null,null,"",null,"",{"$f":"IF(N2424=\"\",\"\",DATEDIF(N2424,DATE(設定シート!$C$2,設定シート!$C$3,設定シート!$C$4),\"Y\"))","v":""},"","",null,null,""]
[2423,null,null,"",null,"0000000",null,"福島市",null,null,null,null,"",null,"",{"$f":"IF(N2425=\"\",\"\",DATEDIF(N2425,DATE(設定シート!$C$2,設定シート!$C$3,設定シート!$C$4),\"Y\"))","v":""},"","",null,null,""]
[2424,null,null,"",null,"0000000",null,"福島市",null,null,null,null,"",null,"",{"$f":"IF(N2426=\"\",\"\",DATEDIF(N2426,DATE(設定シート!$C$2,設定シート!$C$3,設定シート!$C$4),\"Y\"))","v":""},"","",null,null,""]
[2425,null,null,"",null,"0000000",null,"福島市",null,null,null,null,"",null,"",{"$f":"IF(N2427=\"\",\"\",DATEDIF(N2427,DATE(設定シート!$C$2,設定シート!$C$3,設定シート!$C$4),\"Y\"))","v":""},"","",null,null,""]
[2426,null,null,"",null,"0000000",null,"福島市",null,null,null,null,"",null,"",{"$f":"IF(N2428=\"\",\"\",DATEDIF(N2428,DATE(設定シート!$C$2,設定シート!$C$3,設定シート!$C$4),\"Y\"))","v":""},"","",null,null,""]
[2427,null,null,"",null,"0000000",null,"福島市",null,null,null,null,"",null,"",{"$f":"IF(N2429=\"\",\"\",DATEDIF(N2429,DATE(設定シート!$C$2,設定シート!$C$3,設定シート!$C$4),\"Y\"))","v":""},"","",null,null,""]
[2428,null,null,"",null,"0000000",null,"福島市",null,null,null,null,"",null,"",{"$f":"IF(N2430=\"\",\"\",DATEDIF(N2430,DATE(設定シート!$C$2,設定シート!$C$3,設定シート!$C$4),\"Y\"))","v":""},"","",null,null,""]
[2429,null,null,"",null,"0000000",null,"福島市",null,null,null,null,"",null,"",{"$f":"IF(N2431=\"\",\"\",DATEDIF(N2431,DATE(設定シート!$C$2,設定シート!$C$3,設定シート!$C$4),\"Y\"))","v":""},"","",null,null,""]
[2430,null,null,"",null,"0000000",null,"福島市",null,null,null,null,"",null,"",{"$f":"IF(N2432=\"\",\"\",DATEDIF(N2432,DATE(設定シート!$C$2,設定シート!$C$3,設定シート!$C$4),\"Y\"))","v":""},"","",null,null,""]
[2431,null,null,"",null,"0000000",null,"福島市",null,null,null,null,"",null,"",{"$f":"IF(N2433=\"\",\"\",DATEDIF(N2433,DATE(設定シート!$C$2,設定シート!$C$3,設定シート!$C$4),\"Y\"))","v":""},"","",null,null,""]
[{"$f":"ROW()-2","v":2432},null,null,"",null,"0000000",null,"福島市",null,null,null,null,"",null,"",{"$f":"IF(N2434=\"\",\"\",DATEDIF(N2434,DATE(設定シート!$C$2,設定シート!$C$3,設定シート!$C$4),\"Y\"))","v":""},"","",null,null,""]
[2433,null,null,{"$f":"PHONETIC(C2435)","v":""},null,"0000000",null,"福島市",null,null,null,null,"",null,"",{"$f":"IF(N2435=\"\",\"\",DATEDIF(N2435,DATE(設定シート!$C$2,設定シート!$C$3,設定シート!$C$4),\"Y\"))","v":""},{"$f":"IF(P2435=\"\",\"\",IF(P2435<=69,1,IF(P2435>=70,2,\"\")))","v":""},"",null,null,""]
[2434,null,null,"",null,"0000000",null,"福島市",null,null,null,null,"",null,"",{"$f":"IF(N2436=\"\",\"\",DATEDIF(N2436,DATE(設定シート!$C$2,設定シート!$C$3,設定シート!$C$4),\"Y\"))","v":""},"","",null,null,""]
[2435,null,null,"",null,"0000000",null,"福島市",null,null,null,null,"",null,"",{"$f":"IF(N2437=\"\",\"\",DATEDIF(N2437,DATE(設定シート!$C$2,設定シート!$C$3,設定シート!$C$4),\"Y\"))","v":""},"","",null,null,""]
[2436,null,null,"",null,"0000000",null,"福島市",null,null,null,null,"",null,"",{"$f":"IF(N2438=\"\",\"\",DATEDIF(N2438,DATE(設定シート!$C$2,設定シート!$C$3,設定シート!$C$4),\"Y\"))","v":""},"","",null,null,""]
[2437,null,null,"",null,"0000000",null,"福島市",null,null,null,null,"",null,"",{"$f":"IF(N2439=\"\",\"\",DATEDIF(N2439,DATE(設定シート!$C$2,設定シート!$C$3,設定シート!$C$4),\"Y\"))","v":""},"","",null,null,""]
[2438,null,null,"",null,"0000000",null,"福島市",null,null,null,null,"",null,"",{"$f":"IF(N2440=\"\",\"\",DATEDIF(N2440,DATE(設定シート!$C$2,設定シート!$C$3,設定シート!$C$4),\"Y\"))","v":""},"","",null,null,""]
[2439,null,null,"",null,"0000000",null,"福島市",null,null,null,null,"",null,"",{"$f":"IF(N2441=\"\",\"\",DATEDIF(N2441,DATE(設定シート!$C$2,設定シート!$C$3,設定シート!$C$4),\"Y\"))","v":""},"","",null,null,""]
[2440,null,null,"",null,"0000000",null,"福島市",null,null,null,null,"",null,"",{"$f":"IF(N2442=\"\",\"\",DATEDIF(N2442,DATE(設定シート!$C$2,設定シート!$C$3,設定シート!$C$4),\"Y\"))","v":""},"","",null,null,""]
[2441,null,null,"",null,"0000000",null,"福島市",null,null,null,null,"",null,"",{"$f":"IF(N2443=\"\",\"\",DATEDIF(N2443,DATE(設定シート!$C$2,設定シート!$C$3,設定シート!$C$4),\"Y\"))","v":""},"","",null,null,""]
[2442,null,null,"",null,"0000000",null,"福島市",null,null,null,null,"",null,"",{"$f":"IF(N2444=\"\",\"\",DATEDIF(N2444,DATE(設定シート!$C$2,設定シート!$C$3,設定シート!$C$4),\"Y\"))","v":""},"","",null,null,""]
[2443,null,null,"",null,"0000000",null,"福島市",null,null,null,null,"",null,"",{"$f":"IF(N2445=\"\",\"\",DATEDIF(N2445,DATE(設定シート!$C$2,設定シート!$C$3,設定シート!$C$4),\"Y\"))","v":""},"","",null,null,""]
[2444,null,null,"",null,"0000000",null,"福島市",null,null,null,null,"",null,"",{"$f":"IF(N2446=\"\",\"\",DATEDIF(N2446,DATE(設定シート!$C$2,設定シート!$C$3,設定シート!$C$4),\"Y\"))","v":""},"","",null,null,""]
[2445,null,null,"",null,"0000000",null,"福島市",null,null,null,null,"",null,"",{"$f":"IF(N2447=\"\",\"\",DATEDIF(N2447,DATE(設定シート!$C$2,設定シート!$C$3,設定シート!$C$4),\"Y\"))","v":""},"","",null,null,""]
[2446,null,null,"",null,"0000000",null,"福島市",null,null,null,null,"",null,"",{"$f":"IF(N2448=\"\",\"\",DATEDIF(N2448,DATE(設定シート!$C$2,設定シート!$C$3,設定シート!$C$4),\"Y\"))","v":""},"","",null,null,""]
[2447,null,null,"",null,"0000000",null,"福島市",null,null,null,null,"",null,"",{"$f":"IF(N2449=\"\",\"\",DATEDIF(N2449,DATE(設定シート!$C$2,設定シート!$C$3,設定シート!$C$4),\"Y\"))","v":""},"","",null,null,""]
[2448,null,null,"",null,{"$f":"TEXT(B2450,\"0000000\")","v":"0000000"},null,"福島市",null,null,null,null,"",null,"",{"$f":"IF(N2450=\"\",\"\",DATEDIF(N2450,DATE(設定シート!$C$2,設定シート!$C$3,設定シート!$C$4),\"Y\"))","v":""},"","",null,null,""]
[2449,null,null,"",null,"0000000",null,"福島市",null,null,null,null,"",null,"",{"$f":"IF(N2451=\"\",\"\",DATEDIF(N2451,DATE(設定シート!$C$2,設定シート!$C$3,設定シート!$C$4),\"Y\"))","v":""},"","",null,null,""]
[2450,null,null,"",null,"0000000",null,"福島市",null,null,null,null,{"$f":"IF(L2452=1,\"男\",IF(L2452=2,\"女\",\"\"))","v":""},null,{"$f":"IF(OR(E2452=\"\",N2452=\"\"),\"\",DATEDIF(N2452,E2452,\"Y\"))","v":""},{"$f":"IF(N2452=\"\",\"\",DATEDIF(N2452,DATE(設定シート!$C$2,設定シート!$C$3,設定シート!$C$4),\"Y\"))","v":""},"",{"$f":"IF(OR(Q2452=1,Q2452=\"1\"),\"有料\",IF(OR(Q2452=2,Q2452=\"2\"),\"70・後\",IF(Q2452=3,\"生保\",IF(Q2452=4,\"非課税\",\"\"))))","v":""},null,null,{"$f":"IF(AND(L2452=2,P2452>=60),\"一単独\",IF(AND(L2452=2,P2452>=50,P2452<60),\"一併用\",IF(AND(L2452=2,P2452>=40,P2452<50),\"二併用\",\"\")))","v":""}]
[2451,null,null,"",null,"0000000",null,"福島市",null,null,null,null,"",null,"",{"$f":"IF(N2453=\"\",\"\",DATEDIF(N2453,DATE(設定シート!$C$2,設定シート!$C$3,設定シート!$C$4),\"Y\"))","v":""},"","",null,null,""]
[2452,null,null,"",null,"0000000",null,"福島市",null,null,null,null,"",null,"",{"$f":"IF(N2454=\"\",\"\",DATEDIF(N2454,DATE(設定シート!$C$2,設定シート!$C$3,設定シート!$C$4),\"Y\"))","v":""},"","",null,null,""]
[2453,null,null,"",null,"0000000",null,"福島市",null,null,null,null,"",null,"",{"$f":"IF(N2455=\"\",\"\",DATEDIF(N2455,DATE(設定シート!$C$2,設定シート!$C$3,設定シート!$C$4),\"Y\"))","v":""},"","",null,null,""]
[2454,null,null,"",null,"0000000",null,"福島市",null,null,null,null,"",null,"",{"$f":"IF(N2456=\"\",\"\",DATEDIF(N2456,DATE(設定シート!$C$2,設定シート!$C$3,設定シート!$C$4),\"Y\"))","v":""},"","",null,null,""]
[2455,null,null,"",null,"0000000",null,"福島市",null,null,null,null,"",null,"",{"$f":"IF(N2457=\"\",\"\",DATEDIF(N2457,DATE(設定シート!$C$2,設定シート!$C$3,設定シート!$C$4),\"Y\"))","v":""},"","",null,null,""]
[2456,null,null,"",null,"0000000",null,"福島市",null,null,null,null,"",null,"",{"$f":"IF(N2458=\"\",\"\",DATEDIF(N2458,DATE(設定シート!$C$2,設定シート!$C$3,設定シート!$C$4),\"Y\"))","v":""},"","",null,null,""]
[2457,null,null,"",null,"0000000",null,"福島市",null,null,null,null,"",null,"",{"$f":"IF(N2459=\"\",\"\",DATEDIF(N2459,DATE(設定シート!$C$2,設定シート!$C$3,設定シート!$C$4),\"Y\"))","v":""},"","",null,null,""]
[2458,null,null,"",null,"0000000",null,"福島市",null,null,null,null,"",null,"",{"$f":"IF(N2460=\"\",\"\",DATEDIF(N2460,DATE(設定シート!$C$2,設定シート!$C$3,設定シート!$C$4),\"Y\"))","v":""},"","",null,null,""]
[2459,null,null,"",null,"0000000",null,"福島市",null,null,null,null,"",null,"",{"$f":"IF(N2461=\"\",\"\",DATEDIF(N2461,DATE(設定シート!$C$2,設定シート!$C$3,設定シート!$C$4),\"Y\"))","v":""},"","",null,null,""]
[2460,null,null,"",null,"0000000",null,"福島市",null,null,null,null,"",null,"",{"$f":"IF(N2462=\"\",\"\",DATEDIF(N2462,DATE(設定シート!$C$2,設定シート!$C$3,設定シート!$C$4),\"Y\"))","v":""},"","",null,null,""]
[2461,null,null,"",null,"0000000",null,"福島市",null,null,null,null,"",null,"",{"$f":"IF(N2463=\"\",\"\",DATEDIF(N2463,DATE(設定シート!$C$2,設定シート!$C$3,設定シート!$C$4),\"Y\"))","v":""},"","",null,null,""]
[2462,null,null,"",null,"0000000",null,"福島市",null,null,null,null,"",null,"",{"$f":"IF(N2464=\"\",\"\",DATEDIF(N2464,DATE(設定シート!$C$2,設定シート!$C$3,設定シート!$C$4),\"Y\"))","v":""},"","",null,null,""]
[2463,null,null,"",null,"0000000",null,"福島市",null,null,null,null,"",null,"",{"$f":"IF(N2465=\"\",\"\",DATEDIF(N2465,DATE(設定シート!$C$2,設定シート!$C$3,設定シート!$C$4),\"Y\"))","v":""},"","",null,null,""]
[2464,null,null,"",null,"0000000",null,"福島市",null,null,null,null,"",null,"",{"$f":"IF(N2466=\"\",\"\",DATEDIF(N2466,DATE(設定シート!$C$2,設定シート!$C$3,設定シート!$C$4),\"Y\"))","v":""},"","",null,null,""]
[2465,null,null,"",null,"0000000",null,"福島市",null,null,null,null,"",null,"",{"$f":"IF(N2467=\"\",\"\",DATEDIF(N2467,DATE(設定シート!$C$2,設定シート!$C$3,設定シート!$C$4),\"Y\"))","v":""},"","",null,null,""]
[2466,null,null,"",null,"0000000",null,"福島市",null,null,null,null,"",null,"",{"$f":"IF(N2468=\"\",\"\",DATEDIF(N2468,DATE(設定シート!$C$2,設定シート!$C$3,設定シート!$C$4),\"Y\"))","v":""},"","",null,null,""]
[2467,null,null,"",null,"0000000",null,"福島市",null,null,null,null,"",null,"",{"$f":"IF(N2469=\"\",\"\",DATEDIF(N2469,DATE(設定シート!$C$2,設定シート!$C$3,設定シート!$C$4),\"Y\"))","v":""},"","",null,null,""]
[2468,null,null,"",null,"0000000",null,"福島市",null,null,null,null,"",null,"",{"$f":"IF(N2470=\"\",\"\",DATEDIF(N2470,DATE(設定シート!$C$2,設定シート!$C$3,設定シート!$C$4),\"Y\"))","v":""},"","",null,null,""]
[2469,null,null,"",null,"0000000",null,"福島市",null,null,null,null,"",null,"",{"$f":"IF(N2471=\"\",\"\",DATEDIF(N2471,DATE(設定シート!$C$2,設定シート!$C$3,設定シート!$C$4),\"Y\"))","v":""},"","",null,null,""]
[2470,null,null,"",null,"0000000",null,"福島市",null,null,null,null,"",null,"",{"$f":"IF(N2472=\"\",\"\",DATEDIF(N2472,DATE(設定シート!$C$2,設定シート!$C$3,設定シート!$C$4),\"Y\"))","v":""},"","",null,null,""]
[2471,null,null,"",null,"0000000",null,"福島市",null,null,null,null,"",null,"",{"$f":"IF(N2473=\"\",\"\",DATEDIF(N2473,DATE(設定シート!$C$2,設定シート!$C$3,設定シート!$C$4),\"Y\"))","v":""},"","",null,null,""]
[2472,null,null,"",null,"0000000",null,"福島市",null,null,null,null,"",null,"",{"$f":"IF(N2474=\"\",\"\",DATEDIF(N2474,DATE(設定シート!$C$2,設定シート!$C$3,設定シート!$C$4),\"Y\"))","v":""},"","",null,null,""]
[2473,null,null,"",null,"0000000",null,"福島市",null,null,null,null,"",null,"",{"$f":"IF(N2475=\"\",\"\",DATEDIF(N2475,DATE(設定シート!$C$2,設定シート!$C$3,設定シート!$C$4),\"Y\"))","v":""},"","",null,null,""]
[2474,null,null,"",null,"0000000",null,"福島市",null,null,null,null,"",null,"",{"$f":"IF(N2476=\"\",\"\",DATEDIF(N2476,DATE(設定シート!$C$2,設定シート!$C$3,設定シート!$C$4),\"Y\"))","v":""},"","",null,null,""]
[2475,null,null,"",null,"0000000",null,"福島市",null,null,null,null,"",null,"",{"$f":"IF(N2477=\"\",\"\",DATEDIF(N2477,DATE(設定シート!$C$2,設定シート!$C$3,設定シート!$C$4),\"Y\"))","v":""},"","",null,null,""]
[2476,null,null,"",null,"0000000",null,"福島市",null,null,null,null,"",null,"",{"$f":"IF(N2478=\"\",\"\",DATEDIF(N2478,DATE(設定シート!$C$2,設定シート!$C$3,設定シート!$C$4),\"Y\"))","v":""},"","",null,null,""]
[2477,null,null,"",null,"0000000",null,"福島市",null,null,null,null,"",null,"",{"$f":"IF(N2479=\"\",\"\",DATEDIF(N2479,DATE(設定シート!$C$2,設定シート!$C$3,設定シート!$C$4),\"Y\"))","v":""},"","",null,null,""]
[2478,null,null,"",null,"0000000",null,"福島市",null,null,null,null,"",null,"",{"$f":"IF(N2480=\"\",\"\",DATEDIF(N2480,DATE(設定シート!$C$2,設定シート!$C$3,設定シート!$C$4),\"Y\"))","v":""},"","",null,null,""]
[2479,null,null,"",null,"0000000",null,"福島市",null,null,null,null,"",null,"",{"$f":"IF(N2481=\"\",\"\",DATEDIF(N2481,DATE(設定シート!$C$2,設定シート!$C$3,設定シート!$C$4),\"Y\"))","v":""},"","",null,null,""]
[2480,null,null,"",null,"0000000",null,"福島市",null,null,null,null,"",null,"",{"$f":"IF(N2482=\"\",\"\",DATEDIF(N2482,DATE(設定シート!$C$2,設定シート!$C$3,設定シート!$C$4),\"Y\"))","v":""},"","",null,null,""]
[2481,null,null,"",null,"0000000",null,"福島市",null,null,null,null,"",null,"",{"$f":"IF(N2483=\"\",\"\",DATEDIF(N2483,DATE(設定シート!$C$2,設定シート!$C$3,設定シート!$C$4),\"Y\"))","v":""},"","",null,null,""]
[2482,null,null,"",null,"0000000",null,"福島市",null,null,null,null,"",null,"",{"$f":"IF(N2484=\"\",\"\",DATEDIF(N2484,DATE(設定シート!$C$2,設定シート!$C$3,設定シート!$C$4),\"Y\"))","v":""},"","",null,null,""]
[2483,null,null,"",null,"0000000",null,"福島市",null,null,null,null,"",null,"",{"$f":"IF(N2485=\"\",\"\",DATEDIF(N2485,DATE(設定シート!$C$2,設定シート!$C$3,設定シート!$C$4),\"Y\"))","v":""},"","",null,null,""]
[2484,null,null,"",null,"0000000",null,"福島市",null,null,null,null,"",null,"",{"$f":"IF(N2486=\"\",\"\",DATEDIF(N2486,DATE(設定シート!$C$2,設定シート!$C$3,設定シート!$C$4),\"Y\"))","v":""},"","",null,null,""]
[2485,null,null,"",null,"0000000",null,"福島市",null,null,null,null,"",null,"",{"$f":"IF(N2487=\"\",\"\",DATEDIF(N2487,DATE(設定シート!$C$2,設定シート!$C$3,設定シート!$C$4),\"Y\"))","v":""},"","",null,null,""]
[2486,null,null,"",null,"0000000",null,"福島市",null,null,null,null,"",null,"",{"$f":"IF(N2488=\"\",\"\",DATEDIF(N2488,DATE(設定シート!$C$2,設定シート!$C$3,設定シート!$C$4),\"Y\"))","v":""},"","",null,null,""]
[2487,null,null,"",null,"0000000",null,"福島市",null,null,null,null,"",null,"",{"$f":"IF(N2489=\"\",\"\",DATEDIF(N2489,DATE(設定シート!$C$2,設定シート!$C$3,設定シート!$C$4),\"Y\"))","v":""},"","",null,null,""]
[2488,null,null,"",null,"0000000",null,"福島市",null,null,null,null,"",null,"",{"$f":"IF(N2490=\"\",\"\",DATEDIF(N2490,DATE(設定シート!$C$2,設定シート!$C$3,設定シート!$C$4),\"Y\"))","v":""},"","",null,null,""]
[2489,null,null,"",null,"0000000",null,"福島市",null,null,null,null,"",null,"",{"$f":"IF(N2491=\"\",\"\",DATEDIF(N2491,DATE(設定シート!$C$2,設定シート!$C$3,設定シート!$C$4),\"Y\"))","v":""},"","",null,null,""]
[2490,null,null,"",null,"0000000",null,"福島市",null,null,null,null,"",null,"",{"$f":"IF(N2492=\"\",\"\",DATEDIF(N2492,DATE(設定シート!$C$2,設定シート!$C$3,設定シート!$C$4),\"Y\"))","v":""},"","",null,null,""]
[2491,null,null,"",null,"0000000",null,"福島市",null,null,null,null,"",null,"",{"$f":"IF(N2493=\"\",\"\",DATEDIF(N2493,DATE(設定シート!$C$2,設定シート!$C$3,設定シート!$C$4),\"Y\"))","v":""},"","",null,null,""]
[2492,null,null,"",null,"0000000",null,"福島市",null,null,null,null,"",null,"",{"$f":"IF(N2494=\"\",\"\",DATEDIF(N2494,DATE(設定シート!$C$2,設定シート!$C$3,設定シート!$C$4),\"Y\"))","v":""},"","",null,null,""]
[2493,null,null,"",null,"0000000",null,"福島市",null,null,null,null,"",null,"",{"$f":"IF(N2495=\"\",\"\",DATEDIF(N2495,DATE(設定シート!$C$2,設定シート!$C$3,設定シート!$C$4),\"Y\"))","v":""},"","",null,null,""]
[2494,null,null,"",null,"0000000",null,"福島市",null,null,null,null,"",null,"",{"$f":"IF(N2496=\"\",\"\",DATEDIF(N2496,DATE(設定シート!$C$2,設定シート!$C$3,設定シート!$C$4),\"Y\"))","v":""},"","",null,null,""]
[2495,null,null,"",null,"0000000",null,"福島市",null,null,null,null,"",null,"",{"$f":"IF(N2497=\"\",\"\",DATEDIF(N2497,DATE(設定シート!$C$2,設定シート!$C$3,設定シート!$C$4),\"Y\"))","v":""},"","",null,null,""]
[{"$f":"ROW()-2","v":2496},null,null,"",null,"0000000",null,"福島市",null,null,null,null,"",null,"",{"$f":"IF(N2498=\"\",\"\",DATEDIF(N2498,DATE(設定シート!$C$2,設定シート!$C$3,設定シート!$C$4),\"Y\"))","v":""},"","",null,null,""]
[2497,null,null,{"$f":"PHONETIC(C2499)","v":""},null,"0000000",null,"福島市",null,null,null,null,"",null,"",{"$f":"IF(N2499=\"\",\"\",DATEDIF(N2499,DATE(設定シート!$C$2,設定シート!$C$3,設定シート!$C$4),\"Y\"))","v":""},{"$f":"IF(P2499=\"\",\"\",IF(P2499<=69,1,IF(P2499>=70,2,\"\")))","v":""},"",null,null,""]
[2498,null,null,"",null,"0000000",null,"福島市",null,null,null,null,"",null,"",{"$f":"IF(N2500=\"\",\"\",DATEDIF(N2500,DATE(設定シート!$C$2,設定シート!$C$3,設定シート!$C$4),\"Y\"))","v":""},"","",null,null,""]
[2499,null,null,"",null,"0000000",null,"福島市",null,null,null,null,"",null,"",{"$f":"IF(N2501=\"\",\"\",DATEDIF(N2501,DATE(設定シート!$C$2,設定シート!$C$3,設定シート!$C$4),\"Y\"))","v":""},"","",null,null,""]
[2500,null,null,"",null,"0000000",null,"福島市",null,null,null,null,"",null,"",{"$f":"IF(N2502=\"\",\"\",DATEDIF(N2502,DATE(設定シート!$C$2,設定シート!$C$3,設定シート!$C$4),\"Y\"))","v":""},"","",null,null,""]
[2501,null,null,"",null,"0000000",null,"福島市",null,null,null,null,"",null,"",{"$f":"IF(N2503=\"\",\"\",DATEDIF(N2503,DATE(設定シート!$C$2,設定シート!$C$3,設定シート!$C$4),\"Y\"))","v":""},"","",null,null,""]
[2502,null,null,"",null,"0000000",null,"福島市",null,null,null,null,{"$f":"IF(L2504=1,\"男\",IF(L2504=2,\"女\",\"\"))","v":""},null,{"$f":"IF(OR(E2504=\"\",N2504=\"\"),\"\",DATEDIF(N2504,E2504,\"Y\"))","v":""},{"$f":"IF(N2504=\"\",\"\",DATEDIF(N2504,DATE(設定シート!$C$2,設定シート!$C$3,設定シート!$C$4),\"Y\"))","v":""},"",{"$f":"IF(OR(Q2504=1,Q2504=\"1\"),\"有料\",IF(OR(Q2504=2,Q2504=\"2\"),\"70・後\",IF(Q2504=3,\"生保\",IF(Q2504=4,\"非課税\",\"\"))))","v":""},null,null,{"$f":"IF(AND(L2504=2,P2504>=60),\"一単独\",IF(AND(L2504=2,P2504>=50,P2504<60),\"一併用\",IF(AND(L2504=2,P2504>=40,P2504<50),\"二併用\",\"\")))","v":""}]
[2503,null,null,"",null,"0000000",null,"福島市",null,null,null,null,"",null,"",{"$f":"IF(N2505=\"\",\"\",DATEDIF(N2505,DATE(設定シート!$C$2,設定シート!$C$3,設定シート!$C$4),\"Y\"))","v":""},"","",null,null,""]
[2504,null,null,"",null,"0000000",null,"福島市",null,null,null,null,"",null,"",{"$f":"IF(N2506=\"\",\"\",DATEDIF(N2506,DATE(設定シート!$C$2,設定シート!$C$3,設定シート!$C$4),\"Y\"))","v":""},"","",null,null,""]
[2505,null,null,"",null,"0000000",null,"福島市",null,null,null,null,"",null,"",{"$f":"IF(N2507=\"\",\"\",DATEDIF(N2507,DATE(設定シート!$C$2,設定シート!$C$3,設定シート!$C$4),\"Y\"))","v":""},"","",null,null,""]
[2506,null,null,"",null,"0000000",null,"福島市",null,null,null,null,"",null,"",{"$f":"IF(N2508=\"\",\"\",DATEDIF(N2508,DATE(設定シート!$C$2,設定シート!$C$3,設定シート!$C$4),\"Y\"))","v":""},"","",null,null,""]
[2507,null,null,"",null,"0000000",null,"福島市",null,null,null,null,"",null,"",{"$f":"IF(N2509=\"\",\"\",DATEDIF(N2509,DATE(設定シート!$C$2,設定シート!$C$3,設定シート!$C$4),\"Y\"))","v":""},"","",null,null,""]
[2508,null,null,"",null,"0000000",null,"福島市",null,null,null,null,"",null,"",{"$f":"IF(N2510=\"\",\"\",DATEDIF(N2510,DATE(設定シート!$C$2,設定シート!$C$3,設定シート!$C$4),\"Y\"))","v":""},"","",null,null,""]
[2509,null,null,"",null,"0000000",null,"福島市",null,null,null,null,"",null,"",{"$f":"IF(N2511=\"\",\"\",DATEDIF(N2511,DATE(設定シート!$C$2,設定シート!$C$3,設定シート!$C$4),\"Y\"))","v":""},"","",null,null,""]
[2510,null,null,"",null,"0000000",null,"福島市",null,null,null,null,"",null,"",{"$f":"IF(N2512=\"\",\"\",DATEDIF(N2512,DATE(設定シート!$C$2,設定シート!$C$3,設定シート!$C$4),\"Y\"))","v":""},"","",null,null,""]
[2511,null,null,"",null,"0000000",null,"福島市",null,null,null,null,"",null,"",{"$f":"IF(N2513=\"\",\"\",DATEDIF(N2513,DATE(設定シート!$C$2,設定シート!$C$3,設定シート!$C$4),\"Y\"))","v":""},"","",null,null,""]
[2512,null,null,"",null,{"$f":"TEXT(B2514,\"0000000\")","v":"0000000"},null,"福島市",null,null,null,null,"",null,"",{"$f":"IF(N2514=\"\",\"\",DATEDIF(N2514,DATE(設定シート!$C$2,設定シート!$C$3,設定シート!$C$4),\"Y\"))","v":""},"","",null,null,""]
[2513,null,null,"",null,"0000000",null,"福島市",null,null,null,null,"",null,"",{"$f":"IF(N2515=\"\",\"\",DATEDIF(N2515,DATE(設定シート!$C$2,設定シート!$C$3,設定シート!$C$4),\"Y\"))","v":""},"","",null,null,""]
[2514,null,null,"",null,"0000000",null,"福島市",null,null,null,null,"",null,"",{"$f":"IF(N2516=\"\",\"\",DATEDIF(N2516,DATE(設定シート!$C$2,設定シート!$C$3,設定シート!$C$4),\"Y\"))","v":""},"","",null,null,""]
[2515,null,null,"",null,"0000000",null,"福島市",null,null,null,null,"",null,"",{"$f":"IF(N2517=\"\",\"\",DATEDIF(N2517,DATE(設定シート!$C$2,設定シート!$C$3,設定シート!$C$4),\"Y\"))","v":""},"","",null,null,""]
[2516,null,null,"",null,"0000000",null,"福島市",null,null,null,null,"",null,"",{"$f":"IF(N2518=\"\",\"\",DATEDIF(N2518,DATE(設定シート!$C$2,設定シート!$C$3,設定シート!$C$4),\"Y\"))","v":""},"","",null,null,""]
[2517,null,null,"",null,"0000000",null,"福島市",null,null,null,null,"",null,"",{"$f":"IF(N2519=\"\",\"\",DATEDIF(N2519,DATE(設定シート!$C$2,設定シート!$C$3,設定シート!$C$4),\"Y\"))","v":""},"","",null,null,""]
[2518,null,null,"",null,"0000000",null,"福島市",null,null,null,null,"",null,"",{"$f":"IF(N2520=\"\",\"\",DATEDIF(N2520,DATE(設定シート!$C$2,設定シート!$C$3,設定シート!$C$4),\"Y\"))","v":""},"","",null,null,""]
[2519,null,null,"",null,"0000000",null,"福島市",null,null,null,null,"",null,"",{"$f":"IF(N2521=\"\",\"\",DATEDIF(N2521,DATE(設定シート!$C$2,設定シート!$C$3,設定シート!$C$4),\"Y\"))","v":""},"","",null,null,""]
[2520,null,null,"",null,"0000000",null,"福島市",null,null,null,null,"",null,"",{"$f":"IF(N2522=\"\",\"\",DATEDIF(N2522,DATE(設定シート!$C$2,設定シート!$C$3,設定シート!$C$4),\"Y\"))","v":""},"","",null,null,""]
[2521,null,null,"",null,"0000000",null,"福島市",null,null,null,null,"",null,"",{"$f":"IF(N2523=\"\",\"\",DATEDIF(N2523,DATE(設定シート!$C$2,設定シート!$C$3,設定シート!$C$4),\"Y\"))","v":""},"","",null,null,""]
[2522,null,null,"",null,"0000000",null,"福島市",null,null,null,null,"",null,"",{"$f":"IF(N2524=\"\",\"\",DATEDIF(N2524,DATE(設定シート!$C$2,設定シート!$C$3,設定シート!$C$4),\"Y\"))","v":""},"","",null,null,""]
[2523,null,null,"",null,"0000000",null,"福島市",null,null,null,null,"",null,"",{"$f":"IF(N2525=\"\",\"\",DATEDIF(N2525,DATE(設定シート!$C$2,設定シート!$C$3,設定シート!$C$4),\"Y\"))","v":""},"","",null,null,""]
[2524,null,null,"",null,"0000000",null,"福島市",null,null,null,null,"",null,"",{"$f":"IF(N2526=\"\",\"\",DATEDIF(N2526,DATE(設定シート!$C$2,設定シート!$C$3,設定シート!$C$4),\"Y\"))","v":""},"","",null,null,""]
[2525,null,null,"",null,"0000000",null,"福島市",null,null,null,null,"",null,"",{"$f":"IF(N2527=\"\",\"\",DATEDIF(N2527,DATE(設定シート!$C$2,設定シート!$C$3,設定シート!$C$4),\"Y\"))","v":""},"","",null,null,""]
[2526,null,null,"",null,"0000000",null,"福島市",null,null,null,null,"",null,"",{"$f":"IF(N2528=\"\",\"\",DATEDIF(N2528,DATE(設定シート!$C$2,設定シート!$C$3,設定シート!$C$4),\"Y\"))","v":""},"","",null,null,""]
[2527,null,null,"",null,"0000000",null,"福島市",null,null,null,null,"",null,"",{"$f":"IF(N2529=\"\",\"\",DATEDIF(N2529,DATE(設定シート!$C$2,設定シート!$C$3,設定シート!$C$4),\"Y\"))","v":""},"","",null,null,""]
[2528,null,null,"",null,"0000000",null,"福島市",null,null,null,null,"",null,"",{"$f":"IF(N2530=\"\",\"\",DATEDIF(N2530,DATE(設定シート!$C$2,設定シート!$C$3,設定シート!$C$4),\"Y\"))","v":""},"","",null,null,""]
[2529,null,null,"",null,"0000000",null,"福島市",null,null,null,null,"",null,"",{"$f":"IF(N2531=\"\",\"\",DATEDIF(N2531,DATE(設定シート!$C$2,設定シート!$C$3,設定シート!$C$4),\"Y\"))","v":""},"","",null,null,""]
[2530,null,null,"",null,"0000000",null,"福島市",null,null,null,null,"",null,"",{"$f":"IF(N2532=\"\",\"\",DATEDIF(N2532,DATE(設定シート!$C$2,設定シート!$C$3,設定シート!$C$4),\"Y\"))","v":""},"","",null,null,""]
[2531,null,null,"",null,"0000000",null,"福島市",null,null,null,null,"",null,"",{"$f":"IF(N2533=\"\",\"\",DATEDIF(N2533,DATE(設定シート!$C$2,設定シート!$C$3,設定シート!$C$4),\"Y\"))","v":""},"","",null,null,""]
[2532,null,null,"",null,"0000000",null,"福島市",null,null,null,null,"",null,"",{"$f":"IF(N2534=\"\",\"\",DATEDIF(N2534,DATE(設定シート!$C$2,設定シート!$C$3,設定シート!$C$4),\"Y\"))","v":""},"","",null,null,""]
[2533,null,null,"",null,"0000000",null,"福島市",null,null,null,null,"",null,"",{"$f":"IF(N2535=\"\",\"\",DATEDIF(N2535,DATE(設定シート!$C$2,設定シート!$C$3,設定シート!$C$4),\"Y\"))","v":""},"","",null,null,""]
[2534,null,null,"",null,"0000000",null,"福島市",null,null,null,null,"",null,"",{"$f":"IF(N2536=\"\",\"\",DATEDIF(N2536,DATE(設定シート!$C$2,設定シート!$C$3,設定シート!$C$4),\"Y\"))","v":""},"","",null,null,""]
[2535,null,null,"",null,"0000000",null,"福島市",null,null,null,null,"",null,"",{"$f":"IF(N2537=\"\",\"\",DATEDIF(N2537,DATE(設定シート!$C$2,設定シート!$C$3,設定シート!$C$4),\"Y\"))","v":""},"","",null,null,""]
[2536,null,null,"",null,"0000000",null,"福島市",null,null,null,null,"",null,"",{"$f":"IF(N2538=\"\",\"\",DATEDIF(N2538,DATE(設定シート!$C$2,設定シート!$C$3,設定シート!$C$4),\"Y\"))","v":""},"","",null,null,""]
[2537,null,null,"",null,"0000000",null,"福島市",null,null,null,null,"",null,"",{"$f":"IF(N2539=\"\",\"\",DATEDIF(N2539,DATE(設定シート!$C$2,設定シート!$C$3,設定シート!$C$4),\"Y\"))","v":""},"","",null,null,""]
[2538,null,null,"",null,"0000000",null,"福島市",null,null,null,null,"",null,"",{"$f":"IF(N2540=\"\",\"\",DATEDIF(N2540,DATE(設定シート!$C$2,設定シート!$C$3,設定シート!$C$4),\"Y\"))","v":""},"","",null,null,""]
[2539,null,null,"",null,"0000000",null,"福島市",null,null,null,null,"",null,"",{"$f":"IF(N2541=\"\",\"\",DATEDIF(N2541,DATE(設定シート!$C$2,設定シート!$C$3,設定シート!$C$4),\"Y\"))","v":""},"","",null,null,""]
[2540,null,null,"",null,"0000000",null,"福島市",null,null,null,null,"",null,"",{"$f":"IF(N2542=\"\",\"\",DATEDIF(N2542,DATE(設定シート!$C$2,設定シート!$C$3,設定シート!$C$4),\"Y\"))","v":""},"","",null,null,""]
[2541,null,null,"",null,"0000000",null,"福島市",null,null,null,null,"",null,"",{"$f":"IF(N2543=\"\",\"\",DATEDIF(N2543,DATE(設定シート!$C$2,設定シート!$C$3,設定シート!$C$4),\"Y\"))","v":""},"","",null,null,""]
[2542,null,null,"",null,"0000000",null,"福島市",null,null,null,null,"",null,"",{"$f":"IF(N2544=\"\",\"\",DATEDIF(N2544,DATE(設定シート!$C$2,設定シート!$C$3,設定シート!$C$4),\"Y\"))","v":""},"","",null,null,""]
[2543,null,null,"",null,"0000000",null,"福島市",null,null,null,null,"",null,"",{"$f":"IF(N2545=\"\",\"\",DATEDIF(N2545,DATE(設定シート!$C$2,設定シート!$C$3,設定シート!$C$4),\"Y\"))","v":""},"","",null,null,""]
[2544,null,null,"",null,"0000000",null,"福島市",null,null,null,null,"",null,"",{"$f":"IF(N2546=\"\",\"\",DATEDIF(N2546,DATE(設定シート!$C$2,設定シート!$C$3,設定シート!$C$4),\"Y\"))","v":""},"","",null,null,""]
[2545,null,null,"",null,"0000000",null,"福島市",null,null,null,null,"",null,"",{"$f":"IF(N2547=\"\",\"\",DATEDIF(N2547,DATE(設定シート!$C$2,設定シート!$C$3,設定シート!$C$4),\"Y\"))","v":""},"","",null,null,""]
[2546,null,null,"",null,"0000000",null,"福島市",null,null,null,null,"",null,"",{"$f":"IF(N2548=\"\",\"\",DATEDIF(N2548,DATE(設定シート!$C$2,設定シート!$C$3,設定シート!$C$4),\"Y\"))","v":""},"","",null,null,""]
[2547,null,null,"",null,"0000000",null,"福島市",null,null,null,null,"",null,"",{"$f":"IF(N2549=\"\",\"\",DATEDIF(N2549,DATE(設定シート!$C$2,設定シート!$C$3,設定シート!$C$4),\"Y\"))","v":""},"","",null,null,""]
[2548,null,null,"",null,"0000000",null,"福島市",null,null,null,null,"",null,"",{"$f":"IF(N2550=\"\",\"\",DATEDIF(N2550,DATE(設定シート!$C$2,設定シート!$C$3,設定シート!$C$4),\"Y\"))","v":""},"","",null,null,""]
[2549,null,null,"",null,"0000000",null,"福島市",null,null,null,null,"",null,"",{"$f":"IF(N2551=\"\",\"\",DATEDIF(N2551,DATE(設定シート!$C$2,設定シート!$C$3,設定シート!$C$4),\"Y\"))","v":""},"","",null,null,""]
[2550,null,null,"",null,"0000000",null,"福島市",null,null,null,null,"",null,"",{"$f":"IF(N2552=\"\",\"\",DATEDIF(N2552,DATE(設定シート!$C$2,設定シート!$C$3,設定シート!$C$4),\"Y\"))","v":""},"","",null,null,""]
[2551,null,null,"",null,"0000000",null,"福島市",null,null,null,null,"",null,"",{"$f":"IF(N2553=\"\",\"\",DATEDIF(N2553,DATE(設定シート!$C$2,設定シート!$C$3,設定シート!$C$4),\"Y\"))","v":""},"","",null,null,""]
[2552,null,null,"",null,"0000000",null,"福島市",null,null,null,null,"",null,"",{"$f":"IF(N2554=\"\",\"\",DATEDIF(N2554,DATE(設定シート!$C$2,設定シート!$C$3,設定シート!$C$4),\"Y\"))","v":""},"","",null,null,""]
[2553,null,null,"",null,"0000000",null,"福島市",null,null,null,null,"",null,"",{"$f":"IF(N2555=\"\",\"\",DATEDIF(N2555,DATE(設定シート!$C$2,設定シート!$C$3,設定シート!$C$4),\"Y\"))","v":""},"","",null,null,""]
[2554,null,null,"",null,"0000000",null,"福島市",null,null,null,null,"",null,"",{"$f":"IF(N2556=\"\",\"\",DATEDIF(N2556,DATE(設定シート!$C$2,設定シート!$C$3,設定シート!$C$4),\"Y\"))","v":""},"","",null,null,""]
[2555,null,null,"",null,"0000000",null,"福島市",null,null,null,null,"",null,"",{"$f":"IF(N2557=\"\",\"\",DATEDIF(N2557,DATE(設定シート!$C$2,設定シート!$C$3,設定シート!$C$4),\"Y\"))","v":""},"","",null,null,""]
[2556,null,null,"",null,"0000000",null,"福島市",null,null,null,null,"",null,"",{"$f":"IF(N2558=\"\",\"\",DATEDIF(N2558,DATE(設定シート!$C$2,設定シート!$C$3,設定シート!$C$4),\"Y\"))","v":""},"","",null,null,""]
[2557,null,null,"",null,"0000000",null,"福島市",null,null,null,null,"",null,"",{"$f":"IF(N2559=\"\",\"\",DATEDIF(N2559,DATE(設定シート!$C$2,設定シート!$C$3,設定シート!$C$4),\"Y\"))","v":""},"","",null,null,""]
[2558,null,null,"",null,"0000000",null,"福島市",null,null,null,null,"",null,"",{"$f":"IF(N2560=\"\",\"\",DATEDIF(N2560,DATE(設定シート!$C$2,設定シート!$C$3,設定シート!$C$4),\"Y\"))","v":""},"","",null,null,""]
[2559,null,null,"",null,"0000000",null,"福島市",null,null,null,null,"",null,"",{"$f":"IF(N2561=\"\",\"\",DATEDIF(N2561,DATE(設定シート!$C$2,設定シート!$C$3,設定シート!$C$4),\"Y\"))","v":""},"","",null,null,""]
[{"$f":"ROW()-2","v":2560},null,null,"",null,"0000000",null,"福島市",null,null,null,null,"",null,"",{"$f":"IF(N2562=\"\",\"\",DATEDIF(N2562,DATE(設定シート!$C$2,設定シート!$C$3,設定シート!$C$4),\"Y\"))","v":""},"","",null,null,""]
[2561,null,null,{"$f":"PHONETIC(C2563)","v":""},null,"0000000",null,"福島市",null,null,null,null,"",null,"",{"$f":"IF(N2563=\"\",\"\",DATEDIF(N2563,DATE(設定シート!$C$2,設定シート!$C$3,設定シート!$C$4),\"Y\"))","v":""},{"$f":"IF(P2563=\"\",\"\",IF(P2563<=69,1,IF(P2563>=70,2,\"\")))","v":""},"",null,null,""]
[2562,null,null,"",null,"0000000",null,"福島市",null,null,null,null,"",null,"",{"$f":"IF(N2564=\"\",\"\",DATEDIF(N2564,DATE(設定シート!$C$2,設定シート!$C$3,設定シート!$C$4),\"Y\"))","v":""},"","",null,null,""]
[2563,null,null,"",null,"0000000",null,"福島市",null,null,null,null,"",null,"",{"$f":"IF(N2565=\"\",\"\",DATEDIF(N2565,DATE(設定シート!$C$2,設定シート!$C$3,設定シート!$C$4),\"Y\"))","v":""},"","",null,null,""]
[2564,null,null,"",null,"0000000",null,"福島市",null,null,null,null,"",null,"",{"$f":"IF(N2566=\"\",\"\",DATEDIF(N2566,DATE(設定シート!$C$2,設定シート!$C$3,設定シート!$C$4),\"Y\"))","v":""},"","",null,null,""]
[2565,null,null,"",null,"0000000",null,"福島市",null,null,null,null,"",null,"",{"$f":"IF(N2567=\"\",\"\",DATEDIF(N2567,DATE(設定シート!$C$2,設定シート!$C$3,設定シート!$C$4),\"Y\"))","v":""},"","",null,null,""]
[2566,null,null,"",null,"0000000",null,"福島市",null,null,null,null,{"$f":"IF(L2568=1,\"男\",IF(L2568=2,\"女\",\"\"))","v":""},null,{"$f":"IF(OR(E2568=\"\",N2568=\"\"),\"\",DATEDIF(N2568,E2568,\"Y\"))","v":""},{"$f":"IF(N2568=\"\",\"\",DATEDIF(N2568,DATE(設定シート!$C$2,設定シート!$C$3,設定シート!$C$4),\"Y\"))","v":""},"",{"$f":"IF(OR(Q2568=1,Q2568=\"1\"),\"有料\",IF(OR(Q2568=2,Q2568=\"2\"),\"70・後\",IF(Q2568=3,\"生保\",IF(Q2568=4,\"非課税\",\"\"))))","v":""},null,null,{"$f":"IF(AND(L2568=2,P2568>=60),\"一単独\",IF(AND(L2568=2,P2568>=50,P2568<60),\"一併用\",IF(AND(L2568=2,P2568>=40,P2568<50),\"二併用\",\"\")))","v":""}]
[2567,null,null,"",null,"0000000",null,"福島市",null,null,null,null,"",null,"",{"$f":"IF(N2569=\"\",\"\",DATEDIF(N2569,DATE(設定シート!$C$2,設定シート!$C$3,設定シート!$C$4),\"Y\"))","v":""},"","",null,null,""]
[2568,null,null,"",null,"0000000",null,"福島市",null,null,null,null,"",null,"",{"$f":"IF(N2570=\"\",\"\",DATEDIF(N2570,DATE(設定シート!$C$2,設定シート!$C$3,設定シート!$C$4),\"Y\"))","v":""},"","",null,null,""]
[2569,null,null,"",null,"0000000",null,"福島市",null,null,null,null,"",null,"",{"$f":"IF(N2571=\"\",\"\",DATEDIF(N2571,DATE(設定シート!$C$2,設定シート!$C$3,設定シート!$C$4),\"Y\"))","v":""},"","",null,null,""]
[2570,null,null,"",null,"0000000",null,"福島市",null,null,null,null,"",null,"",{"$f":"IF(N2572=\"\",\"\",DATEDIF(N2572,DATE(設定シート!$C$2,設定シート!$C$3,設定シート!$C$4),\"Y\"))","v":""},"","",null,null,""]
[2571,null,null,"",null,"0000000",null,"福島市",null,null,null,null,"",null,"",{"$f":"IF(N2573=\"\",\"\",DATEDIF(N2573,DATE(設定シート!$C$2,設定シート!$C$3,設定シート!$C$4),\"Y\"))","v":""},"","",null,null,""]
[2572,null,null,"",null,"0000000",null,"福島市",null,null,null,null,"",null,"",{"$f":"IF(N2574=\"\",\"\",DATEDIF(N2574,DATE(設定シート!$C$2,設定シート!$C$3,設定シート!$C$4),\"Y\"))","v":""},"","",null,null,""]
[2573,null,null,"",null,"0000000",null,"福島市",null,null,null,null,"",null,"",{"$f":"IF(N2575=\"\",\"\",DATEDIF(N2575,DATE(設定シート!$C$2,設定シート!$C$3,設定シート!$C$4),\"Y\"))","v":""},"","",null,null,""]
[2574,null,null,"",null,"0000000",null,"福島市",null,null,null,null,"",null,"",{"$f":"IF(N2576=\"\",\"\",DATEDIF(N2576,DATE(設定シート!$C$2,設定シート!$C$3,設定シート!$C$4),\"Y\"))","v":""},"","",null,null,""]
[2575,null,null,"",null,"0000000",null,"福島市",null,null,null,null,"",null,"",{"$f":"IF(N2577=\"\",\"\",DATEDIF(N2577,DATE(設定シート!$C$2,設定シート!$C$3,設定シート!$C$4),\"Y\"))","v":""},"","",null,null,""]
[2576,null,null,"",null,{"$f":"TEXT(B2578,\"0000000\")","v":"0000000"},null,"福島市",null,null,null,null,"",null,"",{"$f":"IF(N2578=\"\",\"\",DATEDIF(N2578,DATE(設定シート!$C$2,設定シート!$C$3,設定シート!$C$4),\"Y\"))","v":""},"","",null,null,""]
[2577,null,null,"",null,"0000000",null,"福島市",null,null,null,null,"",null,"",{"$f":"IF(N2579=\"\",\"\",DATEDIF(N2579,DATE(設定シート!$C$2,設定シート!$C$3,設定シート!$C$4),\"Y\"))","v":""},"","",null,null,""]
[2578,null,null,"",null,"0000000",null,"福島市",null,null,null,null,"",null,"",{"$f":"IF(N2580=\"\",\"\",DATEDIF(N2580,DATE(設定シート!$C$2,設定シート!$C$3,設定シート!$C$4),\"Y\"))","v":""},"","",null,null,""]
[2579,null,null,"",null,"0000000",null,"福島市",null,null,null,null,"",null,"",{"$f":"IF(N2581=\"\",\"\",DATEDIF(N2581,DATE(設定シート!$C$2,設定シート!$C$3,設定シート!$C$4),\"Y\"))","v":""},"","",null,null,""]
[2580,null,null,"",null,"0000000",null,"福島市",null,null,null,null,"",null,"",{"$f":"IF(N2582=\"\",\"\",DATEDIF(N2582,DATE(設定シート!$C$2,設定シート!$C$3,設定シート!$C$4),\"Y\"))","v":""},"","",null,null,""]
[2581,null,null,"",null,"0000000",null,"福島市",null,null,null,null,"",null,"",{"$f":"IF(N2583=\"\",\"\",DATEDIF(N2583,DATE(設定シート!$C$2,設定シート!$C$3,設定シート!$C$4),\"Y\"))","v":""},"","",null,null,""]
[2582,null,null,"",null,"0000000",null,"福島市",null,null,null,null,"",null,"",{"$f":"IF(N2584=\"\",\"\",DATEDIF(N2584,DATE(設定シート!$C$2,設定シート!$C$3,設定シート!$C$4),\"Y\"))","v":""},"","",null,null,""]
[2583,null,null,"",null,"0000000",null,"福島市",null,null,null,null,"",null,"",{"$f":"IF(N2585=\"\",\"\",DATEDIF(N2585,DATE(設定シート!$C$2,設定シート!$C$3,設定シート!$C$4),\"Y\"))","v":""},"","",null,null,""]
[2584,null,null,"",null,"0000000",null,"福島市",null,null,null,null,"",null,"",{"$f":"IF(N2586=\"\",\"\",DATEDIF(N2586,DATE(設定シート!$C$2,設定シート!$C$3,設定シート!$C$4),\"Y\"))","v":""},"","",null,null,""]
[2585,null,null,"",null,"0000000",null,"福島市",null,null,null,null,"",null,"",{"$f":"IF(N2587=\"\",\"\",DATEDIF(N2587,DATE(設定シート!$C$2,設定シート!$C$3,設定シート!$C$4),\"Y\"))","v":""},"","",null,null,""]
[2586,null,null,"",null,"0000000",null,"福島市",null,null,null,null,"",null,"",{"$f":"IF(N2588=\"\",\"\",DATEDIF(N2588,DATE(設定シート!$C$2,設定シート!$C$3,設定シート!$C$4),\"Y\"))","v":""},"","",null,null,""]
[2587,null,null,"",null,"0000000",null,"福島市",null,null,null,null,"",null,"",{"$f":"IF(N2589=\"\",\"\",DATEDIF(N2589,DATE(設定シート!$C$2,設定シート!$C$3,設定シート!$C$4),\"Y\"))","v":""},"","",null,null,""]
[2588,null,null,"",null,"0000000",null,"福島市",null,null,null,null,"",null,"",{"$f":"IF(N2590=\"\",\"\",DATEDIF(N2590,DATE(設定シート!$C$2,設定シート!$C$3,設定シート!$C$4),\"Y\"))","v":""},"","",null,null,""]
[2589,null,null,"",null,"0000000",null,"福島市",null,null,null,null,"",null,"",{"$f":"IF(N2591=\"\",\"\",DATEDIF(N2591,DATE(設定シート!$C$2,設定シート!$C$3,設定シート!$C$4),\"Y\"))","v":""},"","",null,null,""]
[2590,null,null,"",null,"0000000",null,"福島市",null,null,null,null,"",null,"",{"$f":"IF(N2592=\"\",\"\",DATEDIF(N2592,DATE(設定シート!$C$2,設定シート!$C$3,設定シート!$C$4),\"Y\"))","v":""},"","",null,null,""]
[2591,null,null,"",null,"0000000",null,"福島市",null,null,null,null,"",null,"",{"$f":"IF(N2593=\"\",\"\",DATEDIF(N2593,DATE(設定シート!$C$2,設定シート!$C$3,設定シート!$C$4),\"Y\"))","v":""},"","",null,null,""]
[2592,null,null,"",null,"0000000",null,"福島市",null,null,null,null,"",null,"",{"$f":"IF(N2594=\"\",\"\",DATEDIF(N2594,DATE(設定シート!$C$2,設定シート!$C$3,設定シート!$C$4),\"Y\"))","v":""},"","",null,null,""]
[2593,null,null,"",null,"0000000",null,"福島市",null,null,null,null,"",null,"",{"$f":"IF(N2595=\"\",\"\",DATEDIF(N2595,DATE(設定シート!$C$2,設定シート!$C$3,設定シート!$C$4),\"Y\"))","v":""},"","",null,null,""]
[2594,null,null,"",null,"0000000",null,"福島市",null,null,null,null,"",null,"",{"$f":"IF(N2596=\"\",\"\",DATEDIF(N2596,DATE(設定シート!$C$2,設定シート!$C$3,設定シート!$C$4),\"Y\"))","v":""},"","",null,null,""]
[2595,null,null,"",null,"0000000",null,"福島市",null,null,null,null,"",null,"",{"$f":"IF(N2597=\"\",\"\",DATEDIF(N2597,DATE(設定シート!$C$2,設定シート!$C$3,設定シート!$C$4),\"Y\"))","v":""},"","",null,null,""]
[2596,null,null,"",null,"0000000",null,"福島市",null,null,null,null,"",null,"",{"$f":"IF(N2598=\"\",\"\",DATEDIF(N2598,DATE(設定シート!$C$2,設定シート!$C$3,設定シート!$C$4),\"Y\"))","v":""},"","",null,null,""]
[2597,null,null,"",null,"0000000",null,"福島市",null,null,null,null,"",null,"",{"$f":"IF(N2599=\"\",\"\",DATEDIF(N2599,DATE(設定シート!$C$2,設定シート!$C$3,設定シート!$C$4),\"Y\"))","v":""},"","",null,null,""]
[2598,null,null,"",null,"0000000",null,"福島市",null,null,null,null,"",null,"",{"$f":"IF(N2600=\"\",\"\",DATEDIF(N2600,DATE(設定シート!$C$2,設定シート!$C$3,設定シート!$C$4),\"Y\"))","v":""},"","",null,null,""]
[2599,null,null,"",null,"0000000",null,"福島市",null,null,null,null,"",null,"",{"$f":"IF(N2601=\"\",\"\",DATEDIF(N2601,DATE(設定シート!$C$2,設定シート!$C$3,設定シート!$C$4),\"Y\"))","v":""},"","",null,null,""]
[2600,null,null,"",null,"0000000",null,"福島市",null,null,null,null,"",null,"",{"$f":"IF(N2602=\"\",\"\",DATEDIF(N2602,DATE(設定シート!$C$2,設定シート!$C$3,設定シート!$C$4),\"Y\"))","v":""},"","",null,null,""]
[2601,null,null,"",null,"0000000",null,"福島市",null,null,null,null,"",null,"",{"$f":"IF(N2603=\"\",\"\",DATEDIF(N2603,DATE(設定シート!$C$2,設定シート!$C$3,設定シート!$C$4),\"Y\"))","v":""},"","",null,null,""]
[2602,null,null,"",null,"0000000",null,"福島市",null,null,null,null,"",null,"",{"$f":"IF(N2604=\"\",\"\",DATEDIF(N2604,DATE(設定シート!$C$2,設定シート!$C$3,設定シート!$C$4),\"Y\"))","v":""},"","",null,null,""]
[2603,null,null,"",null,"0000000",null,"福島市",null,null,null,null,"",null,"",{"$f":"IF(N2605=\"\",\"\",DATEDIF(N2605,DATE(設定シート!$C$2,設定シート!$C$3,設定シート!$C$4),\"Y\"))","v":""},"","",null,null,""]
[2604,null,null,"",null,"0000000",null,"福島市",null,null,null,null,"",null,"",{"$f":"IF(N2606=\"\",\"\",DATEDIF(N2606,DATE(設定シート!$C$2,設定シート!$C$3,設定シート!$C$4),\"Y\"))","v":""},"","",null,null,""]
[2605,null,null,"",null,"0000000",null,"福島市",null,null,null,null,"",null,"",{"$f":"IF(N2607=\"\",\"\",DATEDIF(N2607,DATE(設定シート!$C$2,設定シート!$C$3,設定シート!$C$4),\"Y\"))","v":""},"","",null,null,""]
[2606,null,null,"",null,"0000000",null,"福島市",null,null,null,null,"",null,"",{"$f":"IF(N2608=\"\",\"\",DATEDIF(N2608,DATE(設定シート!$C$2,設定シート!$C$3,設定シート!$C$4),\"Y\"))","v":""},"","",null,null,""]
[2607,null,null,"",null,"0000000",null,"福島市",null,null,null,null,"",null,"",{"$f":"IF(N2609=\"\",\"\",DATEDIF(N2609,DATE(設定シート!$C$2,設定シート!$C$3,設定シート!$C$4),\"Y\"))","v":""},"","",null,null,""]
[2608,null,null,"",null,"0000000",null,"福島市",null,null,null,null,"",null,"",{"$f":"IF(N2610=\"\",\"\",DATEDIF(N2610,DATE(設定シート!$C$2,設定シート!$C$3,設定シート!$C$4),\"Y\"))","v":""},"","",null,null,""]
[2609,null,null,"",null,"0000000",null,"福島市",null,null,null,null,"",null,"",{"$f":"IF(N2611=\"\",\"\",DATEDIF(N2611,DATE(設定シート!$C$2,設定シート!$C$3,設定シート!$C$4),\"Y\"))","v":""},"","",null,null,""]
[2610,null,null,"",null,"0000000",null,"福島市",null,null,null,null,"",null,"",{"$f":"IF(N2612=\"\",\"\",DATEDIF(N2612,DATE(設定シート!$C$2,設定シート!$C$3,設定シート!$C$4),\"Y\"))","v":""},"","",null,null,""]
[2611,null,null,"",null,"0000000",null,"福島市",null,null,null,null,"",null,"",{"$f":"IF(N2613=\"\",\"\",DATEDIF(N2613,DATE(設定シート!$C$2,設定シート!$C$3,設定シート!$C$4),\"Y\"))","v":""},"","",null,null,""]
[2612,null,null,"",null,"0000000",null,"福島市",null,null,null,null,"",null,"",{"$f":"IF(N2614=\"\",\"\",DATEDIF(N2614,DATE(設定シート!$C$2,設定シート!$C$3,設定シート!$C$4),\"Y\"))","v":""},"","",null,null,""]
[2613,null,null,"",null,"0000000",null,"福島市",null,null,null,null,"",null,"",{"$f":"IF(N2615=\"\",\"\",DATEDIF(N2615,DATE(設定シート!$C$2,設定シート!$C$3,設定シート!$C$4),\"Y\"))","v":""},"","",null,null,""]
[2614,null,null,"",null,"0000000",null,"福島市",null,null,null,null,"",null,"",{"$f":"IF(N2616=\"\",\"\",DATEDIF(N2616,DATE(設定シート!$C$2,設定シート!$C$3,設定シート!$C$4),\"Y\"))","v":""},"","",null,null,""]
[2615,null,null,"",null,"0000000",null,"福島市",null,null,null,null,"",null,"",{"$f":"IF(N2617=\"\",\"\",DATEDIF(N2617,DATE(設定シート!$C$2,設定シート!$C$3,設定シート!$C$4),\"Y\"))","v":""},"","",null,null,""]
[2616,null,null,"",null,"0000000",null,"福島市",null,null,null,null,"",null,"",{"$f":"IF(N2618=\"\",\"\",DATEDIF(N2618,DATE(設定シート!$C$2,設定シート!$C$3,設定シート!$C$4),\"Y\"))","v":""},"","",null,null,""]
[2617,null,null,"",null,"0000000",null,"福島市",null,null,null,null,"",null,"",{"$f":"IF(N2619=\"\",\"\",DATEDIF(N2619,DATE(設定シート!$C$2,設定シート!$C$3,設定シート!$C$4),\"Y\"))","v":""},"","",null,null,""]
[2618,null,null,"",null,"0000000",null,"福島市",null,null,null,null,"",null,"",{"$f":"IF(N2620=\"\",\"\",DATEDIF(N2620,DATE(設定シート!$C$2,設定シート!$C$3,設定シート!$C$4),\"Y\"))","v":""},"","",null,null,""]
[2619,null,null,"",null,"0000000",null,"福島市",null,null,null,null,"",null,"",{"$f":"IF(N2621=\"\",\"\",DATEDIF(N2621,DATE(設定シート!$C$2,設定シート!$C$3,設定シート!$C$4),\"Y\"))","v":""},"","",null,null,""]
[2620,null,null,"",null,"0000000",null,"福島市",null,null,null,null,"",null,"",{"$f":"IF(N2622=\"\",\"\",DATEDIF(N2622,DATE(設定シート!$C$2,設定シート!$C$3,設定シート!$C$4),\"Y\"))","v":""},"","",null,null,""]
[2621,null,null,"",null,"0000000",null,"福島市",null,null,null,null,"",null,"",{"$f":"IF(N2623=\"\",\"\",DATEDIF(N2623,DATE(設定シート!$C$2,設定シート!$C$3,設定シート!$C$4),\"Y\"))","v":""},"","",null,null,""]
[2622,null,null,"",null,"0000000",null,"福島市",null,null,null,null,"",null,"",{"$f":"IF(N2624=\"\",\"\",DATEDIF(N2624,DATE(設定シート!$C$2,設定シート!$C$3,設定シート!$C$4),\"Y\"))","v":""},"","",null,null,""]
[2623,null,null,"",null,"0000000",null,"福島市",null,null,null,null,"",null,"",{"$f":"IF(N2625=\"\",\"\",DATEDIF(N2625,DATE(設定シート!$C$2,設定シート!$C$3,設定シート!$C$4),\"Y\"))","v":""},"","",null,null,""]
[{"$f":"ROW()-2","v":2624},null,null,"",null,"0000000",null,"福島市",null,null,null,null,"",null,"",{"$f":"IF(N2626=\"\",\"\",DATEDIF(N2626,DATE(設定シート!$C$2,設定シート!$C$3,設定シート!$C$4),\"Y\"))","v":""},"","",null,null,""]
[2625,null,null,{"$f":"PHONETIC(C2627)","v":""},null,"0000000",null,"福島市",null,null,null,null,"",null,"",{"$f":"IF(N2627=\"\",\"\",DATEDIF(N2627,DATE(設定シート!$C$2,設定シート!$C$3,設定シート!$C$4),\"Y\"))","v":""},{"$f":"IF(P2627=\"\",\"\",IF(P2627<=69,1,IF(P2627>=70,2,\"\")))","v":""},"",null,null,""]
[2626,null,null,"",null,"0000000",null,"福島市",null,null,null,null,"",null,"",{"$f":"IF(N2628=\"\",\"\",DATEDIF(N2628,DATE(設定シート!$C$2,設定シート!$C$3,設定シート!$C$4),\"Y\"))","v":""},"","",null,null,""]
[2627,null,null,"",null,"0000000",null,"福島市",null,null,null,null,"",null,"",{"$f":"IF(N2629=\"\",\"\",DATEDIF(N2629,DATE(設定シート!$C$2,設定シート!$C$3,設定シート!$C$4),\"Y\"))","v":""},"","",null,null,""]
[2628,null,null,"",null,"0000000",null,"福島市",null,null,null,null,"",null,"",{"$f":"IF(N2630=\"\",\"\",DATEDIF(N2630,DATE(設定シート!$C$2,設定シート!$C$3,設定シート!$C$4),\"Y\"))","v":""},"","",null,null,""]
[2629,null,null,"",null,"0000000",null,"福島市",null,null,null,null,"",null,"",{"$f":"IF(N2631=\"\",\"\",DATEDIF(N2631,DATE(設定シート!$C$2,設定シート!$C$3,設定シート!$C$4),\"Y\"))","v":""},"","",null,null,""]
[2630,null,null,"",null,"0000000",null,"福島市",null,null,null,null,{"$f":"IF(L2632=1,\"男\",IF(L2632=2,\"女\",\"\"))","v":""},null,{"$f":"IF(OR(E2632=\"\",N2632=\"\"),\"\",DATEDIF(N2632,E2632,\"Y\"))","v":""},{"$f":"IF(N2632=\"\",\"\",DATEDIF(N2632,DATE(設定シート!$C$2,設定シート!$C$3,設定シート!$C$4),\"Y\"))","v":""},"",{"$f":"IF(OR(Q2632=1,Q2632=\"1\"),\"有料\",IF(OR(Q2632=2,Q2632=\"2\"),\"70・後\",IF(Q2632=3,\"生保\",IF(Q2632=4,\"非課税\",\"\"))))","v":""},null,null,{"$f":"IF(AND(L2632=2,P2632>=60),\"一単独\",IF(AND(L2632=2,P2632>=50,P2632<60),\"一併用\",IF(AND(L2632=2,P2632>=40,P2632<50),\"二併用\",\"\")))","v":""}]
[2631,null,null,"",null,"0000000",null,"福島市",null,null,null,null,"",null,"",{"$f":"IF(N2633=\"\",\"\",DATEDIF(N2633,DATE(設定シート!$C$2,設定シート!$C$3,設定シート!$C$4),\"Y\"))","v":""},"","",null,null,""]
[2632,null,null,"",null,"0000000",null,"福島市",null,null,null,null,"",null,"",{"$f":"IF(N2634=\"\",\"\",DATEDIF(N2634,DATE(設定シート!$C$2,設定シート!$C$3,設定シート!$C$4),\"Y\"))","v":""},"","",null,null,""]
[2633,null,null,"",null,"0000000",null,"福島市",null,null,null,null,"",null,"",{"$f":"IF(N2635=\"\",\"\",DATEDIF(N2635,DATE(設定シート!$C$2,設定シート!$C$3,設定シート!$C$4),\"Y\"))","v":""},"","",null,null,""]
[2634,null,null,"",null,"0000000",null,"福島市",null,null,null,null,"",null,"",{"$f":"IF(N2636=\"\",\"\",DATEDIF(N2636,DATE(設定シート!$C$2,設定シート!$C$3,設定シート!$C$4),\"Y\"))","v":""},"","",null,null,""]
[2635,null,null,"",null,"0000000",null,"福島市",null,null,null,null,"",null,"",{"$f":"IF(N2637=\"\",\"\",DATEDIF(N2637,DATE(設定シート!$C$2,設定シート!$C$3,設定シート!$C$4),\"Y\"))","v":""},"","",null,null,""]
[2636,null,null,"",null,"0000000",null,"福島市",null,null,null,null,"",null,"",{"$f":"IF(N2638=\"\",\"\",DATEDIF(N2638,DATE(設定シート!$C$2,設定シート!$C$3,設定シート!$C$4),\"Y\"))","v":""},"","",null,null,""]
[2637,null,null,"",null,"0000000",null,"福島市",null,null,null,null,"",null,"",{"$f":"IF(N2639=\"\",\"\",DATEDIF(N2639,DATE(設定シート!$C$2,設定シート!$C$3,設定シート!$C$4),\"Y\"))","v":""},"","",null,null,""]
[2638,null,null,"",null,"0000000",null,"福島市",null,null,null,null,"",null,"",{"$f":"IF(N2640=\"\",\"\",DATEDIF(N2640,DATE(設定シート!$C$2,設定シート!$C$3,設定シート!$C$4),\"Y\"))","v":""},"","",null,null,""]
[2639,null,null,"",null,"0000000",null,"福島市",null,null,null,null,"",null,"",{"$f":"IF(N2641=\"\",\"\",DATEDIF(N2641,DATE(設定シート!$C$2,設定シート!$C$3,設定シート!$C$4),\"Y\"))","v":""},"","",null,null,""]
[2640,null,null,"",null,{"$f":"TEXT(B2642,\"0000000\")","v":"0000000"},null,"福島市",null,null,null,null,"",null,"",{"$f":"IF(N2642=\"\",\"\",DATEDIF(N2642,DATE(設定シート!$C$2,設定シート!$C$3,設定シート!$C$4),\"Y\"))","v":""},"","",null,null,""]
[2641,null,null,"",null,"0000000",null,"福島市",null,null,null,null,"",null,"",{"$f":"IF(N2643=\"\",\"\",DATEDIF(N2643,DATE(設定シート!$C$2,設定シート!$C$3,設定シート!$C$4),\"Y\"))","v":""},"","",null,null,""]
[2642,null,null,"",null,"0000000",null,"福島市",null,null,null,null,"",null,"",{"$f":"IF(N2644=\"\",\"\",DATEDIF(N2644,DATE(設定シート!$C$2,設定シート!$C$3,設定シート!$C$4),\"Y\"))","v":""},"","",null,null,""]
[2643,null,null,"",null,"0000000",null,"福島市",null,null,null,null,"",null,"",{"$f":"IF(N2645=\"\",\"\",DATEDIF(N2645,DATE(設定シート!$C$2,設定シート!$C$3,設定シート!$C$4),\"Y\"))","v":""},"","",null,null,""]
[2644,null,null,"",null,"0000000",null,"福島市",null,null,null,null,"",null,"",{"$f":"IF(N2646=\"\",\"\",DATEDIF(N2646,DATE(設定シート!$C$2,設定シート!$C$3,設定シート!$C$4),\"Y\"))","v":""},"","",null,null,""]
[2645,null,null,"",null,"0000000",null,"福島市",null,null,null,null,"",null,"",{"$f":"IF(N2647=\"\",\"\",DATEDIF(N2647,DATE(設定シート!$C$2,設定シート!$C$3,設定シート!$C$4),\"Y\"))","v":""},"","",null,null,""]
[2646,null,null,"",null,"0000000",null,"福島市",null,null,null,null,"",null,"",{"$f":"IF(N2648=\"\",\"\",DATEDIF(N2648,DATE(設定シート!$C$2,設定シート!$C$3,設定シート!$C$4),\"Y\"))","v":""},"","",null,null,""]
[2647,null,null,"",null,"0000000",null,"福島市",null,null,null,null,"",null,"",{"$f":"IF(N2649=\"\",\"\",DATEDIF(N2649,DATE(設定シート!$C$2,設定シート!$C$3,設定シート!$C$4),\"Y\"))","v":""},"","",null,null,""]
[2648,null,null,"",null,"0000000",null,"福島市",null,null,null,null,"",null,"",{"$f":"IF(N2650=\"\",\"\",DATEDIF(N2650,DATE(設定シート!$C$2,設定シート!$C$3,設定シート!$C$4),\"Y\"))","v":""},"","",null,null,""]
[2649,null,null,"",null,"0000000",null,"福島市",null,null,null,null,"",null,"",{"$f":"IF(N2651=\"\",\"\",DATEDIF(N2651,DATE(設定シート!$C$2,設定シート!$C$3,設定シート!$C$4),\"Y\"))","v":""},"","",null,null,""]
[2650,null,null,"",null,"0000000",null,"福島市",null,null,null,null,"",null,"",{"$f":"IF(N2652=\"\",\"\",DATEDIF(N2652,DATE(設定シート!$C$2,設定シート!$C$3,設定シート!$C$4),\"Y\"))","v":""},"","",null,null,""]
[2651,null,null,"",null,"0000000",null,"福島市",null,null,null,null,"",null,"",{"$f":"IF(N2653=\"\",\"\",DATEDIF(N2653,DATE(設定シート!$C$2,設定シート!$C$3,設定シート!$C$4),\"Y\"))","v":""},"","",null,null,""]
[2652,null,null,"",null,"0000000",null,"福島市",null,null,null,null,"",null,"",{"$f":"IF(N2654=\"\",\"\",DATEDIF(N2654,DATE(設定シート!$C$2,設定シート!$C$3,設定シート!$C$4),\"Y\"))","v":""},"","",null,null,""]
[2653,null,null,"",null,"0000000",null,"福島市",null,null,null,null,"",null,"",{"$f":"IF(N2655=\"\",\"\",DATEDIF(N2655,DATE(設定シート!$C$2,設定シート!$C$3,設定シート!$C$4),\"Y\"))","v":""},"","",null,null,""]
[2654,null,null,"",null,"0000000",null,"福島市",null,null,null,null,"",null,"",{"$f":"IF(N2656=\"\",\"\",DATEDIF(N2656,DATE(設定シート!$C$2,設定シート!$C$3,設定シート!$C$4),\"Y\"))","v":""},"","",null,null,""]
[2655,null,null,"",null,"0000000",null,"福島市",null,null,null,null,"",null,"",{"$f":"IF(N2657=\"\",\"\",DATEDIF(N2657,DATE(設定シート!$C$2,設定シート!$C$3,設定シート!$C$4),\"Y\"))","v":""},"","",null,null,""]
[2656,null,null,"",null,"0000000",null,"福島市",null,null,null,null,"",null,"",{"$f":"IF(N2658=\"\",\"\",DATEDIF(N2658,DATE(設定シート!$C$2,設定シート!$C$3,設定シート!$C$4),\"Y\"))","v":""},"","",null,null,""]
[2657,null,null,"",null,"0000000",null,"福島市",null,null,null,null,"",null,"",{"$f":"IF(N2659=\"\",\"\",DATEDIF(N2659,DATE(設定シート!$C$2,設定シート!$C$3,設定シート!$C$4),\"Y\"))","v":""},"","",null,null,""]
[2658,null,null,"",null,"0000000",null,"福島市",null,null,null,null,"",null,"",{"$f":"IF(N2660=\"\",\"\",DATEDIF(N2660,DATE(設定シート!$C$2,設定シート!$C$3,設定シート!$C$4),\"Y\"))","v":""},"","",null,null,""]
[2659,null,null,"",null,"0000000",null,"福島市",null,null,null,null,"",null,"",{"$f":"IF(N2661=\"\",\"\",DATEDIF(N2661,DATE(設定シート!$C$2,設定シート!$C$3,設定シート!$C$4),\"Y\"))","v":""},"","",null,null,""]
[2660,null,null,"",null,"0000000",null,"福島市",null,null,null,null,"",null,"",{"$f":"IF(N2662=\"\",\"\",DATEDIF(N2662,DATE(設定シート!$C$2,設定シート!$C$3,設定シート!$C$4),\"Y\"))","v":""},"","",null,null,""]
[2661,null,null,"",null,"0000000",null,"福島市",null,null,null,null,"",null,"",{"$f":"IF(N2663=\"\",\"\",DATEDIF(N2663,DATE(設定シート!$C$2,設定シート!$C$3,設定シート!$C$4),\"Y\"))","v":""},"","",null,null,""]
[2662,null,null,"",null,"0000000",null,"福島市",null,null,null,null,"",null,"",{"$f":"IF(N2664=\"\",\"\",DATEDIF(N2664,DATE(設定シート!$C$2,設定シート!$C$3,設定シート!$C$4),\"Y\"))","v":""},"","",null,null,""]
[2663,null,null,"",null,"0000000",null,"福島市",null,null,null,null,"",null,"",{"$f":"IF(N2665=\"\",\"\",DATEDIF(N2665,DATE(設定シート!$C$2,設定シート!$C$3,設定シート!$C$4),\"Y\"))","v":""},"","",null,null,""]
[2664,null,null,"",null,"0000000",null,"福島市",null,null,null,null,"",null,"",{"$f":"IF(N2666=\"\",\"\",DATEDIF(N2666,DATE(設定シート!$C$2,設定シート!$C$3,設定シート!$C$4),\"Y\"))","v":""},"","",null,null,""]
[2665,null,null,"",null,"0000000",null,"福島市",null,null,null,null,"",null,"",{"$f":"IF(N2667=\"\",\"\",DATEDIF(N2667,DATE(設定シート!$C$2,設定シート!$C$3,設定シート!$C$4),\"Y\"))","v":""},"","",null,null,""]
[2666,null,null,"",null,"0000000",null,"福島市",null,null,null,null,"",null,"",{"$f":"IF(N2668=\"\",\"\",DATEDIF(N2668,DATE(設定シート!$C$2,設定シート!$C$3,設定シート!$C$4),\"Y\"))","v":""},"","",null,null,""]
[2667,null,null,"",null,"0000000",null,"福島市",null,null,null,null,"",null,"",{"$f":"IF(N2669=\"\",\"\",DATEDIF(N2669,DATE(設定シート!$C$2,設定シート!$C$3,設定シート!$C$4),\"Y\"))","v":""},"","",null,null,""]
[2668,null,null,"",null,"0000000",null,"福島市",null,null,null,null,"",null,"",{"$f":"IF(N2670=\"\",\"\",DATEDIF(N2670,DATE(設定シート!$C$2,設定シート!$C$3,設定シート!$C$4),\"Y\"))","v":""},"","",null,null,""]
[2669,null,null,"",null,"0000000",null,"福島市",null,null,null,null,"",null,"",{"$f":"IF(N2671=\"\",\"\",DATEDIF(N2671,DATE(設定シート!$C$2,設定シート!$C$3,設定シート!$C$4),\"Y\"))","v":""},"","",null,null,""]
[2670,null,null,"",null,"0000000",null,"福島市",null,null,null,null,"",null,"",{"$f":"IF(N2672=\"\",\"\",DATEDIF(N2672,DATE(設定シート!$C$2,設定シート!$C$3,設定シート!$C$4),\"Y\"))","v":""},"","",null,null,""]
[2671,null,null,"",null,"0000000",null,"福島市",null,null,null,null,"",null,"",{"$f":"IF(N2673=\"\",\"\",DATEDIF(N2673,DATE(設定シート!$C$2,設定シート!$C$3,設定シート!$C$4),\"Y\"))","v":""},"","",null,null,""]
[2672,null,null,"",null,"0000000",null,"福島市",null,null,null,null,"",null,"",{"$f":"IF(N2674=\"\",\"\",DATEDIF(N2674,DATE(設定シート!$C$2,設定シート!$C$3,設定シート!$C$4),\"Y\"))","v":""},"","",null,null,""]
[2673,null,null,"",null,"0000000",null,"福島市",null,null,null,null,"",null,"",{"$f":"IF(N2675=\"\",\"\",DATEDIF(N2675,DATE(設定シート!$C$2,設定シート!$C$3,設定シート!$C$4),\"Y\"))","v":""},"","",null,null,""]
[2674,null,null,"",null,"0000000",null,"福島市",null,null,null,null,"",null,"",{"$f":"IF(N2676=\"\",\"\",DATEDIF(N2676,DATE(設定シート!$C$2,設定シート!$C$3,設定シート!$C$4),\"Y\"))","v":""},"","",null,null,""]
[2675,null,null,"",null,"0000000",null,"福島市",null,null,null,null,"",null,"",{"$f":"IF(N2677=\"\",\"\",DATEDIF(N2677,DATE(設定シート!$C$2,設定シート!$C$3,設定シート!$C$4),\"Y\"))","v":""},"","",null,null,""]
[2676,null,null,"",null,"0000000",null,"福島市",null,null,null,null,"",null,"",{"$f":"IF(N2678=\"\",\"\",DATEDIF(N2678,DATE(設定シート!$C$2,設定シート!$C$3,設定シート!$C$4),\"Y\"))","v":""},"","",null,null,""]
[2677,null,null,"",null,"0000000",null,"福島市",null,null,null,null,"",null,"",{"$f":"IF(N2679=\"\",\"\",DATEDIF(N2679,DATE(設定シート!$C$2,設定シート!$C$3,設定シート!$C$4),\"Y\"))","v":""},"","",null,null,""]
[2678,null,null,"",null,"0000000",null,"福島市",null,null,null,null,"",null,"",{"$f":"IF(N2680=\"\",\"\",DATEDIF(N2680,DATE(設定シート!$C$2,設定シート!$C$3,設定シート!$C$4),\"Y\"))","v":""},"","",null,null,""]
[2679,null,null,"",null,"0000000",null,"福島市",null,null,null,null,"",null,"",{"$f":"IF(N2681=\"\",\"\",DATEDIF(N2681,DATE(設定シート!$C$2,設定シート!$C$3,設定シート!$C$4),\"Y\"))","v":""},"","",null,null,""]
[2680,null,null,"",null,"0000000",null,"福島市",null,null,null,null,"",null,"",{"$f":"IF(N2682=\"\",\"\",DATEDIF(N2682,DATE(設定シート!$C$2,設定シート!$C$3,設定シート!$C$4),\"Y\"))","v":""},"","",null,null,""]
[2681,null,null,"",null,"0000000",null,"福島市",null,null,null,null,"",null,"",{"$f":"IF(N2683=\"\",\"\",DATEDIF(N2683,DATE(設定シート!$C$2,設定シート!$C$3,設定シート!$C$4),\"Y\"))","v":""},"","",null,null,""]
[2682,null,null,"",null,"0000000",null,"福島市",null,null,null,null,"",null,"",{"$f":"IF(N2684=\"\",\"\",DATEDIF(N2684,DATE(設定シート!$C$2,設定シート!$C$3,設定シート!$C$4),\"Y\"))","v":""},"","",null,null,""]
[2683,null,null,"",null,"0000000",null,"福島市",null,null,null,null,"",null,"",{"$f":"IF(N2685=\"\",\"\",DATEDIF(N2685,DATE(設定シート!$C$2,設定シート!$C$3,設定シート!$C$4),\"Y\"))","v":""},"","",null,null,""]
[2684,null,null,"",null,"0000000",null,"福島市",null,null,null,null,"",null,"",{"$f":"IF(N2686=\"\",\"\",DATEDIF(N2686,DATE(設定シート!$C$2,設定シート!$C$3,設定シート!$C$4),\"Y\"))","v":""},"","",null,null,""]
[2685,null,null,"",null,"0000000",null,"福島市",null,null,null,null,"",null,"",{"$f":"IF(N2687=\"\",\"\",DATEDIF(N2687,DATE(設定シート!$C$2,設定シート!$C$3,設定シート!$C$4),\"Y\"))","v":""},"","",null,null,""]
[2686,null,null,"",null,"0000000",null,"福島市",null,null,null,null,"",null,"",{"$f":"IF(N2688=\"\",\"\",DATEDIF(N2688,DATE(設定シート!$C$2,設定シート!$C$3,設定シート!$C$4),\"Y\"))","v":""},"","",null,null,""]
[2687,null,null,"",null,"0000000",null,"福島市",null,null,null,null,"",null,"",{"$f":"IF(N2689=\"\",\"\",DATEDIF(N2689,DATE(設定シート!$C$2,設定シート!$C$3,設定シート!$C$4),\"Y\"))","v":""},"","",null,null,""]
[{"$f":"ROW()-2","v":2688},null,null,"",null,"0000000",null,"福島市",null,null,null,null,"",null,"",{"$f":"IF(N2690=\"\",\"\",DATEDIF(N2690,DATE(設定シート!$C$2,設定シート!$C$3,設定シート!$C$4),\"Y\"))","v":""},"","",null,null,""]
[2689,null,null,{"$f":"PHONETIC(C2691)","v":""},null,"0000000",null,"福島市",null,null,null,null,"",null,"",{"$f":"IF(N2691=\"\",\"\",DATEDIF(N2691,DATE(設定シート!$C$2,設定シート!$C$3,設定シート!$C$4),\"Y\"))","v":""},{"$f":"IF(P2691=\"\",\"\",IF(P2691<=69,1,IF(P2691>=70,2,\"\")))","v":""},"",null,null,""]
[2690,null,null,"",null,"0000000",null,"福島市",null,null,null,null,"",null,"",{"$f":"IF(N2692=\"\",\"\",DATEDIF(N2692,DATE(設定シート!$C$2,設定シート!$C$3,設定シート!$C$4),\"Y\"))","v":""},"","",null,null,""]
[2691,null,null,"",null,"0000000",null,"福島市",null,null,null,null,"",null,"",{"$f":"IF(N2693=\"\",\"\",DATEDIF(N2693,DATE(設定シート!$C$2,設定シート!$C$3,設定シート!$C$4),\"Y\"))","v":""},"","",null,null,""]
[2692,null,null,"",null,"0000000",null,"福島市",null,null,null,null,"",null,"",{"$f":"IF(N2694=\"\",\"\",DATEDIF(N2694,DATE(設定シート!$C$2,設定シート!$C$3,設定シート!$C$4),\"Y\"))","v":""},"","",null,null,""]
[2693,null,null,"",null,"0000000",null,"福島市",null,null,null,null,"",null,"",{"$f":"IF(N2695=\"\",\"\",DATEDIF(N2695,DATE(設定シート!$C$2,設定シート!$C$3,設定シート!$C$4),\"Y\"))","v":""},"","",null,null,""]
[2694,null,null,"",null,"0000000",null,"福島市",null,null,null,null,{"$f":"IF(L2696=1,\"男\",IF(L2696=2,\"女\",\"\"))","v":""},null,{"$f":"IF(OR(E2696=\"\",N2696=\"\"),\"\",DATEDIF(N2696,E2696,\"Y\"))","v":""},{"$f":"IF(N2696=\"\",\"\",DATEDIF(N2696,DATE(設定シート!$C$2,設定シート!$C$3,設定シート!$C$4),\"Y\"))","v":""},"",{"$f":"IF(OR(Q2696=1,Q2696=\"1\"),\"有料\",IF(OR(Q2696=2,Q2696=\"2\"),\"70・後\",IF(Q2696=3,\"生保\",IF(Q2696=4,\"非課税\",\"\"))))","v":""},null,null,{"$f":"IF(AND(L2696=2,P2696>=60),\"一単独\",IF(AND(L2696=2,P2696>=50,P2696<60),\"一併用\",IF(AND(L2696=2,P2696>=40,P2696<50),\"二併用\",\"\")))","v":""}]
[2695,null,null,"",null,"0000000",null,"福島市",null,null,null,null,"",null,"",{"$f":"IF(N2697=\"\",\"\",DATEDIF(N2697,DATE(設定シート!$C$2,設定シート!$C$3,設定シート!$C$4),\"Y\"))","v":""},"","",null,null,""]
[2696,null,null,"",null,"0000000",null,"福島市",null,null,null,null,"",null,"",{"$f":"IF(N2698=\"\",\"\",DATEDIF(N2698,DATE(設定シート!$C$2,設定シート!$C$3,設定シート!$C$4),\"Y\"))","v":""},"","",null,null,""]
[2697,null,null,"",null,"0000000",null,"福島市",null,null,null,null,"",null,"",{"$f":"IF(N2699=\"\",\"\",DATEDIF(N2699,DATE(設定シート!$C$2,設定シート!$C$3,設定シート!$C$4),\"Y\"))","v":""},"","",null,null,""]
[2698,null,null,"",null,"0000000",null,"福島市",null,null,null,null,"",null,"",{"$f":"IF(N2700=\"\",\"\",DATEDIF(N2700,DATE(設定シート!$C$2,設定シート!$C$3,設定シート!$C$4),\"Y\"))","v":""},"","",null,null,""]
[2699,null,null,"",null,"0000000",null,"福島市",null,null,null,null,"",null,"",{"$f":"IF(N2701=\"\",\"\",DATEDIF(N2701,DATE(設定シート!$C$2,設定シート!$C$3,設定シート!$C$4),\"Y\"))","v":""},"","",null,null,""]
[2700,null,null,"",null,"0000000",null,"福島市",null,null,null,null,"",null,"",{"$f":"IF(N2702=\"\",\"\",DATEDIF(N2702,DATE(設定シート!$C$2,設定シート!$C$3,設定シート!$C$4),\"Y\"))","v":""},"","",null,null,""]
[2701,null,null,"",null,"0000000",null,"福島市",null,null,null,null,"",null,"",{"$f":"IF(N2703=\"\",\"\",DATEDIF(N2703,DATE(設定シート!$C$2,設定シート!$C$3,設定シート!$C$4),\"Y\"))","v":""},"","",null,null,""]
[2702,null,null,"",null,"0000000",null,"福島市",null,null,null,null,"",null,"",{"$f":"IF(N2704=\"\",\"\",DATEDIF(N2704,DATE(設定シート!$C$2,設定シート!$C$3,設定シート!$C$4),\"Y\"))","v":""},"","",null,null,""]
[2703,null,null,"",null,"0000000",null,"福島市",null,null,null,null,"",null,"",{"$f":"IF(N2705=\"\",\"\",DATEDIF(N2705,DATE(設定シート!$C$2,設定シート!$C$3,設定シート!$C$4),\"Y\"))","v":""},"","",null,null,""]
[2704,null,null,"",null,{"$f":"TEXT(B2706,\"0000000\")","v":"0000000"},null,"福島市",null,null,null,null,"",null,"",{"$f":"IF(N2706=\"\",\"\",DATEDIF(N2706,DATE(設定シート!$C$2,設定シート!$C$3,設定シート!$C$4),\"Y\"))","v":""},"","",null,null,""]
[2705,null,null,"",null,"0000000",null,"福島市",null,null,null,null,"",null,"",{"$f":"IF(N2707=\"\",\"\",DATEDIF(N2707,DATE(設定シート!$C$2,設定シート!$C$3,設定シート!$C$4),\"Y\"))","v":""},"","",null,null,""]
[2706,null,null,"",null,"0000000",null,"福島市",null,null,null,null,"",null,"",{"$f":"IF(N2708=\"\",\"\",DATEDIF(N2708,DATE(設定シート!$C$2,設定シート!$C$3,設定シート!$C$4),\"Y\"))","v":""},"","",null,null,""]
[2707,null,null,"",null,"0000000",null,"福島市",null,null,null,null,"",null,"",{"$f":"IF(N2709=\"\",\"\",DATEDIF(N2709,DATE(設定シート!$C$2,設定シート!$C$3,設定シート!$C$4),\"Y\"))","v":""},"","",null,null,""]
[2708,null,null,"",null,"0000000",null,"福島市",null,null,null,null,"",null,"",{"$f":"IF(N2710=\"\",\"\",DATEDIF(N2710,DATE(設定シート!$C$2,設定シート!$C$3,設定シート!$C$4),\"Y\"))","v":""},"","",null,null,""]
[2709,null,null,"",null,"0000000",null,"福島市",null,null,null,null,"",null,"",{"$f":"IF(N2711=\"\",\"\",DATEDIF(N2711,DATE(設定シート!$C$2,設定シート!$C$3,設定シート!$C$4),\"Y\"))","v":""},"","",null,null,""]
[2710,null,null,"",null,"0000000",null,"福島市",null,null,null,null,"",null,"",{"$f":"IF(N2712=\"\",\"\",DATEDIF(N2712,DATE(設定シート!$C$2,設定シート!$C$3,設定シート!$C$4),\"Y\"))","v":""},"","",null,null,""]
[2711,null,null,"",null,"0000000",null,"福島市",null,null,null,null,"",null,"",{"$f":"IF(N2713=\"\",\"\",DATEDIF(N2713,DATE(設定シート!$C$2,設定シート!$C$3,設定シート!$C$4),\"Y\"))","v":""},"","",null,null,""]
[2712,null,null,"",null,"0000000",null,"福島市",null,null,null,null,"",null,"",{"$f":"IF(N2714=\"\",\"\",DATEDIF(N2714,DATE(設定シート!$C$2,設定シート!$C$3,設定シート!$C$4),\"Y\"))","v":""},"","",null,null,""]
[2713,null,null,"",null,"0000000",null,"福島市",null,null,null,null,"",null,"",{"$f":"IF(N2715=\"\",\"\",DATEDIF(N2715,DATE(設定シート!$C$2,設定シート!$C$3,設定シート!$C$4),\"Y\"))","v":""},"","",null,null,""]
[2714,null,null,"",null,"0000000",null,"福島市",null,null,null,null,"",null,"",{"$f":"IF(N2716=\"\",\"\",DATEDIF(N2716,DATE(設定シート!$C$2,設定シート!$C$3,設定シート!$C$4),\"Y\"))","v":""},"","",null,null,""]
[2715,null,null,"",null,"0000000",null,"福島市",null,null,null,null,"",null,"",{"$f":"IF(N2717=\"\",\"\",DATEDIF(N2717,DATE(設定シート!$C$2,設定シート!$C$3,設定シート!$C$4),\"Y\"))","v":""},"","",null,null,""]
[2716,null,null,"",null,"0000000",null,"福島市",null,null,null,null,"",null,"",{"$f":"IF(N2718=\"\",\"\",DATEDIF(N2718,DATE(設定シート!$C$2,設定シート!$C$3,設定シート!$C$4),\"Y\"))","v":""},"","",null,null,""]
[2717,null,null,"",null,"0000000",null,"福島市",null,null,null,null,"",null,"",{"$f":"IF(N2719=\"\",\"\",DATEDIF(N2719,DATE(設定シート!$C$2,設定シート!$C$3,設定シート!$C$4),\"Y\"))","v":""},"","",null,null,""]
[2718,null,null,"",null,"0000000",null,"福島市",null,null,null,null,"",null,"",{"$f":"IF(N2720=\"\",\"\",DATEDIF(N2720,DATE(設定シート!$C$2,設定シート!$C$3,設定シート!$C$4),\"Y\"))","v":""},"","",null,null,""]
[2719,null,null,"",null,"0000000",null,"福島市",null,null,null,null,"",null,"",{"$f":"IF(N2721=\"\",\"\",DATEDIF(N2721,DATE(設定シート!$C$2,設定シート!$C$3,設定シート!$C$4),\"Y\"))","v":""},"","",null,null,""]
[2720,null,null,"",null,"0000000",null,"福島市",null,null,null,null,"",null,"",{"$f":"IF(N2722=\"\",\"\",DATEDIF(N2722,DATE(設定シート!$C$2,設定シート!$C$3,設定シート!$C$4),\"Y\"))","v":""},"","",null,null,""]
[2721,null,null,"",null,"0000000",null,"福島市",null,null,null,null,"",null,"",{"$f":"IF(N2723=\"\",\"\",DATEDIF(N2723,DATE(設定シート!$C$2,設定シート!$C$3,設定シート!$C$4),\"Y\"))","v":""},"","",null,null,""]
[2722,null,null,"",null,"0000000",null,"福島市",null,null,null,null,"",null,"",{"$f":"IF(N2724=\"\",\"\",DATEDIF(N2724,DATE(設定シート!$C$2,設定シート!$C$3,設定シート!$C$4),\"Y\"))","v":""},"","",null,null,""]
[2723,null,null,"",null,"0000000",null,"福島市",null,null,null,null,"",null,"",{"$f":"IF(N2725=\"\",\"\",DATEDIF(N2725,DATE(設定シート!$C$2,設定シート!$C$3,設定シート!$C$4),\"Y\"))","v":""},"","",null,null,""]
[2724,null,null,"",null,"0000000",null,"福島市",null,null,null,null,"",null,"",{"$f":"IF(N2726=\"\",\"\",DATEDIF(N2726,DATE(設定シート!$C$2,設定シート!$C$3,設定シート!$C$4),\"Y\"))","v":""},"","",null,null,""]
[2725,null,null,"",null,"0000000",null,"福島市",null,null,null,null,"",null,"",{"$f":"IF(N2727=\"\",\"\",DATEDIF(N2727,DATE(設定シート!$C$2,設定シート!$C$3,設定シート!$C$4),\"Y\"))","v":""},"","",null,null,""]
[2726,null,null,"",null,"0000000",null,"福島市",null,null,null,null,"",null,"",{"$f":"IF(N2728=\"\",\"\",DATEDIF(N2728,DATE(設定シート!$C$2,設定シート!$C$3,設定シート!$C$4),\"Y\"))","v":""},"","",null,null,""]
[2727,null,null,"",null,"0000000",null,"福島市",null,null,null,null,"",null,"",{"$f":"IF(N2729=\"\",\"\",DATEDIF(N2729,DATE(設定シート!$C$2,設定シート!$C$3,設定シート!$C$4),\"Y\"))","v":""},"","",null,null,""]
[2728,null,null,"",null,"0000000",null,"福島市",null,null,null,null,"",null,"",{"$f":"IF(N2730=\"\",\"\",DATEDIF(N2730,DATE(設定シート!$C$2,設定シート!$C$3,設定シート!$C$4),\"Y\"))","v":""},"","",null,null,""]
[2729,null,null,"",null,"0000000",null,"福島市",null,null,null,null,"",null,"",{"$f":"IF(N2731=\"\",\"\",DATEDIF(N2731,DATE(設定シート!$C$2,設定シート!$C$3,設定シート!$C$4),\"Y\"))","v":""},"","",null,null,""]
[2730,null,null,"",null,"0000000",null,"福島市",null,null,null,null,"",null,"",{"$f":"IF(N2732=\"\",\"\",DATEDIF(N2732,DATE(設定シート!$C$2,設定シート!$C$3,設定シート!$C$4),\"Y\"))","v":""},"","",null,null,""]
[2731,null,null,"",null,"0000000",null,"福島市",null,null,null,null,"",null,"",{"$f":"IF(N2733=\"\",\"\",DATEDIF(N2733,DATE(設定シート!$C$2,設定シート!$C$3,設定シート!$C$4),\"Y\"))","v":""},"","",null,null,""]
[2732,null,null,"",null,"0000000",null,"福島市",null,null,null,null,"",null,"",{"$f":"IF(N2734=\"\",\"\",DATEDIF(N2734,DATE(設定シート!$C$2,設定シート!$C$3,設定シート!$C$4),\"Y\"))","v":""},"","",null,null,""]
[2733,null,null,"",null,"0000000",null,"福島市",null,null,null,null,"",null,"",{"$f":"IF(N2735=\"\",\"\",DATEDIF(N2735,DATE(設定シート!$C$2,設定シート!$C$3,設定シート!$C$4),\"Y\"))","v":""},"","",null,null,""]
[2734,null,null,"",null,"0000000",null,"福島市",null,null,null,null,"",null,"",{"$f":"IF(N2736=\"\",\"\",DATEDIF(N2736,DATE(設定シート!$C$2,設定シート!$C$3,設定シート!$C$4),\"Y\"))","v":""},"","",null,null,""]
[2735,null,null,"",null,"0000000",null,"福島市",null,null,null,null,"",null,"",{"$f":"IF(N2737=\"\",\"\",DATEDIF(N2737,DATE(設定シート!$C$2,設定シート!$C$3,設定シート!$C$4),\"Y\"))","v":""},"","",null,null,""]
[2736,null,null,"",null,"0000000",null,"福島市",null,null,null,null,"",null,"",{"$f":"IF(N2738=\"\",\"\",DATEDIF(N2738,DATE(設定シート!$C$2,設定シート!$C$3,設定シート!$C$4),\"Y\"))","v":""},"","",null,null,""]
[2737,null,null,"",null,"0000000",null,"福島市",null,null,null,null,"",null,"",{"$f":"IF(N2739=\"\",\"\",DATEDIF(N2739,DATE(設定シート!$C$2,設定シート!$C$3,設定シート!$C$4),\"Y\"))","v":""},"","",null,null,""]
[2738,null,null,"",null,"0000000",null,"福島市",null,null,null,null,"",null,"",{"$f":"IF(N2740=\"\",\"\",DATEDIF(N2740,DATE(設定シート!$C$2,設定シート!$C$3,設定シート!$C$4),\"Y\"))","v":""},"","",null,null,""]
[2739,null,null,"",null,"0000000",null,"福島市",null,null,null,null,"",null,"",{"$f":"IF(N2741=\"\",\"\",DATEDIF(N2741,DATE(設定シート!$C$2,設定シート!$C$3,設定シート!$C$4),\"Y\"))","v":""},"","",null,null,""]
[2740,null,null,"",null,"0000000",null,"福島市",null,null,null,null,"",null,"",{"$f":"IF(N2742=\"\",\"\",DATEDIF(N2742,DATE(設定シート!$C$2,設定シート!$C$3,設定シート!$C$4),\"Y\"))","v":""},"","",null,null,""]
[2741,null,null,"",null,"0000000",null,"福島市",null,null,null,null,"",null,"",{"$f":"IF(N2743=\"\",\"\",DATEDIF(N2743,DATE(設定シート!$C$2,設定シート!$C$3,設定シート!$C$4),\"Y\"))","v":""},"","",null,null,""]
[2742,null,null,"",null,"0000000",null,"福島市",null,null,null,null,"",null,"",{"$f":"IF(N2744=\"\",\"\",DATEDIF(N2744,DATE(設定シート!$C$2,設定シート!$C$3,設定シート!$C$4),\"Y\"))","v":""},"","",null,null,""]
[2743,null,null,"",null,"0000000",null,"福島市",null,null,null,null,"",null,"",{"$f":"IF(N2745=\"\",\"\",DATEDIF(N2745,DATE(設定シート!$C$2,設定シート!$C$3,設定シート!$C$4),\"Y\"))","v":""},"","",null,null,""]
[2744,null,null,"",null,"0000000",null,"福島市",null,null,null,null,"",null,"",{"$f":"IF(N2746=\"\",\"\",DATEDIF(N2746,DATE(設定シート!$C$2,設定シート!$C$3,設定シート!$C$4),\"Y\"))","v":""},"","",null,null,""]
[2745,null,null,"",null,"0000000",null,"福島市",null,null,null,null,"",null,"",{"$f":"IF(N2747=\"\",\"\",DATEDIF(N2747,DATE(設定シート!$C$2,設定シート!$C$3,設定シート!$C$4),\"Y\"))","v":""},"","",null,null,""]
[2746,null,null,"",null,"0000000",null,"福島市",null,null,null,null,"",null,"",{"$f":"IF(N2748=\"\",\"\",DATEDIF(N2748,DATE(設定シート!$C$2,設定シート!$C$3,設定シート!$C$4),\"Y\"))","v":""},"","",null,null,""]
[2747,null,null,"",null,"0000000",null,"福島市",null,null,null,null,"",null,"",{"$f":"IF(N2749=\"\",\"\",DATEDIF(N2749,DATE(設定シート!$C$2,設定シート!$C$3,設定シート!$C$4),\"Y\"))","v":""},"","",null,null,""]
[2748,null,null,"",null,"0000000",null,"福島市",null,null,null,null,"",null,"",{"$f":"IF(N2750=\"\",\"\",DATEDIF(N2750,DATE(設定シート!$C$2,設定シート!$C$3,設定シート!$C$4),\"Y\"))","v":""},"","",null,null,""]
[2749,null,null,"",null,"0000000",null,"福島市",null,null,null,null,"",null,"",{"$f":"IF(N2751=\"\",\"\",DATEDIF(N2751,DATE(設定シート!$C$2,設定シート!$C$3,設定シート!$C$4),\"Y\"))","v":""},"","",null,null,""]
[2750,null,null,"",null,"0000000",null,"福島市",null,null,null,null,"",null,"",{"$f":"IF(N2752=\"\",\"\",DATEDIF(N2752,DATE(設定シート!$C$2,設定シート!$C$3,設定シート!$C$4),\"Y\"))","v":""},"","",null,null,""]
[2751,null,null,"",null,"0000000",null,"福島市",null,null,null,null,"",null,"",{"$f":"IF(N2753=\"\",\"\",DATEDIF(N2753,DATE(設定シート!$C$2,設定シート!$C$3,設定シート!$C$4),\"Y\"))","v":""},"","",null,null,""]
[{"$f":"ROW()-2","v":2752},null,null,"",null,"0000000",null,"福島市",null,null,null,null,"",null,"",{"$f":"IF(N2754=\"\",\"\",DATEDIF(N2754,DATE(設定シート!$C$2,設定シート!$C$3,設定シート!$C$4),\"Y\"))","v":""},"","",null,null,""]
[2753,null,null,{"$f":"PHONETIC(C2755)","v":""},null,"0000000",null,"福島市",null,null,null,null,"",null,"",{"$f":"IF(N2755=\"\",\"\",DATEDIF(N2755,DATE(設定シート!$C$2,設定シート!$C$3,設定シート!$C$4),\"Y\"))","v":""},{"$f":"IF(P2755=\"\",\"\",IF(P2755<=69,1,IF(P2755>=70,2,\"\")))","v":""},"",null,null,""]
[2754,null,null,"",null,"0000000",null,"福島市",null,null,null,null,"",null,"",{"$f":"IF(N2756=\"\",\"\",DATEDIF(N2756,DATE(設定シート!$C$2,設定シート!$C$3,設定シート!$C$4),\"Y\"))","v":""},"","",null,null,""]
[2755,null,null,"",null,"0000000",null,"福島市",null,null,null,null,"",null,"",{"$f":"IF(N2757=\"\",\"\",DATEDIF(N2757,DATE(設定シート!$C$2,設定シート!$C$3,設定シート!$C$4),\"Y\"))","v":""},"","",null,null,""]
[2756,null,null,"",null,"0000000",null,"福島市",null,null,null,null,"",null,"",{"$f":"IF(N2758=\"\",\"\",DATEDIF(N2758,DATE(設定シート!$C$2,設定シート!$C$3,設定シート!$C$4),\"Y\"))","v":""},"","",null,null,""]
[2757,null,null,"",null,"0000000",null,"福島市",null,null,null,null,"",null,"",{"$f":"IF(N2759=\"\",\"\",DATEDIF(N2759,DATE(設定シート!$C$2,設定シート!$C$3,設定シート!$C$4),\"Y\"))","v":""},"","",null,null,""]
[2758,null,null,"",null,"0000000",null,"福島市",null,null,null,null,{"$f":"IF(L2760=1,\"男\",IF(L2760=2,\"女\",\"\"))","v":""},null,{"$f":"IF(OR(E2760=\"\",N2760=\"\"),\"\",DATEDIF(N2760,E2760,\"Y\"))","v":""},{"$f":"IF(N2760=\"\",\"\",DATEDIF(N2760,DATE(設定シート!$C$2,設定シート!$C$3,設定シート!$C$4),\"Y\"))","v":""},"",{"$f":"IF(OR(Q2760=1,Q2760=\"1\"),\"有料\",IF(OR(Q2760=2,Q2760=\"2\"),\"70・後\",IF(Q2760=3,\"生保\",IF(Q2760=4,\"非課税\",\"\"))))","v":""},null,null,{"$f":"IF(AND(L2760=2,P2760>=60),\"一単独\",IF(AND(L2760=2,P2760>=50,P2760<60),\"一併用\",IF(AND(L2760=2,P2760>=40,P2760<50),\"二併用\",\"\")))","v":""}]
[2759,null,null,"",null,"0000000",null,"福島市",null,null,null,null,"",null,"",{"$f":"IF(N2761=\"\",\"\",DATEDIF(N2761,DATE(設定シート!$C$2,設定シート!$C$3,設定シート!$C$4),\"Y\"))","v":""},"","",null,null,""]
[2760,null,null,"",null,"0000000",null,"福島市",null,null,null,null,"",null,"",{"$f":"IF(N2762=\"\",\"\",DATEDIF(N2762,DATE(設定シート!$C$2,設定シート!$C$3,設定シート!$C$4),\"Y\"))","v":""},"","",null,null,""]
[2761,null,null,"",null,"0000000",null,"福島市",null,null,null,null,"",null,"",{"$f":"IF(N2763=\"\",\"\",DATEDIF(N2763,DATE(設定シート!$C$2,設定シート!$C$3,設定シート!$C$4),\"Y\"))","v":""},"","",null,null,""]
[2762,null,null,"",null,"0000000",null,"福島市",null,null,null,null,"",null,"",{"$f":"IF(N2764=\"\",\"\",DATEDIF(N2764,DATE(設定シート!$C$2,設定シート!$C$3,設定シート!$C$4),\"Y\"))","v":""},"","",null,null,""]
[2763,null,null,"",null,"0000000",null,"福島市",null,null,null,null,"",null,"",{"$f":"IF(N2765=\"\",\"\",DATEDIF(N2765,DATE(設定シート!$C$2,設定シート!$C$3,設定シート!$C$4),\"Y\"))","v":""},"","",null,null,""]
[2764,null,null,"",null,"0000000",null,"福島市",null,null,null,null,"",null,"",{"$f":"IF(N2766=\"\",\"\",DATEDIF(N2766,DATE(設定シート!$C$2,設定シート!$C$3,設定シート!$C$4),\"Y\"))","v":""},"","",null,null,""]
[2765,null,null,"",null,"0000000",null,"福島市",null,null,null,null,"",null,"",{"$f":"IF(N2767=\"\",\"\",DATEDIF(N2767,DATE(設定シート!$C$2,設定シート!$C$3,設定シート!$C$4),\"Y\"))","v":""},"","",null,null,""]
[2766,null,null,"",null,"0000000",null,"福島市",null,null,null,null,"",null,"",{"$f":"IF(N2768=\"\",\"\",DATEDIF(N2768,DATE(設定シート!$C$2,設定シート!$C$3,設定シート!$C$4),\"Y\"))","v":""},"","",null,null,""]
[2767,null,null,"",null,"0000000",null,"福島市",null,null,null,null,"",null,"",{"$f":"IF(N2769=\"\",\"\",DATEDIF(N2769,DATE(設定シート!$C$2,設定シート!$C$3,設定シート!$C$4),\"Y\"))","v":""},"","",null,null,""]
[2768,null,null,"",null,{"$f":"TEXT(B2770,\"0000000\")","v":"0000000"},null,"福島市",null,null,null,null,"",null,"",{"$f":"IF(N2770=\"\",\"\",DATEDIF(N2770,DATE(設定シート!$C$2,設定シート!$C$3,設定シート!$C$4),\"Y\"))","v":""},"","",null,null,""]
[2769,null,null,"",null,"0000000",null,"福島市",null,null,null,null,"",null,"",{"$f":"IF(N2771=\"\",\"\",DATEDIF(N2771,DATE(設定シート!$C$2,設定シート!$C$3,設定シート!$C$4),\"Y\"))","v":""},"","",null,null,""]
[2770,null,null,"",null,"0000000",null,"福島市",null,null,null,null,"",null,"",{"$f":"IF(N2772=\"\",\"\",DATEDIF(N2772,DATE(設定シート!$C$2,設定シート!$C$3,設定シート!$C$4),\"Y\"))","v":""},"","",null,null,""]
[2771,null,null,"",null,"0000000",null,"福島市",null,null,null,null,"",null,"",{"$f":"IF(N2773=\"\",\"\",DATEDIF(N2773,DATE(設定シート!$C$2,設定シート!$C$3,設定シート!$C$4),\"Y\"))","v":""},"","",null,null,""]
[2772,null,null,"",null,"0000000",null,"福島市",null,null,null,null,"",null,"",{"$f":"IF(N2774=\"\",\"\",DATEDIF(N2774,DATE(設定シート!$C$2,設定シート!$C$3,設定シート!$C$4),\"Y\"))","v":""},"","",null,null,""]
[2773,null,null,"",null,"0000000",null,"福島市",null,null,null,null,"",null,"",{"$f":"IF(N2775=\"\",\"\",DATEDIF(N2775,DATE(設定シート!$C$2,設定シート!$C$3,設定シート!$C$4),\"Y\"))","v":""},"","",null,null,""]
[2774,null,null,"",null,"0000000",null,"福島市",null,null,null,null,"",null,"",{"$f":"IF(N2776=\"\",\"\",DATEDIF(N2776,DATE(設定シート!$C$2,設定シート!$C$3,設定シート!$C$4),\"Y\"))","v":""},"","",null,null,""]
[2775,null,null,"",null,"0000000",null,"福島市",null,null,null,null,"",null,"",{"$f":"IF(N2777=\"\",\"\",DATEDIF(N2777,DATE(設定シート!$C$2,設定シート!$C$3,設定シート!$C$4),\"Y\"))","v":""},"","",null,null,""]
[2776,null,null,"",null,"0000000",null,"福島市",null,null,null,null,"",null,"",{"$f":"IF(N2778=\"\",\"\",DATEDIF(N2778,DATE(設定シート!$C$2,設定シート!$C$3,設定シート!$C$4),\"Y\"))","v":""},"","",null,null,""]
[2777,null,null,"",null,"0000000",null,"福島市",null,null,null,null,"",null,"",{"$f":"IF(N2779=\"\",\"\",DATEDIF(N2779,DATE(設定シート!$C$2,設定シート!$C$3,設定シート!$C$4),\"Y\"))","v":""},"","",null,null,""]
[2778,null,null,"",null,"0000000",null,"福島市",null,null,null,null,"",null,"",{"$f":"IF(N2780=\"\",\"\",DATEDIF(N2780,DATE(設定シート!$C$2,設定シート!$C$3,設定シート!$C$4),\"Y\"))","v":""},"","",null,null,""]
[2779,null,null,"",null,"0000000",null,"福島市",null,null,null,null,"",null,"",{"$f":"IF(N2781=\"\",\"\",DATEDIF(N2781,DATE(設定シート!$C$2,設定シート!$C$3,設定シート!$C$4),\"Y\"))","v":""},"","",null,null,""]
[2780,null,null,"",null,"0000000",null,"福島市",null,null,null,null,"",null,"",{"$f":"IF(N2782=\"\",\"\",DATEDIF(N2782,DATE(設定シート!$C$2,設定シート!$C$3,設定シート!$C$4),\"Y\"))","v":""},"","",null,null,""]
[2781,null,null,"",null,"0000000",null,"福島市",null,null,null,null,"",null,"",{"$f":"IF(N2783=\"\",\"\",DATEDIF(N2783,DATE(設定シート!$C$2,設定シート!$C$3,設定シート!$C$4),\"Y\"))","v":""},"","",null,null,""]
[2782,null,null,"",null,"0000000",null,"福島市",null,null,null,null,"",null,"",{"$f":"IF(N2784=\"\",\"\",DATEDIF(N2784,DATE(設定シート!$C$2,設定シート!$C$3,設定シート!$C$4),\"Y\"))","v":""},"","",null,null,""]
[2783,null,null,"",null,"0000000",null,"福島市",null,null,null,null,"",null,"",{"$f":"IF(N2785=\"\",\"\",DATEDIF(N2785,DATE(設定シート!$C$2,設定シート!$C$3,設定シート!$C$4),\"Y\"))","v":""},"","",null,null,""]
[2784,null,null,"",null,"0000000",null,"福島市",null,null,null,null,"",null,"",{"$f":"IF(N2786=\"\",\"\",DATEDIF(N2786,DATE(設定シート!$C$2,設定シート!$C$3,設定シート!$C$4),\"Y\"))","v":""},"","",null,null,""]
[2785,null,null,"",null,"0000000",null,"福島市",null,null,null,null,"",null,"",{"$f":"IF(N2787=\"\",\"\",DATEDIF(N2787,DATE(設定シート!$C$2,設定シート!$C$3,設定シート!$C$4),\"Y\"))","v":""},"","",null,null,""]
[2786,null,null,"",null,"0000000",null,"福島市",null,null,null,null,"",null,"",{"$f":"IF(N2788=\"\",\"\",DATEDIF(N2788,DATE(設定シート!$C$2,設定シート!$C$3,設定シート!$C$4),\"Y\"))","v":""},"","",null,null,""]
[2787,null,null,"",null,"0000000",null,"福島市",null,null,null,null,"",null,"",{"$f":"IF(N2789=\"\",\"\",DATEDIF(N2789,DATE(設定シート!$C$2,設定シート!$C$3,設定シート!$C$4),\"Y\"))","v":""},"","",null,null,""]
[2788,null,null,"",null,"0000000",null,"福島市",null,null,null,null,"",null,"",{"$f":"IF(N2790=\"\",\"\",DATEDIF(N2790,DATE(設定シート!$C$2,設定シート!$C$3,設定シート!$C$4),\"Y\"))","v":""},"","",null,null,""]
[2789,null,null,"",null,"0000000",null,"福島市",null,null,null,null,"",null,"",{"$f":"IF(N2791=\"\",\"\",DATEDIF(N2791,DATE(設定シート!$C$2,設定シート!$C$3,設定シート!$C$4),\"Y\"))","v":""},"","",null,null,""]
[2790,null,null,"",null,"0000000",null,"福島市",null,null,null,null,"",null,"",{"$f":"IF(N2792=\"\",\"\",DATEDIF(N2792,DATE(設定シート!$C$2,設定シート!$C$3,設定シート!$C$4),\"Y\"))","v":""},"","",null,null,""]
[2791,null,null,"",null,"0000000",null,"福島市",null,null,null,null,"",null,"",{"$f":"IF(N2793=\"\",\"\",DATEDIF(N2793,DATE(設定シート!$C$2,設定シート!$C$3,設定シート!$C$4),\"Y\"))","v":""},"","",null,null,""]
[2792,null,null,"",null,"0000000",null,"福島市",null,null,null,null,"",null,"",{"$f":"IF(N2794=\"\",\"\",DATEDIF(N2794,DATE(設定シート!$C$2,設定シート!$C$3,設定シート!$C$4),\"Y\"))","v":""},"","",null,null,""]
[2793,null,null,"",null,"0000000",null,"福島市",null,null,null,null,"",null,"",{"$f":"IF(N2795=\"\",\"\",DATEDIF(N2795,DATE(設定シート!$C$2,設定シート!$C$3,設定シート!$C$4),\"Y\"))","v":""},"","",null,null,""]
[2794,null,null,"",null,"0000000",null,"福島市",null,null,null,null,"",null,"",{"$f":"IF(N2796=\"\",\"\",DATEDIF(N2796,DATE(設定シート!$C$2,設定シート!$C$3,設定シート!$C$4),\"Y\"))","v":""},"","",null,null,""]
[2795,null,null,"",null,"0000000",null,"福島市",null,null,null,null,"",null,"",{"$f":"IF(N2797=\"\",\"\",DATEDIF(N2797,DATE(設定シート!$C$2,設定シート!$C$3,設定シート!$C$4),\"Y\"))","v":""},"","",null,null,""]
[2796,null,null,"",null,"0000000",null,"福島市",null,null,null,null,"",null,"",{"$f":"IF(N2798=\"\",\"\",DATEDIF(N2798,DATE(設定シート!$C$2,設定シート!$C$3,設定シート!$C$4),\"Y\"))","v":""},"","",null,null,""]
[2797,null,null,"",null,"0000000",null,"福島市",null,null,null,null,"",null,"",{"$f":"IF(N2799=\"\",\"\",DATEDIF(N2799,DATE(設定シート!$C$2,設定シート!$C$3,設定シート!$C$4),\"Y\"))","v":""},"","",null,null,""]
[2798,null,null,"",null,"0000000",null,"福島市",null,null,null,null,"",null,"",{"$f":"IF(N2800=\"\",\"\",DATEDIF(N2800,DATE(設定シート!$C$2,設定シート!$C$3,設定シート!$C$4),\"Y\"))","v":""},"","",null,null,""]
[2799,null,null,"",null,"0000000",null,"福島市",null,null,null,null,"",null,"",{"$f":"IF(N2801=\"\",\"\",DATEDIF(N2801,DATE(設定シート!$C$2,設定シート!$C$3,設定シート!$C$4),\"Y\"))","v":""},"","",null,null,""]
[2800,null,null,"",null,"0000000",null,"福島市",null,null,null,null,"",null,"",{"$f":"IF(N2802=\"\",\"\",DATEDIF(N2802,DATE(設定シート!$C$2,設定シート!$C$3,設定シート!$C$4),\"Y\"))","v":""},"","",null,null,""]
[2801,null,null,"",null,"0000000",null,"福島市",null,null,null,null,"",null,"",{"$f":"IF(N2803=\"\",\"\",DATEDIF(N2803,DATE(設定シート!$C$2,設定シート!$C$3,設定シート!$C$4),\"Y\"))","v":""},"","",null,null,""]
[2802,null,null,"",null,"0000000",null,"福島市",null,null,null,null,"",null,"",{"$f":"IF(N2804=\"\",\"\",DATEDIF(N2804,DATE(設定シート!$C$2,設定シート!$C$3,設定シート!$C$4),\"Y\"))","v":""},"","",null,null,""]
[2803,null,null,"",null,"0000000",null,"福島市",null,null,null,null,"",null,"",{"$f":"IF(N2805=\"\",\"\",DATEDIF(N2805,DATE(設定シート!$C$2,設定シート!$C$3,設定シート!$C$4),\"Y\"))","v":""},"","",null,null,""]
[2804,null,null,"",null,"0000000",null,"福島市",null,null,null,null,"",null,"",{"$f":"IF(N2806=\"\",\"\",DATEDIF(N2806,DATE(設定シート!$C$2,設定シート!$C$3,設定シート!$C$4),\"Y\"))","v":""},"","",null,null,""]
[2805,null,null,"",null,"0000000",null,"福島市",null,null,null,null,"",null,"",{"$f":"IF(N2807=\"\",\"\",DATEDIF(N2807,DATE(設定シート!$C$2,設定シート!$C$3,設定シート!$C$4),\"Y\"))","v":""},"","",null,null,""]
[2806,null,null,"",null,"0000000",null,"福島市",null,null,null,null,"",null,"",{"$f":"IF(N2808=\"\",\"\",DATEDIF(N2808,DATE(設定シート!$C$2,設定シート!$C$3,設定シート!$C$4),\"Y\"))","v":""},"","",null,null,""]
[2807,null,null,"",null,"0000000",null,"福島市",null,null,null,null,"",null,"",{"$f":"IF(N2809=\"\",\"\",DATEDIF(N2809,DATE(設定シート!$C$2,設定シート!$C$3,設定シート!$C$4),\"Y\"))","v":""},"","",null,null,""]
[2808,null,null,"",null,"0000000",null,"福島市",null,null,null,null,"",null,"",{"$f":"IF(N2810=\"\",\"\",DATEDIF(N2810,DATE(設定シート!$C$2,設定シート!$C$3,設定シート!$C$4),\"Y\"))","v":""},"","",null,null,""]
[2809,null,null,"",null,"0000000",null,"福島市",null,null,null,null,"",null,"",{"$f":"IF(N2811=\"\",\"\",DATEDIF(N2811,DATE(設定シート!$C$2,設定シート!$C$3,設定シート!$C$4),\"Y\"))","v":""},"","",null,null,""]
[2810,null,null,"",null,"0000000",null,"福島市",null,null,null,null,"",null,"",{"$f":"IF(N2812=\"\",\"\",DATEDIF(N2812,DATE(設定シート!$C$2,設定シート!$C$3,設定シート!$C$4),\"Y\"))","v":""},"","",null,null,""]
[2811,null,null,"",null,"0000000",null,"福島市",null,null,null,null,"",null,"",{"$f":"IF(N2813=\"\",\"\",DATEDIF(N2813,DATE(設定シート!$C$2,設定シート!$C$3,設定シート!$C$4),\"Y\"))","v":""},"","",null,null,""]
[2812,null,null,"",null,"0000000",null,"福島市",null,null,null,null,"",null,"",{"$f":"IF(N2814=\"\",\"\",DATEDIF(N2814,DATE(設定シート!$C$2,設定シート!$C$3,設定シート!$C$4),\"Y\"))","v":""},"","",null,null,""]
[2813,null,null,"",null,"0000000",null,"福島市",null,null,null,null,"",null,"",{"$f":"IF(N2815=\"\",\"\",DATEDIF(N2815,DATE(設定シート!$C$2,設定シート!$C$3,設定シート!$C$4),\"Y\"))","v":""},"","",null,null,""]
[2814,null,null,"",null,"0000000",null,"福島市",null,null,null,null,"",null,"",{"$f":"IF(N2816=\"\",\"\",DATEDIF(N2816,DATE(設定シート!$C$2,設定シート!$C$3,設定シート!$C$4),\"Y\"))","v":""},"","",null,null,""]
[2815,null,null,"",null,"0000000",null,"福島市",null,null,null,null,"",null,"",{"$f":"IF(N2817=\"\",\"\",DATEDIF(N2817,DATE(設定シート!$C$2,設定シート!$C$3,設定シート!$C$4),\"Y\"))","v":""},"","",null,null,""]
[{"$f":"ROW()-2","v":2816},null,null,"",null,"0000000",null,"福島市",null,null,null,null,"",null,"",{"$f":"IF(N2818=\"\",\"\",DATEDIF(N2818,DATE(設定シート!$C$2,設定シート!$C$3,設定シート!$C$4),\"Y\"))","v":""},"","",null,null,""]
[2817,null,null,{"$f":"PHONETIC(C2819)","v":""},null,"0000000",null,"福島市",null,null,null,null,"",null,"",{"$f":"IF(N2819=\"\",\"\",DATEDIF(N2819,DATE(設定シート!$C$2,設定シート!$C$3,設定シート!$C$4),\"Y\"))","v":""},{"$f":"IF(P2819=\"\",\"\",IF(P2819<=69,1,IF(P2819>=70,2,\"\")))","v":""},"",null,null,""]
[2818,null,null,"",null,"0000000",null,"福島市",null,null,null,null,"",null,"",{"$f":"IF(N2820=\"\",\"\",DATEDIF(N2820,DATE(設定シート!$C$2,設定シート!$C$3,設定シート!$C$4),\"Y\"))","v":""},"","",null,null,""]
[2819,null,null,"",null,"0000000",null,"福島市",null,null,null,null,"",null,"",{"$f":"IF(N2821=\"\",\"\",DATEDIF(N2821,DATE(設定シート!$C$2,設定シート!$C$3,設定シート!$C$4),\"Y\"))","v":""},"","",null,null,""]
[2820,null,null,"",null,"0000000",null,"福島市",null,null,null,null,"",null,"",{"$f":"IF(N2822=\"\",\"\",DATEDIF(N2822,DATE(設定シート!$C$2,設定シート!$C$3,設定シート!$C$4),\"Y\"))","v":""},"","",null,null,""]
[2821,null,null,"",null,"0000000",null,"福島市",null,null,null,null,"",null,"",{"$f":"IF(N2823=\"\",\"\",DATEDIF(N2823,DATE(設定シート!$C$2,設定シート!$C$3,設定シート!$C$4),\"Y\"))","v":""},"","",null,null,""]
[2822,null,null,"",null,"0000000",null,"福島市",null,null,null,null,{"$f":"IF(L2824=1,\"男\",IF(L2824=2,\"女\",\"\"))","v":""},null,{"$f":"IF(OR(E2824=\"\",N2824=\"\"),\"\",DATEDIF(N2824,E2824,\"Y\"))","v":""},{"$f":"IF(N2824=\"\",\"\",DATEDIF(N2824,DATE(設定シート!$C$2,設定シート!$C$3,設定シート!$C$4),\"Y\"))","v":""},"",{"$f":"IF(OR(Q2824=1,Q2824=\"1\"),\"有料\",IF(OR(Q2824=2,Q2824=\"2\"),\"70・後\",IF(Q2824=3,\"生保\",IF(Q2824=4,\"非課税\",\"\"))))","v":""},null,null,{"$f":"IF(AND(L2824=2,P2824>=60),\"一単独\",IF(AND(L2824=2,P2824>=50,P2824<60),\"一併用\",IF(AND(L2824=2,P2824>=40,P2824<50),\"二併用\",\"\")))","v":""}]
[2823,null,null,"",null,"0000000",null,"福島市",null,null,null,null,"",null,"",{"$f":"IF(N2825=\"\",\"\",DATEDIF(N2825,DATE(設定シート!$C$2,設定シート!$C$3,設定シート!$C$4),\"Y\"))","v":""},"","",null,null,""]
[2824,null,null,"",null,"0000000",null,"福島市",null,null,null,null,"",null,"",{"$f":"IF(N2826=\"\",\"\",DATEDIF(N2826,DATE(設定シート!$C$2,設定シート!$C$3,設定シート!$C$4),\"Y\"))","v":""},"","",null,null,""]
[2825,null,null,"",null,"0000000",null,"福島市",null,null,null,null,"",null,"",{"$f":"IF(N2827=\"\",\"\",DATEDIF(N2827,DATE(設定シート!$C$2,設定シート!$C$3,設定シート!$C$4),\"Y\"))","v":""},"","",null,null,""]
[2826,null,null,"",null,"0000000",null,"福島市",null,null,null,null,"",null,"",{"$f":"IF(N2828=\"\",\"\",DATEDIF(N2828,DATE(設定シート!$C$2,設定シート!$C$3,設定シート!$C$4),\"Y\"))","v":""},"","",null,null,""]
[2827,null,null,"",null,"0000000",null,"福島市",null,null,null,null,"",null,"",{"$f":"IF(N2829=\"\",\"\",DATEDIF(N2829,DATE(設定シート!$C$2,設定シート!$C$3,設定シート!$C$4),\"Y\"))","v":""},"","",null,null,""]
[2828,null,null,"",null,"0000000",null,"福島市",null,null,null,null,"",null,"",{"$f":"IF(N2830=\"\",\"\",DATEDIF(N2830,DATE(設定シート!$C$2,設定シート!$C$3,設定シート!$C$4),\"Y\"))","v":""},"","",null,null,""]
[2829,null,null,"",null,"0000000",null,"福島市",null,null,null,null,"",null,"",{"$f":"IF(N2831=\"\",\"\",DATEDIF(N2831,DATE(設定シート!$C$2,設定シート!$C$3,設定シート!$C$4),\"Y\"))","v":""},"","",null,null,""]
[2830,null,null,"",null,"0000000",null,"福島市",null,null,null,null,"",null,"",{"$f":"IF(N2832=\"\",\"\",DATEDIF(N2832,DATE(設定シート!$C$2,設定シート!$C$3,設定シート!$C$4),\"Y\"))","v":""},"","",null,null,""]
[2831,null,null,"",null,"0000000",null,"福島市",null,null,null,null,"",null,"",{"$f":"IF(N2833=\"\",\"\",DATEDIF(N2833,DATE(設定シート!$C$2,設定シート!$C$3,設定シート!$C$4),\"Y\"))","v":""},"","",null,null,""]
[2832,null,null,"",null,{"$f":"TEXT(B2834,\"0000000\")","v":"0000000"},null,"福島市",null,null,null,null,"",null,"",{"$f":"IF(N2834=\"\",\"\",DATEDIF(N2834,DATE(設定シート!$C$2,設定シート!$C$3,設定シート!$C$4),\"Y\"))","v":""},"","",null,null,""]
[2833,null,null,"",null,"0000000",null,"福島市",null,null,null,null,"",null,"",{"$f":"IF(N2835=\"\",\"\",DATEDIF(N2835,DATE(設定シート!$C$2,設定シート!$C$3,設定シート!$C$4),\"Y\"))","v":""},"","",null,null,""]
[2834,null,null,"",null,"0000000",null,"福島市",null,null,null,null,"",null,"",{"$f":"IF(N2836=\"\",\"\",DATEDIF(N2836,DATE(設定シート!$C$2,設定シート!$C$3,設定シート!$C$4),\"Y\"))","v":""},"","",null,null,""]
[2835,null,null,"",null,"0000000",null,"福島市",null,null,null,null,"",null,"",{"$f":"IF(N2837=\"\",\"\",DATEDIF(N2837,DATE(設定シート!$C$2,設定シート!$C$3,設定シート!$C$4),\"Y\"))","v":""},"","",null,null,""]
[2836,null,null,"",null,"0000000",null,"福島市",null,null,null,null,"",null,"",{"$f":"IF(N2838=\"\",\"\",DATEDIF(N2838,DATE(設定シート!$C$2,設定シート!$C$3,設定シート!$C$4),\"Y\"))","v":""},"","",null,null,""]
[2837,null,null,"",null,"0000000",null,"福島市",null,null,null,null,"",null,"",{"$f":"IF(N2839=\"\",\"\",DATEDIF(N2839,DATE(設定シート!$C$2,設定シート!$C$3,設定シート!$C$4),\"Y\"))","v":""},"","",null,null,""]
[2838,null,null,"",null,"0000000",null,"福島市",null,null,null,null,"",null,"",{"$f":"IF(N2840=\"\",\"\",DATEDIF(N2840,DATE(設定シート!$C$2,設定シート!$C$3,設定シート!$C$4),\"Y\"))","v":""},"","",null,null,""]
[2839,null,null,"",null,"0000000",null,"福島市",null,null,null,null,"",null,"",{"$f":"IF(N2841=\"\",\"\",DATEDIF(N2841,DATE(設定シート!$C$2,設定シート!$C$3,設定シート!$C$4),\"Y\"))","v":""},"","",null,null,""]
[2840,null,null,"",null,"0000000",null,"福島市",null,null,null,null,"",null,"",{"$f":"IF(N2842=\"\",\"\",DATEDIF(N2842,DATE(設定シート!$C$2,設定シート!$C$3,設定シート!$C$4),\"Y\"))","v":""},"","",null,null,""]
[2841,null,null,"",null,"0000000",null,"福島市",null,null,null,null,"",null,"",{"$f":"IF(N2843=\"\",\"\",DATEDIF(N2843,DATE(設定シート!$C$2,設定シート!$C$3,設定シート!$C$4),\"Y\"))","v":""},"","",null,null,""]
[2842,null,null,"",null,"0000000",null,"福島市",null,null,null,null,"",null,"",{"$f":"IF(N2844=\"\",\"\",DATEDIF(N2844,DATE(設定シート!$C$2,設定シート!$C$3,設定シート!$C$4),\"Y\"))","v":""},"","",null,null,""]
[2843,null,null,"",null,"0000000",null,"福島市",null,null,null,null,"",null,"",{"$f":"IF(N2845=\"\",\"\",DATEDIF(N2845,DATE(設定シート!$C$2,設定シート!$C$3,設定シート!$C$4),\"Y\"))","v":""},"","",null,null,""]
[2844,null,null,"",null,"0000000",null,"福島市",null,null,null,null,"",null,"",{"$f":"IF(N2846=\"\",\"\",DATEDIF(N2846,DATE(設定シート!$C$2,設定シート!$C$3,設定シート!$C$4),\"Y\"))","v":""},"","",null,null,""]
[2845,null,null,"",null,"0000000",null,"福島市",null,null,null,null,"",null,"",{"$f":"IF(N2847=\"\",\"\",DATEDIF(N2847,DATE(設定シート!$C$2,設定シート!$C$3,設定シート!$C$4),\"Y\"))","v":""},"","",null,null,""]
[2846,null,null,"",null,"0000000",null,"福島市",null,null,null,null,"",null,"",{"$f":"IF(N2848=\"\",\"\",DATEDIF(N2848,DATE(設定シート!$C$2,設定シート!$C$3,設定シート!$C$4),\"Y\"))","v":""},"","",null,null,""]
[2847,null,null,"",null,"0000000",null,"福島市",null,null,null,null,"",null,"",{"$f":"IF(N2849=\"\",\"\",DATEDIF(N2849,DATE(設定シート!$C$2,設定シート!$C$3,設定シート!$C$4),\"Y\"))","v":""},"","",null,null,""]
[2848,null,null,"",null,"0000000",null,"福島市",null,null,null,null,"",null,"",{"$f":"IF(N2850=\"\",\"\",DATEDIF(N2850,DATE(設定シート!$C$2,設定シート!$C$3,設定シート!$C$4),\"Y\"))","v":""},"","",null,null,""]
[2849,null,null,"",null,"0000000",null,"福島市",null,null,null,null,"",null,"",{"$f":"IF(N2851=\"\",\"\",DATEDIF(N2851,DATE(設定シート!$C$2,設定シート!$C$3,設定シート!$C$4),\"Y\"))","v":""},"","",null,null,""]
[2850,null,null,"",null,"0000000",null,"福島市",null,null,null,null,"",null,"",{"$f":"IF(N2852=\"\",\"\",DATEDIF(N2852,DATE(設定シート!$C$2,設定シート!$C$3,設定シート!$C$4),\"Y\"))","v":""},"","",null,null,""]
[2851,null,null,"",null,"0000000",null,"福島市",null,null,null,null,"",null,"",{"$f":"IF(N2853=\"\",\"\",DATEDIF(N2853,DATE(設定シート!$C$2,設定シート!$C$3,設定シート!$C$4),\"Y\"))","v":""},"","",null,null,""]
[2852,null,null,"",null,"0000000",null,"福島市",null,null,null,null,"",null,"",{"$f":"IF(N2854=\"\",\"\",DATEDIF(N2854,DATE(設定シート!$C$2,設定シート!$C$3,設定シート!$C$4),\"Y\"))","v":""},"","",null,null,""]
[2853,null,null,"",null,"0000000",null,"福島市",null,null,null,null,"",null,"",{"$f":"IF(N2855=\"\",\"\",DATEDIF(N2855,DATE(設定シート!$C$2,設定シート!$C$3,設定シート!$C$4),\"Y\"))","v":""},"","",null,null,""]
[2854,null,null,"",null,"0000000",null,"福島市",null,null,null,null,"",null,"",{"$f":"IF(N2856=\"\",\"\",DATEDIF(N2856,DATE(設定シート!$C$2,設定シート!$C$3,設定シート!$C$4),\"Y\"))","v":""},"","",null,null,""]
[2855,null,null,"",null,"0000000",null,"福島市",null,null,null,null,"",null,"",{"$f":"IF(N2857=\"\",\"\",DATEDIF(N2857,DATE(設定シート!$C$2,設定シート!$C$3,設定シート!$C$4),\"Y\"))","v":""},"","",null,null,""]
[2856,null,null,"",null,"0000000",null,"福島市",null,null,null,null,"",null,"",{"$f":"IF(N2858=\"\",\"\",DATEDIF(N2858,DATE(設定シート!$C$2,設定シート!$C$3,設定シート!$C$4),\"Y\"))","v":""},"","",null,null,""]
[2857,null,null,"",null,"0000000",null,"福島市",null,null,null,null,"",null,"",{"$f":"IF(N2859=\"\",\"\",DATEDIF(N2859,DATE(設定シート!$C$2,設定シート!$C$3,設定シート!$C$4),\"Y\"))","v":""},"","",null,null,""]
[2858,null,null,"",null,"0000000",null,"福島市",null,null,null,null,"",null,"",{"$f":"IF(N2860=\"\",\"\",DATEDIF(N2860,DATE(設定シート!$C$2,設定シート!$C$3,設定シート!$C$4),\"Y\"))","v":""},"","",null,null,""]
[2859,null,null,"",null,"0000000",null,"福島市",null,null,null,null,"",null,"",{"$f":"IF(N2861=\"\",\"\",DATEDIF(N2861,DATE(設定シート!$C$2,設定シート!$C$3,設定シート!$C$4),\"Y\"))","v":""},"","",null,null,""]
[2860,null,null,"",null,"0000000",null,"福島市",null,null,null,null,"",null,"",{"$f":"IF(N2862=\"\",\"\",DATEDIF(N2862,DATE(設定シート!$C$2,設定シート!$C$3,設定シート!$C$4),\"Y\"))","v":""},"","",null,null,""]
[2861,null,null,"",null,"0000000",null,"福島市",null,null,null,null,"",null,"",{"$f":"IF(N2863=\"\",\"\",DATEDIF(N2863,DATE(設定シート!$C$2,設定シート!$C$3,設定シート!$C$4),\"Y\"))","v":""},"","",null,null,""]
[2862,null,null,"",null,"0000000",null,"福島市",null,null,null,null,"",null,"",{"$f":"IF(N2864=\"\",\"\",DATEDIF(N2864,DATE(設定シート!$C$2,設定シート!$C$3,設定シート!$C$4),\"Y\"))","v":""},"","",null,null,""]
[2863,null,null,"",null,"0000000",null,"福島市",null,null,null,null,"",null,"",{"$f":"IF(N2865=\"\",\"\",DATEDIF(N2865,DATE(設定シート!$C$2,設定シート!$C$3,設定シート!$C$4),\"Y\"))","v":""},"","",null,null,""]
[2864,null,null,"",null,"0000000",null,"福島市",null,null,null,null,"",null,"",{"$f":"IF(N2866=\"\",\"\",DATEDIF(N2866,DATE(設定シート!$C$2,設定シート!$C$3,設定シート!$C$4),\"Y\"))","v":""},"","",null,null,""]
[2865,null,null,"",null,"0000000",null,"福島市",null,null,null,null,"",null,"",{"$f":"IF(N2867=\"\",\"\",DATEDIF(N2867,DATE(設定シート!$C$2,設定シート!$C$3,設定シート!$C$4),\"Y\"))","v":""},"","",null,null,""]
[2866,null,null,"",null,"0000000",null,"福島市",null,null,null,null,"",null,"",{"$f":"IF(N2868=\"\",\"\",DATEDIF(N2868,DATE(設定シート!$C$2,設定シート!$C$3,設定シート!$C$4),\"Y\"))","v":""},"","",null,null,""]
[2867,null,null,"",null,"0000000",null,"福島市",null,null,null,null,"",null,"",{"$f":"IF(N2869=\"\",\"\",DATEDIF(N2869,DATE(設定シート!$C$2,設定シート!$C$3,設定シート!$C$4),\"Y\"))","v":""},"","",null,null,""]
[2868,null,null,"",null,"0000000",null,"福島市",null,null,null,null,"",null,"",{"$f":"IF(N2870=\"\",\"\",DATEDIF(N2870,DATE(設定シート!$C$2,設定シート!$C$3,設定シート!$C$4),\"Y\"))","v":""},"","",null,null,""]
[2869,null,null,"",null,"0000000",null,"福島市",null,null,null,null,"",null,"",{"$f":"IF(N2871=\"\",\"\",DATEDIF(N2871,DATE(設定シート!$C$2,設定シート!$C$3,設定シート!$C$4),\"Y\"))","v":""},"","",null,null,""]
[2870,null,null,"",null,"0000000",null,"福島市",null,null,null,null,"",null,"",{"$f":"IF(N2872=\"\",\"\",DATEDIF(N2872,DATE(設定シート!$C$2,設定シート!$C$3,設定シート!$C$4),\"Y\"))","v":""},"","",null,null,""]
[2871,null,null,"",null,"0000000",null,"福島市",null,null,null,null,"",null,"",{"$f":"IF(N2873=\"\",\"\",DATEDIF(N2873,DATE(設定シート!$C$2,設定シート!$C$3,設定シート!$C$4),\"Y\"))","v":""},"","",null,null,""]
[2872,null,null,"",null,"0000000",null,"福島市",null,null,null,null,"",null,"",{"$f":"IF(N2874=\"\",\"\",DATEDIF(N2874,DATE(設定シート!$C$2,設定シート!$C$3,設定シート!$C$4),\"Y\"))","v":""},"","",null,null,""]
[2873,null,null,"",null,"0000000",null,"福島市",null,null,null,null,"",null,"",{"$f":"IF(N2875=\"\",\"\",DATEDIF(N2875,DATE(設定シート!$C$2,設定シート!$C$3,設定シート!$C$4),\"Y\"))","v":""},"","",null,null,""]
[2874,null,null,"",null,"0000000",null,"福島市",null,null,null,null,"",null,"",{"$f":"IF(N2876=\"\",\"\",DATEDIF(N2876,DATE(設定シート!$C$2,設定シート!$C$3,設定シート!$C$4),\"Y\"))","v":""},"","",null,null,""]
[2875,null,null,"",null,"0000000",null,"福島市",null,null,null,null,"",null,"",{"$f":"IF(N2877=\"\",\"\",DATEDIF(N2877,DATE(設定シート!$C$2,設定シート!$C$3,設定シート!$C$4),\"Y\"))","v":""},"","",null,null,""]
[2876,null,null,"",null,"0000000",null,"福島市",null,null,null,null,"",null,"",{"$f":"IF(N2878=\"\",\"\",DATEDIF(N2878,DATE(設定シート!$C$2,設定シート!$C$3,設定シート!$C$4),\"Y\"))","v":""},"","",null,null,""]
[2877,null,null,"",null,"0000000",null,"福島市",null,null,null,null,"",null,"",{"$f":"IF(N2879=\"\",\"\",DATEDIF(N2879,DATE(設定シート!$C$2,設定シート!$C$3,設定シート!$C$4),\"Y\"))","v":""},"","",null,null,""]
[2878,null,null,"",null,"0000000",null,"福島市",null,null,null,null,"",null,"",{"$f":"IF(N2880=\"\",\"\",DATEDIF(N2880,DATE(設定シート!$C$2,設定シート!$C$3,設定シート!$C$4),\"Y\"))","v":""},"","",null,null,""]
[2879,null,null,"",null,"0000000",null,"福島市",null,null,null,null,"",null,"",{"$f":"IF(N2881=\"\",\"\",DATEDIF(N2881,DATE(設定シート!$C$2,設定シート!$C$3,設定シート!$C$4),\"Y\"))","v":""},"","",null,null,""]
[{"$f":"ROW()-2","v":2880},null,null,"",null,"0000000",null,"福島市",null,null,null,null,"",null,"",{"$f":"IF(N2882=\"\",\"\",DATEDIF(N2882,DATE(設定シート!$C$2,設定シート!$C$3,設定シート!$C$4),\"Y\"))","v":""},"","",null,null,""]
[2881,null,null,{"$f":"PHONETIC(C2883)","v":""},null,"0000000",null,"福島市",null,null,null,null,"",null,"",{"$f":"IF(N2883=\"\",\"\",DATEDIF(N2883,DATE(設定シート!$C$2,設定シート!$C$3,設定シート!$C$4),\"Y\"))","v":""},{"$f":"IF(P2883=\"\",\"\",IF(P2883<=69,1,IF(P2883>=70,2,\"\")))","v":""},"",null,null,""]
[2882,null,null,"",null,"0000000",null,"福島市",null,null,null,null,"",null,"",{"$f":"IF(N2884=\"\",\"\",DATEDIF(N2884,DATE(設定シート!$C$2,設定シート!$C$3,設定シート!$C$4),\"Y\"))","v":""},"","",null,null,""]
[2883,null,null,"",null,"0000000",null,"福島市",null,null,null,null,"",null,"",{"$f":"IF(N2885=\"\",\"\",DATEDIF(N2885,DATE(設定シート!$C$2,設定シート!$C$3,設定シート!$C$4),\"Y\"))","v":""},"","",null,null,""]
[2884,null,null,"",null,"0000000",null,"福島市",null,null,null,null,"",null,"",{"$f":"IF(N2886=\"\",\"\",DATEDIF(N2886,DATE(設定シート!$C$2,設定シート!$C$3,設定シート!$C$4),\"Y\"))","v":""},"","",null,null,""]
[2885,null,null,"",null,"0000000",null,"福島市",null,null,null,null,"",null,"",{"$f":"IF(N2887=\"\",\"\",DATEDIF(N2887,DATE(設定シート!$C$2,設定シート!$C$3,設定シート!$C$4),\"Y\"))","v":""},"","",null,null,""]
[2886,null,null,"",null,"0000000",null,"福島市",null,null,null,null,{"$f":"IF(L2888=1,\"男\",IF(L2888=2,\"女\",\"\"))","v":""},null,{"$f":"IF(OR(E2888=\"\",N2888=\"\"),\"\",DATEDIF(N2888,E2888,\"Y\"))","v":""},{"$f":"IF(N2888=\"\",\"\",DATEDIF(N2888,DATE(設定シート!$C$2,設定シート!$C$3,設定シート!$C$4),\"Y\"))","v":""},"",{"$f":"IF(OR(Q2888=1,Q2888=\"1\"),\"有料\",IF(OR(Q2888=2,Q2888=\"2\"),\"70・後\",IF(Q2888=3,\"生保\",IF(Q2888=4,\"非課税\",\"\"))))","v":""},null,null,{"$f":"IF(AND(L2888=2,P2888>=60),\"一単独\",IF(AND(L2888=2,P2888>=50,P2888<60),\"一併用\",IF(AND(L2888=2,P2888>=40,P2888<50),\"二併用\",\"\")))","v":""}]
[2887,null,null,"",null,"0000000",null,"福島市",null,null,null,null,"",null,"",{"$f":"IF(N2889=\"\",\"\",DATEDIF(N2889,DATE(設定シート!$C$2,設定シート!$C$3,設定シート!$C$4),\"Y\"))","v":""},"","",null,null,""]
[2888,null,null,"",null,"0000000",null,"福島市",null,null,null,null,"",null,"",{"$f":"IF(N2890=\"\",\"\",DATEDIF(N2890,DATE(設定シート!$C$2,設定シート!$C$3,設定シート!$C$4),\"Y\"))","v":""},"","",null,null,""]
[2889,null,null,"",null,"0000000",null,"福島市",null,null,null,null,"",null,"",{"$f":"IF(N2891=\"\",\"\",DATEDIF(N2891,DATE(設定シート!$C$2,設定シート!$C$3,設定シート!$C$4),\"Y\"))","v":""},"","",null,null,""]
[2890,null,null,"",null,"0000000",null,"福島市",null,null,null,null,"",null,"",{"$f":"IF(N2892=\"\",\"\",DATEDIF(N2892,DATE(設定シート!$C$2,設定シート!$C$3,設定シート!$C$4),\"Y\"))","v":""},"","",null,null,""]
[2891,null,null,"",null,"0000000",null,"福島市",null,null,null,null,"",null,"",{"$f":"IF(N2893=\"\",\"\",DATEDIF(N2893,DATE(設定シート!$C$2,設定シート!$C$3,設定シート!$C$4),\"Y\"))","v":""},"","",null,null,""]
[2892,null,null,"",null,"0000000",null,"福島市",null,null,null,null,"",null,"",{"$f":"IF(N2894=\"\",\"\",DATEDIF(N2894,DATE(設定シート!$C$2,設定シート!$C$3,設定シート!$C$4),\"Y\"))","v":""},"","",null,null,""]
[2893,null,null,"",null,"0000000",null,"福島市",null,null,null,null,"",null,"",{"$f":"IF(N2895=\"\",\"\",DATEDIF(N2895,DATE(設定シート!$C$2,設定シート!$C$3,設定シート!$C$4),\"Y\"))","v":""},"","",null,null,""]
[2894,null,null,"",null,"0000000",null,"福島市",null,null,null,null,"",null,"",{"$f":"IF(N2896=\"\",\"\",DATEDIF(N2896,DATE(設定シート!$C$2,設定シート!$C$3,設定シート!$C$4),\"Y\"))","v":""},"","",null,null,""]
[2895,null,null,"",null,"0000000",null,"福島市",null,null,null,null,"",null,"",{"$f":"IF(N2897=\"\",\"\",DATEDIF(N2897,DATE(設定シート!$C$2,設定シート!$C$3,設定シート!$C$4),\"Y\"))","v":""},"","",null,null,""]
[2896,null,null,"",null,{"$f":"TEXT(B2898,\"0000000\")","v":"0000000"},null,"福島市",null,null,null,null,"",null,"",{"$f":"IF(N2898=\"\",\"\",DATEDIF(N2898,DATE(設定シート!$C$2,設定シート!$C$3,設定シート!$C$4),\"Y\"))","v":""},"","",null,null,""]
[2897,null,null,"",null,"0000000",null,"福島市",null,null,null,null,"",null,"",{"$f":"IF(N2899=\"\",\"\",DATEDIF(N2899,DATE(設定シート!$C$2,設定シート!$C$3,設定シート!$C$4),\"Y\"))","v":""},"","",null,null,""]
[2898,null,null,"",null,"0000000",null,"福島市",null,null,null,null,"",null,"",{"$f":"IF(N2900=\"\",\"\",DATEDIF(N2900,DATE(設定シート!$C$2,設定シート!$C$3,設定シート!$C$4),\"Y\"))","v":""},"","",null,null,""]
[2899,null,null,"",null,"0000000",null,"福島市",null,null,null,null,"",null,"",{"$f":"IF(N2901=\"\",\"\",DATEDIF(N2901,DATE(設定シート!$C$2,設定シート!$C$3,設定シート!$C$4),\"Y\"))","v":""},"","",null,null,""]
[2900,null,null,"",null,"0000000",null,"福島市",null,null,null,null,"",null,"",{"$f":"IF(N2902=\"\",\"\",DATEDIF(N2902,DATE(設定シート!$C$2,設定シート!$C$3,設定シート!$C$4),\"Y\"))","v":""},"","",null,null,""]
[2901,null,null,"",null,"0000000",null,"福島市",null,null,null,null,"",null,"",{"$f":"IF(N2903=\"\",\"\",DATEDIF(N2903,DATE(設定シート!$C$2,設定シート!$C$3,設定シート!$C$4),\"Y\"))","v":""},"","",null,null,""]
[2902,null,null,"",null,"0000000",null,"福島市",null,null,null,null,"",null,"",{"$f":"IF(N2904=\"\",\"\",DATEDIF(N2904,DATE(設定シート!$C$2,設定シート!$C$3,設定シート!$C$4),\"Y\"))","v":""},"","",null,null,""]
[2903,null,null,"",null,"0000000",null,"福島市",null,null,null,null,"",null,"",{"$f":"IF(N2905=\"\",\"\",DATEDIF(N2905,DATE(設定シート!$C$2,設定シート!$C$3,設定シート!$C$4),\"Y\"))","v":""},"","",null,null,""]
[2904,null,null,"",null,"0000000",null,"福島市",null,null,null,null,"",null,"",{"$f":"IF(N2906=\"\",\"\",DATEDIF(N2906,DATE(設定シート!$C$2,設定シート!$C$3,設定シート!$C$4),\"Y\"))","v":""},"","",null,null,""]
[2905,null,null,"",null,"0000000",null,"福島市",null,null,null,null,"",null,"",{"$f":"IF(N2907=\"\",\"\",DATEDIF(N2907,DATE(設定シート!$C$2,設定シート!$C$3,設定シート!$C$4),\"Y\"))","v":""},"","",null,null,""]
[2906,null,null,"",null,"0000000",null,"福島市",null,null,null,null,"",null,"",{"$f":"IF(N2908=\"\",\"\",DATEDIF(N2908,DATE(設定シート!$C$2,設定シート!$C$3,設定シート!$C$4),\"Y\"))","v":""},"","",null,null,""]
[2907,null,null,"",null,"0000000",null,"福島市",null,null,null,null,"",null,"",{"$f":"IF(N2909=\"\",\"\",DATEDIF(N2909,DATE(設定シート!$C$2,設定シート!$C$3,設定シート!$C$4),\"Y\"))","v":""},"","",null,null,""]
[2908,null,null,"",null,"0000000",null,"福島市",null,null,null,null,"",null,"",{"$f":"IF(N2910=\"\",\"\",DATEDIF(N2910,DATE(設定シート!$C$2,設定シート!$C$3,設定シート!$C$4),\"Y\"))","v":""},"","",null,null,""]
[2909,null,null,"",null,"0000000",null,"福島市",null,null,null,null,"",null,"",{"$f":"IF(N2911=\"\",\"\",DATEDIF(N2911,DATE(設定シート!$C$2,設定シート!$C$3,設定シート!$C$4),\"Y\"))","v":""},"","",null,null,""]
[2910,null,null,"",null,"0000000",null,"福島市",null,null,null,null,"",null,"",{"$f":"IF(N2912=\"\",\"\",DATEDIF(N2912,DATE(設定シート!$C$2,設定シート!$C$3,設定シート!$C$4),\"Y\"))","v":""},"","",null,null,""]
[2911,null,null,"",null,"0000000",null,"福島市",null,null,null,null,"",null,"",{"$f":"IF(N2913=\"\",\"\",DATEDIF(N2913,DATE(設定シート!$C$2,設定シート!$C$3,設定シート!$C$4),\"Y\"))","v":""},"","",null,null,""]
[2912,null,null,"",null,"0000000",null,"福島市",null,null,null,null,"",null,"",{"$f":"IF(N2914=\"\",\"\",DATEDIF(N2914,DATE(設定シート!$C$2,設定シート!$C$3,設定シート!$C$4),\"Y\"))","v":""},"","",null,null,""]
[2913,null,null,"",null,"0000000",null,"福島市",null,null,null,null,"",null,"",{"$f":"IF(N2915=\"\",\"\",DATEDIF(N2915,DATE(設定シート!$C$2,設定シート!$C$3,設定シート!$C$4),\"Y\"))","v":""},"","",null,null,""]
[2914,null,null,"",null,"0000000",null,"福島市",null,null,null,null,"",null,"",{"$f":"IF(N2916=\"\",\"\",DATEDIF(N2916,DATE(設定シート!$C$2,設定シート!$C$3,設定シート!$C$4),\"Y\"))","v":""},"","",null,null,""]
[2915,null,null,"",null,"0000000",null,"福島市",null,null,null,null,"",null,"",{"$f":"IF(N2917=\"\",\"\",DATEDIF(N2917,DATE(設定シート!$C$2,設定シート!$C$3,設定シート!$C$4),\"Y\"))","v":""},"","",null,null,""]
[2916,null,null,"",null,"0000000",null,"福島市",null,null,null,null,"",null,"",{"$f":"IF(N2918=\"\",\"\",DATEDIF(N2918,DATE(設定シート!$C$2,設定シート!$C$3,設定シート!$C$4),\"Y\"))","v":""},"","",null,null,""]
[2917,null,null,"",null,"0000000",null,"福島市",null,null,null,null,"",null,"",{"$f":"IF(N2919=\"\",\"\",DATEDIF(N2919,DATE(設定シート!$C$2,設定シート!$C$3,設定シート!$C$4),\"Y\"))","v":""},"","",null,null,""]
[2918,null,null,"",null,"0000000",null,"福島市",null,null,null,null,"",null,"",{"$f":"IF(N2920=\"\",\"\",DATEDIF(N2920,DATE(設定シート!$C$2,設定シート!$C$3,設定シート!$C$4),\"Y\"))","v":""},"","",null,null,""]
[2919,null,null,"",null,"0000000",null,"福島市",null,null,null,null,"",null,"",{"$f":"IF(N2921=\"\",\"\",DATEDIF(N2921,DATE(設定シート!$C$2,設定シート!$C$3,設定シート!$C$4),\"Y\"))","v":""},"","",null,null,""]
[2920,null,null,"",null,"0000000",null,"福島市",null,null,null,null,"",null,"",{"$f":"IF(N2922=\"\",\"\",DATEDIF(N2922,DATE(設定シート!$C$2,設定シート!$C$3,設定シート!$C$4),\"Y\"))","v":""},"","",null,null,""]
[2921,null,null,"",null,"0000000",null,"福島市",null,null,null,null,"",null,"",{"$f":"IF(N2923=\"\",\"\",DATEDIF(N2923,DATE(設定シート!$C$2,設定シート!$C$3,設定シート!$C$4),\"Y\"))","v":""},"","",null,null,""]
[2922,null,null,"",null,"0000000",null,"福島市",null,null,null,null,"",null,"",{"$f":"IF(N2924=\"\",\"\",DATEDIF(N2924,DATE(設定シート!$C$2,設定シート!$C$3,設定シート!$C$4),\"Y\"))","v":""},"","",null,null,""]
[2923,null,null,"",null,"0000000",null,"福島市",null,null,null,null,"",null,"",{"$f":"IF(N2925=\"\",\"\",DATEDIF(N2925,DATE(設定シート!$C$2,設定シート!$C$3,設定シート!$C$4),\"Y\"))","v":""},"","",null,null,""]
[2924,null,null,"",null,"0000000",null,"福島市",null,null,null,null,"",null,"",{"$f":"IF(N2926=\"\",\"\",DATEDIF(N2926,DATE(設定シート!$C$2,設定シート!$C$3,設定シート!$C$4),\"Y\"))","v":""},"","",null,null,""]
[2925,null,null,"",null,"0000000",null,"福島市",null,null,null,null,"",null,"",{"$f":"IF(N2927=\"\",\"\",DATEDIF(N2927,DATE(設定シート!$C$2,設定シート!$C$3,設定シート!$C$4),\"Y\"))","v":""},"","",null,null,""]
[2926,null,null,"",null,"0000000",null,"福島市",null,null,null,null,"",null,"",{"$f":"IF(N2928=\"\",\"\",DATEDIF(N2928,DATE(設定シート!$C$2,設定シート!$C$3,設定シート!$C$4),\"Y\"))","v":""},"","",null,null,""]
[2927,null,null,"",null,"0000000",null,"福島市",null,null,null,null,"",null,"",{"$f":"IF(N2929=\"\",\"\",DATEDIF(N2929,DATE(設定シート!$C$2,設定シート!$C$3,設定シート!$C$4),\"Y\"))","v":""},"","",null,null,""]
[2928,null,null,"",null,"0000000",null,"福島市",null,null,null,null,"",null,"",{"$f":"IF(N2930=\"\",\"\",DATEDIF(N2930,DATE(設定シート!$C$2,設定シート!$C$3,設定シート!$C$4),\"Y\"))","v":""},"","",null,null,""]
[2929,null,null,"",null,"0000000",null,"福島市",null,null,null,null,"",null,"",{"$f":"IF(N2931=\"\",\"\",DATEDIF(N2931,DATE(設定シート!$C$2,設定シート!$C$3,設定シート!$C$4),\"Y\"))","v":""},"","",null,null,""]
[2930,null,null,"",null,"0000000",null,"福島市",null,null,null,null,"",null,"",{"$f":"IF(N2932=\"\",\"\",DATEDIF(N2932,DATE(設定シート!$C$2,設定シート!$C$3,設定シート!$C$4),\"Y\"))","v":""},"","",null,null,""]
[2931,null,null,"",null,"0000000",null,"福島市",null,null,null,null,"",null,"",{"$f":"IF(N2933=\"\",\"\",DATEDIF(N2933,DATE(設定シート!$C$2,設定シート!$C$3,設定シート!$C$4),\"Y\"))","v":""},"","",null,null,""]
[2932,null,null,"",null,"0000000",null,"福島市",null,null,null,null,"",null,"",{"$f":"IF(N2934=\"\",\"\",DATEDIF(N2934,DATE(設定シート!$C$2,設定シート!$C$3,設定シート!$C$4),\"Y\"))","v":""},"","",null,null,""]
[2933,null,null,"",null,"0000000",null,"福島市",null,null,null,null,"",null,"",{"$f":"IF(N2935=\"\",\"\",DATEDIF(N2935,DATE(設定シート!$C$2,設定シート!$C$3,設定シート!$C$4),\"Y\"))","v":""},"","",null,null,""]
[2934,null,null,"",null,"0000000",null,"福島市",null,null,null,null,"",null,"",{"$f":"IF(N2936=\"\",\"\",DATEDIF(N2936,DATE(設定シート!$C$2,設定シート!$C$3,設定シート!$C$4),\"Y\"))","v":""},"","",null,null,""]
[2935,null,null,"",null,"0000000",null,"福島市",null,null,null,null,"",null,"",{"$f":"IF(N2937=\"\",\"\",DATEDIF(N2937,DATE(設定シート!$C$2,設定シート!$C$3,設定シート!$C$4),\"Y\"))","v":""},"","",null,null,""]
[2936,null,null,"",null,"0000000",null,"福島市",null,null,null,null,"",null,"",{"$f":"IF(N2938=\"\",\"\",DATEDIF(N2938,DATE(設定シート!$C$2,設定シート!$C$3,設定シート!$C$4),\"Y\"))","v":""},"","",null,null,""]
[2937,null,null,"",null,"0000000",null,"福島市",null,null,null,null,"",null,"",{"$f":"IF(N2939=\"\",\"\",DATEDIF(N2939,DATE(設定シート!$C$2,設定シート!$C$3,設定シート!$C$4),\"Y\"))","v":""},"","",null,null,""]
[2938,null,null,"",null,"0000000",null,"福島市",null,null,null,null,"",null,"",{"$f":"IF(N2940=\"\",\"\",DATEDIF(N2940,DATE(設定シート!$C$2,設定シート!$C$3,設定シート!$C$4),\"Y\"))","v":""},"","",null,null,""]
[2939,null,null,"",null,"0000000",null,"福島市",null,null,null,null,"",null,"",{"$f":"IF(N2941=\"\",\"\",DATEDIF(N2941,DATE(設定シート!$C$2,設定シート!$C$3,設定シート!$C$4),\"Y\"))","v":""},"","",null,null,""]
[2940,null,null,"",null,"0000000",null,"福島市",null,null,null,null,"",null,"",{"$f":"IF(N2942=\"\",\"\",DATEDIF(N2942,DATE(設定シート!$C$2,設定シート!$C$3,設定シート!$C$4),\"Y\"))","v":""},"","",null,null,""]
[2941,null,null,"",null,"0000000",null,"福島市",null,null,null,null,"",null,"",{"$f":"IF(N2943=\"\",\"\",DATEDIF(N2943,DATE(設定シート!$C$2,設定シート!$C$3,設定シート!$C$4),\"Y\"))","v":""},"","",null,null,""]
[2942,null,null,"",null,"0000000",null,"福島市",null,null,null,null,"",null,"",{"$f":"IF(N2944=\"\",\"\",DATEDIF(N2944,DATE(設定シート!$C$2,設定シート!$C$3,設定シート!$C$4),\"Y\"))","v":""},"","",null,null,""]
[2943,null,null,"",null,"0000000",null,"福島市",null,null,null,null,"",null,"",{"$f":"IF(N2945=\"\",\"\",DATEDIF(N2945,DATE(設定シート!$C$2,設定シート!$C$3,設定シート!$C$4),\"Y\"))","v":""},"","",null,null,""]
[{"$f":"ROW()-2","v":2944},null,null,"",null,"0000000",null,"福島市",null,null,null,null,"",null,"",{"$f":"IF(N2946=\"\",\"\",DATEDIF(N2946,DATE(設定シート!$C$2,設定シート!$C$3,設定シート!$C$4),\"Y\"))","v":""},"","",null,null,""]
[2945,null,null,{"$f":"PHONETIC(C2947)","v":""},null,"0000000",null,"福島市",null,null,null,null,"",null,"",{"$f":"IF(N2947=\"\",\"\",DATEDIF(N2947,DATE(設定シート!$C$2,設定シート!$C$3,設定シート!$C$4),\"Y\"))","v":""},{"$f":"IF(P2947=\"\",\"\",IF(P2947<=69,1,IF(P2947>=70,2,\"\")))","v":""},"",null,null,""]
[2946,null,null,"",null,"0000000",null,"福島市",null,null,null,null,"",null,"",{"$f":"IF(N2948=\"\",\"\",DATEDIF(N2948,DATE(設定シート!$C$2,設定シート!$C$3,設定シート!$C$4),\"Y\"))","v":""},"","",null,null,""]
[2947,null,null,"",null,"0000000",null,"福島市",null,null,null,null,"",null,"",{"$f":"IF(N2949=\"\",\"\",DATEDIF(N2949,DATE(設定シート!$C$2,設定シート!$C$3,設定シート!$C$4),\"Y\"))","v":""},"","",null,null,""]
[2948,null,null,"",null,"0000000",null,"福島市",null,null,null,null,"",null,"",{"$f":"IF(N2950=\"\",\"\",DATEDIF(N2950,DATE(設定シート!$C$2,設定シート!$C$3,設定シート!$C$4),\"Y\"))","v":""},"","",null,null,""]
[2949,null,null,"",null,"0000000",null,"福島市",null,null,null,null,"",null,"",{"$f":"IF(N2951=\"\",\"\",DATEDIF(N2951,DATE(設定シート!$C$2,設定シート!$C$3,設定シート!$C$4),\"Y\"))","v":""},"","",null,null,""]
[2950,null,null,"",null,"0000000",null,"福島市",null,null,null,null,{"$f":"IF(L2952=1,\"男\",IF(L2952=2,\"女\",\"\"))","v":""},null,{"$f":"IF(OR(E2952=\"\",N2952=\"\"),\"\",DATEDIF(N2952,E2952,\"Y\"))","v":""},{"$f":"IF(N2952=\"\",\"\",DATEDIF(N2952,DATE(設定シート!$C$2,設定シート!$C$3,設定シート!$C$4),\"Y\"))","v":""},"",{"$f":"IF(OR(Q2952=1,Q2952=\"1\"),\"有料\",IF(OR(Q2952=2,Q2952=\"2\"),\"70・後\",IF(Q2952=3,\"生保\",IF(Q2952=4,\"非課税\",\"\"))))","v":""},null,null,{"$f":"IF(AND(L2952=2,P2952>=60),\"一単独\",IF(AND(L2952=2,P2952>=50,P2952<60),\"一併用\",IF(AND(L2952=2,P2952>=40,P2952<50),\"二併用\",\"\")))","v":""}]
[2951,null,null,"",null,"0000000",null,"福島市",null,null,null,null,"",null,"",{"$f":"IF(N2953=\"\",\"\",DATEDIF(N2953,DATE(設定シート!$C$2,設定シート!$C$3,設定シート!$C$4),\"Y\"))","v":""},"","",null,null,""]
[2952,null,null,"",null,"0000000",null,"福島市",null,null,null,null,"",null,"",{"$f":"IF(N2954=\"\",\"\",DATEDIF(N2954,DATE(設定シート!$C$2,設定シート!$C$3,設定シート!$C$4),\"Y\"))","v":""},"","",null,null,""]
[2953,null,null,"",null,"0000000",null,"福島市",null,null,null,null,"",null,"",{"$f":"IF(N2955=\"\",\"\",DATEDIF(N2955,DATE(設定シート!$C$2,設定シート!$C$3,設定シート!$C$4),\"Y\"))","v":""},"","",null,null,""]
[2954,null,null,"",null,"0000000",null,"福島市",null,null,null,null,"",null,"",{"$f":"IF(N2956=\"\",\"\",DATEDIF(N2956,DATE(設定シート!$C$2,設定シート!$C$3,設定シート!$C$4),\"Y\"))","v":""},"","",null,null,""]
[2955,null,null,"",null,"0000000",null,"福島市",null,null,null,null,"",null,"",{"$f":"IF(N2957=\"\",\"\",DATEDIF(N2957,DATE(設定シート!$C$2,設定シート!$C$3,設定シート!$C$4),\"Y\"))","v":""},"","",null,null,""]
[2956,null,null,"",null,"0000000",null,"福島市",null,null,null,null,"",null,"",{"$f":"IF(N2958=\"\",\"\",DATEDIF(N2958,DATE(設定シート!$C$2,設定シート!$C$3,設定シート!$C$4),\"Y\"))","v":""},"","",null,null,""]
[2957,null,null,"",null,"0000000",null,"福島市",null,null,null,null,"",null,"",{"$f":"IF(N2959=\"\",\"\",DATEDIF(N2959,DATE(設定シート!$C$2,設定シート!$C$3,設定シート!$C$4),\"Y\"))","v":""},"","",null,null,""]
[2958,null,null,"",null,"0000000",null,"福島市",null,null,null,null,"",null,"",{"$f":"IF(N2960=\"\",\"\",DATEDIF(N2960,DATE(設定シート!$C$2,設定シート!$C$3,設定シート!$C$4),\"Y\"))","v":""},"","",null,null,""]
[2959,null,null,"",null,"0000000",null,"福島市",null,null,null,null,"",null,"",{"$f":"IF(N2961=\"\",\"\",DATEDIF(N2961,DATE(設定シート!$C$2,設定シート!$C$3,設定シート!$C$4),\"Y\"))","v":""},"","",null,null,""]
[2960,null,null,"",null,{"$f":"TEXT(B2962,\"0000000\")","v":"0000000"},null,"福島市",null,null,null,null,"",null,"",{"$f":"IF(N2962=\"\",\"\",DATEDIF(N2962,DATE(設定シート!$C$2,設定シート!$C$3,設定シート!$C$4),\"Y\"))","v":""},"","",null,null,""]
[2961,null,null,"",null,"0000000",null,"福島市",null,null,null,null,"",null,"",{"$f":"IF(N2963=\"\",\"\",DATEDIF(N2963,DATE(設定シート!$C$2,設定シート!$C$3,設定シート!$C$4),\"Y\"))","v":""},"","",null,null,""]
[2962,null,null,"",null,"0000000",null,"福島市",null,null,null,null,"",null,"",{"$f":"IF(N2964=\"\",\"\",DATEDIF(N2964,DATE(設定シート!$C$2,設定シート!$C$3,設定シート!$C$4),\"Y\"))","v":""},"","",null,null,""]
[2963,null,null,"",null,"0000000",null,"福島市",null,null,null,null,"",null,"",{"$f":"IF(N2965=\"\",\"\",DATEDIF(N2965,DATE(設定シート!$C$2,設定シート!$C$3,設定シート!$C$4),\"Y\"))","v":""},"","",null,null,""]
[2964,null,null,"",null,"0000000",null,"福島市",null,null,null,null,"",null,"",{"$f":"IF(N2966=\"\",\"\",DATEDIF(N2966,DATE(設定シート!$C$2,設定シート!$C$3,設定シート!$C$4),\"Y\"))","v":""},"","",null,null,""]
[2965,null,null,"",null,"0000000",null,"福島市",null,null,null,null,"",null,"",{"$f":"IF(N2967=\"\",\"\",DATEDIF(N2967,DATE(設定シート!$C$2,設定シート!$C$3,設定シート!$C$4),\"Y\"))","v":""},"","",null,null,""]
[2966,null,null,"",null,"0000000",null,"福島市",null,null,null,null,"",null,"",{"$f":"IF(N2968=\"\",\"\",DATEDIF(N2968,DATE(設定シート!$C$2,設定シート!$C$3,設定シート!$C$4),\"Y\"))","v":""},"","",null,null,""]
[2967,null,null,"",null,"0000000",null,"福島市",null,null,null,null,"",null,"",{"$f":"IF(N2969=\"\",\"\",DATEDIF(N2969,DATE(設定シート!$C$2,設定シート!$C$3,設定シート!$C$4),\"Y\"))","v":""},"","",null,null,""]
[2968,null,null,"",null,"0000000",null,"福島市",null,null,null,null,"",null,"",{"$f":"IF(N2970=\"\",\"\",DATEDIF(N2970,DATE(設定シート!$C$2,設定シート!$C$3,設定シート!$C$4),\"Y\"))","v":""},"","",null,null,""]
[2969,null,null,"",null,"0000000",null,"福島市",null,null,null,null,"",null,"",{"$f":"IF(N2971=\"\",\"\",DATEDIF(N2971,DATE(設定シート!$C$2,設定シート!$C$3,設定シート!$C$4),\"Y\"))","v":""},"","",null,null,""]
[2970,null,null,"",null,"0000000",null,"福島市",null,null,null,null,"",null,"",{"$f":"IF(N2972=\"\",\"\",DATEDIF(N2972,DATE(設定シート!$C$2,設定シート!$C$3,設定シート!$C$4),\"Y\"))","v":""},"","",null,null,""]
[2971,null,null,"",null,"0000000",null,"福島市",null,null,null,null,"",null,"",{"$f":"IF(N2973=\"\",\"\",DATEDIF(N2973,DATE(設定シート!$C$2,設定シート!$C$3,設定シート!$C$4),\"Y\"))","v":""},"","",null,null,""]
[2972,null,null,"",null,"0000000",null,"福島市",null,null,null,null,"",null,"",{"$f":"IF(N2974=\"\",\"\",DATEDIF(N2974,DATE(設定シート!$C$2,設定シート!$C$3,設定シート!$C$4),\"Y\"))","v":""},"","",null,null,""]
[2973,null,null,"",null,"0000000",null,"福島市",null,null,null,null,"",null,"",{"$f":"IF(N2975=\"\",\"\",DATEDIF(N2975,DATE(設定シート!$C$2,設定シート!$C$3,設定シート!$C$4),\"Y\"))","v":""},"","",null,null,""]
[2974,null,null,"",null,"0000000",null,"福島市",null,null,null,null,"",null,"",{"$f":"IF(N2976=\"\",\"\",DATEDIF(N2976,DATE(設定シート!$C$2,設定シート!$C$3,設定シート!$C$4),\"Y\"))","v":""},"","",null,null,""]
[2975,null,null,"",null,"0000000",null,"福島市",null,null,null,null,"",null,"",{"$f":"IF(N2977=\"\",\"\",DATEDIF(N2977,DATE(設定シート!$C$2,設定シート!$C$3,設定シート!$C$4),\"Y\"))","v":""},"","",null,null,""]
[2976,null,null,"",null,"0000000",null,"福島市",null,null,null,null,"",null,"",{"$f":"IF(N2978=\"\",\"\",DATEDIF(N2978,DATE(設定シート!$C$2,設定シート!$C$3,設定シート!$C$4),\"Y\"))","v":""},"","",null,null,""]
[2977,null,null,"",null,"0000000",null,"福島市",null,null,null,null,"",null,"",{"$f":"IF(N2979=\"\",\"\",DATEDIF(N2979,DATE(設定シート!$C$2,設定シート!$C$3,設定シート!$C$4),\"Y\"))","v":""},"","",null,null,""]
[2978,null,null,"",null,"0000000",null,"福島市",null,null,null,null,"",null,"",{"$f":"IF(N2980=\"\",\"\",DATEDIF(N2980,DATE(設定シート!$C$2,設定シート!$C$3,設定シート!$C$4),\"Y\"))","v":""},"","",null,null,""]
[2979,null,null,"",null,"0000000",null,"福島市",null,null,null,null,"",null,"",{"$f":"IF(N2981=\"\",\"\",DATEDIF(N2981,DATE(設定シート!$C$2,設定シート!$C$3,設定シート!$C$4),\"Y\"))","v":""},"","",null,null,""]
[2980,null,null,"",null,"0000000",null,"福島市",null,null,null,null,"",null,"",{"$f":"IF(N2982=\"\",\"\",DATEDIF(N2982,DATE(設定シート!$C$2,設定シート!$C$3,設定シート!$C$4),\"Y\"))","v":""},"","",null,null,""]
[2981,null,null,"",null,"0000000",null,"福島市",null,null,null,null,"",null,"",{"$f":"IF(N2983=\"\",\"\",DATEDIF(N2983,DATE(設定シート!$C$2,設定シート!$C$3,設定シート!$C$4),\"Y\"))","v":""},"","",null,null,""]
[2982,null,null,"",null,"0000000",null,"福島市",null,null,null,null,"",null,"",{"$f":"IF(N2984=\"\",\"\",DATEDIF(N2984,DATE(設定シート!$C$2,設定シート!$C$3,設定シート!$C$4),\"Y\"))","v":""},"","",null,null,""]
[2983,null,null,"",null,"0000000",null,"福島市",null,null,null,null,"",null,"",{"$f":"IF(N2985=\"\",\"\",DATEDIF(N2985,DATE(設定シート!$C$2,設定シート!$C$3,設定シート!$C$4),\"Y\"))","v":""},"","",null,null,""]
[2984,null,null,"",null,"0000000",null,"福島市",null,null,null,null,"",null,"",{"$f":"IF(N2986=\"\",\"\",DATEDIF(N2986,DATE(設定シート!$C$2,設定シート!$C$3,設定シート!$C$4),\"Y\"))","v":""},"","",null,null,""]
[2985,null,null,"",null,"0000000",null,"福島市",null,null,null,null,"",null,"",{"$f":"IF(N2987=\"\",\"\",DATEDIF(N2987,DATE(設定シート!$C$2,設定シート!$C$3,設定シート!$C$4),\"Y\"))","v":""},"","",null,null,""]
[2986,null,null,"",null,"0000000",null,"福島市",null,null,null,null,"",null,"",{"$f":"IF(N2988=\"\",\"\",DATEDIF(N2988,DATE(設定シート!$C$2,設定シート!$C$3,設定シート!$C$4),\"Y\"))","v":""},"","",null,null,""]
[2987,null,null,"",null,"0000000",null,"福島市",null,null,null,null,"",null,"",{"$f":"IF(N2989=\"\",\"\",DATEDIF(N2989,DATE(設定シート!$C$2,設定シート!$C$3,設定シート!$C$4),\"Y\"))","v":""},"","",null,null,""]
[2988,null,null,"",null,"0000000",null,"福島市",null,null,null,null,"",null,"",{"$f":"IF(N2990=\"\",\"\",DATEDIF(N2990,DATE(設定シート!$C$2,設定シート!$C$3,設定シート!$C$4),\"Y\"))","v":""},"","",null,null,""]
[2989,null,null,"",null,"0000000",null,"福島市",null,null,null,null,"",null,"",{"$f":"IF(N2991=\"\",\"\",DATEDIF(N2991,DATE(設定シート!$C$2,設定シート!$C$3,設定シート!$C$4),\"Y\"))","v":""},"","",null,null,""]
[2990,null,null,"",null,"0000000",null,"福島市",null,null,null,null,"",null,"",{"$f":"IF(N2992=\"\",\"\",DATEDIF(N2992,DATE(設定シート!$C$2,設定シート!$C$3,設定シート!$C$4),\"Y\"))","v":""},"","",null,null,""]
[2991,null,null,"",null,"0000000",null,"福島市",null,null,null,null,"",null,"",{"$f":"IF(N2993=\"\",\"\",DATEDIF(N2993,DATE(設定シート!$C$2,設定シート!$C$3,設定シート!$C$4),\"Y\"))","v":""},"","",null,null,""]
[2992,null,null,"",null,"0000000",null,"福島市",null,null,null,null,"",null,"",{"$f":"IF(N2994=\"\",\"\",DATEDIF(N2994,DATE(設定シート!$C$2,設定シート!$C$3,設定シート!$C$4),\"Y\"))","v":""},"","",null,null,""]
[2993,null,null,"",null,"0000000",null,"福島市",null,null,null,null,"",null,"",{"$f":"IF(N2995=\"\",\"\",DATEDIF(N2995,DATE(設定シート!$C$2,設定シート!$C$3,設定シート!$C$4),\"Y\"))","v":""},"","",null,null,""]
[2994,null,null,"",null,"0000000",null,"福島市",null,null,null,null,"",null,"",{"$f":"IF(N2996=\"\",\"\",DATEDIF(N2996,DATE(設定シート!$C$2,設定シート!$C$3,設定シート!$C$4),\"Y\"))","v":""},"","",null,null,""]
[2995,null,null,"",null,"0000000",null,"福島市",null,null,null,null,"",null,"",{"$f":"IF(N2997=\"\",\"\",DATEDIF(N2997,DATE(設定シート!$C$2,設定シート!$C$3,設定シート!$C$4),\"Y\"))","v":""},"","",null,null,""]
[2996,null,null,"",null,"0000000",null,"福島市",null,null,null,null,"",null,"",{"$f":"IF(N2998=\"\",\"\",DATEDIF(N2998,DATE(設定シート!$C$2,設定シート!$C$3,設定シート!$C$4),\"Y\"))","v":""},"","",null,null,""]
[2997,null,null,"",null,"0000000",null,"福島市",null,null,null,null,"",null,"",{"$f":"IF(N2999=\"\",\"\",DATEDIF(N2999,DATE(設定シート!$C$2,設定シート!$C$3,設定シート!$C$4),\"Y\"))","v":""},"","",null,null,""]
[2998,null,null,"",null,"0000000",null,"福島市",null,null,null,null,"",null,"",{"$f":"IF(N3000=\"\",\"\",DATEDIF(N3000,DATE(設定シート!$C$2,設定シート!$C$3,設定シート!$C$4),\"Y\"))","v":""},"","",null,null,""]
[2999,null,null,"",null,"0000000",null,"福島市",null,null,null,null,"",null,"",{"$f":"IF(N3001=\"\",\"\",DATEDIF(N3001,DATE(設定シート!$C$2,設定シート!$C$3,設定シート!$C$4),\"Y\"))","v":""},"","",null,null,""]
[3000,null,null,"",null,"0000000",null,"福島市",null,null,null,null,"",null,"",{"$f":"IF(N3002=\"\",\"\",DATEDIF(N3002,DATE(設定シート!$C$2,設定シート!$C$3,設定シート!$C$4),\"Y\"))","v":""},"","",null,null,""]
[3001,null,null,"",null,"0000000",null,"福島市",null,null,null,null,"",null,"",{"$f":"IF(N3003=\"\",\"\",DATEDIF(N3003,DATE(設定シート!$C$2,設定シート!$C$3,設定シート!$C$4),\"Y\"))","v":""},"","",null,null,""]
[3002,1234567,"医師会　春子",{"$f":"PHONETIC(C3004)","v":"いしかい　はるこ"},"2022-09-08",{"$f":"TEXT(B3004,\"0000000\")","v":"1234567"},"960-8002","福島市","森合町10番1号","福島市保健福祉センター内","024-534-2290",2,"女","1960-12-11",61,{"$f":"IF(N3004=\"\",\"\",DATEDIF(N3004,DATE(設定シート!$C$2,設定シート!$C$3,設定シート!$C$4),\"Y\"))","v":62},1,"有料",1234567,"内視鏡",{"$f":"IF(AND(L3004=2,P3004>=50),\"一方向\",IF(AND(L3004=2,P3004>=40,P3004<50),\"二方向\",\"\"))","v":"一方向"},156.6,100.3]

{"sheet":"操作シート","index":5,"n_rows":92,"n_cols":14,"rows_kept":92,"cut":false,"hidden":false,"merged":[[56,2,56,3],[57,2,57,3],[60,2,60,3],[61,2,61,3],[11,1,11,2],[12,1,12,2],[19,1,19,2],[20,1,20,2],[50,1,50,2],[51,1,51,2]]}
["■事前準備"]
[]
["事前準備","プリンタの設定",null,null,null,null,null,"※1","検診月日の消去"]
[null,"ドットインパクトプリンターを指定してください。",null,null,null,null,null,null,"年度初めに1回だけ「検診月日の消去」ボタンをクリックしてください。"]
[null,"例：ファイル＞印刷＞プリンター＞EPSON　VP-F2000",null,null,null,null,null,null,"1回のみ"]
[]
["■一次検診"]
[]
["手順1","受診者情報の呼出",null,null,"→　入力後に受診者情報を確認してください　→",null,null,null,null,null,"手順1-2）","受診者情報の確認"]
[null,"受診券番号を入力してください。",null,null,null,null,null,null,null,null,null,"呼び出された受診者の情報を確認し変更がなければ【手順3】に進んでください。"]
[null,null,null,null,null,null,null,null,null,null,null,"※2：「#N/A」エラーの場合、桃色のボタンを押し、「データシート」に入力（登録）してください。"]
[null,"受診券番号",null,null,null,null,null,null,null,null,null,"※3：情報に変更がある場合は、青色のボタンを押し、「データシート」を修正してください。"]
[null,1234567,null,null,null,null,null,null,null,null,"↓","氏名",{"$f":"VLOOKUP($B$13,データシート!$B$3:$W$6001,2,0)","v":"医師会　春子"}]
[null,null,null,null,null,null,null,null,null,null,null,"ふりがな",{"$f":"VLOOKUP($B$13,データシート!$B$3:$W$6001,3,0)","v":"いしかい　はるこ"}]
[null,null,null,null,null,null,null,null,null,null,null,"検診月日",{"$f":"IF(VLOOKUP($B$13,データシート!$B$3:$W$6001,4,0)=0,\"\",VLOOKUP($B$13,データシート!$B$3:$W$6001,4,0))","v":"2022-09-08"}]
["手順2","検診月日の設定",null,null,null,null,null,null,null,null,null,"郵便番号",{"$f":"IF(VLOOKUP($B$13,データシート!$B$3:$W$6001,6,0)=0,\"\",VLOOKUP($B$13,データシート!$B$3:$W$6001,6,0))","v":"960-8002"}]
[null,"検診を受診する年月日を入力して「検診月日設定」ボタンをクリックしてください。",null,null,null,null,null,null,null,null,"←","市町村",{"$f":"VLOOKUP($B$13,データシート!$B$3:$W$6001,7,0)","v":"福島市"}]
[null,"※4：実際に検診を行う日です。空欄でも構いません。",null,null,null,null,null,null,null,null,null,"住所1",{"$f":"IF(VLOOKUP($B$13,データシート!$B$3:$W$6001,8,0)=0,\"\",VLOOKUP($B$13,データシート!$B$3:$W$6001,8,0))","v":"森合町10番1号"}]
["↓",null,null,null,null,null,null,null,null,null,null,"住所2",{"$f":"IF(VLOOKUP($B$13,データシート!$B$3:$W$6001,9,0)=0,\"\",VLOOKUP($B$13,データシート!$B$3:$W$6001,9,0))","v":"福島市保健福祉センター内"}]
[null,"検診月日",null,null,null,null,null,null,null,null,null,"電話番号",{"$f":"IF(VLOOKUP($B$13,データシート!$B$3:$W$6001,10,0)=0,\"\",VLOOKUP($B$13,データシート!$B$3:$W$6001,10,0))","v":"024-534-2290"}]
[null,"2022-09-08",null,null,{"$f":"B21","v":"2022-09-08"},null,null,null,null,null,null,"性別",{"$f":"IF(VLOOKUP($B$13,データシート!$B$3:$W$6001,11,0)=0,\"\",VLOOKUP($B$13,データシート!$B$3:$W$6001,11,0))","v":2},"1：男　2：女"]
[null,null,null,null,null,null,null,null,null,null,null,"生年月日",{"$f":"IF(VLOOKUP($B$13,データシート!$B$3:$W$6001,13,0)=0,\"\",VLOOKUP($B$13,データシート!$B$3:$W$6001,13,0))","v":"1960-12-11"}]
[null,null,null,null,null,null,null,null,null,null,null,"検診月日年齢",{"$f":"VLOOKUP($B$13,データシート!$B$3:$W$6001,14,0)","v":61},"歳"]
["手順3","問診票への印刷",null,null,null,null,null,null,null,null,null,"年度内年齢",{"$f":"VLOOKUP($B$13,データシート!$B$3:$W$6001,15,0)","v":62},"歳"]
[null,"印刷する問診票のボタンをクリックして、プリンターに用紙をセットしてください。",null,null,null,null,null,null,null,null,null,"自己負担金",{"$f":"VLOOKUP($B$13,データシート!$B$3:$W$6001,16,0)","v":1},"1：有料　2：70・後　3：生保　4：非課税"]
[null,"※5：用紙の向きに注意してください。",null,null,null,null,null,null,null,null,null,"非課税No",{"$f":"IF(VLOOKUP($B$13,データシート!$B$3:$W$6001,18,0)=0,\"\",VLOOKUP($B$13,データシート!$B$3:$W$6001,18,0))","v":1234567}]
[null,null,null,null,null,null,null,null,null,null,null,"胃検査法",{"$f":"IF(VLOOKUP($B$13,データシート!$B$3:$W$6001,19,0)=0,\"\",VLOOKUP($B$13,データシート!$B$3:$W$6001,19,0))","v":"内視鏡"},"透視 or 内視鏡"]
[null,null,null,null,null,null,null,null,null,null,null,"乳検査法",{"$f":"IF(VLOOKUP($B$13,データシート!$B$3:$W$6001,20,0)=0,\"\",VLOOKUP($B$13,データシート!$B$3:$W$6001,20,0))","v":"一方向"},"一方向 or 二方向"]
[]
[]
[]
[]
[]
[]
[]
[]
[]
[]
[]
[]
[]
[]
["■精密検査＞依頼書及び結果報告書"]
[]
["手順4","受診者情報の呼出"]
[null,"「■一次検診」＞「手順1」により受診者情報を呼び出してください。"]
[]
[]
["手順5","精検依頼月日の設定（※空欄可）"]
[null,"精密検査を依頼する年月日を入力してください。"]
[null,"精検依頼月日"]
[null,"2022-10-29"]
[]
[]
["手順6","精検月日及び記入月日の設定（※空欄可）"]
[null,"1）","精密検査を実施する年月日を入力してください。"]
[null,null,"精検月日"]
[null,null,"2022-11-05"]
[]
[null,"2）","精密検査結果を記入する年月日を入力してください。"]
[null,null,"記入月日"]
[null,null,"2023-01-13"]
[]
[null,"■精密検査＞依頼書及び結果報告書"]
[]
[null,"手順7-1","依頼書及び結果報告書（※月日・医療機関コード・医療機関名・担当医師名のみ）への印字"]
[null,null,"印刷する精密検査のボタンをクリックして、プリンターに用紙をセットしてください。"]
[]
[]
[]
[]
[]
[]
[]
[]
[null,"■精密検査＞依頼書のみ"]
[]
[null,"手順7-2","依頼書への印字"]
[null,null,"印刷する精密検査のボタンをクリックして、プリンターに用紙をセットしてください。"]
[]
[]
[]
[]
[]
[]
[]
[]
[null,"■精密検査＞結果報告書のみ"]
[]
[]
[null,"手順7-3","結果報告書への印字"]
[null,null,"印刷する精密検査のボタンをクリックして、プリンターに用紙をセットしてください。"]

{"sheet":"胃①","index":6,"n_rows":279,"n_cols":189,"rows_kept":279,"cut":false,"hidden":false,"merged":[[42,158,49,167],[42,177,49,191],[46,51,53,143],[34,188,41,195],[35,60,41,67],[35,77,41,84],[35,94,41,101],[34,138,41,145],[34,146,41,153],[34,154,41,161],[34,163,41,170],[34,171,41,178],[34,180,41,187],[52,144,59,183],[54,51,61,137],[62,51,66,110],[63,112,69,118],[69,50,78,110],[69,144,73,151],[69,162,73,169],[69,180,73,187],[72,112,78,118],[75,179,79,186],[72,133,77,139],[65,133,70,139],[236,177,243,184],[236,186,243,193],[247,132,255,193],[258,143,264,193],[265,132,273,193],[236,132,243,139],[236,141,243,148],[236,150,243,157],[236,159,243,166],[236,168,243,175],[278,48,283,54],[278,89,283,95],[278,112,283,118],[278,135,283,141],[278,166,283,186]]}
[]
[]
[]
[]
[]
[]
[]
[]
[]
[]
[]
[]
[]
[]
[]
[]
[]
[]
[]
[]
[]
[]
[]
[]
[]
[]
[]
[]
[]
[]
[]
[]
[]
[]
[null,null,null,null,null,null,null,null,null,null,null,null,null,null,null,null,null,null,null,null,null,null,null,null,null,null,null,null,null,null,null,null,null,null,null,null,null,null,null,null,null,null,null,null,null,null,null,null,null,null,null,null,null,null,null,null,null,null,null,null,null,null,null,null,null,null,null,null,null,null,null,null,null,null,null,null,null,null,null,null,null,null,null,null,null,null,null,null,null,null,null,null,null,null,null,null,null,null,null,null,null,null,null,null,null,null,null,null,null,null,null,null,null,null,null,null,null,null,null,null,null,null,null,null,null,null,null,null,null,null,null,null,null,null,null,null,null,null,{"$f":"STATISTICS!$E$5","v":"1"},null,null,null,null,null,null,null,{"$f":"STATISTICS!$E$6","v":"2"},null,null,null,null,null,null,null,{"$f":"STATISTICS!$E$7","v":"3"},null,null,null,null,null,null,null,null,{"$f":"STATISTICS!$E$8","v":"4"},null,null,null,null,null,null,null,{"$f":"STATISTICS!$E$9","v":"5"},null,null,null,null,null,null,null,null,{"$f":"STATISTICS!$E$10","v":"6"},null,null,null,null,null,null,null,{"$f":"STATISTICS!$E$11","v":"7"}]
[null,null,null,null,null,null,null,null,null,null,null,null,null,null,null,null,null,null,null,null,null,null,null,null,null,null,null,null,null,null,null,null,null,null,null,null,null,null,null,null,null,null,null,null,null,null,null,null,null,null,null,null,null,null,null,null,null,null,null,null,{"$f":"STATISTICS!$D$7","v":"04"},null,null,null,null,null,null,null,null,null,null,null,null,null,null,null,null,{"$f":"STATISTICS!$D$8","v":"09"},null,null,null,null,null,null,null,null,null,null,null,null,null,null,null,null,{"$f":"STATISTICS!$D$9","v":"08"}]
[]
[]
[]
[]
[]
[]
[null,null,null,null,null,null,null,null,null,null,null,null,null,null,null,null,null,null,null,null,null,null,null,null,null,null,null,null,null,null,null,null,null,null,null,null,null,null,null,null,null,null,null,null,null,null,null,null,null,null,null,null,null,null,null,null,null,null,null,null,null,null,null,null,null,null,null,null,null,null,null,null,null,null,null,null,null,null,null,null,null,null,null,null,null,null,null,null,null,null,null,null,null,null,null,null,null,null,null,null,null,null,null,null,null,null,null,null,null,null,null,null,null,null,null,null,null,null,null,null,null,null,null,null,null,null,null,null,null,null,null,null,null,null,null,null,null,null,null,null,null,null,null,null,null,null,null,null,null,null,null,null,null,null,null,null,null,null,{"$f":"STATISTICS!$F$5","v":"960"},null,null,null,null,null,null,null,null,null,null,null,null,null,null,null,null,null,null,{"$f":"STATISTICS!$F$6","v":"8002"}]
[]
[]
[]
[null,null,null,null,null,null,null,null,null,null,null,null,null,null,null,null,null,null,null,null,null,null,null,null,null,null,null,null,null,null,null,null,null,null,null,null,null,null,null,null,null,null,null,null,null,null,null,null,null,null,null,{"$f":"STATISTICS!$H$3","v":"森合町10番1号"}]
[]
[]
[]
[]
[]
[null,null,null,null,null,null,null,null,null,null,null,null,null,null,null,null,null,null,null,null,null,null,null,null,null,null,null,null,null,null,null,null,null,null,null,null,null,null,null,null,null,null,null,null,null,null,null,null,null,null,null,null,null,null,null,null,null,null,null,null,null,null,null,null,null,null,null,null,null,null,null,null,null,null,null,null,null,null,null,null,null,null,null,null,null,null,null,null,null,null,null,null,null,null,null,null,null,null,null,null,null,null,null,null,null,null,null,null,null,null,null,null,null,null,null,null,null,null,null,null,null,null,null,null,null,null,null,null,null,null,null,null,null,null,null,null,null,null,null,null,null,null,null,null,{"$f":"STATISTICS!$J$3","v":"024-534-2290"}]
[]
[null,null,null,null,null,null,null,null,null,null,null,null,null,null,null,null,null,null,null,null,null,null,null,null,null,null,null,null,null,null,null,null,null,null,null,null,null,null,null,null,null,null,null,null,null,null,null,null,null,null,null,{"$f":"STATISTICS!$I$3","v":"福島市保健福祉センター内"}]
[]
[]
[]
[]
[]
[]
[]
[null,null,null,null,null,null,null,null,null,null,null,null,null,null,null,null,null,null,null,null,null,null,null,null,null,null,null,null,null,null,null,null,null,null,null,null,null,null,null,null,null,null,null,null,null,null,null,null,null,null,null,{"$f":"STATISTICS!$C$3","v":"いしかい　はるこ"}]
[null,null,null,null,null,null,null,null,null,null,null,null,null,null,null,null,null,null,null,null,null,null,null,null,null,null,null,null,null,null,null,null,null,null,null,null,null,null,null,null,null,null,null,null,null,null,null,null,null,null,null,null,null,null,null,null,null,null,null,null,null,null,null,null,null,null,null,null,null,null,null,null,null,null,null,null,null,null,null,null,null,null,null,null,null,null,null,null,null,null,null,null,null,null,null,null,null,null,null,null,null,null,null,null,null,null,null,null,null,null,null,null,{"$f":"STATISTICS!$K$5","v":""}]
[]
[null,null,null,null,null,null,null,null,null,null,null,null,null,null,null,null,null,null,null,null,null,null,null,null,null,null,null,null,null,null,null,null,null,null,null,null,null,null,null,null,null,null,null,null,null,null,null,null,null,null,null,null,null,null,null,null,null,null,null,null,null,null,null,null,null,null,null,null,null,null,null,null,null,null,null,null,null,null,null,null,null,null,null,null,null,null,null,null,null,null,null,null,null,null,null,null,null,null,null,null,null,null,null,null,null,null,null,null,null,null,null,null,null,null,null,null,null,null,null,null,null,null,null,null,null,null,null,null,null,null,null,null,null,{"$f":"STATISTICS!$M$12","v":""}]
[]
[]
[]
[null,null,null,null,null,null,null,null,null,null,null,null,null,null,null,null,null,null,null,null,null,null,null,null,null,null,null,null,null,null,null,null,null,null,null,null,null,null,null,null,null,null,null,null,null,null,null,null,null,null,{"$f":"STATISTICS!$B$3","v":"医師会　春子"},null,null,null,null,null,null,null,null,null,null,null,null,null,null,null,null,null,null,null,null,null,null,null,null,null,null,null,null,null,null,null,null,null,null,null,null,null,null,null,null,null,null,null,null,null,null,null,null,null,null,null,null,null,null,null,null,null,null,null,null,null,null,null,null,null,null,null,null,null,null,null,null,null,null,null,null,null,null,null,null,null,null,null,null,null,null,null,null,null,null,null,null,null,{"$f":"STATISTICS!$M$7","v":"35"},null,null,null,null,null,null,null,null,null,null,null,null,null,null,null,null,null,{"$f":"STATISTICS!$M$8","v":"12"},null,null,null,null,null,null,null,null,null,null,null,null,null,null,null,null,null,{"$f":"STATISTICS!$M$9","v":"11"}]
[]
[]
[null,null,null,null,null,null,null,null,null,null,null,null,null,null,null,null,null,null,null,null,null,null,null,null,null,null,null,null,null,null,null,null,null,null,null,null,null,null,null,null,null,null,null,null,null,null,null,null,null,null,null,null,null,null,null,null,null,null,null,null,null,null,null,null,null,null,null,null,null,null,null,null,null,null,null,null,null,null,null,null,null,null,null,null,null,null,null,null,null,null,null,null,null,null,null,null,null,null,null,null,null,null,null,null,null,null,null,null,null,null,null,null,{"$f":"STATISTICS!$K$6","v":"○"},null,null,null,null,null,null,null,null,null,null,null,null,null,null,null,null,null,null,null,null,{"$f":"STATISTICS!$M$13","v":"○"}]
[]
[]
[null,null,null,null,null,null,null,null,null,null,null,null,null,null,null,null,null,null,null,null,null,null,null,null,null,null,null,null,null,null,null,null,null,null,null,null,null,null,null,null,null,null,null,null,null,null,null,null,null,null,null,null,null,null,null,null,null,null,null,null,null,null,null,null,null,null,null,null,null,null,null,null,null,null,null,null,null,null,null,null,null,null,null,null,null,null,null,null,null,null,null,null,null,null,null,null,null,null,null,null,null,null,null,null,null,null,null,null,null,null,null,null,null,null,null,null,null,null,null,null,null,null,null,null,null,null,null,null,null,null,null,null,null,null,null,null,null,null,null,null,null,null,null,null,null,null,null,null,null,null,null,null,null,null,null,null,null,null,null,null,null,null,null,null,null,null,null,null,null,null,null,null,null,null,null,null,null,null,null,{"$f":"STATISTICS!$N$3","v":61}]
[]
[]
[]
[]
[]
[]
[]
[]
[]
[]
[]
[]
[]
[]
[]
[]
[]
[]
[]
[]
[]
[]
[]
[]
[]
[]
[]
[]
[]
[]
[]
[]
[]
[]
[]
[]
[]
[]
[]
[]
[]
[]
[]
[]
[]
[]
[]
[]
[]
[]
[]
[]
[]
[]
[]
[]
[]
[]
[]
[]
[]
[]
[]
[]
[]
[]
[]
[]
[]
[]
[]
[]
[]
[]
[]
[]
[]
[]
[]
[]
[]
[]
[]
[]
[]
[]
[]
[]
[]
[]
[]
[]
[]
[]
[]
[]
[]
[]
[]
[]
[]
[]
[]
[]
[]
[]
[]
[]
[]
[]
[]
[]
[]
[]
[]
[]
[]
[]
[]
[]
[]
[]
[]
[]
[]
[]
[]
[]
[]
[]
[]
[]
[]
[]
[]
[]
[]
[]
[]
[]
[]
[]
[]
[]
[]
[]
[]
[]
[]
[]
[]
[]
[]
[]
[]
[]
[]
[]
[]
[]
[null,null,null,null,null,null,null,null,null,null,null,null,null,null,null,null,null,null,null,null,null,null,null,null,null,null,null,null,null,null,null,null,null,null,null,null,null,null,null,null,null,null,null,null,null,null,null,null,null,null,null,null,null,null,null,null,null,null,null,null,null,null,null,null,null,null,null,null,null,null,null,null,null,null,null,null,null,null,null,null,null,null,null,null,null,null,null,null,null,null,null,null,null,null,null,null,null,null,null,null,null,null,null,null,null,null,null,null,null,null,null,null,null,null,null,null,null,null,null,null,null,null,null,null,null,null,null,null,null,null,null,null,{"$f":"設定シート!$AA$7","v":"　"},null,null,null,null,null,null,null,null,{"$f":"設定シート!$AB$7","v":"　"},null,null,null,null,null,null,null,null,{"$f":"設定シート!$AC$7","v":"　"},null,null,null,null,null,null,null,null,{"$f":"設定シート!$AD$7","v":"　"},null,null,null,null,null,null,null,null,{"$f":"設定シート!$AE$7","v":"　"},null,null,null,null,null,null,null,null,{"$f":"設定シート!$AF$7","v":"　"},null,null,null,null,null,null,null,null,{"$f":"設定シート!$AG$7","v":"　"}]
[]
[null,null,null,null,null,null,null,null,null,null,null,null,null,null,null,null,null,null,null,null,null,null,null,null,null,null,null,null,null,null,null,null,null,null,null,null,null,null,null,null,null,null,null,null,null,null,null,null,null,null,null,null,null,null,null,null,null,null,null,null,null,null,null,null,null,null,null,null,null,null,null,null,null,null,null,null,null,null,null,null,null,null,null,null,null,null,null,null,null,null,null,null,null,null,null,null,null,null,null,null,null,null,null,null,null,null,null,null,null,null,null,null,null,null,null,null,null,null,null,null,null,null,null,null,null,null,null,null,null,null,null,{"$f":"STATISTICS!$E204","v":0}]
[]
[]
[]
[]
[]
[]
[]
[]
[null,null,null,null,null,null,null,null,null,null,null,null,null,null,null,null,null,null,null,null,null,null,null,null,null,null,null,null,null,null,null,null,null,null,null,null,null,null,null,null,null,null,null,null,null,null,null,null,null,null,null,null,null,null,null,null,null,null,null,null,null,null,null,null,null,null,null,null,null,null,null,null,null,null,null,null,null,null,null,null,null,null,null,null,null,null,null,null,null,null,null,null,null,null,null,null,null,null,null,null,null,null,null,null,null,null,null,null,null,null,null,null,null,null,null,null,null,null,null,null,null,null,null,null,null,null,null,null,null,null,null,null,{"$f":"設定シート!$C$8","v":0}]
[]
[]
[]
[]
[]
[]
[]
[]
[]
[]
[null,null,null,null,null,null,null,null,null,null,null,null,null,null,null,null,null,null,null,null,null,null,null,null,null,null,null,null,null,null,null,null,null,null,null,null,null,null,null,null,null,null,null,null,null,null,null,null,null,null,null,null,null,null,null,null,null,null,null,null,null,null,null,null,null,null,null,null,null,null,null,null,null,null,null,null,null,null,null,null,null,null,null,null,null,null,null,null,null,null,null,null,null,null,null,null,null,null,null,null,null,null,null,null,null,null,null,null,null,null,null,null,null,null,null,null,null,null,null,null,null,null,null,null,null,null,null,null,null,null,null,null,null,null,null,null,null,null,null,null,null,null,null,{"$f":"設定シート!C9","v":0}]
[]
[]
[]
[]
[]
[]
[null,null,null,null,null,null,null,null,null,null,null,null,null,null,null,null,null,null,null,null,null,null,null,null,null,null,null,null,null,null,null,null,null,null,null,null,null,null,null,null,null,null,null,null,null,null,null,null,null,null,null,null,null,null,null,null,null,null,null,null,null,null,null,null,null,null,null,null,null,null,null,null,null,null,null,null,null,null,null,null,null,null,null,null,null,null,null,null,null,null,null,null,null,null,null,null,null,null,null,null,null,null,null,null,null,null,null,null,null,null,null,null,null,null,null,null,null,null,null,null,null,null,null,null,null,null,null,null,null,null,null,null,{"$f":"設定シート!C10","v":0}]
[]
[]
[]
[]
[]
[]
[]
[]
[]
[]
[]
[]
[null,null,null,null,null,null,null,null,null,null,null,null,null,null,null,null,null,null,null,null,null,null,null,null,null,null,null,null,null,null,null,null,null,null,null,null,null,null,null,null,null,null,null,null,null,null,null,null,{"$f":"STATISTICS!$P$5","v":"○"},null,null,null,null,null,null,null,null,null,null,null,null,null,null,null,null,null,null,null,null,null,null,null,null,null,null,null,null,null,null,null,null,null,null,null,null,null,null,null,null,{"$f":"STATISTICS!$P$6","v":""},null,null,null,null,null,null,null,null,null,null,null,null,null,null,null,null,null,null,null,null,null,null,{"$f":"STATISTICS!$P$7","v":""},null,null,null,null,null,null,null,null,null,null,null,null,null,null,null,null,null,null,null,null,null,null,{"$f":"STATISTICS!$P$8","v":""},null,null,null,null,null,null,null,null,null,null,null,null,null,null,null,null,null,null,null,null,null,null,null,null,null,null,null,null,null,null,{"$f":"STATISTICS!$R$3","v":1234567}]

{"sheet":"胃①-2","index":7,"n_rows":279,"n_cols":189,"rows_kept":279,"cut":false,"hidden":false,"merged":[[34,188,41,195],[35,60,41,67],[35,77,41,84],[35,94,41,101],[42,158,49,167],[42,177,49,191],[46,51,53,143],[52,144,59,183],[54,51,61,137],[34,138,41,145],[34,146,41,153],[34,154,41,161],[34,163,41,170],[34,171,41,178],[34,180,41,187],[62,51,66,110],[63,112,69,118],[65,133,70,139],[69,50,78,110],[69,144,73,151],[69,180,73,187],[72,112,78,118],[72,133,77,139],[75,179,79,186],[236,132,243,139],[236,141,243,148],[236,150,243,157],[236,159,243,166],[236,168,243,175],[236,177,243,184],[69,162,73,169],[236,186,243,193],[247,132,255,193],[258,143,264,193],[265,132,273,193],[278,48,283,54],[278,89,283,95],[278,112,283,118],[278,135,283,141],[278,166,283,186]]}
[]
[]
[]
[]
[]
[]
[]
[]
[]
[]
[]
[]
[]
[]
[]
[]
[]
[]
[]
[]
[]
[]
[]
[]
[]
[]
[]
[]
[]
[]
[]
[]
[]
[]
[null,null,null,null,null,null,null,null,null,null,null,null,null,null,null,null,null,null,null,null,null,null,null,null,null,null,null,null,null,null,null,null,null,null,null,null,null,null,null,null,null,null,null,null,null,null,null,null,null,null,null,null,null,null,null,null,null,null,null,null,null,null,null,null,null,null,null,null,null,null,null,null,null,null,null,null,null,null,null,null,null,null,null,null,null,null,null,null,null,null,null,null,null,null,null,null,null,null,null,null,null,null,null,null,null,null,null,null,null,null,null,null,null,null,null,null,null,null,null,null,null,null,null,null,null,null,null,null,null,null,null,null,null,null,null,null,null,null,{"$f":"STATISTICS!$E$5","v":"1"},null,null,null,null,null,null,null,{"$f":"STATISTICS!$E$6","v":"2"},null,null,null,null,null,null,null,{"$f":"STATISTICS!$E$7","v":"3"},null,null,null,null,null,null,null,null,{"$f":"STATISTICS!$E$8","v":"4"},null,null,null,null,null,null,null,{"$f":"STATISTICS!$E$9","v":"5"},null,null,null,null,null,null,null,null,{"$f":"STATISTICS!$E$10","v":"6"},null,null,null,null,null,null,null,{"$f":"STATISTICS!$E$11","v":"7"}]
[null,null,null,null,null,null,null,null,null,null,null,null,null,null,null,null,null,null,null,null,null,null,null,null,null,null,null,null,null,null,null,null,null,null,null,null,null,null,null,null,null,null,null,null,null,null,null,null,null,null,null,null,null,null,null,null,null,null,null,null,{"$f":"STATISTICS!$D$7","v":"04"},null,null,null,null,null,null,null,null,null,null,null,null,null,null,null,null,{"$f":"STATISTICS!$D$8","v":"09"},null,null,null,null,null,null,null,null,null,null,null,null,null,null,null,null,{"$f":"STATISTICS!$D$9","v":"08"}]
[]
[]
[]
[]
[]
[]
[null,null,null,null,null,null,null,null,null,null,null,null,null,null,null,null,null,null,null,null,null,null,null,null,null,null,null,null,null,null,null,null,null,null,null,null,null,null,null,null,null,null,null,null,null,null,null,null,null,null,null,null,null,null,null,null,null,null,null,null,null,null,null,null,null,null,null,null,null,null,null,null,null,null,null,null,null,null,null,null,null,null,null,null,null,null,null,null,null,null,null,null,null,null,null,null,null,null,null,null,null,null,null,null,null,null,null,null,null,null,null,null,null,null,null,null,null,null,null,null,null,null,null,null,null,null,null,null,null,null,null,null,null,null,null,null,null,null,null,null,null,null,null,null,null,null,null,null,null,null,null,null,null,null,null,null,null,null,{"$f":"STATISTICS!$F$5","v":"960"},null,null,null,null,null,null,null,null,null,null,null,null,null,null,null,null,null,null,{"$f":"STATISTICS!$F$6","v":"8002"}]
[]
[]
[]
[null,null,null,null,null,null,null,null,null,null,null,null,null,null,null,null,null,null,null,null,null,null,null,null,null,null,null,null,null,null,null,null,null,null,null,null,null,null,null,null,null,null,null,null,null,null,null,null,null,null,null,{"$f":"STATISTICS!$H$3","v":"森合町10番1号"}]
[]
[]
[]
[]
[]
[null,null,null,null,null,null,null,null,null,null,null,null,null,null,null,null,null,null,null,null,null,null,null,null,null,null,null,null,null,null,null,null,null,null,null,null,null,null,null,null,null,null,null,null,null,null,null,null,null,null,null,null,null,null,null,null,null,null,null,null,null,null,null,null,null,null,null,null,null,null,null,null,null,null,null,null,null,null,null,null,null,null,null,null,null,null,null,null,null,null,null,null,null,null,null,null,null,null,null,null,null,null,null,null,null,null,null,null,null,null,null,null,null,null,null,null,null,null,null,null,null,null,null,null,null,null,null,null,null,null,null,null,null,null,null,null,null,null,null,null,null,null,null,null,{"$f":"STATISTICS!$J$3","v":"024-534-2290"}]
[]
[null,null,null,null,null,null,null,null,null,null,null,null,null,null,null,null,null,null,null,null,null,null,null,null,null,null,null,null,null,null,null,null,null,null,null,null,null,null,null,null,null,null,null,null,null,null,null,null,null,null,null,{"$f":"STATISTICS!$I$3","v":"福島市保健福祉センター内"}]
[]
[]
[]
[]
[]
[]
[]
[null,null,null,null,null,null,null,null,null,null,null,null,null,null,null,null,null,null,null,null,null,null,null,null,null,null,null,null,null,null,null,null,null,null,null,null,null,null,null,null,null,null,null,null,null,null,null,null,null,null,null,{"$f":"STATISTICS!$C$3","v":"いしかい　はるこ"}]
[null,null,null,null,null,null,null,null,null,null,null,null,null,null,null,null,null,null,null,null,null,null,null,null,null,null,null,null,null,null,null,null,null,null,null,null,null,null,null,null,null,null,null,null,null,null,null,null,null,null,null,null,null,null,null,null,null,null,null,null,null,null,null,null,null,null,null,null,null,null,null,null,null,null,null,null,null,null,null,null,null,null,null,null,null,null,null,null,null,null,null,null,null,null,null,null,null,null,null,null,null,null,null,null,null,null,null,null,null,null,null,null,{"$f":"STATISTICS!$K$5","v":""}]
[]
[null,null,null,null,null,null,null,null,null,null,null,null,null,null,null,null,null,null,null,null,null,null,null,null,null,null,null,null,null,null,null,null,null,null,null,null,null,null,null,null,null,null,null,null,null,null,null,null,null,null,null,null,null,null,null,null,null,null,null,null,null,null,null,null,null,null,null,null,null,null,null,null,null,null,null,null,null,null,null,null,null,null,null,null,null,null,null,null,null,null,null,null,null,null,null,null,null,null,null,null,null,null,null,null,null,null,null,null,null,null,null,null,null,null,null,null,null,null,null,null,null,null,null,null,null,null,null,null,null,null,null,null,null,{"$f":"STATISTICS!$M$12","v":""}]
[]
[]
[]
[null,null,null,null,null,null,null,null,null,null,null,null,null,null,null,null,null,null,null,null,null,null,null,null,null,null,null,null,null,null,null,null,null,null,null,null,null,null,null,null,null,null,null,null,null,null,null,null,null,null,{"$f":"STATISTICS!$B$3","v":"医師会　春子"},null,null,null,null,null,null,null,null,null,null,null,null,null,null,null,null,null,null,null,null,null,null,null,null,null,null,null,null,null,null,null,null,null,null,null,null,null,null,null,null,null,null,null,null,null,null,null,null,null,null,null,null,null,null,null,null,null,null,null,null,null,null,null,null,null,null,null,null,null,null,null,null,null,null,null,null,null,null,null,null,null,null,null,null,null,null,null,null,null,null,null,null,null,{"$f":"STATISTICS!$M$7","v":"35"},null,null,null,null,null,null,null,null,null,null,null,null,null,null,null,null,null,{"$f":"STATISTICS!$M$8","v":"12"},null,null,null,null,null,null,null,null,null,null,null,null,null,null,null,null,null,{"$f":"STATISTICS!$M$9","v":"11"}]
[]
[]
[null,null,null,null,null,null,null,null,null,null,null,null,null,null,null,null,null,null,null,null,null,null,null,null,null,null,null,null,null,null,null,null,null,null,null,null,null,null,null,null,null,null,null,null,null,null,null,null,null,null,null,null,null,null,null,null,null,null,null,null,null,null,null,null,null,null,null,null,null,null,null,null,null,null,null,null,null,null,null,null,null,null,null,null,null,null,null,null,null,null,null,null,null,null,null,null,null,null,null,null,null,null,null,null,null,null,null,null,null,null,null,null,{"$f":"STATISTICS!$K$6","v":"○"},null,null,null,null,null,null,null,null,null,null,null,null,null,null,null,null,null,null,null,null,{"$f":"STATISTICS!$M$13","v":"○"}]
[]
[]
[null,null,null,null,null,null,null,null,null,null,null,null,null,null,null,null,null,null,null,null,null,null,null,null,null,null,null,null,null,null,null,null,null,null,null,null,null,null,null,null,null,null,null,null,null,null,null,null,null,null,null,null,null,null,null,null,null,null,null,null,null,null,null,null,null,null,null,null,null,null,null,null,null,null,null,null,null,null,null,null,null,null,null,null,null,null,null,null,null,null,null,null,null,null,null,null,null,null,null,null,null,null,null,null,null,null,null,null,null,null,null,null,null,null,null,null,null,null,null,null,null,null,null,null,null,null,null,null,null,null,null,null,null,null,null,null,null,null,null,null,null,null,null,null,null,null,null,null,null,null,null,null,null,null,null,null,null,null,null,null,null,null,null,null,null,null,null,null,null,null,null,null,null,null,null,null,null,null,null,{"$f":"STATISTICS!$N$3","v":61}]
[]
[]
[]
[]
[]
[]
[]
[]
[]
[]
[]
[]
[]
[]
[]
[]
[]
[]
[]
[]
[]
[]
[]
[]
[]
[]
[]
[]
[]
[]
[]
[]
[]
[]
[]
[]
[]
[]
[]
[]
[]
[]
[]
[]
[]
[]
[]
[]
[]
[]
[]
[]
[]
[]
[]
[]
[]
[]
[]
[]
[]
[]
[]
[]
[]
[]
[]
[]
[]
[]
[]
[]
[]
[]
[]
[]
[]
[]
[]
[]
[]
[]
[]
[]
[]
[]
[]
[]
[]
[]
[]
[]
[]
[]
[]
[]
[]
[]
[]
[]
[]
[]
[]
[]
[]
[]
[]
[]
[]
[]
[]
[]
[]
[]
[]
[]
[]
[]
[]
[]
[]
[]
[]
[]
[]
[]
[]
[]
[]
[]
[]
[]
[]
[]
[]
[]
[]
[]
[]
[]
[]
[]
[]
[]
[]
[]
[]
[]
[]
[]
[]
[]
[]
[]
[]
[]
[]
[]
[]
[]
[]
[]
[null,null,null,null,null,null,null,null,null,null,null,null,null,null,null,null,null,null,null,null,null,null,null,null,null,null,null,null,null,null,null,null,null,null,null,null,null,null,null,null,null,null,null,null,null,null,null,null,null,null,null,null,null,null,null,null,null,null,null,null,null,null,null,null,null,null,null,null,null,null,null,null,null,null,null,null,null,null,null,null,null,null,null,null,null,null,null,null,null,null,null,null,null,null,null,null,null,null,null,null,null,null,null,null,null,null,null,null,null,null,null,null,null,null,null,null,null,null,null,null,null,null,null,null,null,null,null,null,null,null,null,{"$f":"STATISTICS!$E204","v":0}]
[]
[]
[]
[]
[]
[]
[]
[]
[]
[]
[]
[]
[]
[]
[]
[]
[]
[]
[]
[]
[]
[]
[]
[]
[]
[]
[]
[]
[]
[]
[]
[]
[]
[]
[]
[]
[]
[]
[]
[null,null,null,null,null,null,null,null,null,null,null,null,null,null,null,null,null,null,null,null,null,null,null,null,null,null,null,null,null,null,null,null,null,null,null,null,null,null,null,null,null,null,null,null,null,null,null,null,{"$f":"STATISTICS!$P$5","v":"○"},null,null,null,null,null,null,null,null,null,null,null,null,null,null,null,null,null,null,null,null,null,null,null,null,null,null,null,null,null,null,null,null,null,null,null,null,null,null,null,null,{"$f":"STATISTICS!$P$6","v":""},null,null,null,null,null,null,null,null,null,null,null,null,null,null,null,null,null,null,null,null,null,null,{"$f":"STATISTICS!$P$7","v":""},null,null,null,null,null,null,null,null,null,null,null,null,null,null,null,null,null,null,null,null,null,null,{"$f":"STATISTICS!$P$8","v":""},null,null,null,null,null,null,null,null,null,null,null,null,null,null,null,null,null,null,null,null,null,null,null,null,null,null,null,null,null,null,{"$f":"STATISTICS!$R$3","v":1234567}]

{"sheet":"大腸①","index":8,"n_rows":389,"n_cols":261,"rows_kept":389,"cut":false,"hidden":false,"merged":[[377,76,383,135],[387,59,395,135],[29,185,36,192],[29,195,36,202],[29,206,36,213],[41,51,46,110],[66,188,72,194],[67,67,71,73],[67,151,71,158],[52,50,61,110],[67,53,71,59],[67,80,71,87],[67,100,71,107],[67,121,71,128],[30,67,36,74],[388,166,393,172],[388,189,393,195],[388,210,393,216],[388,230,393,236],[38,256,46,270],[66,174,72,180],[65,212,72,251],[388,260,393,280],[38,238,46,247],[30,107,36,114],[45,158,53,237],[54,158,61,237],[364,59,372,135],[354,117,361,124],[354,128,361,135],[29,154,36,161],[29,164,36,171],[29,175,36,182],[354,65,361,72],[354,76,361,83],[354,86,361,93],[354,97,361,104],[354,107,361,114],[29,217,36,224],[30,87,36,94]]}
[]
[]
[]
[]
[]
[]
[]
[]
[]
[]
[]
[]
[]
[]
[]
[]
[]
[]
[]
[]
[]
[]
[]
[]
[]
[]
[]
[]
[]
[null,null,null,null,null,null,null,null,null,null,null,null,null,null,null,null,null,null,null,null,null,null,null,null,null,null,null,null,null,null,null,null,null,null,null,null,null,null,null,null,null,null,null,null,null,null,null,null,null,null,null,null,null,null,null,null,null,null,null,null,null,null,null,null,null,null,null,null,null,null,null,null,null,null,null,null,null,null,null,null,null,null,null,null,null,null,null,null,null,null,null,null,null,null,null,null,null,null,null,null,null,null,null,null,null,null,null,null,null,null,null,null,null,null,null,null,null,null,null,null,null,null,null,null,null,null,null,null,null,null,null,null,null,null,null,null,null,null,null,null,null,null,null,null,null,null,null,null,null,null,null,null,null,null,{"$f":"STATISTICS!$E$5","v":"1"},null,null,null,null,null,null,null,null,null,{"$f":"STATISTICS!$E$6","v":"2"},null,null,null,null,null,null,null,null,null,null,{"$f":"STATISTICS!$E$7","v":"3"},null,null,null,null,null,null,null,null,null,{"$f":"STATISTICS!$E$8","v":"4"},null,null,null,null,null,null,null,null,null,{"$f":"STATISTICS!$E$9","v":"5"},null,null,null,null,null,null,null,null,null,null,{"$f":"STATISTICS!$E$10","v":"6"},null,null,null,null,null,null,null,null,null,null,{"$f":"STATISTICS!$E$11","v":"7"}]
[null,null,null,null,null,null,null,null,null,null,null,null,null,null,null,null,null,null,null,null,null,null,null,null,null,null,null,null,null,null,null,null,null,null,null,null,null,null,null,null,null,null,null,null,null,null,null,null,null,null,null,null,null,null,null,null,null,null,null,null,null,null,null,null,null,null,null,{"$f":"STATISTICS!$D$7","v":"04"},null,null,null,null,null,null,null,null,null,null,null,null,null,null,null,null,null,null,null,{"$f":"STATISTICS!$D$8","v":"09"},null,null,null,null,null,null,null,null,null,null,null,null,null,null,null,null,null,null,null,{"$f":"STATISTICS!$D$9","v":"08"}]
[]
[]
[]
[]
[]
[]
[]
[null,null,null,null,null,null,null,null,null,null,null,null,null,null,null,null,null,null,null,null,null,null,null,null,null,null,null,null,null,null,null,null,null,null,null,null,null,null,null,null,null,null,null,null,null,null,null,null,null,null,null,null,null,null,null,null,null,null,null,null,null,null,null,null,null,null,null,null,null,null,null,null,null,null,null,null,null,null,null,null,null,null,null,null,null,null,null,null,null,null,null,null,null,null,null,null,null,null,null,null,null,null,null,null,null,null,null,null,null,null,null,null,null,null,null,null,null,null,null,null,null,null,null,null,null,null,null,null,null,null,null,null,null,null,null,null,null,null,null,null,null,null,null,null,null,null,null,null,null,null,null,null,null,null,null,null,null,null,null,null,null,null,null,null,null,null,null,null,null,null,null,null,null,null,null,null,null,null,null,null,null,null,null,null,null,null,null,null,null,null,null,null,null,null,null,null,null,null,null,null,null,null,null,null,null,null,null,null,null,null,null,null,null,null,null,null,null,null,null,null,null,null,null,null,null,null,null,null,null,null,null,null,null,null,null,null,null,null,{"$f":"STATISTICS!$F$5","v":"960"},null,null,null,null,null,null,null,null,null,null,null,null,null,null,null,null,null,{"$f":"STATISTICS!$F$6","v":"8002"}]
[]
[]
[null,null,null,null,null,null,null,null,null,null,null,null,null,null,null,null,null,null,null,null,null,null,null,null,null,null,null,null,null,null,null,null,null,null,null,null,null,null,null,null,null,null,null,null,null,null,null,null,null,null,null,{"$f":"STATISTICS!$C$3","v":"いしかい　はるこ"}]
[]
[]
[]
[null,null,null,null,null,null,null,null,null,null,null,null,null,null,null,null,null,null,null,null,null,null,null,null,null,null,null,null,null,null,null,null,null,null,null,null,null,null,null,null,null,null,null,null,null,null,null,null,null,null,null,null,null,null,null,null,null,null,null,null,null,null,null,null,null,null,null,null,null,null,null,null,null,null,null,null,null,null,null,null,null,null,null,null,null,null,null,null,null,null,null,null,null,null,null,null,null,null,null,null,null,null,null,null,null,null,null,null,null,null,null,null,null,null,null,null,null,null,null,null,null,null,null,null,null,null,null,null,null,null,null,null,null,null,null,null,null,null,null,null,null,null,null,null,null,null,null,null,null,null,null,null,null,null,null,null,null,null,{"$f":"STATISTICS!$H$3","v":"森合町10番1号"}]
[]
[]
[]
[]
[]
[]
[null,null,null,null,null,null,null,null,null,null,null,null,null,null,null,null,null,null,null,null,null,null,null,null,null,null,null,null,null,null,null,null,null,null,null,null,null,null,null,null,null,null,null,null,null,null,null,null,null,null,{"$f":"STATISTICS!$B$3","v":"医師会　春子"}]
[]
[null,null,null,null,null,null,null,null,null,null,null,null,null,null,null,null,null,null,null,null,null,null,null,null,null,null,null,null,null,null,null,null,null,null,null,null,null,null,null,null,null,null,null,null,null,null,null,null,null,null,null,null,null,null,null,null,null,null,null,null,null,null,null,null,null,null,null,null,null,null,null,null,null,null,null,null,null,null,null,null,null,null,null,null,null,null,null,null,null,null,null,null,null,null,null,null,null,null,null,null,null,null,null,null,null,null,null,null,null,null,null,null,null,null,null,null,null,null,null,null,null,null,null,null,null,null,null,null,null,null,null,null,null,null,null,null,null,null,null,null,null,null,null,null,null,null,null,null,null,null,null,null,null,null,null,null,null,null,{"$f":"STATISTICS!$I$3","v":"福島市保健福祉センター内"}]
[]
[]
[]
[]
[]
[]
[]
[]
[]
[]
[null,null,null,null,null,null,null,null,null,null,null,null,null,null,null,null,null,null,null,null,null,null,null,null,null,null,null,null,null,null,null,null,null,null,null,null,null,null,null,null,null,null,null,null,null,null,null,null,null,null,null,null,null,null,null,null,null,null,null,null,null,null,null,null,null,null,null,null,null,null,null,null,null,null,null,null,null,null,null,null,null,null,null,null,null,null,null,null,null,null,null,null,null,null,null,null,null,null,null,null,null,null,null,null,null,null,null,null,null,null,null,null,null,null,null,null,null,null,null,null,null,null,null,null,null,null,null,null,null,null,null,null,null,null,null,null,null,null,null,null,null,null,null,null,null,null,null,null,null,null,null,null,null,null,null,null,null,null,null,null,null,null,null,null,null,null,null,null,null,null,null,null,null,null,null,null,null,null,null,null,null,null,null,null,null,null,null,null,null,null,null,null,null,null,null,null,null,null,null,null,null,null,null,null,null,null,null,null,null,null,null,null,{"$f":"STATISTICS!$J$3","v":"024-534-2290"}]
[null,null,null,null,null,null,null,null,null,null,null,null,null,null,null,null,null,null,null,null,null,null,null,null,null,null,null,null,null,null,null,null,null,null,null,null,null,null,null,null,null,null,null,null,null,null,null,null,null,null,null,null,null,null,null,null,null,null,null,null,null,null,null,null,null,null,null,null,null,null,null,null,null,null,null,null,null,null,null,null,null,null,null,null,null,null,null,null,null,null,null,null,null,null,null,null,null,null,null,null,null,null,null,null,null,null,null,null,null,null,null,null,null,null,null,null,null,null,null,null,null,null,null,null,null,null,null,null,null,null,null,null,null,null,null,null,null,null,null,null,null,null,null,null,null,null,null,null,null,null,null,null,null,null,null,null,null,null,null,null,null,null,null,null,null,null,null,null,null,null,null,null,null,null,{"$f":"STATISTICS!$K$5","v":""},null,null,null,null,null,null,null,null,null,null,null,null,null,{"$f":"STATISTICS!$K$6","v":"○"}]
[null,null,null,null,null,null,null,null,null,null,null,null,null,null,null,null,null,null,null,null,null,null,null,null,null,null,null,null,null,null,null,null,null,null,null,null,null,null,null,null,null,null,null,null,null,null,null,null,null,null,null,null,null,{"$f":"STATISTICS!$M$12","v":""},null,null,null,null,null,null,null,null,null,null,null,null,null,{"$f":"STATISTICS!$M$13","v":"○"},null,null,null,null,null,null,null,null,null,null,null,null,{"$f":"STATISTICS!$M$7","v":"35"},null,null,null,null,null,null,null,null,null,null,null,null,null,null,null,null,null,null,null,{"$f":"STATISTICS!$M$8","v":"12"},null,null,null,null,null,null,null,null,null,null,null,null,null,null,null,null,null,null,null,null,{"$f":"STATISTICS!$M$9","v":"11"},null,null,null,null,null,null,null,null,null,null,null,null,null,null,null,null,null,null,null,null,null,null,null,null,null,null,null,null,null,{"$f":"STATISTICS!$N$3","v":61}]
[]
[]
[]
[]
[]
[]
[]
[]
[]
[]
[]
[]
[]
[]
[]
[]
[]
[]
[]
[]
[]
[]
[]
[]
[]
[]
[]
[]
[]
[]
[]
[]
[]
[]
[]
[]
[]
[]
[]
[]
[]
[]
[]
[]
[]
[]
[]
[]
[]
[]
[]
[]
[]
[]
[]
[]
[]
[]
[]
[]
[]
[]
[]
[]
[]
[]
[]
[]
[]
[]
[]
[]
[]
[]
[]
[]
[]
[]
[]
[]
[]
[]
[]
[]
[]
[]
[]
[]
[]
[]
[]
[]
[]
[]
[]
[]
[]
[]
[]
[]
[]
[]
[]
[]
[]
[]
[]
[]
[]
[]
[]
[]
[]
[]
[]
[]
[]
[]
[]
[]
[]
[]
[]
[]
[]
[]
[]
[]
[]
[]
[]
[]
[]
[]
[]
[]
[]
[]
[]
[]
[]
[]
[]
[]
[]
[]
[]
[]
[]
[]
[]
[]
[]
[]
[]
[]
[]
[]
[]
[]
[]
[]
[]
[]
[]
[]
[]
[]
[]
[]
[]
[]
[]
[]
[]
[]
[]
[]
[]
[]
[]
[]
[]
[]
[]
[]
[]
[]
[]
[]
[]
[]
[]
[]
[]
[]
[]
[]
[]
[]
[]
[]
[]
[]
[]
[]
[]
[]
[]
[]
[]
[]
[]
[]
[]
[]
[]
[]
[]
[]
[]
[]
[]
[]
[]
[]
[]
[]
[]
[]
[]
[]
[]
[]
[]
[]
[]
[]
[]
[]
[]
[]
[]
[]
[]
[]
[]
[]
[]
[]
[]
[]
[]
[]
[]
[]
[]
[]
[]
[]
[]
[]
[]
[]
[]
[]
[]
[]
[]
[]
[]
[]
[]
[]
[]
[]
[]
[]
[]
[]
[]
[]
[]
[]
[]
[]
[null,null,null,null,null,null,null,null,null,null,null,null,null,null,null,null,null,null,null,null,null,null,null,null,null,null,null,null,null,null,null,null,null,null,null,null,null,null,null,null,null,null,null,null,null,null,null,null,null,null,null,null,null,null,null,null,null,null,null,null,null,null,null,null,null,{"$f":"設定シート!$AA$7","v":"　"},null,null,null,null,null,null,null,null,null,null,{"$f":"設定シート!$AB$7","v":"　"},null,null,null,null,null,null,null,null,null,{"$f":"設定シート!$AC$7","v":"　"},null,null,null,null,null,null,null,null,null,null,{"$f":"設定シート!$AD$7","v":"　"},null,null,null,null,null,null,null,null,null,{"$f":"設定シート!$AE$7","v":"　"},null,null,null,null,null,null,null,null,null,{"$f":"設定シート!$AF$7","v":"　"},null,null,null,null,null,null,null,null,null,null,{"$f":"設定シート!$AG$7","v":"　"}]
[]
[]
[]
[]
[]
[]
[]
[]
[]
[null,null,null,null,null,null,null,null,null,null,null,null,null,null,null,null,null,null,null,null,null,null,null,null,null,null,null,null,null,null,null,null,null,null,null,null,null,null,null,null,null,null,null,null,null,null,null,null,null,null,null,null,null,null,null,null,null,null,null,{"$f":"設定シート!$C$8","v":0}]
[]
[]
[]
[]
[]
[]
[]
[]
[]
[]
[]
[]
[null,null,null,null,null,null,null,null,null,null,null,null,null,null,null,null,null,null,null,null,null,null,null,null,null,null,null,null,null,null,null,null,null,null,null,null,null,null,null,null,null,null,null,null,null,null,null,null,null,null,null,null,null,null,null,null,null,null,null,null,null,null,null,null,null,null,null,null,null,null,null,null,null,null,null,null,{"$f":"設定シート!$C$9","v":0}]
[]
[]
[]
[]
[]
[]
[]
[]
[]
[null,null,null,null,null,null,null,null,null,null,null,null,null,null,null,null,null,null,null,null,null,null,null,null,null,null,null,null,null,null,null,null,null,null,null,null,null,null,null,null,null,null,null,null,null,null,null,null,null,null,null,null,null,null,null,null,null,null,null,{"$f":"設定シート!$C$10","v":0}]
[null,null,null,null,null,null,null,null,null,null,null,null,null,null,null,null,null,null,null,null,null,null,null,null,null,null,null,null,null,null,null,null,null,null,null,null,null,null,null,null,null,null,null,null,null,null,null,null,null,null,null,null,null,null,null,null,null,null,null,null,null,null,null,null,null,null,null,null,null,null,null,null,null,null,null,null,null,null,null,null,null,null,null,null,null,null,null,null,null,null,null,null,null,null,null,null,null,null,null,null,null,null,null,null,null,null,null,null,null,null,null,null,null,null,null,null,null,null,null,null,null,null,null,null,null,null,null,null,null,null,null,null,null,null,null,null,null,null,null,null,null,null,null,null,null,null,null,null,null,null,null,null,null,null,null,null,null,null,null,null,null,null,null,null,null,null,{"$f":"STATISTICS!$P$5","v":"○"},null,null,null,null,null,null,null,null,null,null,null,null,null,null,null,null,null,null,null,null,null,null,{"$f":"STATISTICS!$P$6","v":""},null,null,null,null,null,null,null,null,null,null,null,null,null,null,null,null,null,null,null,null,{"$f":"STATISTICS!$P$7","v":""},null,null,null,null,null,null,null,null,null,null,null,null,null,null,null,null,null,null,null,{"$f":"STATISTICS!$P$8","v":""},null,null,null,null,null,null,null,null,null,null,null,null,null,null,null,null,null,null,null,null,null,null,null,null,null,null,null,null,null,{"$f":"STATISTICS!$R$3","v":1234567}]

{"sheet":"大腸①-2","index":9,"n_rows":389,"n_cols":261,"rows_kept":389,"cut":false,"hidden":false,"merged":[[38,256,46,270],[41,51,46,110],[45,158,53,237],[52,50,61,110],[54,158,61,237],[29,217,36,224],[30,67,36,74],[30,87,36,94],[30,107,36,114],[38,238,46,247],[29,154,36,161],[29,164,36,171],[29,175,36,182],[29,185,36,192],[29,195,36,202],[29,206,36,213],[65,212,72,251],[66,174,72,180],[66,188,72,194],[67,53,71,59],[67,67,71,73],[67,80,71,87],[67,100,71,107],[67,121,71,128],[67,151,71,158],[388,210,393,216],[388,230,393,236],[388,260,393,280],[354,128,361,135],[364,59,372,135],[377,76,383,135],[387,59,395,135],[388,166,393,172],[388,189,393,195],[354,65,361,72],[354,76,361,83],[354,86,361,93],[354,97,361,104],[354,107,361,114],[354,117,361,124]]}
[]
[]
[]
[]
[]
[]
[]
[]
[]
[]
[]
[]
[]
[]
[]
[]
[]
[]
[]
[]
[]
[]
[]
[]
[]
[]
[]
[]
[]
[null,null,null,null,null,null,null,null,null,null,null,null,null,null,null,null,null,null,null,null,null,null,null,null,null,null,null,null,null,null,null,null,null,null,null,null,null,null,null,null,null,null,null,null,null,null,null,null,null,null,null,null,null,null,null,null,null,null,null,null,null,null,null,null,null,null,null,null,null,null,null,null,null,null,null,null,null,null,null,null,null,null,null,null,null,null,null,null,null,null,null,null,null,null,null,null,null,null,null,null,null,null,null,null,null,null,null,null,null,null,null,null,null,null,null,null,null,null,null,null,null,null,null,null,null,null,null,null,null,null,null,null,null,null,null,null,null,null,null,null,null,null,null,null,null,null,null,null,null,null,null,null,null,null,{"$f":"STATISTICS!$E$5","v":"1"},null,null,null,null,null,null,null,null,null,{"$f":"STATISTICS!$E$6","v":"2"},null,null,null,null,null,null,null,null,null,null,{"$f":"STATISTICS!$E$7","v":"3"},null,null,null,null,null,null,null,null,null,{"$f":"STATISTICS!$E$8","v":"4"},null,null,null,null,null,null,null,null,null,{"$f":"STATISTICS!$E$9","v":"5"},null,null,null,null,null,null,null,null,null,null,{"$f":"STATISTICS!$E$10","v":"6"},null,null,null,null,null,null,null,null,null,null,{"$f":"STATISTICS!$E$11","v":"7"}]
[null,null,null,null,null,null,null,null,null,null,null,null,null,null,null,null,null,null,null,null,null,null,null,null,null,null,null,null,null,null,null,null,null,null,null,null,null,null,null,null,null,null,null,null,null,null,null,null,null,null,null,null,null,null,null,null,null,null,null,null,null,null,null,null,null,null,null,{"$f":"STATISTICS!$D$7","v":"04"},null,null,null,null,null,null,null,null,null,null,null,null,null,null,null,null,null,null,null,{"$f":"STATISTICS!$D$8","v":"09"},null,null,null,null,null,null,null,null,null,null,null,null,null,null,null,null,null,null,null,{"$f":"STATISTICS!$D$9","v":"08"}]
[]
[]
[]
[]
[]
[]
[]
[null,null,null,null,null,null,null,null,null,null,null,null,null,null,null,null,null,null,null,null,null,null,null,null,null,null,null,null,null,null,null,null,null,null,null,null,null,null,null,null,null,null,null,null,null,null,null,null,null,null,null,null,null,null,null,null,null,null,null,null,null,null,null,null,null,null,null,null,null,null,null,null,null,null,null,null,null,null,null,null,null,null,null,null,null,null,null,null,null,null,null,null,null,null,null,null,null,null,null,null,null,null,null,null,null,null,null,null,null,null,null,null,null,null,null,null,null,null,null,null,null,null,null,null,null,null,null,null,null,null,null,null,null,null,null,null,null,null,null,null,null,null,null,null,null,null,null,null,null,null,null,null,null,null,null,null,null,null,null,null,null,null,null,null,null,null,null,null,null,null,null,null,null,null,null,null,null,null,null,null,null,null,null,null,null,null,null,null,null,null,null,null,null,null,null,null,null,null,null,null,null,null,null,null,null,null,null,null,null,null,null,null,null,null,null,null,null,null,null,null,null,null,null,null,null,null,null,null,null,null,null,null,null,null,null,null,null,null,{"$f":"STATISTICS!$F$5","v":"960"},null,null,null,null,null,null,null,null,null,null,null,null,null,null,null,null,null,{"$f":"STATISTICS!$F$6","v":"8002"}]
[]
[]
[null,null,null,null,null,null,null,null,null,null,null,null,null,null,null,null,null,null,null,null,null,null,null,null,null,null,null,null,null,null,null,null,null,null,null,null,null,null,null,null,null,null,null,null,null,null,null,null,null,null,null,{"$f":"STATISTICS!$C$3","v":"いしかい　はるこ"}]
[]
[]
[]
[null,null,null,null,null,null,null,null,null,null,null,null,null,null,null,null,null,null,null,null,null,null,null,null,null,null,null,null,null,null,null,null,null,null,null,null,null,null,null,null,null,null,null,null,null,null,null,null,null,null,null,null,null,null,null,null,null,null,null,null,null,null,null,null,null,null,null,null,null,null,null,null,null,null,null,null,null,null,null,null,null,null,null,null,null,null,null,null,null,null,null,null,null,null,null,null,null,null,null,null,null,null,null,null,null,null,null,null,null,null,null,null,null,null,null,null,null,null,null,null,null,null,null,null,null,null,null,null,null,null,null,null,null,null,null,null,null,null,null,null,null,null,null,null,null,null,null,null,null,null,null,null,null,null,null,null,null,null,{"$f":"STATISTICS!$H$3","v":"森合町10番1号"}]
[]
[]
[]
[]
[]
[]
[null,null,null,null,null,null,null,null,null,null,null,null,null,null,null,null,null,null,null,null,null,null,null,null,null,null,null,null,null,null,null,null,null,null,null,null,null,null,null,null,null,null,null,null,null,null,null,null,null,null,{"$f":"STATISTICS!$B$3","v":"医師会　春子"}]
[]
[null,null,null,null,null,null,null,null,null,null,null,null,null,null,null,null,null,null,null,null,null,null,null,null,null,null,null,null,null,null,null,null,null,null,null,null,null,null,null,null,null,null,null,null,null,null,null,null,null,null,null,null,null,null,null,null,null,null,null,null,null,null,null,null,null,null,null,null,null,null,null,null,null,null,null,null,null,null,null,null,null,null,null,null,null,null,null,null,null,null,null,null,null,null,null,null,null,null,null,null,null,null,null,null,null,null,null,null,null,null,null,null,null,null,null,null,null,null,null,null,null,null,null,null,null,null,null,null,null,null,null,null,null,null,null,null,null,null,null,null,null,null,null,null,null,null,null,null,null,null,null,null,null,null,null,null,null,null,{"$f":"STATISTICS!$I$3","v":"福島市保健福祉センター内"}]
[]
[]
[]
[]
[]
[]
[]
[]
[]
[]
[null,null,null,null,null,null,null,null,null,null,null,null,null,null,null,null,null,null,null,null,null,null,null,null,null,null,null,null,null,null,null,null,null,null,null,null,null,null,null,null,null,null,null,null,null,null,null,null,null,null,null,null,null,null,null,null,null,null,null,null,null,null,null,null,null,null,null,null,null,null,null,null,null,null,null,null,null,null,null,null,null,null,null,null,null,null,null,null,null,null,null,null,null,null,null,null,null,null,null,null,null,null,null,null,null,null,null,null,null,null,null,null,null,null,null,null,null,null,null,null,null,null,null,null,null,null,null,null,null,null,null,null,null,null,null,null,null,null,null,null,null,null,null,null,null,null,null,null,null,null,null,null,null,null,null,null,null,null,null,null,null,null,null,null,null,null,null,null,null,null,null,null,null,null,null,null,null,null,null,null,null,null,null,null,null,null,null,null,null,null,null,null,null,null,null,null,null,null,null,null,null,null,null,null,null,null,null,null,null,null,null,null,{"$f":"STATISTICS!$J$3","v":"024-534-2290"}]
[null,null,null,null,null,null,null,null,null,null,null,null,null,null,null,null,null,null,null,null,null,null,null,null,null,null,null,null,null,null,null,null,null,null,null,null,null,null,null,null,null,null,null,null,null,null,null,null,null,null,null,null,null,null,null,null,null,null,null,null,null,null,null,null,null,null,null,null,null,null,null,null,null,null,null,null,null,null,null,null,null,null,null,null,null,null,null,null,null,null,null,null,null,null,null,null,null,null,null,null,null,null,null,null,null,null,null,null,null,null,null,null,null,null,null,null,null,null,null,null,null,null,null,null,null,null,null,null,null,null,null,null,null,null,null,null,null,null,null,null,null,null,null,null,null,null,null,null,null,null,null,null,null,null,null,null,null,null,null,null,null,null,null,null,null,null,null,null,null,null,null,null,null,null,{"$f":"STATISTICS!$K$5","v":""},null,null,null,null,null,null,null,null,null,null,null,null,null,{"$f":"STATISTICS!$K$6","v":"○"}]
[null,null,null,null,null,null,null,null,null,null,null,null,null,null,null,null,null,null,null,null,null,null,null,null,null,null,null,null,null,null,null,null,null,null,null,null,null,null,null,null,null,null,null,null,null,null,null,null,null,null,null,null,null,{"$f":"STATISTICS!$M$12","v":""},null,null,null,null,null,null,null,null,null,null,null,null,null,{"$f":"STATISTICS!$M$13","v":"○"},null,null,null,null,null,null,null,null,null,null,null,null,{"$f":"STATISTICS!$M$7","v":"35"},null,null,null,null,null,null,null,null,null,null,null,null,null,null,null,null,null,null,null,{"$f":"STATISTICS!$M$8","v":"12"},null,null,null,null,null,null,null,null,null,null,null,null,null,null,null,null,null,null,null,null,{"$f":"STATISTICS!$M$9","v":"11"},null,null,null,null,null,null,null,null,null,null,null,null,null,null,null,null,null,null,null,null,null,null,null,null,null,null,null,null,null,{"$f":"STATISTICS!$N$3","v":61}]
[]
[]
[]
[]
[]
[]
[]
[]
[]
[]
[]
[]
[]
[]
[]
[]
[]
[]
[]
[]
[]
[]
[]
[]
[]
[]
[]
[]
[]
[]
[]
[]
[]
[]
[]
[]
[]
[]
[]
[]
[]
[]
[]
[]
[]
[]
[]
[]
[]
[]
[]
[]
[]
[]
[]
[]
[]
[]
[]
[]
[]
[]
[]
[]
[]
[]
[]
[]
[]
[]
[]
[]
[]
[]
[]
[]
[]
[]
[]
[]
[]
[]
[]
[]
[]
[]
[]
[]
[]
[]
[]
[]
[]
[]
[]
[]
[]
[]
[]
[]
[]
[]
[]
[]
[]
[]
[]
[]
[]
[]
[]
[]
[]
[]
[]
[]
[]
[]
[]
[]
[]
[]
[]
[]
[]
[]
[]
[]
[]
[]
[]
[]
[]
[]
[]
[]
[]
[]
[]
[]
[]
[]
[]
[]
[]
[]
[]
[]
[]
[]
[]
[]
[]
[]
[]
[]
[]
[]
[]
[]
[]
[]
[]
[]
[]
[]
[]
[]
[]
[]
[]
[]
[]
[]
[]
[]
[]
[]
[]
[]
[]
[]
[]
[]
[]
[]
[]
[]
[]
[]
[]
[]
[]
[]
[]
[]
[]
[]
[]
[]
[]
[]
[]
[]
[]
[]
[]
[]
[]
[]
[]
[]
[]
[]
[]
[]
[]
[]
[]
[]
[]
[]
[]
[]
[]
[]
[]
[]
[]
[]
[]
[]
[]
[]
[]
[]
[]
[]
[]
[]
[]
[]
[]
[]
[]
[]
[]
[]
[]
[]
[]
[]
[]
[]
[]
[]
[]
[]
[]
[]
[]
[]
[]
[]
[]
[]
[]
[]
[]
[]
[]
[]
[]
[]
[]
[]
[]
[]
[]
[]
[]
[]
[]
[]
[]
[]
[]
[]
[]
[]
[]
[]
[]
[]
[]
[]
[]
[]
[]
[]
[]
[]
[]
[]
[]
[]
[]
[]
[]
[]
[]
[]
[]
[]
[]
[]
[]
[]
[]
[]
[null,null,null,null,null,null,null,null,null,null,null,null,null,null,null,null,null,null,null,null,null,null,null,null,null,null,null,null,null,null,null,null,null,null,null,null,null,null,null,null,null,null,null,null,null,null,null,null,null,null,null,null,null,null,null,null,null,null,null,null,null,null,null,null,null,null,null,null,null,null,null,null,null,null,null,null,null,null,null,null,null,null,null,null,null,null,null,null,null,null,null,null,null,null,null,null,null,null,null,null,null,null,null,null,null,null,null,null,null,null,null,null,null,null,null,null,null,null,null,null,null,null,null,null,null,null,null,null,null,null,null,null,null,null,null,null,null,null,null,null,null,null,null,null,null,null,null,null,null,null,null,null,null,null,null,null,null,null,null,null,null,null,null,null,null,null,{"$f":"STATISTICS!$P$5","v":"○"},null,null,null,null,null,null,null,null,null,null,null,null,null,null,null,null,null,null,null,null,null,null,{"$f":"STATISTICS!$P$6","v":""},null,null,null,null,null,null,null,null,null,null,null,null,null,null,null,null,null,null,null,null,{"$f":"STATISTICS!$P$7","v":""},null,null,null,null,null,null,null,null,null,null,null,null,null,null,null,null,null,null,null,{"$f":"STATISTICS!$P$8","v":""},null,null,null,null,null,null,null,null,null,null,null,null,null,null,null,null,null,null,null,null,null,null,null,null,null,null,null,null,null,{"$f":"STATISTICS!$R$3","v":1234567}]

{"sheet":"肺①","index":10,"n_rows":390,"n_cols":257,"rows_kept":390,"cut":false,"hidden":false,"merged":[[359,138,366,145],[369,69,377,145],[381,86,387,145],[389,69,397,145],[387,167,392,173],[359,71,366,78],[359,82,366,89],[359,93,366,100],[359,104,366,111],[359,115,366,122],[359,126,366,133],[73,62,77,68],[73,77,77,83],[25,159,32,166],[25,170,32,177],[26,74,32,81],[26,94,32,101],[26,114,32,121],[38,58,43,118],[73,92,77,99],[73,117,77,124],[73,142,77,149],[53,58,62,118],[52,164,59,243],[73,176,77,183],[43,164,51,271],[386,256,391,276],[25,226,32,233],[35,235,42,244],[35,253,42,267],[25,181,32,188],[25,192,32,199],[25,203,32,210],[25,214,32,221],[387,208,392,214],[387,225,392,231],[387,188,392,194],[60,195,67,234],[72,229,78,235],[72,254,78,260]]}
[]
[]
[]
[]
[]
[]
[]
[]
[]
[]
[]
[]
[]
[]
[]
[]
[]
[]
[]
[]
[]
[]
[]
[]
[]
[null,null,null,null,null,null,null,null,null,null,null,null,null,null,null,null,null,null,null,null,null,null,null,null,null,null,null,null,null,null,null,null,null,null,null,null,null,null,null,null,null,null,null,null,null,null,null,null,null,null,null,null,null,null,null,null,null,null,null,null,null,null,null,null,null,null,null,null,null,null,null,null,null,null,null,null,null,null,null,null,null,null,null,null,null,null,null,null,null,null,null,null,null,null,null,null,null,null,null,null,null,null,null,null,null,null,null,null,null,null,null,null,null,null,null,null,null,null,null,null,null,null,null,null,null,null,null,null,null,null,null,null,null,null,null,null,null,null,null,null,null,null,null,null,null,null,null,null,null,null,null,null,null,null,null,null,null,null,null,{"$f":"STATISTICS!$E$5","v":"1"},null,null,null,null,null,null,null,null,null,null,{"$f":"STATISTICS!$E$6","v":"2"},null,null,null,null,null,null,null,null,null,null,{"$f":"STATISTICS!$E$7","v":"3"},null,null,null,null,null,null,null,null,null,null,{"$f":"STATISTICS!$E$8","v":"4"},null,null,null,null,null,null,null,null,null,null,{"$f":"STATISTICS!$E$9","v":"5"},null,null,null,null,null,null,null,null,null,null,{"$f":"STATISTICS!$E$10","v":"6"},null,null,null,null,null,null,null,null,null,null,null,{"$f":"STATISTICS!$E$11","v":"7"}]
[null,null,null,null,null,null,null,null,null,null,null,null,null,null,null,null,null,null,null,null,null,null,null,null,null,null,null,null,null,null,null,null,null,null,null,null,null,null,null,null,null,null,null,null,null,null,null,null,null,null,null,null,null,null,null,null,null,null,null,null,null,null,null,null,null,null,null,null,null,null,null,null,null,null,{"$f":"STATISTICS!$D$7","v":"04"},null,null,null,null,null,null,null,null,null,null,null,null,null,null,null,null,null,null,null,{"$f":"STATISTICS!$D$8","v":"09"},null,null,null,null,null,null,null,null,null,null,null,null,null,null,null,null,null,null,null,{"$f":"STATISTICS!$D$9","v":"08"}]
[]
[]
[]
[]
[]
[]
[]
[]
[null,null,null,null,null,null,null,null,null,null,null,null,null,null,null,null,null,null,null,null,null,null,null,null,null,null,null,null,null,null,null,null,null,null,null,null,null,null,null,null,null,null,null,null,null,null,null,null,null,null,null,null,null,null,null,null,null,null,null,null,null,null,null,null,null,null,null,null,null,null,null,null,null,null,null,null,null,null,null,null,null,null,null,null,null,null,null,null,null,null,null,null,null,null,null,null,null,null,null,null,null,null,null,null,null,null,null,null,null,null,null,null,null,null,null,null,null,null,null,null,null,null,null,null,null,null,null,null,null,null,null,null,null,null,null,null,null,null,null,null,null,null,null,null,null,null,null,null,null,null,null,null,null,null,null,null,null,null,null,null,null,null,null,null,null,null,null,null,null,null,null,null,null,null,null,null,null,null,null,null,null,null,null,null,null,null,null,null,null,null,null,null,null,null,null,null,null,null,null,null,null,null,null,null,null,null,null,null,null,null,null,null,null,null,null,null,null,null,null,null,null,null,null,null,null,null,null,null,null,null,null,null,null,null,null,{"$f":"STATISTICS!$F$5","v":"960"},null,null,null,null,null,null,null,null,null,null,null,null,null,null,null,null,null,{"$f":"STATISTICS!$F$6","v":"8002"}]
[]
[]
[null,null,null,null,null,null,null,null,null,null,null,null,null,null,null,null,null,null,null,null,null,null,null,null,null,null,null,null,null,null,null,null,null,null,null,null,null,null,null,null,null,null,null,null,null,null,null,null,null,null,null,null,null,null,null,null,null,null,{"$f":"STATISTICS!$C$3","v":"いしかい　はるこ"}]
[]
[]
[]
[]
[null,null,null,null,null,null,null,null,null,null,null,null,null,null,null,null,null,null,null,null,null,null,null,null,null,null,null,null,null,null,null,null,null,null,null,null,null,null,null,null,null,null,null,null,null,null,null,null,null,null,null,null,null,null,null,null,null,null,null,null,null,null,null,null,null,null,null,null,null,null,null,null,null,null,null,null,null,null,null,null,null,null,null,null,null,null,null,null,null,null,null,null,null,null,null,null,null,null,null,null,null,null,null,null,null,null,null,null,null,null,null,null,null,null,null,null,null,null,null,null,null,null,null,null,null,null,null,null,null,null,null,null,null,null,null,null,null,null,null,null,null,null,null,null,null,null,null,null,null,null,null,null,null,null,null,null,null,null,null,null,null,null,null,null,{"$f":"STATISTICS!$H$3","v":"森合町10番1号"}]
[]
[]
[]
[]
[]
[]
[]
[]
[null,null,null,null,null,null,null,null,null,null,null,null,null,null,null,null,null,null,null,null,null,null,null,null,null,null,null,null,null,null,null,null,null,null,null,null,null,null,null,null,null,null,null,null,null,null,null,null,null,null,null,null,null,null,null,null,null,null,null,null,null,null,null,null,null,null,null,null,null,null,null,null,null,null,null,null,null,null,null,null,null,null,null,null,null,null,null,null,null,null,null,null,null,null,null,null,null,null,null,null,null,null,null,null,null,null,null,null,null,null,null,null,null,null,null,null,null,null,null,null,null,null,null,null,null,null,null,null,null,null,null,null,null,null,null,null,null,null,null,null,null,null,null,null,null,null,null,null,null,null,null,null,null,null,null,null,null,null,null,null,null,null,null,null,{"$f":"STATISTICS!$I$3","v":"福島市保健福祉センター内"}]
[null,null,null,null,null,null,null,null,null,null,null,null,null,null,null,null,null,null,null,null,null,null,null,null,null,null,null,null,null,null,null,null,null,null,null,null,null,null,null,null,null,null,null,null,null,null,null,null,null,null,null,null,null,null,null,null,null,null,{"$f":"STATISTICS!$B$3","v":"医師会　春子"}]
[]
[]
[]
[]
[]
[]
[null,null,null,null,null,null,null,null,null,null,null,null,null,null,null,null,null,null,null,null,null,null,null,null,null,null,null,null,null,null,null,null,null,null,null,null,null,null,null,null,null,null,null,null,null,null,null,null,null,null,null,null,null,null,null,null,null,null,null,null,null,null,null,null,null,null,null,null,null,null,null,null,null,null,null,null,null,null,null,null,null,null,null,null,null,null,null,null,null,null,null,null,null,null,null,null,null,null,null,null,null,null,null,null,null,null,null,null,null,null,null,null,null,null,null,null,null,null,null,null,null,null,null,null,null,null,null,null,null,null,null,null,null,null,null,null,null,null,null,null,null,null,null,null,null,null,null,null,null,null,null,null,null,null,null,null,null,null,null,null,null,null,null,null,null,null,null,null,null,null,null,null,null,null,null,null,null,null,null,null,null,null,null,null,null,null,null,null,null,null,null,null,null,null,null,{"$f":"STATISTICS!$J$3","v":"024-534-2290"}]
[]
[]
[]
[]
[]
[]
[]
[]
[]
[]
[]
[null,null,null,null,null,null,null,null,null,null,null,null,null,null,null,null,null,null,null,null,null,null,null,null,null,null,null,null,null,null,null,null,null,null,null,null,null,null,null,null,null,null,null,null,null,null,null,null,null,null,null,null,null,null,null,null,null,null,null,null,null,null,null,null,null,null,null,null,null,null,null,null,null,null,null,null,null,null,null,null,null,null,null,null,null,null,null,null,null,null,null,null,null,null,null,null,null,null,null,null,null,null,null,null,null,null,null,null,null,null,null,null,null,null,null,null,null,null,null,null,null,null,null,null,null,null,null,null,null,null,null,null,null,null,null,null,null,null,null,null,null,null,null,null,null,null,null,null,null,null,null,null,null,null,null,null,null,null,null,null,null,null,null,null,null,null,null,null,null,null,null,null,null,null,null,null,null,null,null,null,null,null,null,null,null,null,null,null,null,null,null,null,null,null,null,null,null,null,null,null,null,null,null,null,null,null,null,null,null,null,null,null,null,null,null,null,null,null,null,null,null,null,null,null,null,null,null,null,null,{"$f":"STATISTICS!$K$5","v":""},null,null,null,null,null,null,null,null,null,null,null,null,null,null,null,null,null,null,null,null,null,null,null,null,{"$f":"STATISTICS!$K$6","v":"○"}]
[null,null,null,null,null,null,null,null,null,null,null,null,null,null,null,null,null,null,null,null,null,null,null,null,null,null,null,null,null,null,null,null,null,null,null,null,null,null,null,null,null,null,null,null,null,null,null,null,null,null,null,null,null,null,null,null,null,null,null,null,null,null,{"$f":"STATISTICS!$M$12","v":""},null,null,null,null,null,null,null,null,null,null,null,null,null,null,{"$f":"STATISTICS!$M$13","v":"○"},null,null,null,null,null,null,null,null,null,null,null,null,null,null,{"$f":"STATISTICS!$M$7","v":"35"},null,null,null,null,null,null,null,null,null,null,null,null,null,null,null,null,null,null,null,null,null,null,null,null,{"$f":"STATISTICS!$M$8","v":"12"},null,null,null,null,null,null,null,null,null,null,null,null,null,null,null,null,null,null,null,null,null,null,null,null,{"$f":"STATISTICS!$M$9","v":"11"},null,null,null,null,null,null,null,null,null,null,null,null,null,null,null,null,null,null,null,null,null,null,null,null,null,null,null,null,null,null,null,null,null,{"$f":"STATISTICS!$N$3","v":61}]
[]
[]
[]
[]
[]
[]
[]
[]
[]
[]
[]
[]
[]
[]
[]
[]
[]
[]
[]
[]
[]
[]
[]
[]
[]
[]
[]
[]
[]
[]
[]
[]
[]
[]
[]
[]
[]
[]
[]
[]
[]
[]
[]
[]
[]
[]
[]
[]
[]
[]
[]
[]
[]
[]
[]
[]
[]
[]
[]
[]
[]
[]
[]
[]
[]
[]
[]
[]
[]
[]
[]
[]
[]
[]
[]
[]
[]
[]
[]
[]
[]
[]
[]
[]
[]
[]
[]
[]
[]
[]
[]
[]
[]
[]
[]
[]
[]
[]
[]
[]
[]
[]
[]
[]
[]
[]
[]
[]
[]
[]
[]
[]
[]
[]
[]
[]
[]
[]
[]
[]
[]
[]
[]
[]
[]
[]
[]
[]
[]
[]
[]
[]
[]
[]
[]
[]
[]
[]
[]
[]
[]
[]
[]
[]
[]
[]
[]
[]
[]
[]
[]
[]
[]
[]
[]
[]
[]
[]
[]
[]
[]
[]
[]
[]
[]
[]
[]
[]
[]
[]
[]
[]
[]
[]
[]
[]
[]
[]
[]
[]
[]
[]
[]
[]
[]
[]
[]
[]
[]
[]
[]
[]
[]
[]
[]
[]
[]
[]
[]
[]
[]
[]
[]
[]
[]
[]
[]
[]
[]
[]
[]
[]
[]
[]
[]
[]
[]
[]
[]
[]
[]
[]
[]
[]
[]
[]
[]
[]
[]
[]
[]
[]
[]
[]
[]
[]
[]
[]
[]
[]
[]
[]
[]
[]
[]
[]
[]
[]
[]
[]
[]
[]
[]
[]
[]
[]
[]
[]
[]
[]
[]
[]
[]
[]
[]
[]
[]
[]
[]
[]
[]
[]
[]
[]
[]
[]
[]
[]
[]
[]
[]
[]
[]
[]
[]
[null,null,null,null,null,null,null,null,null,null,null,null,null,null,null,null,null,null,null,null,null,null,null,null,null,null,null,null,null,null,null,null,null,null,null,null,null,null,null,null,null,null,null,null,null,null,null,null,null,null,null,null,null,null,null,null,null,null,null,null,null,null,null,null,null,null,null,null,null,null,null,{"$f":"設定シート!$AA$7","v":"　"},null,null,null,null,null,null,null,null,null,null,{"$f":"設定シート!$AB$7","v":"　"},null,null,null,null,null,null,null,null,null,null,{"$f":"設定シート!$AC$7","v":"　"},null,null,null,null,null,null,null,null,null,null,{"$f":"設定シート!$AD$7","v":"　"},null,null,null,null,null,null,null,null,null,null,{"$f":"設定シート!$AE$7","v":"　"},null,null,null,null,null,null,null,null,null,null,{"$f":"設定シート!$AF$7","v":"　"},null,null,null,null,null,null,null,null,null,null,null,{"$f":"設定シート!$AG$7","v":"　"}]
[]
[]
[]
[]
[]
[]
[]
[]
[]
[null,null,null,null,null,null,null,null,null,null,null,null,null,null,null,null,null,null,null,null,null,null,null,null,null,null,null,null,null,null,null,null,null,null,null,null,null,null,null,null,null,null,null,null,null,null,null,null,null,null,null,null,null,null,null,null,null,null,null,null,null,null,null,null,null,null,null,null,null,{"$f":"設定シート!$C$8","v":0}]
[]
[]
[]
[]
[]
[]
[]
[]
[]
[]
[]
[null,null,null,null,null,null,null,null,null,null,null,null,null,null,null,null,null,null,null,null,null,null,null,null,null,null,null,null,null,null,null,null,null,null,null,null,null,null,null,null,null,null,null,null,null,null,null,null,null,null,null,null,null,null,null,null,null,null,null,null,null,null,null,null,null,null,null,null,null,null,null,null,null,null,null,null,null,null,null,null,null,null,null,null,null,null,{"$f":"設定シート!$C$9","v":0}]
[]
[]
[]
[]
[null,null,null,null,null,null,null,null,null,null,null,null,null,null,null,null,null,null,null,null,null,null,null,null,null,null,null,null,null,null,null,null,null,null,null,null,null,null,null,null,null,null,null,null,null,null,null,null,null,null,null,null,null,null,null,null,null,null,null,null,null,null,null,null,null,null,null,null,null,null,null,null,null,null,null,null,null,null,null,null,null,null,null,null,null,null,null,null,null,null,null,null,null,null,null,null,null,null,null,null,null,null,null,null,null,null,null,null,null,null,null,null,null,null,null,null,null,null,null,null,null,null,null,null,null,null,null,null,null,null,null,null,null,null,null,null,null,null,null,null,null,null,null,null,null,null,null,null,null,null,null,null,null,null,null,null,null,null,null,null,null,null,null,null,null,null,null,null,null,null,null,null,null,null,null,null,null,null,null,null,null,null,null,null,null,null,null,null,null,null,null,null,null,null,null,null,null,null,null,null,null,null,null,null,null,null,null,null,null,null,null,null,null,null,null,null,null,null,null,null,null,null,null,null,null,null,null,null,null,null,null,null,null,null,null,null,null,null,null,null,null,null,null,null,null,null,null,null,null,null,null,null,null,null,null,null,{"$f":"STATISTICS!$R$3","v":1234567}]
[null,null,null,null,null,null,null,null,null,null,null,null,null,null,null,null,null,null,null,null,null,null,null,null,null,null,null,null,null,null,null,null,null,null,null,null,null,null,null,null,null,null,null,null,null,null,null,null,null,null,null,null,null,null,null,null,null,null,null,null,null,null,null,null,null,null,null,null,null,null,null,null,null,null,null,null,null,null,null,null,null,null,null,null,null,null,null,null,null,null,null,null,null,null,null,null,null,null,null,null,null,null,null,null,null,null,null,null,null,null,null,null,null,null,null,null,null,null,null,null,null,null,null,null,null,null,null,null,null,null,null,null,null,null,null,null,null,null,null,null,null,null,null,null,null,null,null,null,null,null,null,null,null,null,null,null,null,null,null,null,null,null,null,null,null,null,null,{"$f":"STATISTICS!$P$5","v":"○"},null,null,null,null,null,null,null,null,null,null,null,null,null,null,null,null,null,null,null,null,{"$f":"STATISTICS!$P$6","v":""},null,null,null,null,null,null,null,null,null,null,null,null,null,null,null,null,null,null,null,{"$f":"STATISTICS!$P$7","v":""},null,null,null,null,null,null,null,null,null,null,null,null,null,null,null,null,{"$f":"STATISTICS!$P$8","v":""}]
[]
[null,null,null,null,null,null,null,null,null,null,null,null,null,null,null,null,null,null,null,null,null,null,null,null,null,null,null,null,null,null,null,null,null,null,null,null,null,null,null,null,null,null,null,null,null,null,null,null,null,null,null,null,null,null,null,null,null,null,null,null,null,null,null,null,null,null,null,null,null,{"$f":"設定シート!$C$10","v":0}]

{"sheet":"肺①-2","index":11,"n_rows":388,"n_cols":257,"rows_kept":388,"cut":false,"hidden":false,"merged":[[35,253,42,267],[38,58,43,118],[43,164,51,271],[25,159,32,166],[25,170,32,177],[25,181,32,188],[25,192,32,199],[25,203,32,210],[25,214,32,221],[25,226,32,233],[26,74,32,81],[26,94,32,101],[26,114,32,121],[35,235,42,244],[52,164,59,243],[53,58,62,118],[60,195,67,234],[72,229,78,235],[72,254,78,260],[73,62,77,68],[73,77,77,83],[73,92,77,99],[73,117,77,124],[73,142,77,149],[73,176,77,183],[359,71,366,78],[359,82,366,89],[359,93,366,100],[359,104,366,111],[359,115,366,122],[359,126,366,133],[359,138,366,145],[369,69,377,145],[381,86,387,145],[386,256,391,276],[387,167,392,173],[387,188,392,194],[387,208,392,214],[387,225,392,231],[389,69,397,145]]}
[]
[]
[]
[]
[]
[]
[]
[]
[]
[]
[]
[]
[]
[]
[]
[]
[]
[]
[]
[]
[]
[]
[]
[]
[]
[null,null,null,null,null,null,null,null,null,null,null,null,null,null,null,null,null,null,null,null,null,null,null,null,null,null,null,null,null,null,null,null,null,null,null,null,null,null,null,null,null,null,null,null,null,null,null,null,null,null,null,null,null,null,null,null,null,null,null,null,null,null,null,null,null,null,null,null,null,null,null,null,null,null,null,null,null,null,null,null,null,null,null,null,null,null,null,null,null,null,null,null,null,null,null,null,null,null,null,null,null,null,null,null,null,null,null,null,null,null,null,null,null,null,null,null,null,null,null,null,null,null,null,null,null,null,null,null,null,null,null,null,null,null,null,null,null,null,null,null,null,null,null,null,null,null,null,null,null,null,null,null,null,null,null,null,null,null,null,{"$f":"STATISTICS!$E$5","v":"1"},null,null,null,null,null,null,null,null,null,null,{"$f":"STATISTICS!$E$6","v":"2"},null,null,null,null,null,null,null,null,null,null,{"$f":"STATISTICS!$E$7","v":"3"},null,null,null,null,null,null,null,null,null,null,{"$f":"STATISTICS!$E$8","v":"4"},null,null,null,null,null,null,null,null,null,null,{"$f":"STATISTICS!$E$9","v":"5"},null,null,null,null,null,null,null,null,null,null,{"$f":"STATISTICS!$E$10","v":"6"},null,null,null,null,null,null,null,null,null,null,null,{"$f":"STATISTICS!$E$11","v":"7"}]
[null,null,null,null,null,null,null,null,null,null,null,null,null,null,null,null,null,null,null,null,null,null,null,null,null,null,null,null,null,null,null,null,null,null,null,null,null,null,null,null,null,null,null,null,null,null,null,null,null,null,null,null,null,null,null,null,null,null,null,null,null,null,null,null,null,null,null,null,null,null,null,null,null,null,{"$f":"STATISTICS!$D$7","v":"04"},null,null,null,null,null,null,null,null,null,null,null,null,null,null,null,null,null,null,null,{"$f":"STATISTICS!$D$8","v":"09"},null,null,null,null,null,null,null,null,null,null,null,null,null,null,null,null,null,null,null,{"$f":"STATISTICS!$D$9","v":"08"}]
[]
[]
[]
[]
[]
[]
[]
[]
[null,null,null,null,null,null,null,null,null,null,null,null,null,null,null,null,null,null,null,null,null,null,null,null,null,null,null,null,null,null,null,null,null,null,null,null,null,null,null,null,null,null,null,null,null,null,null,null,null,null,null,null,null,null,null,null,null,null,null,null,null,null,null,null,null,null,null,null,null,null,null,null,null,null,null,null,null,null,null,null,null,null,null,null,null,null,null,null,null,null,null,null,null,null,null,null,null,null,null,null,null,null,null,null,null,null,null,null,null,null,null,null,null,null,null,null,null,null,null,null,null,null,null,null,null,null,null,null,null,null,null,null,null,null,null,null,null,null,null,null,null,null,null,null,null,null,null,null,null,null,null,null,null,null,null,null,null,null,null,null,null,null,null,null,null,null,null,null,null,null,null,null,null,null,null,null,null,null,null,null,null,null,null,null,null,null,null,null,null,null,null,null,null,null,null,null,null,null,null,null,null,null,null,null,null,null,null,null,null,null,null,null,null,null,null,null,null,null,null,null,null,null,null,null,null,null,null,null,null,null,null,null,null,null,null,{"$f":"STATISTICS!$F$5","v":"960"},null,null,null,null,null,null,null,null,null,null,null,null,null,null,null,null,null,{"$f":"STATISTICS!$F$6","v":"8002"}]
[]
[]
[null,null,null,null,null,null,null,null,null,null,null,null,null,null,null,null,null,null,null,null,null,null,null,null,null,null,null,null,null,null,null,null,null,null,null,null,null,null,null,null,null,null,null,null,null,null,null,null,null,null,null,null,null,null,null,null,null,null,{"$f":"STATISTICS!$C$3","v":"いしかい　はるこ"}]
[]
[]
[]
[]
[null,null,null,null,null,null,null,null,null,null,null,null,null,null,null,null,null,null,null,null,null,null,null,null,null,null,null,null,null,null,null,null,null,null,null,null,null,null,null,null,null,null,null,null,null,null,null,null,null,null,null,null,null,null,null,null,null,null,null,null,null,null,null,null,null,null,null,null,null,null,null,null,null,null,null,null,null,null,null,null,null,null,null,null,null,null,null,null,null,null,null,null,null,null,null,null,null,null,null,null,null,null,null,null,null,null,null,null,null,null,null,null,null,null,null,null,null,null,null,null,null,null,null,null,null,null,null,null,null,null,null,null,null,null,null,null,null,null,null,null,null,null,null,null,null,null,null,null,null,null,null,null,null,null,null,null,null,null,null,null,null,null,null,null,{"$f":"STATISTICS!$H$3","v":"森合町10番1号"}]
[]
[]
[]
[]
[]
[]
[]
[]
[null,null,null,null,null,null,null,null,null,null,null,null,null,null,null,null,null,null,null,null,null,null,null,null,null,null,null,null,null,null,null,null,null,null,null,null,null,null,null,null,null,null,null,null,null,null,null,null,null,null,null,null,null,null,null,null,null,null,null,null,null,null,null,null,null,null,null,null,null,null,null,null,null,null,null,null,null,null,null,null,null,null,null,null,null,null,null,null,null,null,null,null,null,null,null,null,null,null,null,null,null,null,null,null,null,null,null,null,null,null,null,null,null,null,null,null,null,null,null,null,null,null,null,null,null,null,null,null,null,null,null,null,null,null,null,null,null,null,null,null,null,null,null,null,null,null,null,null,null,null,null,null,null,null,null,null,null,null,null,null,null,null,null,null,{"$f":"STATISTICS!$I$3","v":"福島市保健福祉センター内"}]
[null,null,null,null,null,null,null,null,null,null,null,null,null,null,null,null,null,null,null,null,null,null,null,null,null,null,null,null,null,null,null,null,null,null,null,null,null,null,null,null,null,null,null,null,null,null,null,null,null,null,null,null,null,null,null,null,null,null,{"$f":"STATISTICS!$B$3","v":"医師会　春子"}]
[]
[]
[]
[]
[]
[]
[null,null,null,null,null,null,null,null,null,null,null,null,null,null,null,null,null,null,null,null,null,null,null,null,null,null,null,null,null,null,null,null,null,null,null,null,null,null,null,null,null,null,null,null,null,null,null,null,null,null,null,null,null,null,null,null,null,null,null,null,null,null,null,null,null,null,null,null,null,null,null,null,null,null,null,null,null,null,null,null,null,null,null,null,null,null,null,null,null,null,null,null,null,null,null,null,null,null,null,null,null,null,null,null,null,null,null,null,null,null,null,null,null,null,null,null,null,null,null,null,null,null,null,null,null,null,null,null,null,null,null,null,null,null,null,null,null,null,null,null,null,null,null,null,null,null,null,null,null,null,null,null,null,null,null,null,null,null,null,null,null,null,null,null,null,null,null,null,null,null,null,null,null,null,null,null,null,null,null,null,null,null,null,null,null,null,null,null,null,null,null,null,null,null,null,{"$f":"STATISTICS!$J$3","v":"024-534-2290"}]
[]
[]
[]
[]
[]
[]
[]
[]
[]
[]
[]
[null,null,null,null,null,null,null,null,null,null,null,null,null,null,null,null,null,null,null,null,null,null,null,null,null,null,null,null,null,null,null,null,null,null,null,null,null,null,null,null,null,null,null,null,null,null,null,null,null,null,null,null,null,null,null,null,null,null,null,null,null,null,null,null,null,null,null,null,null,null,null,null,null,null,null,null,null,null,null,null,null,null,null,null,null,null,null,null,null,null,null,null,null,null,null,null,null,null,null,null,null,null,null,null,null,null,null,null,null,null,null,null,null,null,null,null,null,null,null,null,null,null,null,null,null,null,null,null,null,null,null,null,null,null,null,null,null,null,null,null,null,null,null,null,null,null,null,null,null,null,null,null,null,null,null,null,null,null,null,null,null,null,null,null,null,null,null,null,null,null,null,null,null,null,null,null,null,null,null,null,null,null,null,null,null,null,null,null,null,null,null,null,null,null,null,null,null,null,null,null,null,null,null,null,null,null,null,null,null,null,null,null,null,null,null,null,null,null,null,null,null,null,null,null,null,null,null,null,null,{"$f":"STATISTICS!$K$5","v":""},null,null,null,null,null,null,null,null,null,null,null,null,null,null,null,null,null,null,null,null,null,null,null,null,{"$f":"STATISTICS!$K$6","v":"○"}]
[null,null,null,null,null,null,null,null,null,null,null,null,null,null,null,null,null,null,null,null,null,null,null,null,null,null,null,null,null,null,null,null,null,null,null,null,null,null,null,null,null,null,null,null,null,null,null,null,null,null,null,null,null,null,null,null,null,null,null,null,null,null,{"$f":"STATISTICS!$M$12","v":""},null,null,null,null,null,null,null,null,null,null,null,null,null,null,{"$f":"STATISTICS!$M$13","v":"○"},null,null,null,null,null,null,null,null,null,null,null,null,null,null,{"$f":"STATISTICS!$M$7","v":"35"},null,null,null,null,null,null,null,null,null,null,null,null,null,null,null,null,null,null,null,null,null,null,null,null,{"$f":"STATISTICS!$M$8","v":"12"},null,null,null,null,null,null,null,null,null,null,null,null,null,null,null,null,null,null,null,null,null,null,null,null,{"$f":"STATISTICS!$M$9","v":"11"},null,null,null,null,null,null,null,null,null,null,null,null,null,null,null,null,null,null,null,null,null,null,null,null,null,null,null,null,null,null,null,null,null,{"$f":"STATISTICS!$N$3","v":61}]
[]
[]
[]
[]
[]
[]
[]
[]
[]
[]
[]
[]
[]
[]
[]
[]
[]
[]
[]
[]
[]
[]
[]
[]
[]
[]
[]
[]
[]
[]
[]
[]
[]
[]
[]
[]
[]
[]
[]
[]
[]
[]
[]
[]
[]
[]
[]
[]
[]
[]
[]
[]
[]
[]
[]
[]
[]
[]
[]
[]
[]
[]
[]
[]
[]
[]
[]
[]
[]
[]
[]
[]
[]
[]
[]
[]
[]
[]
[]
[]
[]
[]
[]
[]
[]
[]
[]
[]
[]
[]
[]
[]
[]
[]
[]
[]
[]
[]
[]
[]
[]
[]
[]
[]
[]
[]
[]
[]
[]
[]
[]
[]
[]
[]
[]
[]
[]
[]
[]
[]
[]
[]
[]
[]
[]
[]
[]
[]
[]
[]
[]
[]
[]
[]
[]
[]
[]
[]
[]
[]
[]
[]
[]
[]
[]
[]
[]
[]
[]
[]
[]
[]
[]
[]
[]
[]
[]
[]
[]
[]
[]
[]
[]
[]
[]
[]
[]
[]
[]
[]
[]
[]
[]
[]
[]
[]
[]
[]
[]
[]
[]
[]
[]
[]
[]
[]
[]
[]
[]
[]
[]
[]
[]
[]
[]
[]
[]
[]
[]
[]
[]
[]
[]
[]
[]
[]
[]
[]
[]
[]
[]
[]
[]
[]
[]
[]
[]
[]
[]
[]
[]
[]
[]
[]
[]
[]
[]
[]
[]
[]
[]
[]
[]
[]
[]
[]
[]
[]
[]
[]
[]
[]
[]
[]
[]
[]
[]
[]
[]
[]
[]
[]
[]
[]
[]
[]
[]
[]
[]
[]
[]
[]
[]
[]
[]
[]
[]
[]
[]
[]
[]
[]
[]
[]
[]
[]
[]
[]
[]
[]
[]
[]
[]
[]
[]
[]
[]
[]
[]
[]
[]
[]
[]
[]
[]
[]
[]
[]
[]
[]
[]
[]
[]
[]
[]
[]
[]
[]
[]
[]
[]
[]
[null,null,null,null,null,null,null,null,null,null,null,null,null,null,null,null,null,null,null,null,null,null,null,null,null,null,null,null,null,null,null,null,null,null,null,null,null,null,null,null,null,null,null,null,null,null,null,null,null,null,null,null,null,null,null,null,null,null,null,null,null,null,null,null,null,null,null,null,null,null,null,null,null,null,null,null,null,null,null,null,null,null,null,null,null,null,null,null,null,null,null,null,null,null,null,null,null,null,null,null,null,null,null,null,null,null,null,null,null,null,null,null,null,null,null,null,null,null,null,null,null,null,null,null,null,null,null,null,null,null,null,null,null,null,null,null,null,null,null,null,null,null,null,null,null,null,null,null,null,null,null,null,null,null,null,null,null,null,null,null,null,null,null,null,null,null,null,null,null,null,null,null,null,null,null,null,null,null,null,null,null,null,null,null,null,null,null,null,null,null,null,null,null,null,null,null,null,null,null,null,null,null,null,null,null,null,null,null,null,null,null,null,null,null,null,null,null,null,null,null,null,null,null,null,null,null,null,null,null,null,null,null,null,null,null,null,null,null,null,null,null,null,null,null,null,null,null,null,null,null,null,null,null,null,null,null,{"$f":"STATISTICS!$R$3","v":1234567}]
[null,null,null,null,null,null,null,null,null,null,null,null,null,null,null,null,null,null,null,null,null,null,null,null,null,null,null,null,null,null,null,null,null,null,null,null,null,null,null,null,null,null,null,null,null,null,null,null,null,null,null,null,null,null,null,null,null,null,null,null,null,null,null,null,null,null,null,null,null,null,null,null,null,null,null,null,null,null,null,null,null,null,null,null,null,null,null,null,null,null,null,null,null,null,null,null,null,null,null,null,null,null,null,null,null,null,null,null,null,null,null,null,null,null,null,null,null,null,null,null,null,null,null,null,null,null,null,null,null,null,null,null,null,null,null,null,null,null,null,null,null,null,null,null,null,null,null,null,null,null,null,null,null,null,null,null,null,null,null,null,null,null,null,null,null,null,null,{"$f":"STATISTICS!$P$5","v":"○"},null,null,null,null,null,null,null,null,null,null,null,null,null,null,null,null,null,null,null,null,{"$f":"STATISTICS!$P$6","v":""},null,null,null,null,null,null,null,null,null,null,null,null,null,null,null,null,null,null,null,{"$f":"STATISTICS!$P$7","v":""},null,null,null,null,null,null,null,null,null,null,null,null,null,null,null,null,{"$f":"STATISTICS!$P$8","v":""}]

{"sheet":"前立腺①","index":12,"n_rows":377,"n_cols":240,"rows_kept":377,"cut":false,"hidden":false,"merged":[[77,239,81,246],[87,235,91,242],[39,211,46,218],[40,65,46,72],[40,85,46,92],[40,105,46,112],[49,213,56,222],[49,231,56,245],[70,54,75,114],[53,54,61,133],[62,54,69,133],[39,151,46,158],[39,161,46,168],[39,171,46,178],[39,181,46,188],[352,69,360,145],[364,79,370,138],[375,237,380,257],[360,154,365,160],[376,154,381,160],[376,176,381,182],[376,199,381,205],[374,69,382,145],[341,128,348,135],[83,54,92,114],[77,190,81,197],[77,215,81,222],[39,191,46,198],[60,184,67,223],[341,65,348,72],[341,76,348,83],[341,86,348,93],[341,97,348,104],[341,108,348,115],[341,118,348,125],[39,201,46,208]]}
[]
[]
[]
[]
[]
[]
[]
[]
[]
[]
[]
[]
[]
[]
[]
[]
[]
[]
[]
[]
[]
[]
[]
[]
[]
[]
[]
[]
[]
[]
[]
[]
[]
[]
[]
[]
[]
[]
[]
[null,null,null,null,null,null,null,null,null,null,null,null,null,null,null,null,null,null,null,null,null,null,null,null,null,null,null,null,null,null,null,null,null,null,null,null,null,null,null,null,null,null,null,null,null,null,null,null,null,null,null,null,null,null,null,null,null,null,null,null,null,null,null,null,null,null,null,null,null,null,null,null,null,null,null,null,null,null,null,null,null,null,null,null,null,null,null,null,null,null,null,null,null,null,null,null,null,null,null,null,null,null,null,null,null,null,null,null,null,null,null,null,null,null,null,null,null,null,null,null,null,null,null,null,null,null,null,null,null,null,null,null,null,null,null,null,null,null,null,null,null,null,null,null,null,null,null,null,null,null,null,{"$f":"STATISTICS!$E$5","v":"1"},null,null,null,null,null,null,null,null,null,{"$f":"STATISTICS!$E$6","v":"2"},null,null,null,null,null,null,null,null,null,{"$f":"STATISTICS!$E$7","v":"3"},null,null,null,null,null,null,null,null,null,{"$f":"STATISTICS!$E$8","v":"4"},null,null,null,null,null,null,null,null,null,{"$f":"STATISTICS!$E$9","v":"5"},null,null,null,null,null,null,null,null,null,{"$f":"STATISTICS!$E$10","v":"6"},null,null,null,null,null,null,null,null,null,{"$f":"STATISTICS!$E$11","v":"7"}]
[null,null,null,null,null,null,null,null,null,null,null,null,null,null,null,null,null,null,null,null,null,null,null,null,null,null,null,null,null,null,null,null,null,null,null,null,null,null,null,null,null,null,null,null,null,null,null,null,null,null,null,null,null,null,null,null,null,null,null,null,null,null,null,null,null,{"$f":"STATISTICS!$D$7","v":"04"},null,null,null,null,null,null,null,null,null,null,null,null,null,null,null,null,null,null,null,{"$f":"STATISTICS!$D$8","v":"09"},null,null,null,null,null,null,null,null,null,null,null,null,null,null,null,null,null,null,null,{"$f":"STATISTICS!$D$9","v":"08"}]
[]
[]
[]
[]
[]
[]
[]
[]
[null,null,null,null,null,null,null,null,null,null,null,null,null,null,null,null,null,null,null,null,null,null,null,null,null,null,null,null,null,null,null,null,null,null,null,null,null,null,null,null,null,null,null,null,null,null,null,null,null,null,null,null,null,null,null,null,null,null,null,null,null,null,null,null,null,null,null,null,null,null,null,null,null,null,null,null,null,null,null,null,null,null,null,null,null,null,null,null,null,null,null,null,null,null,null,null,null,null,null,null,null,null,null,null,null,null,null,null,null,null,null,null,null,null,null,null,null,null,null,null,null,null,null,null,null,null,null,null,null,null,null,null,null,null,null,null,null,null,null,null,null,null,null,null,null,null,null,null,null,null,null,null,null,null,null,null,null,null,null,null,null,null,null,null,null,null,null,null,null,null,null,null,null,null,null,null,null,null,null,null,null,null,null,null,null,null,null,null,null,null,null,null,null,null,null,null,null,null,null,null,null,null,null,null,null,null,null,null,null,null,null,null,null,{"$f":"STATISTICS!$F$5","v":"960"},null,null,null,null,null,null,null,null,null,null,null,null,null,null,null,null,null,{"$f":"STATISTICS!$F$6","v":"8002"}]
[]
[]
[]
[null,null,null,null,null,null,null,null,null,null,null,null,null,null,null,null,null,null,null,null,null,null,null,null,null,null,null,null,null,null,null,null,null,null,null,null,null,null,null,null,null,null,null,null,null,null,null,null,null,null,null,null,null,null,{"$f":"STATISTICS!$H$3","v":"森合町10番1号"}]
[]
[]
[]
[]
[]
[]
[null,null,null,null,null,null,null,null,null,null,null,null,null,null,null,null,null,null,null,null,null,null,null,null,null,null,null,null,null,null,null,null,null,null,null,null,null,null,null,null,null,null,null,null,null,null,null,null,null,null,null,null,null,null,null,null,null,null,null,null,null,null,null,null,null,null,null,null,null,null,null,null,null,null,null,null,null,null,null,null,null,null,null,null,null,null,null,null,null,null,null,null,null,null,null,null,null,null,null,null,null,null,null,null,null,null,null,null,null,null,null,null,null,null,null,null,null,null,null,null,null,null,null,null,null,null,null,null,null,null,null,null,null,null,null,null,null,null,null,null,null,null,null,null,null,null,null,null,null,null,null,null,null,null,null,null,null,null,null,null,null,null,null,null,null,null,null,null,null,null,null,null,null,null,null,null,null,null,null,null,null,null,null,null,{"$f":"STATISTICS!$J$3","v":"024-534-2290"}]
[]
[null,null,null,null,null,null,null,null,null,null,null,null,null,null,null,null,null,null,null,null,null,null,null,null,null,null,null,null,null,null,null,null,null,null,null,null,null,null,null,null,null,null,null,null,null,null,null,null,null,null,null,null,null,null,{"$f":"STATISTICS!$I$3","v":"福島市保健福祉センター内"}]
[]
[]
[]
[]
[]
[]
[]
[null,null,null,null,null,null,null,null,null,null,null,null,null,null,null,null,null,null,null,null,null,null,null,null,null,null,null,null,null,null,null,null,null,null,null,null,null,null,null,null,null,null,null,null,null,null,null,null,null,null,null,null,null,null,{"$f":"STATISTICS!$C$3","v":"いしかい　はるこ"}]
[]
[]
[]
[]
[]
[]
[null,null,null,null,null,null,null,null,null,null,null,null,null,null,null,null,null,null,null,null,null,null,null,null,null,null,null,null,null,null,null,null,null,null,null,null,null,null,null,null,null,null,null,null,null,null,null,null,null,null,null,null,null,null,null,null,null,null,null,null,null,null,null,null,null,null,null,null,null,null,null,null,null,null,null,null,null,null,null,null,null,null,null,null,null,null,null,null,null,null,null,null,null,null,null,null,null,null,null,null,null,null,null,null,null,null,null,null,null,null,null,null,null,null,null,null,null,null,null,null,null,null,null,null,null,null,null,null,null,null,null,null,null,null,null,null,null,null,null,null,null,null,null,null,null,null,null,null,null,null,null,null,null,null,null,null,null,null,null,null,null,null,null,null,null,null,null,null,null,null,null,null,null,null,null,null,null,null,null,null,null,null,null,null,null,null,null,null,null,null,{"$f":"STATISTICS!$M$7","v":"35"},null,null,null,null,null,null,null,null,null,null,null,null,null,null,null,null,null,null,null,null,null,null,null,null,{"$f":"STATISTICS!$M$8","v":"12"},null,null,null,null,null,null,null,null,null,null,null,null,null,null,null,null,null,null,null,null,null,null,null,{"$f":"STATISTICS!$M$9","v":"11"}]
[]
[]
[]
[]
[]
[null,null,null,null,null,null,null,null,null,null,null,null,null,null,null,null,null,null,null,null,null,null,null,null,null,null,null,null,null,null,null,null,null,null,null,null,null,null,null,null,null,null,null,null,null,null,null,null,null,null,null,null,null,null,{"$f":"STATISTICS!$B$3","v":"医師会　春子"}]
[]
[]
[]
[null,null,null,null,null,null,null,null,null,null,null,null,null,null,null,null,null,null,null,null,null,null,null,null,null,null,null,null,null,null,null,null,null,null,null,null,null,null,null,null,null,null,null,null,null,null,null,null,null,null,null,null,null,null,null,null,null,null,null,null,null,null,null,null,null,null,null,null,null,null,null,null,null,null,null,null,null,null,null,null,null,null,null,null,null,null,null,null,null,null,null,null,null,null,null,null,null,null,null,null,null,null,null,null,null,null,null,null,null,null,null,null,null,null,null,null,null,null,null,null,null,null,null,null,null,null,null,null,null,null,null,null,null,null,null,null,null,null,null,null,null,null,null,null,null,null,null,null,null,null,null,null,null,null,null,null,null,null,null,null,null,null,null,null,null,null,null,null,null,null,null,null,null,null,null,null,null,null,null,null,null,null,null,null,null,null,null,null,null,null,null,null,null,null,null,null,null,null,null,null,null,null,null,null,null,null,null,null,null,null,null,null,null,null,null,null,null,null,null,null,null,null,null,null,null,null,null,null,null,null,null,null,null,null,null,{"$f":"STATISTICS!$N$3","v":61}]
[]
[]
[]
[]
[]
[]
[]
[]
[]
[]
[]
[]
[]
[]
[]
[]
[]
[]
[]
[]
[]
[]
[]
[]
[]
[]
[]
[]
[]
[]
[]
[]
[]
[]
[]
[]
[]
[]
[]
[]
[]
[]
[]
[]
[]
[]
[]
[]
[]
[]
[]
[]
[]
[]
[]
[]
[]
[]
[]
[]
[]
[]
[]
[]
[]
[]
[]
[]
[]
[]
[]
[]
[]
[]
[]
[]
[]
[]
[]
[]
[]
[]
[]
[]
[]
[]
[]
[]
[]
[]
[]
[]
[]
[]
[]
[]
[]
[]
[]
[]
[]
[]
[]
[]
[]
[]
[]
[]
[]
[]
[]
[]
[]
[]
[]
[]
[]
[]
[]
[]
[]
[]
[]
[]
[]
[]
[]
[]
[]
[]
[]
[]
[]
[]
[]
[]
[]
[]
[]
[]
[]
[]
[]
[]
[]
[]
[]
[]
[]
[]
[]
[]
[]
[]
[]
[]
[]
[]
[]
[]
[]
[]
[]
[]
[]
[]
[]
[]
[]
[]
[]
[]
[]
[]
[]
[]
[]
[]
[]
[]
[]
[]
[]
[]
[]
[]
[]
[]
[]
[]
[]
[]
[]
[]
[]
[]
[]
[]
[]
[]
[]
[]
[]
[]
[]
[]
[]
[]
[]
[]
[]
[]
[]
[]
[]
[]
[]
[]
[]
[]
[]
[]
[]
[]
[]
[]
[]
[]
[]
[]
[]
[]
[]
[]
[]
[]
[]
[]
[]
[]
[]
[]
[]
[]
[]
[]
[]
[]
[]
[]
[]
[]
[]
[null,null,null,null,null,null,null,null,null,null,null,null,null,null,null,null,null,null,null,null,null,null,null,null,null,null,null,null,null,null,null,null,null,null,null,null,null,null,null,null,null,null,null,null,null,null,null,null,null,null,null,null,null,null,null,null,null,null,null,null,null,null,null,null,null,{"$f":"設定シート!$AA$7","v":"　"},null,null,null,null,null,null,null,null,null,null,{"$f":"設定シート!$AB$7","v":"　"},null,null,null,null,null,null,null,null,null,{"$f":"設定シート!$AC$7","v":"　"},null,null,null,null,null,null,null,null,null,null,{"$f":"設定シート!$AD$7","v":"　"},null,null,null,null,null,null,null,null,null,null,{"$f":"設定シート!$AE$7","v":"　"},null,null,null,null,null,null,null,null,null,{"$f":"設定シート!$AF$7","v":"　"},null,null,null,null,null,null,null,null,null,{"$f":"設定シート!$AG$7","v":"　"}]
[]
[]
[]
[]
[]
[]
[]
[]
[]
[]
[null,null,null,null,null,null,null,null,null,null,null,null,null,null,null,null,null,null,null,null,null,null,null,null,null,null,null,null,null,null,null,null,null,null,null,null,null,null,null,null,null,null,null,null,null,null,null,null,null,null,null,null,null,null,null,null,null,null,null,null,null,null,null,null,null,null,null,null,null,{"$f":"設定シート!$C$8","v":0}]
[]
[]
[]
[]
[]
[]
[]
[null,null,null,null,null,null,null,null,null,null,null,null,null,null,null,null,null,null,null,null,null,null,null,null,null,null,null,null,null,null,null,null,null,null,null,null,null,null,null,null,null,null,null,null,null,null,null,null,null,null,null,null,null,null,null,null,null,null,null,null,null,null,null,null,null,null,null,null,null,null,null,null,null,null,null,null,null,null,null,null,null,null,null,null,null,null,null,null,null,null,null,null,null,null,null,null,null,null,null,null,null,null,null,null,null,null,null,null,null,null,null,null,null,null,null,null,null,null,null,null,null,null,null,null,null,null,null,null,null,null,null,null,null,null,null,null,null,null,null,null,null,null,null,null,null,null,null,null,null,null,null,null,null,null,{"$f":"STATISTICS!$P$5","v":"○"}]
[]
[]
[]
[null,null,null,null,null,null,null,null,null,null,null,null,null,null,null,null,null,null,null,null,null,null,null,null,null,null,null,null,null,null,null,null,null,null,null,null,null,null,null,null,null,null,null,null,null,null,null,null,null,null,null,null,null,null,null,null,null,null,null,null,null,null,null,null,null,null,null,null,null,null,null,null,null,null,null,null,null,null,null,{"$f":"設定シート!$C$9","v":0}]
[]
[]
[]
[]
[]
[]
[]
[]
[]
[null,null,null,null,null,null,null,null,null,null,null,null,null,null,null,null,null,null,null,null,null,null,null,null,null,null,null,null,null,null,null,null,null,null,null,null,null,null,null,null,null,null,null,null,null,null,null,null,null,null,null,null,null,null,null,null,null,null,null,null,null,null,null,null,null,null,null,null,null,{"$f":"設定シート!$C$10","v":0}]
[null,null,null,null,null,null,null,null,null,null,null,null,null,null,null,null,null,null,null,null,null,null,null,null,null,null,null,null,null,null,null,null,null,null,null,null,null,null,null,null,null,null,null,null,null,null,null,null,null,null,null,null,null,null,null,null,null,null,null,null,null,null,null,null,null,null,null,null,null,null,null,null,null,null,null,null,null,null,null,null,null,null,null,null,null,null,null,null,null,null,null,null,null,null,null,null,null,null,null,null,null,null,null,null,null,null,null,null,null,null,null,null,null,null,null,null,null,null,null,null,null,null,null,null,null,null,null,null,null,null,null,null,null,null,null,null,null,null,null,null,null,null,null,null,null,null,null,null,null,null,null,null,null,null,null,null,null,null,null,null,null,null,null,null,null,null,null,null,null,null,null,null,null,null,null,null,null,null,null,null,null,null,null,null,null,null,null,null,null,null,null,null,null,null,null,null,null,null,null,null,null,null,null,null,null,null,null,null,null,null,null,null,null,null,null,null,null,null,null,null,null,null,null,null,null,null,null,null,null,null,null,null,null,null,null,null,null,{"$f":"STATISTICS!$R$3","v":1234567}]
[null,null,null,null,null,null,null,null,null,null,null,null,null,null,null,null,null,null,null,null,null,null,null,null,null,null,null,null,null,null,null,null,null,null,null,null,null,null,null,null,null,null,null,null,null,null,null,null,null,null,null,null,null,null,null,null,null,null,null,null,null,null,null,null,null,null,null,null,null,null,null,null,null,null,null,null,null,null,null,null,null,null,null,null,null,null,null,null,null,null,null,null,null,null,null,null,null,null,null,null,null,null,null,null,null,null,null,null,null,null,null,null,null,null,null,null,null,null,null,null,null,null,null,null,null,null,null,null,null,null,null,null,null,null,null,null,null,null,null,null,null,null,null,null,null,null,null,null,null,null,null,null,null,null,{"$f":"STATISTICS!$P$6","v":""},null,null,null,null,null,null,null,null,null,null,null,null,null,null,null,null,null,null,null,null,null,{"$f":"STATISTICS!$P$7","v":""},null,null,null,null,null,null,null,null,null,null,null,null,null,null,null,null,null,null,null,null,null,null,{"$f":"STATISTICS!$P$8","v":""}]

{"sheet":"前立腺①-2","index":13,"n_rows":377,"n_cols":240,"rows_kept":377,"cut":false,"hidden":false,"merged":[[49,231,56,245],[53,54,61,133],[60,184,67,223],[62,54,69,133],[39,151,46,158],[39,161,46,168],[39,171,46,178],[39,181,46,188],[39,191,46,198],[39,201,46,208],[39,211,46,218],[40,65,46,72],[40,85,46,92],[40,105,46,112],[49,213,56,222],[70,54,75,114],[77,190,81,197],[77,215,81,222],[77,239,81,246],[83,54,92,114],[87,235,91,242],[375,237,380,257],[376,154,381,160],[376,176,381,182],[376,199,381,205],[341,65,348,72],[341,76,348,83],[341,86,348,93],[341,97,348,104],[341,108,348,115],[341,118,348,125],[341,128,348,135],[352,69,360,145],[360,154,365,160],[364,79,370,138],[374,69,382,145]]}
[]
[]
[]
[]
[]
[]
[]
[]
[]
[]
[]
[]
[]
[]
[]
[]
[]
[]
[]
[]
[]
[]
[]
[]
[]
[]
[]
[]
[]
[]
[]
[]
[]
[]
[]
[]
[]
[]
[]
[null,null,null,null,null,null,null,null,null,null,null,null,null,null,null,null,null,null,null,null,null,null,null,null,null,null,null,null,null,null,null,null,null,null,null,null,null,null,null,null,null,null,null,null,null,null,null,null,null,null,null,null,null,null,null,null,null,null,null,null,null,null,null,null,null,null,null,null,null,null,null,null,null,null,null,null,null,null,null,null,null,null,null,null,null,null,null,null,null,null,null,null,null,null,null,null,null,null,null,null,null,null,null,null,null,null,null,null,null,null,null,null,null,null,null,null,null,null,null,null,null,null,null,null,null,null,null,null,null,null,null,null,null,null,null,null,null,null,null,null,null,null,null,null,null,null,null,null,null,null,null,{"$f":"STATISTICS!$E$5","v":"1"},null,null,null,null,null,null,null,null,null,{"$f":"STATISTICS!$E$6","v":"2"},null,null,null,null,null,null,null,null,null,{"$f":"STATISTICS!$E$7","v":"3"},null,null,null,null,null,null,null,null,null,{"$f":"STATISTICS!$E$8","v":"4"},null,null,null,null,null,null,null,null,null,{"$f":"STATISTICS!$E$9","v":"5"},null,null,null,null,null,null,null,null,null,{"$f":"STATISTICS!$E$10","v":"6"},null,null,null,null,null,null,null,null,null,{"$f":"STATISTICS!$E$11","v":"7"}]
[null,null,null,null,null,null,null,null,null,null,null,null,null,null,null,null,null,null,null,null,null,null,null,null,null,null,null,null,null,null,null,null,null,null,null,null,null,null,null,null,null,null,null,null,null,null,null,null,null,null,null,null,null,null,null,null,null,null,null,null,null,null,null,null,null,{"$f":"STATISTICS!$D$7","v":"04"},null,null,null,null,null,null,null,null,null,null,null,null,null,null,null,null,null,null,null,{"$f":"STATISTICS!$D$8","v":"09"},null,null,null,null,null,null,null,null,null,null,null,null,null,null,null,null,null,null,null,{"$f":"STATISTICS!$D$9","v":"08"}]
[]
[]
[]
[]
[]
[]
[]
[]
[null,null,null,null,null,null,null,null,null,null,null,null,null,null,null,null,null,null,null,null,null,null,null,null,null,null,null,null,null,null,null,null,null,null,null,null,null,null,null,null,null,null,null,null,null,null,null,null,null,null,null,null,null,null,null,null,null,null,null,null,null,null,null,null,null,null,null,null,null,null,null,null,null,null,null,null,null,null,null,null,null,null,null,null,null,null,null,null,null,null,null,null,null,null,null,null,null,null,null,null,null,null,null,null,null,null,null,null,null,null,null,null,null,null,null,null,null,null,null,null,null,null,null,null,null,null,null,null,null,null,null,null,null,null,null,null,null,null,null,null,null,null,null,null,null,null,null,null,null,null,null,null,null,null,null,null,null,null,null,null,null,null,null,null,null,null,null,null,null,null,null,null,null,null,null,null,null,null,null,null,null,null,null,null,null,null,null,null,null,null,null,null,null,null,null,null,null,null,null,null,null,null,null,null,null,null,null,null,null,null,null,null,null,{"$f":"STATISTICS!$F$5","v":"960"},null,null,null,null,null,null,null,null,null,null,null,null,null,null,null,null,null,{"$f":"STATISTICS!$F$6","v":"8002"}]
[]
[]
[]
[null,null,null,null,null,null,null,null,null,null,null,null,null,null,null,null,null,null,null,null,null,null,null,null,null,null,null,null,null,null,null,null,null,null,null,null,null,null,null,null,null,null,null,null,null,null,null,null,null,null,null,null,null,null,{"$f":"STATISTICS!$H$3","v":"森合町10番1号"}]
[]
[]
[]
[]
[]
[]
[null,null,null,null,null,null,null,null,null,null,null,null,null,null,null,null,null,null,null,null,null,null,null,null,null,null,null,null,null,null,null,null,null,null,null,null,null,null,null,null,null,null,null,null,null,null,null,null,null,null,null,null,null,null,null,null,null,null,null,null,null,null,null,null,null,null,null,null,null,null,null,null,null,null,null,null,null,null,null,null,null,null,null,null,null,null,null,null,null,null,null,null,null,null,null,null,null,null,null,null,null,null,null,null,null,null,null,null,null,null,null,null,null,null,null,null,null,null,null,null,null,null,null,null,null,null,null,null,null,null,null,null,null,null,null,null,null,null,null,null,null,null,null,null,null,null,null,null,null,null,null,null,null,null,null,null,null,null,null,null,null,null,null,null,null,null,null,null,null,null,null,null,null,null,null,null,null,null,null,null,null,null,null,null,{"$f":"STATISTICS!$J$3","v":"024-534-2290"}]
[]
[null,null,null,null,null,null,null,null,null,null,null,null,null,null,null,null,null,null,null,null,null,null,null,null,null,null,null,null,null,null,null,null,null,null,null,null,null,null,null,null,null,null,null,null,null,null,null,null,null,null,null,null,null,null,{"$f":"STATISTICS!$I$3","v":"福島市保健福祉センター内"}]
[]
[]
[]
[]
[]
[]
[]
[null,null,null,null,null,null,null,null,null,null,null,null,null,null,null,null,null,null,null,null,null,null,null,null,null,null,null,null,null,null,null,null,null,null,null,null,null,null,null,null,null,null,null,null,null,null,null,null,null,null,null,null,null,null,{"$f":"STATISTICS!$C$3","v":"いしかい　はるこ"}]
[]
[]
[]
[]
[]
[]
[null,null,null,null,null,null,null,null,null,null,null,null,null,null,null,null,null,null,null,null,null,null,null,null,null,null,null,null,null,null,null,null,null,null,null,null,null,null,null,null,null,null,null,null,null,null,null,null,null,null,null,null,null,null,null,null,null,null,null,null,null,null,null,null,null,null,null,null,null,null,null,null,null,null,null,null,null,null,null,null,null,null,null,null,null,null,null,null,null,null,null,null,null,null,null,null,null,null,null,null,null,null,null,null,null,null,null,null,null,null,null,null,null,null,null,null,null,null,null,null,null,null,null,null,null,null,null,null,null,null,null,null,null,null,null,null,null,null,null,null,null,null,null,null,null,null,null,null,null,null,null,null,null,null,null,null,null,null,null,null,null,null,null,null,null,null,null,null,null,null,null,null,null,null,null,null,null,null,null,null,null,null,null,null,null,null,null,null,null,null,{"$f":"STATISTICS!$M$7","v":"35"},null,null,null,null,null,null,null,null,null,null,null,null,null,null,null,null,null,null,null,null,null,null,null,null,{"$f":"STATISTICS!$M$8","v":"12"},null,null,null,null,null,null,null,null,null,null,null,null,null,null,null,null,null,null,null,null,null,null,null,{"$f":"STATISTICS!$M$9","v":"11"}]
[]
[]
[]
[]
[]
[null,null,null,null,null,null,null,null,null,null,null,null,null,null,null,null,null,null,null,null,null,null,null,null,null,null,null,null,null,null,null,null,null,null,null,null,null,null,null,null,null,null,null,null,null,null,null,null,null,null,null,null,null,null,{"$f":"STATISTICS!$B$3","v":"医師会　春子"}]
[]
[]
[]
[null,null,null,null,null,null,null,null,null,null,null,null,null,null,null,null,null,null,null,null,null,null,null,null,null,null,null,null,null,null,null,null,null,null,null,null,null,null,null,null,null,null,null,null,null,null,null,null,null,null,null,null,null,null,null,null,null,null,null,null,null,null,null,null,null,null,null,null,null,null,null,null,null,null,null,null,null,null,null,null,null,null,null,null,null,null,null,null,null,null,null,null,null,null,null,null,null,null,null,null,null,null,null,null,null,null,null,null,null,null,null,null,null,null,null,null,null,null,null,null,null,null,null,null,null,null,null,null,null,null,null,null,null,null,null,null,null,null,null,null,null,null,null,null,null,null,null,null,null,null,null,null,null,null,null,null,null,null,null,null,null,null,null,null,null,null,null,null,null,null,null,null,null,null,null,null,null,null,null,null,null,null,null,null,null,null,null,null,null,null,null,null,null,null,null,null,null,null,null,null,null,null,null,null,null,null,null,null,null,null,null,null,null,null,null,null,null,null,null,null,null,null,null,null,null,null,null,null,null,null,null,null,null,null,null,{"$f":"STATISTICS!$N$3","v":61}]
[]
[]
[]
[]
[]
[]
[]
[]
[]
[]
[]
[]
[]
[]
[]
[]
[]
[]
[]
[]
[]
[]
[]
[]
[]
[]
[]
[]
[]
[]
[]
[]
[]
[]
[]
[]
[]
[]
[]
[]
[]
[]
[]
[]
[]
[]
[]
[]
[]
[]
[]
[]
[]
[]
[]
[]
[]
[]
[]
[]
[]
[]
[]
[]
[]
[]
[]
[]
[]
[]
[]
[]
[]
[]
[]
[]
[]
[]
[]
[]
[]
[]
[]
[]
[]
[]
[]
[]
[]
[]
[]
[]
[]
[]
[]
[]
[]
[]
[]
[]
[]
[]
[]
[]
[]
[]
[]
[]
[]
[]
[]
[]
[]
[]
[]
[]
[]
[]
[]
[]
[]
[]
[]
[]
[]
[]
[]
[]
[]
[]
[]
[]
[]
[]
[]
[]
[]
[]
[]
[]
[]
[]
[]
[]
[]
[]
[]
[]
[]
[]
[]
[]
[]
[]
[]
[]
[]
[]
[]
[]
[]
[]
[]
[]
[]
[]
[]
[]
[]
[]
[]
[]
[]
[]
[]
[]
[]
[]
[]
[]
[]
[]
[]
[]
[]
[]
[]
[]
[]
[]
[]
[]
[]
[]
[]
[]
[]
[]
[]
[]
[]
[]
[]
[]
[]
[]
[]
[]
[]
[]
[]
[]
[]
[]
[]
[]
[]
[]
[]
[]
[]
[]
[]
[]
[]
[]
[]
[]
[]
[]
[]
[]
[]
[]
[]
[]
[]
[]
[]
[]
[]
[]
[]
[]
[]
[]
[]
[]
[]
[]
[]
[]
[]
[]
[]
[]
[]
[]
[]
[]
[]
[]
[]
[]
[]
[]
[]
[]
[]
[]
[]
[]
[null,null,null,null,null,null,null,null,null,null,null,null,null,null,null,null,null,null,null,null,null,null,null,null,null,null,null,null,null,null,null,null,null,null,null,null,null,null,null,null,null,null,null,null,null,null,null,null,null,null,null,null,null,null,null,null,null,null,null,null,null,null,null,null,null,null,null,null,null,null,null,null,null,null,null,null,null,null,null,null,null,null,null,null,null,null,null,null,null,null,null,null,null,null,null,null,null,null,null,null,null,null,null,null,null,null,null,null,null,null,null,null,null,null,null,null,null,null,null,null,null,null,null,null,null,null,null,null,null,null,null,null,null,null,null,null,null,null,null,null,null,null,null,null,null,null,null,null,null,null,null,null,null,null,{"$f":"STATISTICS!$P$5","v":"○"}]
[]
[]
[]
[]
[]
[]
[]
[]
[]
[]
[]
[]
[]
[]
[null,null,null,null,null,null,null,null,null,null,null,null,null,null,null,null,null,null,null,null,null,null,null,null,null,null,null,null,null,null,null,null,null,null,null,null,null,null,null,null,null,null,null,null,null,null,null,null,null,null,null,null,null,null,null,null,null,null,null,null,null,null,null,null,null,null,null,null,null,null,null,null,null,null,null,null,null,null,null,null,null,null,null,null,null,null,null,null,null,null,null,null,null,null,null,null,null,null,null,null,null,null,null,null,null,null,null,null,null,null,null,null,null,null,null,null,null,null,null,null,null,null,null,null,null,null,null,null,null,null,null,null,null,null,null,null,null,null,null,null,null,null,null,null,null,null,null,null,null,null,null,null,null,null,null,null,null,null,null,null,null,null,null,null,null,null,null,null,null,null,null,null,null,null,null,null,null,null,null,null,null,null,null,null,null,null,null,null,null,null,null,null,null,null,null,null,null,null,null,null,null,null,null,null,null,null,null,null,null,null,null,null,null,null,null,null,null,null,null,null,null,null,null,null,null,null,null,null,null,null,null,null,null,null,null,null,null,{"$f":"STATISTICS!$R$3","v":1234567}]
[null,null,null,null,null,null,null,null,null,null,null,null,null,null,null,null,null,null,null,null,null,null,null,null,null,null,null,null,null,null,null,null,null,null,null,null,null,null,null,null,null,null,null,null,null,null,null,null,null,null,null,null,null,null,null,null,null,null,null,null,null,null,null,null,null,null,null,null,null,null,null,null,null,null,null,null,null,null,null,null,null,null,null,null,null,null,null,null,null,null,null,null,null,null,null,null,null,null,null,null,null,null,null,null,null,null,null,null,null,null,null,null,null,null,null,null,null,null,null,null,null,null,null,null,null,null,null,null,null,null,null,null,null,null,null,null,null,null,null,null,null,null,null,null,null,null,null,null,null,null,null,null,null,null,{"$f":"STATISTICS!$P$6","v":""},null,null,null,null,null,null,null,null,null,null,null,null,null,null,null,null,null,null,null,null,null,{"$f":"STATISTICS!$P$7","v":""},null,null,null,null,null,null,null,null,null,null,null,null,null,null,null,null,null,null,null,null,null,null,{"$f":"STATISTICS!$P$8","v":""}]

{"sheet":"乳①","index":14,"n_rows":279,"n_cols":394,"rows_kept":279,"cut":false,"hidden":false,"merged":[[41,162,47,171],[33,203,39,210],[33,60,39,67],[33,76,39,83],[33,93,39,100],[41,179,47,193],[41,61,47,135],[33,173,39,180],[33,183,39,190],[33,193,39,200],[230,346,237,353],[230,355,237,362],[230,365,237,372],[230,375,237,382],[48,50,54,129],[51,154,57,193],[71,193,75,200],[65,157,69,164],[65,175,69,182],[66,49,75,109],[62,141,66,147],[69,141,73,147],[59,50,63,109],[65,193,69,200],[278,311,283,317],[238,337,246,407],[33,143,39,150],[33,153,39,160],[33,163,39,170],[278,228,283,234],[278,248,283,254],[278,326,283,332],[278,340,283,346],[278,355,283,361],[278,381,283,401],[230,384,237,391],[230,393,237,400],[248,348,254,398],[255,346,263,407],[230,337,237,344]]}
[]
[]
[]
[]
[]
[]
[]
[]
[]
[]
[]
[]
[]
[]
[]
[]
[]
[]
[]
[]
[]
[]
[]
[]
[]
[]
[]
[]
[]
[]
[]
[]
[]
[null,null,null,null,null,null,null,null,null,null,null,null,null,null,null,null,null,null,null,null,null,null,null,null,null,null,null,null,null,null,null,null,null,null,null,null,null,null,null,null,null,null,null,null,null,null,null,null,null,null,null,null,null,null,null,null,null,null,null,null,{"$f":"STATISTICS!$D$7","v":"04"},null,null,null,null,null,null,null,null,null,null,null,null,null,null,null,{"$f":"STATISTICS!$D$8","v":"09"},null,null,null,null,null,null,null,null,null,null,null,null,null,null,null,null,{"$f":"STATISTICS!$D$9","v":"08"},null,null,null,null,null,null,null,null,null,null,null,null,null,null,null,null,null,null,null,null,null,null,null,null,null,null,null,null,null,null,null,null,null,null,null,null,null,null,null,null,null,null,null,null,null,null,null,null,null,{"$f":"STATISTICS!$E$5","v":"1"},null,null,null,null,null,null,null,null,null,{"$f":"STATISTICS!$E$6","v":"2"},null,null,null,null,null,null,null,null,null,{"$f":"STATISTICS!$E$7","v":"3"},null,null,null,null,null,null,null,null,null,{"$f":"STATISTICS!$E$8","v":"4"},null,null,null,null,null,null,null,null,null,{"$f":"STATISTICS!$E$9","v":"5"},null,null,null,null,null,null,null,null,null,{"$f":"STATISTICS!$E$10","v":"6"},null,null,null,null,null,null,null,null,null,{"$f":"STATISTICS!$E$11","v":"7"}]
[]
[]
[]
[]
[]
[]
[]
[null,null,null,null,null,null,null,null,null,null,null,null,null,null,null,null,null,null,null,null,null,null,null,null,null,null,null,null,null,null,null,null,null,null,null,null,null,null,null,null,null,null,null,null,null,null,null,null,null,null,null,null,null,null,null,null,null,null,null,null,null,{"$f":"STATISTICS!$H$3","v":"森合町10番1号"},null,null,null,null,null,null,null,null,null,null,null,null,null,null,null,null,null,null,null,null,null,null,null,null,null,null,null,null,null,null,null,null,null,null,null,null,null,null,null,null,null,null,null,null,null,null,null,null,null,null,null,null,null,null,null,null,null,null,null,null,null,null,null,null,null,null,null,null,null,null,null,null,null,null,null,null,null,null,null,null,null,null,null,null,null,null,null,null,null,null,null,null,null,null,null,null,null,null,null,null,{"$f":"STATISTICS!$F$5","v":"960"},null,null,null,null,null,null,null,null,null,null,null,null,null,null,null,null,{"$f":"STATISTICS!$F$6","v":"8002"}]
[]
[]
[]
[]
[]
[]
[null,null,null,null,null,null,null,null,null,null,null,null,null,null,null,null,null,null,null,null,null,null,null,null,null,null,null,null,null,null,null,null,null,null,null,null,null,null,null,null,null,null,null,null,null,null,null,null,null,null,{"$f":"STATISTICS!$I$3","v":"福島市保健福祉センター内"}]
[]
[]
[null,null,null,null,null,null,null,null,null,null,null,null,null,null,null,null,null,null,null,null,null,null,null,null,null,null,null,null,null,null,null,null,null,null,null,null,null,null,null,null,null,null,null,null,null,null,null,null,null,null,null,null,null,null,null,null,null,null,null,null,null,null,null,null,null,null,null,null,null,null,null,null,null,null,null,null,null,null,null,null,null,null,null,null,null,null,null,null,null,null,null,null,null,null,null,null,null,null,null,null,null,null,null,null,null,null,null,null,null,null,null,null,null,null,null,null,null,null,null,null,null,null,null,null,null,null,null,null,null,null,null,null,null,null,null,null,null,null,null,null,null,null,null,null,null,null,null,null,null,null,null,null,null,null,{"$f":"STATISTICS!$J$3","v":"024-534-2290"}]
[]
[]
[]
[]
[]
[]
[]
[null,null,null,null,null,null,null,null,null,null,null,null,null,null,null,null,null,null,null,null,null,null,null,null,null,null,null,null,null,null,null,null,null,null,null,null,null,null,null,null,null,null,null,null,null,null,null,null,null,null,{"$f":"STATISTICS!$C$3","v":"いしかい　はるこ"}]
[]
[]
[null,null,null,null,null,null,null,null,null,null,null,null,null,null,null,null,null,null,null,null,null,null,null,null,null,null,null,null,null,null,null,null,null,null,null,null,null,null,null,null,null,null,null,null,null,null,null,null,null,null,null,null,null,null,null,null,null,null,null,null,null,null,null,null,null,null,null,null,null,null,null,null,null,null,null,null,null,null,null,null,null,null,null,null,null,null,null,null,null,null,null,null,null,null,null,null,null,null,null,null,null,null,null,null,null,null,null,null,null,null,null,null,null,null,null,null,null,null,null,null,null,null,null,null,null,null,null,null,null,null,null,null,null,null,null,null,null,null,null,null,null,{"$f":"STATISTICS!$M$12","v":""}]
[]
[]
[null,null,null,null,null,null,null,null,null,null,null,null,null,null,null,null,null,null,null,null,null,null,null,null,null,null,null,null,null,null,null,null,null,null,null,null,null,null,null,null,null,null,null,null,null,null,null,null,null,null,null,null,null,null,null,null,null,null,null,null,null,null,null,null,null,null,null,null,null,null,null,null,null,null,null,null,null,null,null,null,null,null,null,null,null,null,null,null,null,null,null,null,null,null,null,null,null,null,null,null,null,null,null,null,null,null,null,null,null,null,null,null,null,null,null,null,null,null,null,null,null,null,null,null,null,null,null,null,null,null,null,null,null,null,null,null,null,null,null,null,null,null,null,null,null,null,null,null,null,null,null,null,null,null,null,null,null,{"$f":"STATISTICS!$M$7","v":"35"},null,null,null,null,null,null,null,null,null,null,null,null,null,null,null,null,null,{"$f":"STATISTICS!$M$8","v":"12"},null,null,null,null,null,null,null,null,null,null,null,null,null,null,null,null,null,{"$f":"STATISTICS!$M$9","v":"11"}]
[null,null,null,null,null,null,null,null,null,null,null,null,null,null,null,null,null,null,null,null,null,null,null,null,null,null,null,null,null,null,null,null,null,null,null,null,null,null,null,null,null,null,null,null,null,null,null,null,null,{"$f":"STATISTICS!$B$3","v":"医師会　春子"}]
[]
[]
[null,null,null,null,null,null,null,null,null,null,null,null,null,null,null,null,null,null,null,null,null,null,null,null,null,null,null,null,null,null,null,null,null,null,null,null,null,null,null,null,null,null,null,null,null,null,null,null,null,null,null,null,null,null,null,null,null,null,null,null,null,null,null,null,null,null,null,null,null,null,null,null,null,null,null,null,null,null,null,null,null,null,null,null,null,null,null,null,null,null,null,null,null,null,null,null,null,null,null,null,null,null,null,null,null,null,null,null,null,null,null,null,null,null,null,null,null,null,null,null,null,null,null,null,null,null,null,null,null,null,null,null,null,null,null,null,null,null,null,null,null,{"$f":"STATISTICS!$M$13","v":"○"}]
[]
[null,null,null,null,null,null,null,null,null,null,null,null,null,null,null,null,null,null,null,null,null,null,null,null,null,null,null,null,null,null,null,null,null,null,null,null,null,null,null,null,null,null,null,null,null,null,null,null,null,null,null,null,null,null,null,null,null,null,null,null,null,null,null,null,null,null,null,null,null,null,null,null,null,null,null,null,null,null,null,null,null,null,null,null,null,null,null,null,null,null,null,null,null,null,null,null,null,null,null,null,null,null,null,null,null,null,null,null,null,null,null,null,null,null,null,null,null,null,null,null,null,null,null,null,null,null,null,null,null,null,null,null,null,null,null,null,null,null,null,null,null,null,null,null,null,null,null,null,null,null,null,null,null,null,null,null,null,null,null,null,null,null,null,null,null,null,null,null,null,null,null,null,null,null,null,null,null,null,null,null,null,null,null,null,null,null,null,null,null,null,null,null,null,{"$f":"STATISTICS!$N$3","v":61}]
[]
[]
[]
[]
[]
[]
[]
[]
[]
[]
[]
[]
[]
[]
[]
[]
[]
[]
[]
[]
[]
[]
[]
[]
[]
[]
[]
[]
[]
[]
[]
[]
[]
[]
[]
[]
[]
[]
[]
[]
[]
[]
[]
[]
[]
[]
[]
[]
[]
[]
[]
[]
[]
[]
[]
[]
[]
[]
[]
[]
[]
[]
[]
[]
[]
[]
[]
[]
[]
[]
[]
[]
[]
[]
[]
[]
[]
[]
[]
[]
[]
[]
[]
[]
[]
[]
[]
[]
[]
[]
[]
[]
[]
[]
[]
[]
[]
[]
[]
[]
[]
[]
[]
[]
[]
[]
[]
[]
[]
[]
[]
[]
[]
[]
[]
[]
[]
[]
[]
[]
[]
[]
[]
[]
[]
[]
[]
[]
[]
[]
[]
[]
[]
[]
[]
[]
[]
[]
[]
[]
[]
[]
[]
[]
[]
[]
[]
[]
[]
[]
[]
[]
[]
[]
[]
[]
[]
[]
[null,null,null,null,null,null,null,null,null,null,null,null,null,null,null,null,null,null,null,null,null,null,null,null,null,null,null,null,null,null,null,null,null,null,null,null,null,null,null,null,null,null,null,null,null,null,null,null,null,null,null,null,null,null,null,null,null,null,null,null,null,null,null,null,null,null,null,null,null,null,null,null,null,null,null,null,null,null,null,null,null,null,null,null,null,null,null,null,null,null,null,null,null,null,null,null,null,null,null,null,null,null,null,null,null,null,null,null,null,null,null,null,null,null,null,null,null,null,null,null,null,null,null,null,null,null,null,null,null,null,null,null,null,null,null,null,null,null,null,null,null,null,null,null,null,null,null,null,null,null,null,null,null,null,null,null,null,null,null,null,null,null,null,null,null,null,null,null,null,null,null,null,null,null,null,null,null,null,null,null,null,null,null,null,null,null,null,null,null,null,null,null,null,null,null,null,null,null,null,null,null,null,null,null,null,null,null,null,null,null,null,null,null,null,null,null,null,null,null,null,null,null,null,null,null,null,null,null,null,null,null,null,null,null,null,null,null,null,null,null,null,null,null,null,null,null,null,null,null,null,null,null,null,null,null,null,null,null,null,null,null,null,null,null,null,null,null,null,null,null,null,null,null,null,null,null,null,null,null,null,null,null,null,null,null,null,null,null,null,null,null,null,null,null,null,null,null,null,null,null,null,null,null,null,null,null,null,null,null,null,null,null,null,null,null,null,null,null,null,null,null,null,null,null,null,null,null,null,null,null,null,null,null,null,null,null,null,{"$f":"設定シート!$AA$7","v":"　"},null,null,null,null,null,null,null,null,{"$f":"設定シート!$AB$7","v":"　"},null,null,null,null,null,null,null,null,{"$f":"設定シート!$AC$7","v":"　"},null,null,null,null,null,null,null,null,null,{"$f":"設定シート!$AD$7","v":"　"},null,null,null,null,null,null,null,null,null,{"$f":"設定シート!$AE$7","v":"　"},null,null,null,null,null,null,null,null,{"$f":"設定シート!$AF$7","v":"　"},null,null,null,null,null,null,null,null,{"$f":"設定シート!$AG$7","v":"　"}]
[]
[]
[]
[]
[]
[]
[]
[null,null,null,null,null,null,null,null,null,null,null,null,null,null,null,null,null,null,null,null,null,null,null,null,null,null,null,null,null,null,null,null,null,null,null,null,null,null,null,null,null,null,null,null,null,null,null,null,null,null,null,null,null,null,null,null,null,null,null,null,null,null,null,null,null,null,null,null,null,null,null,null,null,null,null,null,null,null,null,null,null,null,null,null,null,null,null,null,null,null,null,null,null,null,null,null,null,null,null,null,null,null,null,null,null,null,null,null,null,null,null,null,null,null,null,null,null,null,null,null,null,null,null,null,null,null,null,null,null,null,null,null,null,null,null,null,null,null,null,null,null,null,null,null,null,null,null,null,null,null,null,null,null,null,null,null,null,null,null,null,null,null,null,null,null,null,null,null,null,null,null,null,null,null,null,null,null,null,null,null,null,null,null,null,null,null,null,null,null,null,null,null,null,null,null,null,null,null,null,null,null,null,null,null,null,null,null,null,null,null,null,null,null,null,null,null,null,null,null,null,null,null,null,null,null,null,null,null,null,null,null,null,null,null,null,null,null,null,null,null,null,null,null,null,null,null,null,null,null,null,null,null,null,null,null,null,null,null,null,null,null,null,null,null,null,null,null,null,null,null,null,null,null,null,null,null,null,null,null,null,null,null,null,null,null,null,null,null,null,null,null,null,null,null,null,null,null,null,null,null,null,null,null,null,null,null,null,null,null,null,null,null,null,null,null,null,null,null,null,null,null,null,null,null,null,null,null,null,null,null,null,null,null,null,null,null,null,{"$f":"設定シート!$C$8","v":0}]
[]
[]
[]
[]
[]
[]
[]
[]
[]
[null,null,null,null,null,null,null,null,null,null,null,null,null,null,null,null,null,null,null,null,null,null,null,null,null,null,null,null,null,null,null,null,null,null,null,null,null,null,null,null,null,null,null,null,null,null,null,null,null,null,null,null,null,null,null,null,null,null,null,null,null,null,null,null,null,null,null,null,null,null,null,null,null,null,null,null,null,null,null,null,null,null,null,null,null,null,null,null,null,null,null,null,null,null,null,null,null,null,null,null,null,null,null,null,null,null,null,null,null,null,null,null,null,null,null,null,null,null,null,null,null,null,null,null,null,null,null,null,null,null,null,null,null,null,null,null,null,null,null,null,null,null,null,null,null,null,null,null,null,null,null,null,null,null,null,null,null,null,null,null,null,null,null,null,null,null,null,null,null,null,null,null,null,null,null,null,null,null,null,null,null,null,null,null,null,null,null,null,null,null,null,null,null,null,null,null,null,null,null,null,null,null,null,null,null,null,null,null,null,null,null,null,null,null,null,null,null,null,null,null,null,null,null,null,null,null,null,null,null,null,null,null,null,null,null,null,null,null,null,null,null,null,null,null,null,null,null,null,null,null,null,null,null,null,null,null,null,null,null,null,null,null,null,null,null,null,null,null,null,null,null,null,null,null,null,null,null,null,null,null,null,null,null,null,null,null,null,null,null,null,null,null,null,null,null,null,null,null,null,null,null,null,null,null,null,null,null,null,null,null,null,null,null,null,null,null,null,null,null,null,null,null,null,null,null,null,null,null,null,null,null,null,null,null,null,null,null,null,null,null,null,null,null,null,null,null,null,null,{"$f":"設定シート!$C$9","v":0}]
[]
[]
[]
[]
[]
[]
[null,null,null,null,null,null,null,null,null,null,null,null,null,null,null,null,null,null,null,null,null,null,null,null,null,null,null,null,null,null,null,null,null,null,null,null,null,null,null,null,null,null,null,null,null,null,null,null,null,null,null,null,null,null,null,null,null,null,null,null,null,null,null,null,null,null,null,null,null,null,null,null,null,null,null,null,null,null,null,null,null,null,null,null,null,null,null,null,null,null,null,null,null,null,null,null,null,null,null,null,null,null,null,null,null,null,null,null,null,null,null,null,null,null,null,null,null,null,null,null,null,null,null,null,null,null,null,null,null,null,null,null,null,null,null,null,null,null,null,null,null,null,null,null,null,null,null,null,null,null,null,null,null,null,null,null,null,null,null,null,null,null,null,null,null,null,null,null,null,null,null,null,null,null,null,null,null,null,null,null,null,null,null,null,null,null,null,null,null,null,null,null,null,null,null,null,null,null,null,null,null,null,null,null,null,null,null,null,null,null,null,null,null,null,null,null,null,null,null,null,null,null,null,null,null,null,null,null,null,null,null,null,null,null,null,null,null,null,null,null,null,null,null,null,null,null,null,null,null,null,null,null,null,null,null,null,null,null,null,null,null,null,null,null,null,null,null,null,null,null,null,null,null,null,null,null,null,null,null,null,null,null,null,null,null,null,null,null,null,null,null,null,null,null,null,null,null,null,null,null,null,null,null,null,null,null,null,null,null,null,null,null,null,null,null,null,null,null,null,null,null,null,null,null,null,null,null,null,null,null,null,null,null,null,null,null,null,null,null,null,null,null,null,null,null,null,{"$f":"設定シート!$C$10","v":0}]
[]
[]
[]
[]
[]
[]
[]
[]
[]
[]
[]
[]
[]
[]
[]
[]
[]
[]
[]
[]
[]
[]
[null,null,null,null,null,null,null,null,null,null,null,null,null,null,null,null,null,null,null,null,null,null,null,null,null,null,null,null,null,null,null,null,null,null,null,null,null,null,null,null,null,null,null,null,null,null,null,null,null,null,null,null,null,null,null,null,null,null,null,null,null,null,null,null,null,null,null,null,null,null,null,null,null,null,null,null,null,null,null,null,null,null,null,null,null,null,null,null,null,null,null,null,null,null,null,null,null,null,null,null,null,null,null,null,null,null,null,null,null,null,null,null,null,null,null,null,null,null,null,null,null,null,null,null,null,null,null,null,null,null,null,null,null,null,null,null,null,null,null,null,null,null,null,null,null,null,null,null,null,null,null,null,null,null,null,null,null,null,null,null,null,null,null,null,null,null,null,null,null,null,null,null,null,null,null,null,null,null,null,null,null,null,null,null,null,null,null,null,null,null,null,null,null,null,null,null,null,null,null,null,null,null,null,null,null,null,null,null,null,null,null,null,null,null,null,null,null,null,null,null,null,null,null,null,null,null,null,null,{"$f":"STATISTICS!$T$5","v":"○"},null,null,null,null,null,null,null,null,null,null,null,null,null,null,null,null,null,null,null,{"$f":"STATISTICS!$T$6","v":""},null,null,null,null,null,null,null,null,null,null,null,null,null,null,null,null,null,null,null,null,null,null,null,null,null,null,null,null,null,null,null,null,null,null,null,null,null,null,null,null,null,null,null,null,null,null,null,null,null,null,null,null,null,null,null,null,null,null,null,null,null,null,{"$f":"STATISTICS!$P$5","v":"○"},null,null,null,null,null,null,null,null,null,null,null,null,null,null,{"$f":"STATISTICS!$P$6","v":""},null,null,null,null,null,null,null,null,null,null,null,null,null,{"$f":"STATISTICS!$P$7","v":""},null,null,null,null,null,null,null,null,null,null,null,null,null,null,{"$f":"STATISTICS!$P$8","v":""},null,null,null,null,null,null,null,null,null,null,null,null,null,null,null,null,null,null,null,null,null,null,null,null,null,{"$f":"STATISTICS!$R$3","v":1234567}]

{"sheet":"乳①-2","index":15,"n_rows":279,"n_cols":382,"rows_kept":279,"cut":false,"hidden":false,"merged":[[33,173,39,180],[33,183,39,190],[33,193,39,200],[33,203,39,210],[41,61,47,135],[41,162,47,171],[41,179,47,193],[33,60,39,67],[33,76,39,83],[33,93,39,100],[33,143,39,150],[33,153,39,160],[33,163,39,170],[48,50,54,129],[51,154,57,193],[59,50,63,109],[62,141,66,147],[65,157,69,164],[65,175,69,182],[65,193,69,200],[66,49,75,109],[69,141,73,147],[71,193,75,200],[278,228,283,234],[278,248,283,254],[278,311,283,317],[278,326,283,332],[278,340,283,346],[278,381,283,401],[230,393,237,400],[238,337,246,407],[248,348,254,398],[255,346,263,407],[278,355,283,361],[230,337,237,344],[230,346,237,353],[230,355,237,362],[230,365,237,372],[230,375,237,382],[230,384,237,391]]}
[]
[]
[]
[]
[]
[]
[]
[]
[]
[]
[]
[]
[]
[]
[]
[]
[]
[]
[]
[]
[]
[]
[]
[]
[]
[]
[]
[]
[]
[]
[]
[]
[]
[null,null,null,null,null,null,null,null,null,null,null,null,null,null,null,null,null,null,null,null,null,null,null,null,null,null,null,null,null,null,null,null,null,null,null,null,null,null,null,null,null,null,null,null,null,null,null,null,null,null,null,null,null,null,null,null,null,null,null,null,{"$f":"STATISTICS!$D$7","v":"04"},null,null,null,null,null,null,null,null,null,null,null,null,null,null,null,{"$f":"STATISTICS!$D$8","v":"09"},null,null,null,null,null,null,null,null,null,null,null,null,null,null,null,null,{"$f":"STATISTICS!$D$9","v":"08"},null,null,null,null,null,null,null,null,null,null,null,null,null,null,null,null,null,null,null,null,null,null,null,null,null,null,null,null,null,null,null,null,null,null,null,null,null,null,null,null,null,null,null,null,null,null,null,null,null,{"$f":"STATISTICS!$E$5","v":"1"},null,null,null,null,null,null,null,null,null,{"$f":"STATISTICS!$E$6","v":"2"},null,null,null,null,null,null,null,null,null,{"$f":"STATISTICS!$E$7","v":"3"},null,null,null,null,null,null,null,null,null,{"$f":"STATISTICS!$E$8","v":"4"},null,null,null,null,null,null,null,null,null,{"$f":"STATISTICS!$E$9","v":"5"},null,null,null,null,null,null,null,null,null,{"$f":"STATISTICS!$E$10","v":"6"},null,null,null,null,null,null,null,null,null,{"$f":"STATISTICS!$E$11","v":"7"}]
[]
[]
[]
[]
[]
[]
[]
[null,null,null,null,null,null,null,null,null,null,null,null,null,null,null,null,null,null,null,null,null,null,null,null,null,null,null,null,null,null,null,null,null,null,null,null,null,null,null,null,null,null,null,null,null,null,null,null,null,null,null,null,null,null,null,null,null,null,null,null,null,{"$f":"STATISTICS!$H$3","v":"森合町10番1号"},null,null,null,null,null,null,null,null,null,null,null,null,null,null,null,null,null,null,null,null,null,null,null,null,null,null,null,null,null,null,null,null,null,null,null,null,null,null,null,null,null,null,null,null,null,null,null,null,null,null,null,null,null,null,null,null,null,null,null,null,null,null,null,null,null,null,null,null,null,null,null,null,null,null,null,null,null,null,null,null,null,null,null,null,null,null,null,null,null,null,null,null,null,null,null,null,null,null,null,null,{"$f":"STATISTICS!$F$5","v":"960"},null,null,null,null,null,null,null,null,null,null,null,null,null,null,null,null,{"$f":"STATISTICS!$F$6","v":"8002"}]
[]
[]
[]
[]
[]
[]
[null,null,null,null,null,null,null,null,null,null,null,null,null,null,null,null,null,null,null,null,null,null,null,null,null,null,null,null,null,null,null,null,null,null,null,null,null,null,null,null,null,null,null,null,null,null,null,null,null,null,{"$f":"STATISTICS!$I$3","v":"福島市保健福祉センター内"}]
[]
[]
[null,null,null,null,null,null,null,null,null,null,null,null,null,null,null,null,null,null,null,null,null,null,null,null,null,null,null,null,null,null,null,null,null,null,null,null,null,null,null,null,null,null,null,null,null,null,null,null,null,null,null,null,null,null,null,null,null,null,null,null,null,null,null,null,null,null,null,null,null,null,null,null,null,null,null,null,null,null,null,null,null,null,null,null,null,null,null,null,null,null,null,null,null,null,null,null,null,null,null,null,null,null,null,null,null,null,null,null,null,null,null,null,null,null,null,null,null,null,null,null,null,null,null,null,null,null,null,null,null,null,null,null,null,null,null,null,null,null,null,null,null,null,null,null,null,null,null,null,null,null,null,null,null,null,{"$f":"STATISTICS!$J$3","v":"024-534-2290"}]
[]
[]
[]
[]
[]
[]
[]
[null,null,null,null,null,null,null,null,null,null,null,null,null,null,null,null,null,null,null,null,null,null,null,null,null,null,null,null,null,null,null,null,null,null,null,null,null,null,null,null,null,null,null,null,null,null,null,null,null,null,{"$f":"STATISTICS!$C$3","v":"いしかい　はるこ"}]
[]
[]
[null,null,null,null,null,null,null,null,null,null,null,null,null,null,null,null,null,null,null,null,null,null,null,null,null,null,null,null,null,null,null,null,null,null,null,null,null,null,null,null,null,null,null,null,null,null,null,null,null,null,null,null,null,null,null,null,null,null,null,null,null,null,null,null,null,null,null,null,null,null,null,null,null,null,null,null,null,null,null,null,null,null,null,null,null,null,null,null,null,null,null,null,null,null,null,null,null,null,null,null,null,null,null,null,null,null,null,null,null,null,null,null,null,null,null,null,null,null,null,null,null,null,null,null,null,null,null,null,null,null,null,null,null,null,null,null,null,null,null,null,null,{"$f":"STATISTICS!$M$12","v":""}]
[]
[]
[null,null,null,null,null,null,null,null,null,null,null,null,null,null,null,null,null,null,null,null,null,null,null,null,null,null,null,null,null,null,null,null,null,null,null,null,null,null,null,null,null,null,null,null,null,null,null,null,null,null,null,null,null,null,null,null,null,null,null,null,null,null,null,null,null,null,null,null,null,null,null,null,null,null,null,null,null,null,null,null,null,null,null,null,null,null,null,null,null,null,null,null,null,null,null,null,null,null,null,null,null,null,null,null,null,null,null,null,null,null,null,null,null,null,null,null,null,null,null,null,null,null,null,null,null,null,null,null,null,null,null,null,null,null,null,null,null,null,null,null,null,null,null,null,null,null,null,null,null,null,null,null,null,null,null,null,null,{"$f":"STATISTICS!$M$7","v":"35"},null,null,null,null,null,null,null,null,null,null,null,null,null,null,null,null,null,{"$f":"STATISTICS!$M$8","v":"12"},null,null,null,null,null,null,null,null,null,null,null,null,null,null,null,null,null,{"$f":"STATISTICS!$M$9","v":"11"}]
[null,null,null,null,null,null,null,null,null,null,null,null,null,null,null,null,null,null,null,null,null,null,null,null,null,null,null,null,null,null,null,null,null,null,null,null,null,null,null,null,null,null,null,null,null,null,null,null,null,{"$f":"STATISTICS!$B$3","v":"医師会　春子"}]
[]
[]
[null,null,null,null,null,null,null,null,null,null,null,null,null,null,null,null,null,null,null,null,null,null,null,null,null,null,null,null,null,null,null,null,null,null,null,null,null,null,null,null,null,null,null,null,null,null,null,null,null,null,null,null,null,null,null,null,null,null,null,null,null,null,null,null,null,null,null,null,null,null,null,null,null,null,null,null,null,null,null,null,null,null,null,null,null,null,null,null,null,null,null,null,null,null,null,null,null,null,null,null,null,null,null,null,null,null,null,null,null,null,null,null,null,null,null,null,null,null,null,null,null,null,null,null,null,null,null,null,null,null,null,null,null,null,null,null,null,null,null,null,null,{"$f":"STATISTICS!$M$13","v":"○"}]
[]
[null,null,null,null,null,null,null,null,null,null,null,null,null,null,null,null,null,null,null,null,null,null,null,null,null,null,null,null,null,null,null,null,null,null,null,null,null,null,null,null,null,null,null,null,null,null,null,null,null,null,null,null,null,null,null,null,null,null,null,null,null,null,null,null,null,null,null,null,null,null,null,null,null,null,null,null,null,null,null,null,null,null,null,null,null,null,null,null,null,null,null,null,null,null,null,null,null,null,null,null,null,null,null,null,null,null,null,null,null,null,null,null,null,null,null,null,null,null,null,null,null,null,null,null,null,null,null,null,null,null,null,null,null,null,null,null,null,null,null,null,null,null,null,null,null,null,null,null,null,null,null,null,null,null,null,null,null,null,null,null,null,null,null,null,null,null,null,null,null,null,null,null,null,null,null,null,null,null,null,null,null,null,null,null,null,null,null,null,null,null,null,null,null,{"$f":"STATISTICS!$N$3","v":61}]
[]
[]
[]
[]
[]
[]
[]
[]
[]
[]
[]
[]
[]
[]
[]
[]
[]
[]
[]
[]
[]
[]
[]
[]
[]
[]
[]
[]
[]
[]
[]
[]
[]
[]
[]
[]
[]
[]
[]
[]
[]
[]
[]
[]
[]
[]
[]
[]
[]
[]
[]
[]
[]
[]
[]
[]
[]
[]
[]
[]
[]
[]
[]
[]
[]
[]
[]
[]
[]
[]
[]
[]
[]
[]
[]
[]
[]
[]
[]
[]
[]
[]
[]
[]
[]
[]
[]
[]
[]
[]
[]
[]
[]
[]
[]
[]
[]
[]
[]
[]
[]
[]
[]
[]
[]
[]
[]
[]
[]
[]
[]
[]
[]
[]
[]
[]
[]
[]
[]
[]
[]
[]
[]
[]
[]
[]
[]
[]
[]
[]
[]
[]
[]
[]
[]
[]
[]
[]
[]
[]
[]
[]
[]
[]
[]
[]
[]
[]
[]
[]
[]
[]
[]
[]
[]
[]
[]
[]
[]
[]
[]
[]
[]
[]
[]
[]
[]
[]
[]
[]
[]
[]
[]
[]
[]
[]
[]
[]
[]
[]
[]
[]
[]
[]
[]
[]
[]
[]
[]
[]
[]
[]
[]
[]
[]
[]
[]
[]
[]
[]
[]
[]
[]
[]
[]
[]
[null,null,null,null,null,null,null,null,null,null,null,null,null,null,null,null,null,null,null,null,null,null,null,null,null,null,null,null,null,null,null,null,null,null,null,null,null,null,null,null,null,null,null,null,null,null,null,null,null,null,null,null,null,null,null,null,null,null,null,null,null,null,null,null,null,null,null,null,null,null,null,null,null,null,null,null,null,null,null,null,null,null,null,null,null,null,null,null,null,null,null,null,null,null,null,null,null,null,null,null,null,null,null,null,null,null,null,null,null,null,null,null,null,null,null,null,null,null,null,null,null,null,null,null,null,null,null,null,null,null,null,null,null,null,null,null,null,null,null,null,null,null,null,null,null,null,null,null,null,null,null,null,null,null,null,null,null,null,null,null,null,null,null,null,null,null,null,null,null,null,null,null,null,null,null,null,null,null,null,null,null,null,null,null,null,null,null,null,null,null,null,null,null,null,null,null,null,null,null,null,null,null,null,null,null,null,null,null,null,null,null,null,null,null,null,null,null,null,null,null,null,null,null,null,null,null,null,null,{"$f":"STATISTICS!$T$5","v":"○"},null,null,null,null,null,null,null,null,null,null,null,null,null,null,null,null,null,null,null,{"$f":"STATISTICS!$T$6","v":""},null,null,null,null,null,null,null,null,null,null,null,null,null,null,null,null,null,null,null,null,null,null,null,null,null,null,null,null,null,null,null,null,null,null,null,null,null,null,null,null,null,null,null,null,null,null,null,null,null,null,null,null,null,null,null,null,null,null,null,null,null,null,{"$f":"STATISTICS!$P$5","v":"○"},null,null,null,null,null,null,null,null,null,null,null,null,null,null,{"$f":"STATISTICS!$P$6","v":""},null,null,null,null,null,null,null,null,null,null,null,null,null,{"$f":"STATISTICS!$P$7","v":""},null,null,null,null,null,null,null,null,null,null,null,null,null,null,{"$f":"STATISTICS!$P$8","v":""},null,null,null,null,null,null,null,null,null,null,null,null,null,null,null,null,null,null,null,null,null,null,null,null,null,{"$f":"STATISTICS!$R$3","v":1234567}]

{"sheet":"骨①","index":16,"n_rows":278,"n_cols":383,"rows_kept":278,"cut":false,"hidden":false,"merged":[[276,382,281,402],[35,157,41,196],[42,52,46,111],[42,146,46,152],[49,161,53,168],[49,180,53,187],[49,198,53,205],[49,51,58,111],[49,146,53,152],[55,196,59,203],[277,355,282,361],[228,317,235,324],[228,326,235,333],[228,279,235,286],[228,270,235,277],[62,146,71,182],[21,207,27,214],[28,157,34,166],[28,175,34,189],[21,197,27,204],[62,51,71,87],[62,99,71,119],[21,147,27,154],[21,157,27,164],[21,167,27,174],[21,177,27,184],[21,187,27,194],[21,61,27,68],[21,78,27,85],[21,94,27,101],[35,61,41,135],[28,61,34,135],[62,194,71,214],[228,308,235,315],[277,321,282,327],[277,300,282,306],[239,270,247,340],[248,279,254,329],[255,270,263,331],[277,340,282,346],[228,288,235,295],[228,298,235,305]]}
[]
[]
[]
[]
[]
[]
[]
[]
[]
[]
[]
[]
[]
[]
[]
[]
[]
[]
[]
[]
[]
[null,null,null,null,null,null,null,null,null,null,null,null,null,null,null,null,null,null,null,null,null,null,null,null,null,null,null,null,null,null,null,null,null,null,null,null,null,null,null,null,null,null,null,null,null,null,null,null,null,null,null,null,null,null,null,null,null,null,null,null,null,{"$f":"STATISTICS!$D$7","v":"04"},null,null,null,null,null,null,null,null,null,null,null,null,null,null,null,null,{"$f":"STATISTICS!$D$8","v":"09"},null,null,null,null,null,null,null,null,null,null,null,null,null,null,null,{"$f":"STATISTICS!$D$9","v":"08"},null,null,null,null,null,null,null,null,null,null,null,null,null,null,null,null,null,null,null,null,null,null,null,null,null,null,null,null,null,null,null,null,null,null,null,null,null,null,null,null,null,null,null,null,null,null,null,null,null,null,null,null,{"$f":"STATISTICS!$E$5","v":"1"},null,null,null,null,null,null,null,null,null,{"$f":"STATISTICS!$E$6","v":"2"},null,null,null,null,null,null,null,null,null,{"$f":"STATISTICS!$E$7","v":"3"},null,null,null,null,null,null,null,null,null,{"$f":"STATISTICS!$E$8","v":"4"},null,null,null,null,null,null,null,null,null,{"$f":"STATISTICS!$E$9","v":"5"},null,null,null,null,null,null,null,null,null,{"$f":"STATISTICS!$E$10","v":"6"},null,null,null,null,null,null,null,null,null,{"$f":"STATISTICS!$E$11","v":"7"}]
[]
[]
[]
[]
[]
[]
[null,null,null,null,null,null,null,null,null,null,null,null,null,null,null,null,null,null,null,null,null,null,null,null,null,null,null,null,null,null,null,null,null,null,null,null,null,null,null,null,null,null,null,null,null,null,null,null,null,null,null,null,null,null,null,null,null,null,null,null,null,{"$f":"STATISTICS!$H$3","v":"森合町10番1号"},null,null,null,null,null,null,null,null,null,null,null,null,null,null,null,null,null,null,null,null,null,null,null,null,null,null,null,null,null,null,null,null,null,null,null,null,null,null,null,null,null,null,null,null,null,null,null,null,null,null,null,null,null,null,null,null,null,null,null,null,null,null,null,null,null,null,null,null,null,null,null,null,null,null,null,null,null,null,null,null,null,null,null,null,null,null,null,null,null,null,null,null,null,null,null,{"$f":"STATISTICS!$F$5","v":"960"},null,null,null,null,null,null,null,null,null,null,null,null,null,null,null,null,null,{"$f":"STATISTICS!$F$6","v":"8002"}]
[]
[]
[]
[]
[]
[]
[null,null,null,null,null,null,null,null,null,null,null,null,null,null,null,null,null,null,null,null,null,null,null,null,null,null,null,null,null,null,null,null,null,null,null,null,null,null,null,null,null,null,null,null,null,null,null,null,null,null,null,null,null,null,null,null,null,null,null,null,null,{"$f":"STATISTICS!$I$3","v":"福島市保健福祉センター内"},null,null,null,null,null,null,null,null,null,null,null,null,null,null,null,null,null,null,null,null,null,null,null,null,null,null,null,null,null,null,null,null,null,null,null,null,null,null,null,null,null,null,null,null,null,null,null,null,null,null,null,null,null,null,null,null,null,null,null,null,null,null,null,null,null,null,null,null,null,null,null,null,null,null,null,null,null,null,null,null,null,null,null,null,null,null,null,null,null,null,null,null,null,null,null,{"$f":"STATISTICS!$J$3","v":"024-534-2290"}]
[]
[]
[]
[]
[]
[]
[null,null,null,null,null,null,null,null,null,null,null,null,null,null,null,null,null,null,null,null,null,null,null,null,null,null,null,null,null,null,null,null,null,null,null,null,null,null,null,null,null,null,null,null,null,null,null,null,null,null,null,null,{"$f":"STATISTICS!$C$3","v":"いしかい　はるこ"},null,null,null,null,null,null,null,null,null,null,null,null,null,null,null,null,null,null,null,null,null,null,null,null,null,null,null,null,null,null,null,null,null,null,null,null,null,null,null,null,null,null,null,null,null,null,null,null,null,null,null,null,null,null,null,null,null,null,null,null,null,null,null,null,null,null,null,null,null,null,null,null,null,null,null,null,null,null,null,null,null,null,null,null,null,null,null,null,null,null,null,null,null,{"$f":"STATISTICS!$M$13","v":"○"}]
[]
[]
[]
[]
[]
[]
[null,null,null,null,null,null,null,null,null,null,null,null,null,null,null,null,null,null,null,null,null,null,null,null,null,null,null,null,null,null,null,null,null,null,null,null,null,null,null,null,null,null,null,null,null,null,null,null,null,null,null,{"$f":"STATISTICS!$B$3","v":"医師会　春子"},null,null,null,null,null,null,null,null,null,null,null,null,null,null,null,null,null,null,null,null,null,null,null,null,null,null,null,null,null,null,null,null,null,null,null,null,null,null,null,null,null,null,null,null,null,null,null,null,null,null,null,null,null,null,null,null,null,null,null,null,null,null,null,null,null,null,null,null,null,null,null,null,null,null,null,null,null,null,null,null,null,null,null,null,null,null,null,null,null,null,null,null,null,null,{"$f":"STATISTICS!$M$14","v":""},null,null,null,null,null,null,null,null,null,null,null,null,null,null,{"$f":"STATISTICS!$M$7","v":"35"},null,null,null,null,null,null,null,null,null,null,null,null,null,null,null,null,null,null,{"$f":"STATISTICS!$M$8","v":"12"},null,null,null,null,null,null,null,null,null,null,null,null,null,null,null,null,null,{"$f":"STATISTICS!$M$9","v":"11"}]
[]
[]
[]
[]
[]
[null,null,null,null,null,null,null,null,null,null,null,null,null,null,null,null,null,null,null,null,null,null,null,null,null,null,null,null,null,null,null,null,null,null,null,null,null,null,null,null,null,null,null,null,null,null,null,null,null,null,null,null,null,null,null,null,null,null,null,null,null,null,null,null,null,null,null,null,null,null,null,null,null,null,null,null,null,null,null,null,null,null,null,null,null,null,null,null,null,null,null,null,null,null,null,null,null,null,null,null,null,null,null,null,null,null,null,null,null,null,null,null,null,null,null,null,null,null,null,null,null,null,null,null,null,null,null,null,null,null,null,null,null,null,null,null,null,null,null,null,null,null,null,null,null,null,null,null,null,null,null,null,null,null,null,null,null,null,null,null,null,null,null,null,null,null,null,null,null,null,null,null,null,null,null,null,null,null,null,null,null,null,null,null,null,null,null,null,null,null,null,null,null,null,null,null,{"$f":"STATISTICS!$N$3","v":61}]
[]
[]
[]
[]
[]
[]
[null,null,null,null,null,null,null,null,null,null,null,null,null,null,null,null,null,null,null,null,null,null,null,null,null,null,null,null,null,null,null,null,null,null,null,null,null,null,null,null,null,null,null,null,null,null,null,null,null,null,null,{"$f":"STATISTICS!$Z$6","v":156},null,null,null,null,null,null,null,null,null,null,null,null,null,null,null,null,null,null,null,null,null,null,null,null,null,null,null,null,null,null,null,null,null,null,null,null,null,null,null,null,null,null,null,null,null,null,null,{"$f":"STATISTICS!$Z$7","v":5.9999999999999432},null,null,null,null,null,null,null,null,null,null,null,null,null,null,null,null,null,null,null,null,null,null,null,null,null,null,null,null,null,null,null,null,null,null,null,null,null,null,null,null,null,null,null,null,null,null,{"$f":"STATISTICS!$AA$6","v":100},null,null,null,null,null,null,null,null,null,null,null,null,null,null,null,null,null,null,null,null,null,null,null,null,null,null,null,null,null,null,null,null,null,null,null,null,null,null,null,null,null,null,null,null,null,null,null,{"$f":"STATISTICS!$AA$7","v":2.9999999999999716}]
[]
[]
[]
[]
[]
[]
[]
[]
[]
[]
[]
[]
[]
[]
[]
[]
[]
[]
[]
[]
[]
[]
[]
[]
[]
[]
[]
[]
[]
[]
[]
[]
[]
[]
[]
[]
[]
[]
[]
[]
[]
[]
[]
[]
[]
[]
[]
[]
[]
[]
[]
[]
[]
[]
[]
[]
[]
[]
[]
[]
[]
[]
[]
[]
[]
[]
[]
[]
[]
[]
[]
[]
[]
[]
[]
[]
[]
[]
[]
[]
[]
[]
[]
[]
[]
[]
[]
[]
[]
[]
[]
[]
[]
[]
[]
[]
[]
[]
[]
[]
[]
[]
[]
[]
[]
[]
[]
[]
[]
[]
[]
[]
[]
[]
[]
[]
[]
[]
[]
[]
[]
[]
[]
[]
[]
[]
[]
[]
[]
[]
[]
[]
[]
[]
[]
[]
[]
[]
[]
[]
[]
[]
[]
[]
[]
[]
[]
[]
[]
[]
[]
[]
[]
[]
[]
[]
[]
[]
[]
[]
[]
[]
[]
[]
[]
[null,null,null,null,null,null,null,null,null,null,null,null,null,null,null,null,null,null,null,null,null,null,null,null,null,null,null,null,null,null,null,null,null,null,null,null,null,null,null,null,null,null,null,null,null,null,null,null,null,null,null,null,null,null,null,null,null,null,null,null,null,null,null,null,null,null,null,null,null,null,null,null,null,null,null,null,null,null,null,null,null,null,null,null,null,null,null,null,null,null,null,null,null,null,null,null,null,null,null,null,null,null,null,null,null,null,null,null,null,null,null,null,null,null,null,null,null,null,null,null,null,null,null,null,null,null,null,null,null,null,null,null,null,null,null,null,null,null,null,null,null,null,null,null,null,null,null,null,null,null,null,null,null,null,null,null,null,null,null,null,null,null,null,null,null,null,null,null,null,null,null,null,null,null,null,null,null,null,null,null,null,null,null,null,null,null,null,null,null,null,null,null,null,null,null,null,null,null,null,null,null,null,null,null,null,null,null,null,null,null,null,null,null,null,null,null,null,null,null,null,null,null,null,null,null,null,null,null,null,null,null,null,null,null,null,null,null,null,null,null,null,null,null,null,null,null,null,null,null,null,null,null,null,null,null,null,null,null,null,null,null,null,null,null,null,null,null,null,null,null,{"$f":"設定シート!$AA$7","v":"　"},null,null,null,null,null,null,null,null,{"$f":"設定シート!$AB$7","v":"　"},null,null,null,null,null,null,null,null,{"$f":"設定シート!$AC$7","v":"　"},null,null,null,null,null,null,null,null,null,{"$f":"設定シート!$AD$7","v":"　"},null,null,null,null,null,null,null,null,null,{"$f":"設定シート!$AE$7","v":"　"},null,null,null,null,null,null,null,null,{"$f":"設定シート!$AF$7","v":"　"},null,null,null,null,null,null,null,null,{"$f":"設定シート!$AG$7","v":"　"}]
[]
[]
[]
[]
[]
[]
[]
[]
[]
[]
[null,null,null,null,null,null,null,null,null,null,null,null,null,null,null,null,null,null,null,null,null,null,null,null,null,null,null,null,null,null,null,null,null,null,null,null,null,null,null,null,null,null,null,null,null,null,null,null,null,null,null,null,null,null,null,null,null,null,null,null,null,null,null,null,null,null,null,null,null,null,null,null,null,null,null,null,null,null,null,null,null,null,null,null,null,null,null,null,null,null,null,null,null,null,null,null,null,null,null,null,null,null,null,null,null,null,null,null,null,null,null,null,null,null,null,null,null,null,null,null,null,null,null,null,null,null,null,null,null,null,null,null,null,null,null,null,null,null,null,null,null,null,null,null,null,null,null,null,null,null,null,null,null,null,null,null,null,null,null,null,null,null,null,null,null,null,null,null,null,null,null,null,null,null,null,null,null,null,null,null,null,null,null,null,null,null,null,null,null,null,null,null,null,null,null,null,null,null,null,null,null,null,null,null,null,null,null,null,null,null,null,null,null,null,null,null,null,null,null,null,null,null,null,null,null,null,null,null,null,null,null,null,null,null,null,null,null,null,null,null,null,null,null,null,null,null,null,null,null,null,null,null,null,null,null,null,null,null,null,null,null,null,null,null,null,null,null,null,null,null,{"$f":"設定シート!$C$8","v":0}]
[]
[]
[]
[]
[]
[]
[]
[]
[null,null,null,null,null,null,null,null,null,null,null,null,null,null,null,null,null,null,null,null,null,null,null,null,null,null,null,null,null,null,null,null,null,null,null,null,null,null,null,null,null,null,null,null,null,null,null,null,null,null,null,null,null,null,null,null,null,null,null,null,null,null,null,null,null,null,null,null,null,null,null,null,null,null,null,null,null,null,null,null,null,null,null,null,null,null,null,null,null,null,null,null,null,null,null,null,null,null,null,null,null,null,null,null,null,null,null,null,null,null,null,null,null,null,null,null,null,null,null,null,null,null,null,null,null,null,null,null,null,null,null,null,null,null,null,null,null,null,null,null,null,null,null,null,null,null,null,null,null,null,null,null,null,null,null,null,null,null,null,null,null,null,null,null,null,null,null,null,null,null,null,null,null,null,null,null,null,null,null,null,null,null,null,null,null,null,null,null,null,null,null,null,null,null,null,null,null,null,null,null,null,null,null,null,null,null,null,null,null,null,null,null,null,null,null,null,null,null,null,null,null,null,null,null,null,null,null,null,null,null,null,null,null,null,null,null,null,null,null,null,null,null,null,null,null,null,null,null,null,null,null,null,null,null,null,null,null,null,null,null,null,null,null,null,null,null,null,null,null,null,null,null,null,null,null,null,null,null,null,{"$f":"設定シート!$C$9","v":0}]
[]
[]
[]
[]
[]
[]
[null,null,null,null,null,null,null,null,null,null,null,null,null,null,null,null,null,null,null,null,null,null,null,null,null,null,null,null,null,null,null,null,null,null,null,null,null,null,null,null,null,null,null,null,null,null,null,null,null,null,null,null,null,null,null,null,null,null,null,null,null,null,null,null,null,null,null,null,null,null,null,null,null,null,null,null,null,null,null,null,null,null,null,null,null,null,null,null,null,null,null,null,null,null,null,null,null,null,null,null,null,null,null,null,null,null,null,null,null,null,null,null,null,null,null,null,null,null,null,null,null,null,null,null,null,null,null,null,null,null,null,null,null,null,null,null,null,null,null,null,null,null,null,null,null,null,null,null,null,null,null,null,null,null,null,null,null,null,null,null,null,null,null,null,null,null,null,null,null,null,null,null,null,null,null,null,null,null,null,null,null,null,null,null,null,null,null,null,null,null,null,null,null,null,null,null,null,null,null,null,null,null,null,null,null,null,null,null,null,null,null,null,null,null,null,null,null,null,null,null,null,null,null,null,null,null,null,null,null,null,null,null,null,null,null,null,null,null,null,null,null,null,null,null,null,null,null,null,null,null,null,null,null,null,null,null,null,null,null,null,null,null,null,null,null,null,null,null,null,null,{"$f":"設定シート!$C$10","v":0}]
[]
[]
[]
[]
[]
[]
[]
[]
[]
[]
[]
[]
[]
[]
[]
[]
[]
[]
[]
[]
[null,null,null,null,null,null,null,null,null,null,null,null,null,null,null,null,null,null,null,null,null,null,null,null,null,null,null,null,null,null,null,null,null,null,null,null,null,null,null,null,null,null,null,null,null,null,null,null,null,null,null,null,null,null,null,null,null,null,null,null,null,null,null,null,null,null,null,null,null,null,null,null,null,null,null,null,null,null,null,null,null,null,null,null,null,null,null,null,null,null,null,null,null,null,null,null,null,null,null,null,null,null,null,null,null,null,null,null,null,null,null,null,null,null,null,null,null,null,null,null,null,null,null,null,null,null,null,null,null,null,null,null,null,null,null,null,null,null,null,null,null,null,null,null,null,null,null,null,null,null,null,null,null,null,null,null,null,null,null,null,null,null,null,null,null,null,null,null,null,null,null,null,null,null,null,null,null,null,null,null,null,null,null,null,null,null,null,null,null,null,null,null,null,null,null,null,null,null,null,null,null,null,null,null,null,null,null,null,null,null,null,null,null,null,null,null,null,null,null,null,null,null,null,null,null,null,null,null,null,null,null,null,null,null,null,null,null,null,null,null,null,null,null,null,null,null,null,null,null,null,null,null,null,null,null,null,null,null,null,null,null,null,null,null,null,null,null,null,null,null,null,null,null,null,null,null,null,null,null,null,null,null,null,null,null,null,null,null,null,null,null,null,null,null,null,null,null,null,null,null,null,null,null,null,null,null,null,null,null,null,null,null,null,null,null,null,null,null,null,null,null,null,null,null,null,null,null,null,null,null,null,null,null,null,null,null,null,null,null,null,null,null,null,null,null,null,null,null,null,null,null,null,null,null,null,null,null,null,null,null,null,null,null,null,null,null,null,null,null,null,null,null,null,null,null,null,null,null,null,null,null,null,{"$f":"STATISTICS!$R$3","v":1234567}]
[null,null,null,null,null,null,null,null,null,null,null,null,null,null,null,null,null,null,null,null,null,null,null,null,null,null,null,null,null,null,null,null,null,null,null,null,null,null,null,null,null,null,null,null,null,null,null,null,null,null,null,null,null,null,null,null,null,null,null,null,null,null,null,null,null,null,null,null,null,null,null,null,null,null,null,null,null,null,null,null,null,null,null,null,null,null,null,null,null,null,null,null,null,null,null,null,null,null,null,null,null,null,null,null,null,null,null,null,null,null,null,null,null,null,null,null,null,null,null,null,null,null,null,null,null,null,null,null,null,null,null,null,null,null,null,null,null,null,null,null,null,null,null,null,null,null,null,null,null,null,null,null,null,null,null,null,null,null,null,null,null,null,null,null,null,null,null,null,null,null,null,null,null,null,null,null,null,null,null,null,null,null,null,null,null,null,null,null,null,null,null,null,null,null,null,null,null,null,null,null,null,null,null,null,null,null,null,null,null,null,null,null,null,null,null,null,null,null,null,null,null,null,null,null,null,null,null,null,null,null,null,null,null,null,null,null,null,null,null,null,null,null,null,null,null,null,null,null,null,null,null,null,null,null,null,null,null,null,null,null,null,null,null,null,null,null,null,null,null,null,null,null,null,null,null,null,null,null,null,null,null,null,null,null,null,null,null,null,null,null,null,null,null,null,null,null,null,null,null,null,{"$f":"STATISTICS!$P$5","v":"○"},null,null,null,null,null,null,null,null,null,null,null,null,null,null,null,null,null,null,null,null,{"$f":"STATISTICS!$P$6","v":""},null,null,null,null,null,null,null,null,null,null,null,null,null,null,null,null,null,null,{"$f":"STATISTICS!$P$7","v":""},null,null,null,null,null,null,null,null,null,null,null,null,null,null,{"$f":"STATISTICS!$P$8","v":""}]

{"sheet":"骨①-2","index":17,"n_rows":278,"n_cols":383,"rows_kept":278,"cut":false,"hidden":false,"merged":[[21,177,27,184],[21,187,27,194],[21,197,27,204],[21,207,27,214],[28,61,34,135],[28,157,34,166],[28,175,34,189],[21,61,27,68],[21,78,27,85],[21,94,27,101],[21,147,27,154],[21,157,27,164],[21,167,27,174],[35,61,41,135],[35,157,41,196],[42,52,46,111],[42,146,46,152],[49,51,58,111],[49,146,53,152],[49,161,53,168],[49,180,53,187],[49,198,53,205],[55,196,59,203],[62,51,71,87],[62,99,71,119],[62,146,71,182],[62,194,71,214],[228,326,235,333],[239,270,247,340],[248,279,254,329],[255,270,263,331],[276,382,281,402],[277,300,282,306],[277,321,282,327],[277,340,282,346],[277,355,282,361],[228,270,235,277],[228,279,235,286],[228,288,235,295],[228,298,235,305],[228,308,235,315],[228,317,235,324]]}
[]
[]
[]
[]
[]
[]
[]
[]
[]
[]
[]
[]
[]
[]
[]
[]
[]
[]
[]
[]
[]
[null,null,null,null,null,null,null,null,null,null,null,null,null,null,null,null,null,null,null,null,null,null,null,null,null,null,null,null,null,null,null,null,null,null,null,null,null,null,null,null,null,null,null,null,null,null,null,null,null,null,null,null,null,null,null,null,null,null,null,null,null,{"$f":"STATISTICS!$D$7","v":"04"},null,null,null,null,null,null,null,null,null,null,null,null,null,null,null,null,{"$f":"STATISTICS!$D$8","v":"09"},null,null,null,null,null,null,null,null,null,null,null,null,null,null,null,{"$f":"STATISTICS!$D$9","v":"08"},null,null,null,null,null,null,null,null,null,null,null,null,null,null,null,null,null,null,null,null,null,null,null,null,null,null,null,null,null,null,null,null,null,null,null,null,null,null,null,null,null,null,null,null,null,null,null,null,null,null,null,null,{"$f":"STATISTICS!$E$5","v":"1"},null,null,null,null,null,null,null,null,null,{"$f":"STATISTICS!$E$6","v":"2"},null,null,null,null,null,null,null,null,null,{"$f":"STATISTICS!$E$7","v":"3"},null,null,null,null,null,null,null,null,null,{"$f":"STATISTICS!$E$8","v":"4"},null,null,null,null,null,null,null,null,null,{"$f":"STATISTICS!$E$9","v":"5"},null,null,null,null,null,null,null,null,null,{"$f":"STATISTICS!$E$10","v":"6"},null,null,null,null,null,null,null,null,null,{"$f":"STATISTICS!$E$11","v":"7"}]
[]
[]
[]
[]
[]
[]
[null,null,null,null,null,null,null,null,null,null,null,null,null,null,null,null,null,null,null,null,null,null,null,null,null,null,null,null,null,null,null,null,null,null,null,null,null,null,null,null,null,null,null,null,null,null,null,null,null,null,null,null,null,null,null,null,null,null,null,null,null,{"$f":"STATISTICS!$H$3","v":"森合町10番1号"},null,null,null,null,null,null,null,null,null,null,null,null,null,null,null,null,null,null,null,null,null,null,null,null,null,null,null,null,null,null,null,null,null,null,null,null,null,null,null,null,null,null,null,null,null,null,null,null,null,null,null,null,null,null,null,null,null,null,null,null,null,null,null,null,null,null,null,null,null,null,null,null,null,null,null,null,null,null,null,null,null,null,null,null,null,null,null,null,null,null,null,null,null,null,null,{"$f":"STATISTICS!$F$5","v":"960"},null,null,null,null,null,null,null,null,null,null,null,null,null,null,null,null,null,{"$f":"STATISTICS!$F$6","v":"8002"}]
[]
[]
[]
[]
[]
[]
[null,null,null,null,null,null,null,null,null,null,null,null,null,null,null,null,null,null,null,null,null,null,null,null,null,null,null,null,null,null,null,null,null,null,null,null,null,null,null,null,null,null,null,null,null,null,null,null,null,null,null,null,null,null,null,null,null,null,null,null,null,{"$f":"STATISTICS!$I$3","v":"福島市保健福祉センター内"},null,null,null,null,null,null,null,null,null,null,null,null,null,null,null,null,null,null,null,null,null,null,null,null,null,null,null,null,null,null,null,null,null,null,null,null,null,null,null,null,null,null,null,null,null,null,null,null,null,null,null,null,null,null,null,null,null,null,null,null,null,null,null,null,null,null,null,null,null,null,null,null,null,null,null,null,null,null,null,null,null,null,null,null,null,null,null,null,null,null,null,null,null,null,null,{"$f":"STATISTICS!$J$3","v":"024-534-2290"}]
[]
[]
[]
[]
[]
[]
[null,null,null,null,null,null,null,null,null,null,null,null,null,null,null,null,null,null,null,null,null,null,null,null,null,null,null,null,null,null,null,null,null,null,null,null,null,null,null,null,null,null,null,null,null,null,null,null,null,null,null,null,{"$f":"STATISTICS!$C$3","v":"いしかい　はるこ"},null,null,null,null,null,null,null,null,null,null,null,null,null,null,null,null,null,null,null,null,null,null,null,null,null,null,null,null,null,null,null,null,null,null,null,null,null,null,null,null,null,null,null,null,null,null,null,null,null,null,null,null,null,null,null,null,null,null,null,null,null,null,null,null,null,null,null,null,null,null,null,null,null,null,null,null,null,null,null,null,null,null,null,null,null,null,null,null,null,null,null,null,null,{"$f":"STATISTICS!$M$13","v":"○"}]
[]
[]
[]
[]
[]
[]
[null,null,null,null,null,null,null,null,null,null,null,null,null,null,null,null,null,null,null,null,null,null,null,null,null,null,null,null,null,null,null,null,null,null,null,null,null,null,null,null,null,null,null,null,null,null,null,null,null,null,null,{"$f":"STATISTICS!$B$3","v":"医師会　春子"},null,null,null,null,null,null,null,null,null,null,null,null,null,null,null,null,null,null,null,null,null,null,null,null,null,null,null,null,null,null,null,null,null,null,null,null,null,null,null,null,null,null,null,null,null,null,null,null,null,null,null,null,null,null,null,null,null,null,null,null,null,null,null,null,null,null,null,null,null,null,null,null,null,null,null,null,null,null,null,null,null,null,null,null,null,null,null,null,null,null,null,null,null,null,{"$f":"STATISTICS!$M$14","v":""},null,null,null,null,null,null,null,null,null,null,null,null,null,null,{"$f":"STATISTICS!$M$7","v":"35"},null,null,null,null,null,null,null,null,null,null,null,null,null,null,null,null,null,null,{"$f":"STATISTICS!$M$8","v":"12"},null,null,null,null,null,null,null,null,null,null,null,null,null,null,null,null,null,{"$f":"STATISTICS!$M$9","v":"11"}]
[]
[]
[]
[]
[]
[null,null,null,null,null,null,null,null,null,null,null,null,null,null,null,null,null,null,null,null,null,null,null,null,null,null,null,null,null,null,null,null,null,null,null,null,null,null,null,null,null,null,null,null,null,null,null,null,null,null,null,null,null,null,null,null,null,null,null,null,null,null,null,null,null,null,null,null,null,null,null,null,null,null,null,null,null,null,null,null,null,null,null,null,null,null,null,null,null,null,null,null,null,null,null,null,null,null,null,null,null,null,null,null,null,null,null,null,null,null,null,null,null,null,null,null,null,null,null,null,null,null,null,null,null,null,null,null,null,null,null,null,null,null,null,null,null,null,null,null,null,null,null,null,null,null,null,null,null,null,null,null,null,null,null,null,null,null,null,null,null,null,null,null,null,null,null,null,null,null,null,null,null,null,null,null,null,null,null,null,null,null,null,null,null,null,null,null,null,null,null,null,null,null,null,null,{"$f":"STATISTICS!$N$3","v":61}]
[]
[]
[]
[]
[]
[]
[null,null,null,null,null,null,null,null,null,null,null,null,null,null,null,null,null,null,null,null,null,null,null,null,null,null,null,null,null,null,null,null,null,null,null,null,null,null,null,null,null,null,null,null,null,null,null,null,null,null,null,{"$f":"STATISTICS!$Z$6","v":156},null,null,null,null,null,null,null,null,null,null,null,null,null,null,null,null,null,null,null,null,null,null,null,null,null,null,null,null,null,null,null,null,null,null,null,null,null,null,null,null,null,null,null,null,null,null,null,{"$f":"STATISTICS!$Z$7","v":5.9999999999999432},null,null,null,null,null,null,null,null,null,null,null,null,null,null,null,null,null,null,null,null,null,null,null,null,null,null,null,null,null,null,null,null,null,null,null,null,null,null,null,null,null,null,null,null,null,null,{"$f":"STATISTICS!$AA$6","v":100},null,null,null,null,null,null,null,null,null,null,null,null,null,null,null,null,null,null,null,null,null,null,null,null,null,null,null,null,null,null,null,null,null,null,null,null,null,null,null,null,null,null,null,null,null,null,null,{"$f":"STATISTICS!$AA$7","v":2.9999999999999716}]
[]
[]
[]
[]
[]
[]
[]
[]
[]
[]
[]
[]
[]
[]
[]
[]
[]
[]
[]
[]
[]
[]
[]
[]
[]
[]
[]
[]
[]
[]
[]
[]
[]
[]
[]
[]
[]
[]
[]
[]
[]
[]
[]
[]
[]
[]
[]
[]
[]
[]
[]
[]
[]
[]
[]
[]
[]
[]
[]
[]
[]
[]
[]
[]
[]
[]
[]
[]
[]
[]
[]
[]
[]
[]
[]
[]
[]
[]
[]
[]
[]
[]
[]
[]
[]
[]
[]
[]
[]
[]
[]
[]
[]
[]
[]
[]
[]
[]
[]
[]
[]
[]
[]
[]
[]
[]
[]
[]
[]
[]
[]
[]
[]
[]
[]
[]
[]
[]
[]
[]
[]
[]
[]
[]
[]
[]
[]
[]
[]
[]
[]
[]
[]
[]
[]
[]
[]
[]
[]
[]
[]
[]
[]
[]
[]
[]
[]
[]
[]
[]
[]
[]
[]
[]
[]
[]
[]
[]
[]
[]
[]
[]
[]
[]
[]
[]
[]
[]
[]
[]
[]
[]
[]
[]
[]
[]
[]
[]
[]
[]
[]
[]
[]
[]
[]
[]
[]
[]
[]
[]
[]
[]
[]
[]
[]
[]
[]
[]
[]
[]
[]
[]
[]
[]
[]
[]
[]
[]
[]
[]
[]
[]
[]
[null,null,null,null,null,null,null,null,null,null,null,null,null,null,null,null,null,null,null,null,null,null,null,null,null,null,null,null,null,null,null,null,null,null,null,null,null,null,null,null,null,null,null,null,null,null,null,null,null,null,null,null,null,null,null,null,null,null,null,null,null,null,null,null,null,null,null,null,null,null,null,null,null,null,null,null,null,null,null,null,null,null,null,null,null,null,null,null,null,null,null,null,null,null,null,null,null,null,null,null,null,null,null,null,null,null,null,null,null,null,null,null,null,null,null,null,null,null,null,null,null,null,null,null,null,null,null,null,null,null,null,null,null,null,null,null,null,null,null,null,null,null,null,null,null,null,null,null,null,null,null,null,null,null,null,null,null,null,null,null,null,null,null,null,null,null,null,null,null,null,null,null,null,null,null,null,null,null,null,null,null,null,null,null,null,null,null,null,null,null,null,null,null,null,null,null,null,null,null,null,null,null,null,null,null,null,null,null,null,null,null,null,null,null,null,null,null,null,null,null,null,null,null,null,null,null,null,null,null,null,null,null,null,null,null,null,null,null,null,null,null,null,null,null,null,null,null,null,null,null,null,null,null,null,null,null,null,null,null,null,null,null,null,null,null,null,null,null,null,null,null,null,null,null,null,null,null,null,null,null,null,null,null,null,null,null,null,null,null,null,null,null,null,null,null,null,null,null,null,null,null,null,null,null,null,null,null,null,null,null,null,null,null,null,null,null,null,null,null,null,null,null,null,null,null,null,null,null,null,null,null,null,null,null,null,null,null,null,null,null,null,null,null,null,null,null,null,null,null,null,null,null,null,null,null,null,null,null,null,null,null,null,null,null,null,null,null,null,null,null,null,null,null,null,null,null,null,null,null,null,null,null,{"$f":"STATISTICS!$R$3","v":1234567}]
[null,null,null,null,null,null,null,null,null,null,null,null,null,null,null,null,null,null,null,null,null,null,null,null,null,null,null,null,null,null,null,null,null,null,null,null,null,null,null,null,null,null,null,null,null,null,null,null,null,null,null,null,null,null,null,null,null,null,null,null,null,null,null,null,null,null,null,null,null,null,null,null,null,null,null,null,null,null,null,null,null,null,null,null,null,null,null,null,null,null,null,null,null,null,null,null,null,null,null,null,null,null,null,null,null,null,null,null,null,null,null,null,null,null,null,null,null,null,null,null,null,null,null,null,null,null,null,null,null,null,null,null,null,null,null,null,null,null,null,null,null,null,null,null,null,null,null,null,null,null,null,null,null,null,null,null,null,null,null,null,null,null,null,null,null,null,null,null,null,null,null,null,null,null,null,null,null,null,null,null,null,null,null,null,null,null,null,null,null,null,null,null,null,null,null,null,null,null,null,null,null,null,null,null,null,null,null,null,null,null,null,null,null,null,null,null,null,null,null,null,null,null,null,null,null,null,null,null,null,null,null,null,null,null,null,null,null,null,null,null,null,null,null,null,null,null,null,null,null,null,null,null,null,null,null,null,null,null,null,null,null,null,null,null,null,null,null,null,null,null,null,null,null,null,null,null,null,null,null,null,null,null,null,null,null,null,null,null,null,null,null,null,null,null,null,null,null,null,null,null,{"$f":"STATISTICS!$P$5","v":"○"},null,null,null,null,null,null,null,null,null,null,null,null,null,null,null,null,null,null,null,null,{"$f":"STATISTICS!$P$6","v":""},null,null,null,null,null,null,null,null,null,null,null,null,null,null,null,null,null,null,{"$f":"STATISTICS!$P$7","v":""},null,null,null,null,null,null,null,null,null,null,null,null,null,null,{"$f":"STATISTICS!$P$8","v":""}]

{"sheet":"肝炎①","index":18,"n_rows":392,"n_cols":264,"rows_kept":392,"cut":false,"hidden":false,"merged":[[73,263,77,270],[47,53,55,132],[52,212,59,251],[56,53,63,132],[391,204,396,210],[391,225,396,231],[391,259,396,279],[386,74,394,125],[391,183,396,189],[358,74,365,81],[73,191,77,198],[73,213,77,220],[73,236,77,243],[389,137,396,171],[377,183,382,189],[73,166,77,172],[34,66,40,73],[34,88,40,95],[34,110,40,117],[73,175,77,181],[65,54,70,114],[73,53,82,113],[33,156,40,163],[33,165,40,172],[33,175,40,182],[33,185,40,192],[72,130,78,136],[72,143,78,149],[373,74,381,167],[33,215,40,222],[358,88,365,95],[358,102,365,109],[358,116,365,123],[358,130,365,137],[358,144,365,151],[358,158,365,165],[33,195,40,202],[33,205,40,212]]}
[]
[]
[]
[]
[]
[]
[]
[]
[]
[]
[]
[]
[]
[]
[]
[]
[]
[]
[]
[]
[]
[]
[]
[]
[]
[]
[]
[]
[]
[]
[]
[]
[]
[null,null,null,null,null,null,null,null,null,null,null,null,null,null,null,null,null,null,null,null,null,null,null,null,null,null,null,null,null,null,null,null,null,null,null,null,null,null,null,null,null,null,null,null,null,null,null,null,null,null,null,null,null,null,null,null,null,null,null,null,null,null,null,null,null,null,null,null,null,null,null,null,null,null,null,null,null,null,null,null,null,null,null,null,null,null,null,null,null,null,null,null,null,null,null,null,null,null,null,null,null,null,null,null,null,null,null,null,null,null,null,null,null,null,null,null,null,null,null,null,null,null,null,null,null,null,null,null,null,null,null,null,null,null,null,null,null,null,null,null,null,null,null,null,null,null,null,null,null,null,null,null,null,null,null,null,{"$f":"STATISTICS!$E$5","v":"1"},null,null,null,null,null,null,null,null,{"$f":"STATISTICS!$E$6","v":"2"},null,null,null,null,null,null,null,null,null,{"$f":"STATISTICS!$E$7","v":"3"},null,null,null,null,null,null,null,null,null,{"$f":"STATISTICS!$E$8","v":"4"},null,null,null,null,null,null,null,null,null,{"$f":"STATISTICS!$E$9","v":"5"},null,null,null,null,null,null,null,null,null,{"$f":"STATISTICS!$E$10","v":"6"},null,null,null,null,null,null,null,null,null,{"$f":"STATISTICS!$E$11","v":"7"}]
[null,null,null,null,null,null,null,null,null,null,null,null,null,null,null,null,null,null,null,null,null,null,null,null,null,null,null,null,null,null,null,null,null,null,null,null,null,null,null,null,null,null,null,null,null,null,null,null,null,null,null,null,null,null,null,null,null,null,null,null,null,null,null,null,null,null,{"$f":"STATISTICS!$D$7","v":"04"},null,null,null,null,null,null,null,null,null,null,null,null,null,null,null,null,null,null,null,null,null,{"$f":"STATISTICS!$D$8","v":"09"},null,null,null,null,null,null,null,null,null,null,null,null,null,null,null,null,null,null,null,null,null,{"$f":"STATISTICS!$D$9","v":"08"}]
[]
[]
[]
[]
[]
[]
[]
[]
[]
[]
[]
[]
[null,null,null,null,null,null,null,null,null,null,null,null,null,null,null,null,null,null,null,null,null,null,null,null,null,null,null,null,null,null,null,null,null,null,null,null,null,null,null,null,null,null,null,null,null,null,null,null,null,null,null,null,null,{"$f":"STATISTICS!$H$3","v":"森合町10番1号"}]
[]
[]
[]
[]
[null,null,null,null,null,null,null,null,null,null,null,null,null,null,null,null,null,null,null,null,null,null,null,null,null,null,null,null,null,null,null,null,null,null,null,null,null,null,null,null,null,null,null,null,null,null,null,null,null,null,null,null,null,null,null,null,null,null,null,null,null,null,null,null,null,null,null,null,null,null,null,null,null,null,null,null,null,null,null,null,null,null,null,null,null,null,null,null,null,null,null,null,null,null,null,null,null,null,null,null,null,null,null,null,null,null,null,null,null,null,null,null,null,null,null,null,null,null,null,null,null,null,null,null,null,null,null,null,null,null,null,null,null,null,null,null,null,null,null,null,null,null,null,null,null,null,null,null,null,null,null,null,null,null,null,null,null,null,null,null,null,null,null,null,null,null,null,null,null,null,null,null,null,null,null,null,null,null,null,null,null,null,null,null,null,null,null,null,null,null,null,null,null,null,null,null,null,null,null,null,null,null,null,null,null,null,null,null,null,null,null,null,{"$f":"STATISTICS!$J$3","v":"024-534-2290"}]
[]
[]
[]
[null,null,null,null,null,null,null,null,null,null,null,null,null,null,null,null,null,null,null,null,null,null,null,null,null,null,null,null,null,null,null,null,null,null,null,null,null,null,null,null,null,null,null,null,null,null,null,null,null,null,null,null,null,{"$f":"STATISTICS!$I$3","v":"福島市保健福祉センター内"}]
[]
[]
[]
[]
[]
[]
[]
[]
[null,null,null,null,null,null,null,null,null,null,null,null,null,null,null,null,null,null,null,null,null,null,null,null,null,null,null,null,null,null,null,null,null,null,null,null,null,null,null,null,null,null,null,null,null,null,null,null,null,null,null,null,null,null,{"$f":"STATISTICS!$C$3","v":"いしかい　はるこ"}]
[]
[]
[]
[]
[]
[]
[null,null,null,null,null,null,null,null,null,null,null,null,null,null,null,null,null,null,null,null,null,null,null,null,null,null,null,null,null,null,null,null,null,null,null,null,null,null,null,null,null,null,null,null,null,null,null,null,null,null,null,null,null,null,null,null,null,null,null,null,null,null,null,null,null,null,null,null,null,null,null,null,null,null,null,null,null,null,null,null,null,null,null,null,null,null,null,null,null,null,null,null,null,null,null,null,null,null,null,null,null,null,null,null,null,null,null,null,null,null,null,null,null,null,null,null,null,null,null,null,null,null,null,null,null,null,null,null,null,null,{"$f":"STATISTICS!$K$5","v":""},null,null,null,null,null,null,null,null,null,null,null,null,{"$f":"STATISTICS!$K$6","v":"○"}]
[null,null,null,null,null,null,null,null,null,null,null,null,null,null,null,null,null,null,null,null,null,null,null,null,null,null,null,null,null,null,null,null,null,null,null,null,null,null,null,null,null,null,null,null,null,null,null,null,null,null,null,null,null,{"$f":"STATISTICS!$B$3","v":"医師会　春子"},null,null,null,null,null,null,null,null,null,null,null,null,null,null,null,null,null,null,null,null,null,null,null,null,null,null,null,null,null,null,null,null,null,null,null,null,null,null,null,null,null,null,null,null,null,null,null,null,null,null,null,null,null,null,null,null,null,null,null,null,null,null,null,null,null,null,null,null,null,null,null,null,null,null,null,null,null,null,null,null,null,null,null,null,null,null,null,null,null,null,null,null,null,null,null,null,null,null,null,null,null,null,null,null,null,null,null,null,null,null,null,null,{"$f":"STATISTICS!$M$12","v":""},null,null,null,null,null,null,null,null,{"$f":"STATISTICS!$M$13","v":"○"},null,null,null,null,null,null,null,null,null,null,null,null,null,null,null,{"$f":"STATISTICS!$M$7","v":"35"},null,null,null,null,null,null,null,null,null,null,null,null,null,null,null,null,null,null,null,null,null,{"$f":"STATISTICS!$M$8","v":"12"},null,null,null,null,null,null,null,null,null,null,null,null,null,null,null,null,null,null,null,null,null,null,{"$f":"STATISTICS!$M$9","v":"11"},null,null,null,null,null,null,null,null,null,null,null,null,null,null,null,null,null,null,null,null,null,null,null,null,null,null,{"$f":"STATISTICS!$N$3","v":61}]
[]
[]
[]
[]
[]
[]
[]
[]
[]
[]
[]
[]
[]
[]
[]
[]
[]
[]
[]
[]
[]
[]
[]
[]
[]
[]
[]
[]
[]
[]
[]
[]
[]
[]
[]
[]
[]
[]
[]
[]
[]
[]
[]
[]
[]
[]
[]
[]
[]
[]
[]
[]
[]
[]
[]
[]
[]
[]
[]
[]
[]
[]
[]
[]
[]
[]
[]
[]
[]
[]
[]
[]
[]
[]
[]
[]
[]
[]
[]
[]
[]
[]
[]
[]
[]
[]
[]
[]
[]
[]
[]
[]
[]
[]
[]
[]
[]
[]
[]
[]
[]
[]
[]
[]
[]
[]
[]
[]
[]
[]
[]
[]
[]
[]
[]
[]
[]
[]
[]
[]
[]
[]
[]
[]
[]
[]
[]
[]
[]
[]
[]
[]
[]
[]
[]
[]
[]
[]
[]
[]
[]
[]
[]
[]
[]
[]
[]
[]
[]
[]
[]
[]
[]
[]
[]
[]
[]
[]
[]
[]
[]
[]
[]
[]
[]
[]
[]
[]
[]
[]
[]
[]
[]
[]
[]
[]
[]
[]
[]
[]
[]
[]
[]
[]
[]
[]
[]
[]
[]
[]
[]
[]
[]
[]
[]
[]
[]
[]
[]
[]
[]
[]
[]
[]
[]
[]
[]
[]
[]
[]
[]
[]
[]
[]
[]
[]
[]
[]
[]
[]
[]
[]
[]
[]
[]
[]
[]
[]
[]
[]
[]
[]
[]
[]
[]
[]
[]
[]
[]
[]
[]
[]
[]
[]
[]
[]
[]
[]
[]
[]
[]
[]
[]
[]
[]
[]
[]
[]
[]
[]
[]
[]
[]
[]
[]
[]
[]
[]
[]
[]
[]
[]
[]
[]
[]
[]
[]
[]
[]
[]
[]
[]
[]
[]
[null,null,null,null,null,null,null,null,null,null,null,null,null,null,null,null,null,null,null,null,null,null,null,null,null,null,null,null,null,null,null,null,null,null,null,null,null,null,null,null,null,null,null,null,null,null,null,null,null,null,null,null,null,null,null,null,null,null,null,null,null,null,null,null,null,null,null,null,null,null,null,null,null,null,{"$f":"設定シート!$AA$7","v":"　"},null,null,null,null,null,null,null,null,null,null,null,null,null,{"$f":"設定シート!$AB$7","v":"　"},null,null,null,null,null,null,null,null,null,null,null,null,null,{"$f":"設定シート!$AC$7","v":"　"},null,null,null,null,null,null,null,null,null,null,null,null,null,{"$f":"設定シート!$AD$7","v":"　"},null,null,null,null,null,null,null,null,null,null,null,null,null,{"$f":"設定シート!$AE$7","v":"　"},null,null,null,null,null,null,null,null,null,null,null,null,null,{"$f":"設定シート!$AF$7","v":"　"},null,null,null,null,null,null,null,null,null,null,null,null,null,{"$f":"設定シート!$AG$7","v":"　"}]
[]
[]
[]
[]
[]
[]
[]
[]
[]
[]
[]
[]
[]
[]
[null,null,null,null,null,null,null,null,null,null,null,null,null,null,null,null,null,null,null,null,null,null,null,null,null,null,null,null,null,null,null,null,null,null,null,null,null,null,null,null,null,null,null,null,null,null,null,null,null,null,null,null,null,null,null,null,null,null,null,null,null,null,null,null,null,null,null,null,null,null,null,null,null,null,{"$f":"設定シート!$C$8","v":0}]
[]
[]
[]
[null,null,null,null,null,null,null,null,null,null,null,null,null,null,null,null,null,null,null,null,null,null,null,null,null,null,null,null,null,null,null,null,null,null,null,null,null,null,null,null,null,null,null,null,null,null,null,null,null,null,null,null,null,null,null,null,null,null,null,null,null,null,null,null,null,null,null,null,null,null,null,null,null,null,null,null,null,null,null,null,null,null,null,null,null,null,null,null,null,null,null,null,null,null,null,null,null,null,null,null,null,null,null,null,null,null,null,null,null,null,null,null,null,null,null,null,null,null,null,null,null,null,null,null,null,null,null,null,null,null,null,null,null,null,null,null,null,null,null,null,null,null,null,null,null,null,null,null,null,null,null,null,null,null,null,null,null,null,null,null,null,null,null,null,null,null,null,null,null,null,null,null,null,null,null,null,null,null,null,null,null,null,null,{"$f":"STATISTICS!$P$5","v":"○"}]
[]
[]
[]
[]
[]
[]
[]
[]
[null,null,null,null,null,null,null,null,null,null,null,null,null,null,null,null,null,null,null,null,null,null,null,null,null,null,null,null,null,null,null,null,null,null,null,null,null,null,null,null,null,null,null,null,null,null,null,null,null,null,null,null,null,null,null,null,null,null,null,null,null,null,null,null,null,null,null,null,null,null,null,null,null,null,{"$f":"設定シート!$C$10","v":0}]
[]
[]
[null,null,null,null,null,null,null,null,null,null,null,null,null,null,null,null,null,null,null,null,null,null,null,null,null,null,null,null,null,null,null,null,null,null,null,null,null,null,null,null,null,null,null,null,null,null,null,null,null,null,null,null,null,null,null,null,null,null,null,null,null,null,null,null,null,null,null,null,null,null,null,null,null,null,null,null,null,null,null,null,null,null,null,null,null,null,null,null,null,null,null,null,null,null,null,null,null,null,null,null,null,null,null,null,null,null,null,null,null,null,null,null,null,null,null,null,null,null,null,null,null,null,null,null,null,null,null,null,null,null,null,null,null,null,null,null,null,{"$f":"設定シート!$C$9","v":0}]
[]
[null,null,null,null,null,null,null,null,null,null,null,null,null,null,null,null,null,null,null,null,null,null,null,null,null,null,null,null,null,null,null,null,null,null,null,null,null,null,null,null,null,null,null,null,null,null,null,null,null,null,null,null,null,null,null,null,null,null,null,null,null,null,null,null,null,null,null,null,null,null,null,null,null,null,null,null,null,null,null,null,null,null,null,null,null,null,null,null,null,null,null,null,null,null,null,null,null,null,null,null,null,null,null,null,null,null,null,null,null,null,null,null,null,null,null,null,null,null,null,null,null,null,null,null,null,null,null,null,null,null,null,null,null,null,null,null,null,null,null,null,null,null,null,null,null,null,null,null,null,null,null,null,null,null,null,null,null,null,null,null,null,null,null,null,null,null,null,null,null,null,null,null,null,null,null,null,null,null,null,null,null,null,null,{"$f":"STATISTICS!$P$6","v":""},null,null,null,null,null,null,null,null,null,null,null,null,null,null,null,null,null,null,null,null,{"$f":"STATISTICS!$P$7","v":""},null,null,null,null,null,null,null,null,null,null,null,null,null,null,null,null,null,null,null,null,{"$f":"STATISTICS!$P$8","v":""},null,null,null,null,null,null,null,null,null,null,null,null,null,null,null,null,null,null,null,null,null,null,null,null,null,null,null,null,null,null,null,null,null,{"$f":"STATISTICS!$R$3","v":1234567}]

{"sheet":"肝炎①-2","index":19,"n_rows":392,"n_cols":264,"rows_kept":392,"cut":false,"hidden":false,"merged":[[33,215,40,222],[34,66,40,73],[34,88,40,95],[34,110,40,117],[47,53,55,132],[52,212,59,251],[56,53,63,132],[33,156,40,163],[33,165,40,172],[33,175,40,182],[33,185,40,192],[33,195,40,202],[33,205,40,212],[65,54,70,114],[72,130,78,136],[72,143,78,149],[73,53,82,113],[73,166,77,172],[73,191,77,198],[73,213,77,220],[73,236,77,243],[73,263,77,270],[358,74,365,81],[358,88,365,95],[358,102,365,109],[358,116,365,123],[358,130,365,137],[358,144,365,151],[73,175,77,181],[391,204,396,210],[391,225,396,231],[391,259,396,279],[358,158,365,165],[373,74,381,167],[377,183,382,189],[386,74,394,125],[389,137,396,171],[391,183,396,189]]}
[]
[]
[]
[]
[]
[]
[]
[]
[]
[]
[]
[]
[]
[]
[]
[]
[]
[]
[]
[]
[]
[]
[]
[]
[]
[]
[]
[]
[]
[]
[]
[]
[]
[null,null,null,null,null,null,null,null,null,null,null,null,null,null,null,null,null,null,null,null,null,null,null,null,null,null,null,null,null,null,null,null,null,null,null,null,null,null,null,null,null,null,null,null,null,null,null,null,null,null,null,null,null,null,null,null,null,null,null,null,null,null,null,null,null,null,null,null,null,null,null,null,null,null,null,null,null,null,null,null,null,null,null,null,null,null,null,null,null,null,null,null,null,null,null,null,null,null,null,null,null,null,null,null,null,null,null,null,null,null,null,null,null,null,null,null,null,null,null,null,null,null,null,null,null,null,null,null,null,null,null,null,null,null,null,null,null,null,null,null,null,null,null,null,null,null,null,null,null,null,null,null,null,null,null,null,{"$f":"STATISTICS!$E$5","v":"1"},null,null,null,null,null,null,null,null,{"$f":"STATISTICS!$E$6","v":"2"},null,null,null,null,null,null,null,null,null,{"$f":"STATISTICS!$E$7","v":"3"},null,null,null,null,null,null,null,null,null,{"$f":"STATISTICS!$E$8","v":"4"},null,null,null,null,null,null,null,null,null,{"$f":"STATISTICS!$E$9","v":"5"},null,null,null,null,null,null,null,null,null,{"$f":"STATISTICS!$E$10","v":"6"},null,null,null,null,null,null,null,null,null,{"$f":"STATISTICS!$E$11","v":"7"}]
[null,null,null,null,null,null,null,null,null,null,null,null,null,null,null,null,null,null,null,null,null,null,null,null,null,null,null,null,null,null,null,null,null,null,null,null,null,null,null,null,null,null,null,null,null,null,null,null,null,null,null,null,null,null,null,null,null,null,null,null,null,null,null,null,null,null,{"$f":"STATISTICS!$D$7","v":"04"},null,null,null,null,null,null,null,null,null,null,null,null,null,null,null,null,null,null,null,null,null,{"$f":"STATISTICS!$D$8","v":"09"},null,null,null,null,null,null,null,null,null,null,null,null,null,null,null,null,null,null,null,null,null,{"$f":"STATISTICS!$D$9","v":"08"}]
[]
[]
[]
[]
[]
[]
[]
[]
[]
[]
[]
[]
[null,null,null,null,null,null,null,null,null,null,null,null,null,null,null,null,null,null,null,null,null,null,null,null,null,null,null,null,null,null,null,null,null,null,null,null,null,null,null,null,null,null,null,null,null,null,null,null,null,null,null,null,null,{"$f":"STATISTICS!$H$3","v":"森合町10番1号"}]
[]
[]
[]
[]
[null,null,null,null,null,null,null,null,null,null,null,null,null,null,null,null,null,null,null,null,null,null,null,null,null,null,null,null,null,null,null,null,null,null,null,null,null,null,null,null,null,null,null,null,null,null,null,null,null,null,null,null,null,null,null,null,null,null,null,null,null,null,null,null,null,null,null,null,null,null,null,null,null,null,null,null,null,null,null,null,null,null,null,null,null,null,null,null,null,null,null,null,null,null,null,null,null,null,null,null,null,null,null,null,null,null,null,null,null,null,null,null,null,null,null,null,null,null,null,null,null,null,null,null,null,null,null,null,null,null,null,null,null,null,null,null,null,null,null,null,null,null,null,null,null,null,null,null,null,null,null,null,null,null,null,null,null,null,null,null,null,null,null,null,null,null,null,null,null,null,null,null,null,null,null,null,null,null,null,null,null,null,null,null,null,null,null,null,null,null,null,null,null,null,null,null,null,null,null,null,null,null,null,null,null,null,null,null,null,null,null,null,{"$f":"STATISTICS!$J$3","v":"024-534-2290"}]
[]
[]
[]
[null,null,null,null,null,null,null,null,null,null,null,null,null,null,null,null,null,null,null,null,null,null,null,null,null,null,null,null,null,null,null,null,null,null,null,null,null,null,null,null,null,null,null,null,null,null,null,null,null,null,null,null,null,{"$f":"STATISTICS!$I$3","v":"福島市保健福祉センター内"}]
[]
[]
[]
[]
[]
[]
[]
[]
[null,null,null,null,null,null,null,null,null,null,null,null,null,null,null,null,null,null,null,null,null,null,null,null,null,null,null,null,null,null,null,null,null,null,null,null,null,null,null,null,null,null,null,null,null,null,null,null,null,null,null,null,null,null,{"$f":"STATISTICS!$C$3","v":"いしかい　はるこ"}]
[]
[]
[]
[]
[]
[]
[null,null,null,null,null,null,null,null,null,null,null,null,null,null,null,null,null,null,null,null,null,null,null,null,null,null,null,null,null,null,null,null,null,null,null,null,null,null,null,null,null,null,null,null,null,null,null,null,null,null,null,null,null,null,null,null,null,null,null,null,null,null,null,null,null,null,null,null,null,null,null,null,null,null,null,null,null,null,null,null,null,null,null,null,null,null,null,null,null,null,null,null,null,null,null,null,null,null,null,null,null,null,null,null,null,null,null,null,null,null,null,null,null,null,null,null,null,null,null,null,null,null,null,null,null,null,null,null,null,null,{"$f":"STATISTICS!$K$5","v":""},null,null,null,null,null,null,null,null,null,null,null,null,{"$f":"STATISTICS!$K$6","v":"○"}]
[null,null,null,null,null,null,null,null,null,null,null,null,null,null,null,null,null,null,null,null,null,null,null,null,null,null,null,null,null,null,null,null,null,null,null,null,null,null,null,null,null,null,null,null,null,null,null,null,null,null,null,null,null,{"$f":"STATISTICS!$B$3","v":"医師会　春子"},null,null,null,null,null,null,null,null,null,null,null,null,null,null,null,null,null,null,null,null,null,null,null,null,null,null,null,null,null,null,null,null,null,null,null,null,null,null,null,null,null,null,null,null,null,null,null,null,null,null,null,null,null,null,null,null,null,null,null,null,null,null,null,null,null,null,null,null,null,null,null,null,null,null,null,null,null,null,null,null,null,null,null,null,null,null,null,null,null,null,null,null,null,null,null,null,null,null,null,null,null,null,null,null,null,null,null,null,null,null,null,null,{"$f":"STATISTICS!$M$12","v":""},null,null,null,null,null,null,null,null,{"$f":"STATISTICS!$M$13","v":"○"},null,null,null,null,null,null,null,null,null,null,null,null,null,null,null,{"$f":"STATISTICS!$M$7","v":"35"},null,null,null,null,null,null,null,null,null,null,null,null,null,null,null,null,null,null,null,null,null,{"$f":"STATISTICS!$M$8","v":"12"},null,null,null,null,null,null,null,null,null,null,null,null,null,null,null,null,null,null,null,null,null,null,{"$f":"STATISTICS!$M$9","v":"11"},null,null,null,null,null,null,null,null,null,null,null,null,null,null,null,null,null,null,null,null,null,null,null,null,null,null,{"$f":"STATISTICS!$N$3","v":61}]
[]
[]
[]
[]
[]
[]
[]
[]
[]
[]
[]
[]
[]
[]
[]
[]
[]
[]
[]
[]
[]
[]
[]
[]
[]
[]
[]
[]
[]
[]
[]
[]
[]
[]
[]
[]
[]
[]
[]
[]
[]
[]
[]
[]
[]
[]
[]
[]
[]
[]
[]
[]
[]
[]
[]
[]
[]
[]
[]
[]
[]
[]
[]
[]
[]
[]
[]
[]
[]
[]
[]
[]
[]
[]
[]
[]
[]
[]
[]
[]
[]
[]
[]
[]
[]
[]
[]
[]
[]
[]
[]
[]
[]
[]
[]
[]
[]
[]
[]
[]
[]
[]
[]
[]
[]
[]
[]
[]
[]
[]
[]
[]
[]
[]
[]
[]
[]
[]
[]
[]
[]
[]
[]
[]
[]
[]
[]
[]
[]
[]
[]
[]
[]
[]
[]
[]
[]
[]
[]
[]
[]
[]
[]
[]
[]
[]
[]
[]
[]
[]
[]
[]
[]
[]
[]
[]
[]
[]
[]
[]
[]
[]
[]
[]
[]
[]
[]
[]
[]
[]
[]
[]
[]
[]
[]
[]
[]
[]
[]
[]
[]
[]
[]
[]
[]
[]
[]
[]
[]
[]
[]
[]
[]
[]
[]
[]
[]
[]
[]
[]
[]
[]
[]
[]
[]
[]
[]
[]
[]
[]
[]
[]
[]
[]
[]
[]
[]
[]
[]
[]
[]
[]
[]
[]
[]
[]
[]
[]
[]
[]
[]
[]
[]
[]
[]
[]
[]
[]
[]
[]
[]
[]
[]
[]
[]
[]
[]
[]
[]
[]
[]
[]
[]
[]
[]
[]
[]
[]
[]
[]
[]
[]
[]
[]
[]
[]
[]
[]
[]
[]
[]
[]
[]
[]
[]
[]
[]
[]
[]
[]
[]
[]
[]
[]
[]
[]
[]
[]
[]
[]
[]
[]
[]
[]
[]
[]
[]
[]
[]
[]
[]
[]
[]
[null,null,null,null,null,null,null,null,null,null,null,null,null,null,null,null,null,null,null,null,null,null,null,null,null,null,null,null,null,null,null,null,null,null,null,null,null,null,null,null,null,null,null,null,null,null,null,null,null,null,null,null,null,null,null,null,null,null,null,null,null,null,null,null,null,null,null,null,null,null,null,null,null,null,null,null,null,null,null,null,null,null,null,null,null,null,null,null,null,null,null,null,null,null,null,null,null,null,null,null,null,null,null,null,null,null,null,null,null,null,null,null,null,null,null,null,null,null,null,null,null,null,null,null,null,null,null,null,null,null,null,null,null,null,null,null,null,null,null,null,null,null,null,null,null,null,null,null,null,null,null,null,null,null,null,null,null,null,null,null,null,null,null,null,null,null,null,null,null,null,null,null,null,null,null,null,null,null,null,null,null,null,null,{"$f":"STATISTICS!$P$5","v":"○"}]
[]
[]
[]
[]
[]
[]
[]
[]
[]
[]
[]
[]
[]
[null,null,null,null,null,null,null,null,null,null,null,null,null,null,null,null,null,null,null,null,null,null,null,null,null,null,null,null,null,null,null,null,null,null,null,null,null,null,null,null,null,null,null,null,null,null,null,null,null,null,null,null,null,null,null,null,null,null,null,null,null,null,null,null,null,null,null,null,null,null,null,null,null,null,null,null,null,null,null,null,null,null,null,null,null,null,null,null,null,null,null,null,null,null,null,null,null,null,null,null,null,null,null,null,null,null,null,null,null,null,null,null,null,null,null,null,null,null,null,null,null,null,null,null,null,null,null,null,null,null,null,null,null,null,null,null,null,null,null,null,null,null,null,null,null,null,null,null,null,null,null,null,null,null,null,null,null,null,null,null,null,null,null,null,null,null,null,null,null,null,null,null,null,null,null,null,null,null,null,null,null,null,null,{"$f":"STATISTICS!$P$6","v":""},null,null,null,null,null,null,null,null,null,null,null,null,null,null,null,null,null,null,null,null,{"$f":"STATISTICS!$P$7","v":""},null,null,null,null,null,null,null,null,null,null,null,null,null,null,null,null,null,null,null,null,{"$f":"STATISTICS!$P$8","v":""},null,null,null,null,null,null,null,null,null,null,null,null,null,null,null,null,null,null,null,null,null,null,null,null,null,null,null,null,null,null,null,null,null,{"$f":"STATISTICS!$R$3","v":1234567}]

{"sheet":"胃②-1","index":20,"n_rows":392,"n_cols":255,"rows_kept":392,"cut":false,"hidden":false,"merged":[[382,64,390,157],[386,213,394,264],[391,75,398,109],[372,205,378,212],[372,229,378,236],[372,254,378,261],[371,62,378,69],[371,76,378,83],[371,89,378,96],[371,102,378,109],[371,115,378,122],[88,168,94,207],[88,66,94,98],[81,251,85,258],[22,205,28,212],[22,229,28,236],[22,254,28,261],[51,60,58,67],[51,73,58,80],[51,86,58,93],[51,101,58,108],[51,114,58,121],[73,59,82,119],[62,60,67,120],[51,126,58,133],[51,140,58,147],[63,176,67,182],[72,176,76,182],[52,205,58,212],[52,229,58,236],[52,254,58,261],[71,205,77,212],[71,229,77,236],[71,254,77,261],[156,108,162,115],[156,137,162,144],[371,141,378,148],[97,77,104,276],[156,79,162,86],[371,128,378,135],[107,141,114,148],[128,76,135,110],[109,194,116,245],[119,62,126,155],[107,60,114,67],[107,73,114,80],[107,86,114,93],[107,100,114,107],[107,114,114,121],[107,126,114,133]]}
[]
[]
[]
[]
[]
[]
[]
[]
[]
[]
[]
[]
[]
[]
[]
[]
[]
[]
[]
[]
[]
[]
[null,null,null,null,null,null,null,null,null,null,null,null,null,null,null,null,null,null,null,null,null,null,null,null,null,null,null,null,null,null,null,null,null,null,null,null,null,null,null,null,null,null,null,null,null,null,null,null,null,null,null,null,null,null,null,null,null,null,null,null,null,null,null,null,null,null,null,null,null,null,null,null,null,null,null,null,null,null,null,null,null,null,null,null,null,null,null,null,null,null,null,null,null,null,null,null,null,null,null,null,null,null,null,null,null,null,null,null,null,null,null,null,null,null,null,null,null,null,null,null,null,null,null,null,null,null,null,null,null,null,null,null,null,null,null,null,null,null,null,null,null,null,null,null,null,null,null,null,null,null,null,null,null,null,null,null,null,null,null,null,null,null,null,null,null,null,null,null,null,null,null,null,null,null,null,null,null,null,null,null,null,null,null,null,null,null,null,null,null,null,null,null,null,null,null,null,null,null,null,null,null,null,null,null,null,{"$f":"STATISTICS!$V$7","v":"04"},null,null,null,null,null,null,null,null,null,null,null,null,null,null,null,null,null,null,null,null,null,null,null,{"$f":"STATISTICS!$V$8","v":"10"},null,null,null,null,null,null,null,null,null,null,null,null,null,null,null,null,null,null,null,null,null,null,null,null,{"$f":"STATISTICS!$V$9","v":"29"}]
[]
[]
[]
[]
[]
[]
[]
[]
[]
[]
[]
[]
[]
[]
[]
[]
[]
[]
[]
[]
[]
[]
[]
[]
[]
[]
[]
[]
[null,null,null,null,null,null,null,null,null,null,null,null,null,null,null,null,null,null,null,null,null,null,null,null,null,null,null,null,null,null,null,null,null,null,null,null,null,null,null,null,null,null,null,null,null,null,null,null,null,null,null,null,null,null,null,null,null,null,null,null,{"$f":"STATISTICS!$E$5","v":"1"},null,null,null,null,null,null,null,null,null,null,null,null,{"$f":"STATISTICS!$E$6","v":"2"},null,null,null,null,null,null,null,null,null,null,null,null,{"$f":"STATISTICS!$E$7","v":"3"},null,null,null,null,null,null,null,null,null,null,null,null,null,null,{"$f":"STATISTICS!$E$8","v":"4"},null,null,null,null,null,null,null,null,null,null,null,null,{"$f":"STATISTICS!$E$9","v":"5"},null,null,null,null,null,null,null,null,null,null,null,{"$f":"STATISTICS!$E$10","v":"6"},null,null,null,null,null,null,null,null,null,null,null,null,null,{"$f":"STATISTICS!$E$11","v":"7"}]
[null,null,null,null,null,null,null,null,null,null,null,null,null,null,null,null,null,null,null,null,null,null,null,null,null,null,null,null,null,null,null,null,null,null,null,null,null,null,null,null,null,null,null,null,null,null,null,null,null,null,null,null,null,null,null,null,null,null,null,null,null,null,null,null,null,null,null,null,null,null,null,null,null,null,null,null,null,null,null,null,null,null,null,null,null,null,null,null,null,null,null,null,null,null,null,null,null,null,null,null,null,null,null,null,null,null,null,null,null,null,null,null,null,null,null,null,null,null,null,null,null,null,null,null,null,null,null,null,null,null,null,null,null,null,null,null,null,null,null,null,null,null,null,null,null,null,null,null,null,null,null,null,null,null,null,null,null,null,null,null,null,null,null,null,null,null,null,null,null,null,null,null,null,null,null,null,null,null,null,null,null,null,null,null,null,null,null,null,null,null,null,null,null,null,null,null,null,null,null,null,null,null,null,null,null,{"$f":"STATISTICS!$D$7","v":"04"},null,null,null,null,null,null,null,null,null,null,null,null,null,null,null,null,null,null,null,null,null,null,null,{"$f":"STATISTICS!$D$8","v":"09"},null,null,null,null,null,null,null,null,null,null,null,null,null,null,null,null,null,null,null,null,null,null,null,null,{"$f":"STATISTICS!$D$9","v":"08"}]
[]
[]
[]
[]
[]
[]
[]
[]
[]
[null,null,null,null,null,null,null,null,null,null,null,null,null,null,null,null,null,null,null,null,null,null,null,null,null,null,null,null,null,null,null,null,null,null,null,null,null,null,null,null,null,null,null,null,null,null,null,null,null,null,null,null,null,null,null,null,null,null,null,null,{"$f":"STATISTICS!$C$3","v":"いしかい　はるこ"}]
[null,null,null,null,null,null,null,null,null,null,null,null,null,null,null,null,null,null,null,null,null,null,null,null,null,null,null,null,null,null,null,null,null,null,null,null,null,null,null,null,null,null,null,null,null,null,null,null,null,null,null,null,null,null,null,null,null,null,null,null,null,null,null,null,null,null,null,null,null,null,null,null,null,null,null,null,null,null,null,null,null,null,null,null,null,null,null,null,null,null,null,null,null,null,null,null,null,null,null,null,null,null,null,null,null,null,null,null,null,null,null,null,null,null,null,null,null,null,null,null,null,null,null,null,null,null,null,null,null,null,null,null,null,null,null,null,null,null,null,null,null,null,null,null,null,null,null,null,null,null,null,null,null,null,null,null,null,null,null,null,null,null,null,null,null,null,null,null,null,null,null,null,null,null,null,null,{"$f":"STATISTICS!$M$12","v":""}]
[]
[]
[]
[]
[]
[]
[]
[null,null,null,null,null,null,null,null,null,null,null,null,null,null,null,null,null,null,null,null,null,null,null,null,null,null,null,null,null,null,null,null,null,null,null,null,null,null,null,null,null,null,null,null,null,null,null,null,null,null,null,null,null,null,null,null,null,null,null,null,null,null,null,null,null,null,null,null,null,null,null,null,null,null,null,null,null,null,null,null,null,null,null,null,null,null,null,null,null,null,null,null,null,null,null,null,null,null,null,null,null,null,null,null,null,null,null,null,null,null,null,null,null,null,null,null,null,null,null,null,null,null,null,null,null,null,null,null,null,null,null,null,null,null,null,null,null,null,null,null,null,null,null,null,null,null,null,null,null,null,null,null,null,null,null,null,null,null,null,null,null,null,null,null,null,null,null,null,null,null,null,null,null,null,null,null,null,null,null,null,null,null,null,null,null,null,null,null,null,null,null,null,null,null,null,null,null,null,null,null,null,null,null,null,null,{"$f":"STATISTICS!$M$7","v":"35"},null,null,null,null,null,null,null,null,null,null,null,null,null,null,null,null,null,null,null,null,null,null,null,{"$f":"STATISTICS!$M$8","v":"12"},null,null,null,null,null,null,null,null,null,null,null,null,null,null,null,null,null,null,null,null,null,null,null,null,{"$f":"STATISTICS!$M$9","v":"11"}]
[null,null,null,null,null,null,null,null,null,null,null,null,null,null,null,null,null,null,null,null,null,null,null,null,null,null,null,null,null,null,null,null,null,null,null,null,null,null,null,null,null,null,null,null,null,null,null,null,null,null,null,null,null,null,null,null,null,null,null,null,null,null,null,null,null,null,null,null,null,null,null,null,null,null,null,null,null,null,null,null,null,null,null,null,null,null,null,null,null,null,null,null,null,null,null,null,null,null,null,null,null,null,null,null,null,null,null,null,null,null,null,null,null,null,null,null,null,null,null,null,null,null,null,null,null,null,null,null,null,null,null,null,null,null,null,null,null,null,null,null,null,null,null,null,null,null,null,null,null,null,null,null,null,null,null,null,null,null,null,null,null,null,null,null,null,null,null,null,null,null,null,null,null,null,null,null,{"$f":"STATISTICS!$M$13","v":"○"}]
[null,null,null,null,null,null,null,null,null,null,null,null,null,null,null,null,null,null,null,null,null,null,null,null,null,null,null,null,null,null,null,null,null,null,null,null,null,null,null,null,null,null,null,null,null,null,null,null,null,null,null,null,null,null,null,null,null,null,null,{"$f":"STATISTICS!$B$3","v":"医師会　春子"}]
[]
[]
[]
[]
[]
[]
[]
[null,null,null,null,null,null,null,null,null,null,null,null,null,null,null,null,null,null,null,null,null,null,null,null,null,null,null,null,null,null,null,null,null,null,null,null,null,null,null,null,null,null,null,null,null,null,null,null,null,null,null,null,null,null,null,null,null,null,null,null,null,null,null,null,null,null,null,null,null,null,null,null,null,null,null,null,null,null,null,null,null,null,null,null,null,null,null,null,null,null,null,null,null,null,null,null,null,null,null,null,null,null,null,null,null,null,null,null,null,null,null,null,null,null,null,null,null,null,null,null,null,null,null,null,null,null,null,null,null,null,null,null,null,null,null,null,null,null,null,null,null,null,null,null,null,null,null,null,null,null,null,null,null,null,null,null,null,null,null,null,null,null,null,null,null,null,null,null,null,null,null,null,null,null,null,null,null,null,null,null,null,null,null,null,null,null,null,null,null,null,null,null,null,null,null,null,null,null,null,null,null,null,null,null,null,null,null,null,null,null,null,null,null,null,null,null,null,null,null,null,null,null,null,null,null,null,null,null,null,null,null,null,null,null,null,null,null,null,null,null,null,null,null,null,null,null,null,null,null,null,null,{"$f":"STATISTICS!$N$3","v":61}]
[]
[]
[]
[]
[]
[]
[null,null,null,null,null,null,null,null,null,null,null,null,null,null,null,null,null,null,null,null,null,null,null,null,null,null,null,null,null,null,null,null,null,null,null,null,null,null,null,null,null,null,null,null,null,null,null,null,null,null,null,null,null,null,null,null,null,null,null,null,null,null,null,null,null,null,{"$f":"STATISTICS!$F$5&\"-\"&STATISTICS!$F$6","v":"960-8002"},null,null,null,null,null,null,null,null,null,null,null,null,null,null,null,null,null,null,null,null,null,null,null,null,null,null,null,null,null,null,null,null,null,null,null,null,null,null,null,null,null,null,null,null,null,null,null,null,null,null,null,null,null,null,null,null,null,null,null,null,null,null,null,null,null,null,null,null,null,null,null,null,null,null,null,null,null,null,null,null,null,null,null,null,null,null,null,null,null,null,null,null,null,null,null,null,null,null,null,null,null,{"$f":"STATISTICS!$J$3","v":"024-534-2290"}]
[]
[]
[]
[]
[]
[]
[]
[]
[null,null,null,null,null,null,null,null,null,null,null,null,null,null,null,null,null,null,null,null,null,null,null,null,null,null,null,null,null,null,null,null,null,null,null,null,null,null,null,null,null,null,null,null,null,null,null,null,null,null,null,null,null,null,null,null,null,null,null,null,null,null,null,null,null,null,null,null,null,null,null,null,null,null,null,null,null,{"$f":"STATISTICS!$H$3&\"　\"&STATISTICS!$I$3","v":"森合町10番1号　福島市保健福祉センター内"}]
[]
[]
[]
[]
[]
[]
[]
[]
[]
[null,null,null,null,null,null,null,null,null,null,null,null,null,null,null,null,null,null,null,null,null,null,null,null,null,null,null,null,null,null,null,null,null,null,null,null,null,null,null,null,null,null,null,null,null,null,null,null,null,null,null,null,null,null,null,null,null,null,null,null,{"$f":"設定シート!$AA$7","v":"　"},null,null,null,null,null,null,null,null,null,null,null,null,{"$f":"設定シート!$AB$7","v":"　"},null,null,null,null,null,null,null,null,null,null,null,null,{"$f":"設定シート!$AC$7","v":"　"},null,null,null,null,null,null,null,null,null,null,null,null,null,{"$f":"設定シート!$AD$7","v":"　"},null,null,null,null,null,null,null,null,null,null,null,null,null,{"$f":"設定シート!$AE$7","v":"　"},null,null,null,null,null,null,null,null,null,null,null,{"$f":"設定シート!$AF$7","v":"　"},null,null,null,null,null,null,null,null,null,null,null,null,null,null,{"$f":"設定シート!$AG$7","v":"　"}]
[]
[null,null,null,null,null,null,null,null,null,null,null,null,null,null,null,null,null,null,null,null,null,null,null,null,null,null,null,null,null,null,null,null,null,null,null,null,null,null,null,null,null,null,null,null,null,null,null,null,null,null,null,null,null,null,null,null,null,null,null,null,null,null,null,null,null,null,null,null,null,null,null,null,null,null,null,null,null,null,null,null,null,null,null,null,null,null,null,null,null,null,null,null,null,null,null,null,null,null,null,null,null,null,null,null,null,null,null,null,null,null,null,null,null,null,null,null,null,null,null,null,null,null,null,null,null,null,null,null,null,null,null,null,null,null,null,null,null,null,null,null,null,null,null,null,null,null,null,null,null,null,null,null,null,null,null,null,null,null,null,null,null,null,null,null,null,null,null,null,null,null,null,null,null,null,null,null,null,null,null,null,null,null,null,null,null,null,null,null,null,null,null,null,null,null,{"$f":"設定シート!$C$10","v":0}]
[]
[]
[]
[]
[]
[]
[]
[]
[]
[null,null,null,null,null,null,null,null,null,null,null,null,null,null,null,null,null,null,null,null,null,null,null,null,null,null,null,null,null,null,null,null,null,null,null,null,null,null,null,null,null,null,null,null,null,null,null,null,null,null,null,null,null,null,null,null,null,null,null,null,null,null,{"$f":"設定シート!$C$8","v":0}]
[]
[]
[]
[]
[]
[]
[]
[]
[null,null,null,null,null,null,null,null,null,null,null,null,null,null,null,null,null,null,null,null,null,null,null,null,null,null,null,null,null,null,null,null,null,null,null,null,null,null,null,null,null,null,null,null,null,null,null,null,null,null,null,null,null,null,null,null,null,null,null,null,null,null,null,null,null,null,null,null,null,null,null,null,null,null,null,null,{"$f":"設定シート!$C$9","v":0}]
[]
[]
[]
[]
[]
[]
[]
[]
[]
[]
[]
[]
[]
[]
[]
[]
[]
[]
[]
[]
[]
[]
[]
[]
[]
[]
[]
[null,null,null,null,null,null,null,null,null,null,null,null,null,null,null,null,null,null,null,null,null,null,null,null,null,null,null,null,null,null,null,null,null,null,null,null,null,null,null,null,null,null,null,null,null,null,null,null,null,null,null,null,null,null,null,null,null,null,null,null,null,null,null,null,null,null,null,null,null,null,null,null,null,null,null,null,null,null,null,{"$f":"STATISTICS!$W$7","v":"04"},null,null,null,null,null,null,null,null,null,null,null,null,null,null,null,null,null,null,null,null,null,null,null,null,null,null,null,null,{"$f":"STATISTICS!$W$8","v":"11"},null,null,null,null,null,null,null,null,null,null,null,null,null,null,null,null,null,null,null,null,null,null,null,null,null,null,null,null,{"$f":"STATISTICS!$W$9","v":"05"}]
[]
[]
[]
[]
[]
[]
[]
[]
[]
[]
[]
[]
[]
[]
[]
[]
[]
[]
[]
[]
[]
[]
[]
[]
[]
[]
[]
[]
[]
[]
[]
[]
[]
[]
[]
[]
[]
[]
[]
[]
[]
[]
[]
[]
[]
[]
[]
[]
[]
[]
[]
[]
[]
[]
[]
[]
[]
[]
[]
[]
[]
[]
[]
[]
[]
[]
[]
[]
[]
[]
[]
[]
[]
[]
[]
[]
[]
[]
[]
[]
[]
[]
[]
[]
[]
[]
[]
[]
[]
[]
[]
[]
[]
[]
[]
[]
[]
[]
[]
[]
[]
[]
[]
[]
[]
[]
[]
[]
[]
[]
[]
[]
[]
[]
[]
[]
[]
[]
[]
[]
[]
[]
[]
[]
[]
[]
[]
[]
[]
[]
[]
[]
[]
[]
[]
[]
[]
[]
[]
[]
[]
[]
[]
[]
[]
[]
[]
[]
[]
[]
[]
[]
[]
[]
[]
[]
[]
[]
[]
[]
[]
[]
[]
[]
[]
[]
[]
[]
[]
[]
[]
[]
[]
[]
[]
[]
[]
[]
[]
[]
[]
[]
[]
[]
[]
[]
[]
[]
[]
[]
[]
[]
[]
[]
[]
[]
[]
[]
[]
[]
[]
[]
[]
[]
[]
[]
[]
[]
[]
[]
[]
[]
[]
[]
[null,null,null,null,null,null,null,null,null,null,null,null,null,null,null,null,null,null,null,null,null,null,null,null,null,null,null,null,null,null,null,null,null,null,null,null,null,null,null,null,null,null,null,null,null,null,null,null,null,null,null,null,null,null,null,null,null,null,null,null,null,null,{"$f":"設定シート!$AA$7","v":"　"},null,null,null,null,null,null,null,null,null,null,null,null,null,{"$f":"設定シート!$AB$7","v":"　"},null,null,null,null,null,null,null,null,null,null,null,null,{"$f":"設定シート!$AC$7","v":"　"},null,null,null,null,null,null,null,null,null,null,null,null,{"$f":"設定シート!$AD$7","v":"　"},null,null,null,null,null,null,null,null,null,null,null,null,{"$f":"設定シート!$AE$7","v":"　"},null,null,null,null,null,null,null,null,null,null,null,null,{"$f":"設定シート!$AF$7","v":"　"},null,null,null,null,null,null,null,null,null,null,null,null,{"$f":"設定シート!$AG$7","v":"　"}]
[null,null,null,null,null,null,null,null,null,null,null,null,null,null,null,null,null,null,null,null,null,null,null,null,null,null,null,null,null,null,null,null,null,null,null,null,null,null,null,null,null,null,null,null,null,null,null,null,null,null,null,null,null,null,null,null,null,null,null,null,null,null,null,null,null,null,null,null,null,null,null,null,null,null,null,null,null,null,null,null,null,null,null,null,null,null,null,null,null,null,null,null,null,null,null,null,null,null,null,null,null,null,null,null,null,null,null,null,null,null,null,null,null,null,null,null,null,null,null,null,null,null,null,null,null,null,null,null,null,null,null,null,null,null,null,null,null,null,null,null,null,null,null,null,null,null,null,null,null,null,null,null,null,null,null,null,null,null,null,null,null,null,null,null,null,null,null,null,null,null,null,null,null,null,null,null,null,null,null,null,null,null,null,null,null,null,null,null,null,null,null,null,null,null,null,null,null,null,null,null,null,null,null,null,null,{"$f":"STATISTICS!$X$7","v":"05"},null,null,null,null,null,null,null,null,null,null,null,null,null,null,null,null,null,null,null,null,null,null,null,{"$f":"STATISTICS!$X$8","v":"01"},null,null,null,null,null,null,null,null,null,null,null,null,null,null,null,null,null,null,null,null,null,null,null,null,{"$f":"STATISTICS!X9","v":"13"}]
[]
[]
[]
[]
[]
[]
[]
[]
[]
[null,null,null,null,null,null,null,null,null,null,null,null,null,null,null,null,null,null,null,null,null,null,null,null,null,null,null,null,null,null,null,null,null,null,null,null,null,null,null,null,null,null,null,null,null,null,null,null,null,null,null,null,null,null,null,null,null,null,null,null,null,null,null,null,{"$f":"設定シート!$C$8","v":0}]
[]
[]
[]
[null,null,null,null,null,null,null,null,null,null,null,null,null,null,null,null,null,null,null,null,null,null,null,null,null,null,null,null,null,null,null,null,null,null,null,null,null,null,null,null,null,null,null,null,null,null,null,null,null,null,null,null,null,null,null,null,null,null,null,null,null,null,null,null,null,null,null,null,null,null,null,null,null,null,null,null,null,null,null,null,null,null,null,null,null,null,null,null,null,null,null,null,null,null,null,null,null,null,null,null,null,null,null,null,null,null,null,null,null,null,null,null,null,null,null,null,null,null,null,null,null,null,null,null,null,null,null,null,null,null,null,null,null,null,null,null,null,null,null,null,null,null,null,null,null,null,null,null,null,null,null,null,null,null,null,null,null,null,null,null,null,null,null,null,null,null,null,null,null,null,null,null,null,null,null,null,null,null,null,null,null,null,null,null,null,null,null,null,null,null,null,null,null,null,null,null,null,null,null,null,null,null,null,null,null,null,null,null,null,null,null,null,null,{"$f":"設定シート!$C$10","v":0}]
[]
[]
[]
[]
[null,null,null,null,null,null,null,null,null,null,null,null,null,null,null,null,null,null,null,null,null,null,null,null,null,null,null,null,null,null,null,null,null,null,null,null,null,null,null,null,null,null,null,null,null,null,null,null,null,null,null,null,null,null,null,null,null,null,null,null,null,null,null,null,null,null,null,null,null,null,null,null,null,null,null,{"$f":"設定シート!$C$9","v":0}]

{"sheet":"胃②-2","index":21,"n_rows":129,"n_cols":255,"rows_kept":129,"cut":false,"hidden":false,"merged":[[22,205,28,212],[22,229,28,236],[22,254,28,261],[51,60,58,67],[51,73,58,80],[51,86,58,93],[51,101,58,108],[51,114,58,121],[51,126,58,133],[51,140,58,147],[71,205,77,212],[71,229,77,236],[71,254,77,261],[72,176,76,182],[73,59,82,119],[52,205,58,212],[52,229,58,236],[52,254,58,261],[62,60,67,120],[63,176,67,182],[81,251,85,258],[88,66,94,98],[88,168,94,207],[97,77,104,276],[107,60,114,67],[107,73,114,80],[107,86,114,93],[107,100,114,107],[107,114,114,121],[107,126,114,133],[107,141,114,148],[109,194,116,245],[119,62,126,155],[128,76,135,110],[156,79,162,86],[156,108,162,115],[156,137,162,144],[371,141,378,148],[372,205,378,212],[372,229,378,236],[372,254,378,261],[382,64,390,157],[386,213,394,264],[391,75,398,109],[371,62,378,69],[371,76,378,83],[371,89,378,96],[371,102,378,109],[371,115,378,122],[371,128,378,135]]}
[]
[]
[]
[]
[]
[]
[]
[]
[]
[]
[]
[]
[]
[]
[]
[]
[]
[]
[]
[]
[]
[]
[null,null,null,null,null,null,null,null,null,null,null,null,null,null,null,null,null,null,null,null,null,null,null,null,null,null,null,null,null,null,null,null,null,null,null,null,null,null,null,null,null,null,null,null,null,null,null,null,null,null,null,null,null,null,null,null,null,null,null,null,null,null,null,null,null,null,null,null,null,null,null,null,null,null,null,null,null,null,null,null,null,null,null,null,null,null,null,null,null,null,null,null,null,null,null,null,null,null,null,null,null,null,null,null,null,null,null,null,null,null,null,null,null,null,null,null,null,null,null,null,null,null,null,null,null,null,null,null,null,null,null,null,null,null,null,null,null,null,null,null,null,null,null,null,null,null,null,null,null,null,null,null,null,null,null,null,null,null,null,null,null,null,null,null,null,null,null,null,null,null,null,null,null,null,null,null,null,null,null,null,null,null,null,null,null,null,null,null,null,null,null,null,null,null,null,null,null,null,null,null,null,null,null,null,null,{"$f":"STATISTICS!$V$7","v":"04"},null,null,null,null,null,null,null,null,null,null,null,null,null,null,null,null,null,null,null,null,null,null,null,{"$f":"STATISTICS!$V$8","v":"10"},null,null,null,null,null,null,null,null,null,null,null,null,null,null,null,null,null,null,null,null,null,null,null,null,{"$f":"STATISTICS!$V$9","v":"29"}]
[]
[]
[]
[]
[]
[]
[]
[]
[]
[]
[]
[]
[]
[]
[]
[]
[]
[]
[]
[]
[]
[]
[]
[]
[]
[]
[]
[]
[null,null,null,null,null,null,null,null,null,null,null,null,null,null,null,null,null,null,null,null,null,null,null,null,null,null,null,null,null,null,null,null,null,null,null,null,null,null,null,null,null,null,null,null,null,null,null,null,null,null,null,null,null,null,null,null,null,null,null,null,{"$f":"STATISTICS!$E$5","v":"1"},null,null,null,null,null,null,null,null,null,null,null,null,{"$f":"STATISTICS!$E$6","v":"2"},null,null,null,null,null,null,null,null,null,null,null,null,{"$f":"STATISTICS!$E$7","v":"3"},null,null,null,null,null,null,null,null,null,null,null,null,null,null,{"$f":"STATISTICS!$E$8","v":"4"},null,null,null,null,null,null,null,null,null,null,null,null,{"$f":"STATISTICS!$E$9","v":"5"},null,null,null,null,null,null,null,null,null,null,null,{"$f":"STATISTICS!$E$10","v":"6"},null,null,null,null,null,null,null,null,null,null,null,null,null,{"$f":"STATISTICS!$E$11","v":"7"}]
[null,null,null,null,null,null,null,null,null,null,null,null,null,null,null,null,null,null,null,null,null,null,null,null,null,null,null,null,null,null,null,null,null,null,null,null,null,null,null,null,null,null,null,null,null,null,null,null,null,null,null,null,null,null,null,null,null,null,null,null,null,null,null,null,null,null,null,null,null,null,null,null,null,null,null,null,null,null,null,null,null,null,null,null,null,null,null,null,null,null,null,null,null,null,null,null,null,null,null,null,null,null,null,null,null,null,null,null,null,null,null,null,null,null,null,null,null,null,null,null,null,null,null,null,null,null,null,null,null,null,null,null,null,null,null,null,null,null,null,null,null,null,null,null,null,null,null,null,null,null,null,null,null,null,null,null,null,null,null,null,null,null,null,null,null,null,null,null,null,null,null,null,null,null,null,null,null,null,null,null,null,null,null,null,null,null,null,null,null,null,null,null,null,null,null,null,null,null,null,null,null,null,null,null,null,{"$f":"STATISTICS!$D$7","v":"04"},null,null,null,null,null,null,null,null,null,null,null,null,null,null,null,null,null,null,null,null,null,null,null,{"$f":"STATISTICS!$D$8","v":"09"},null,null,null,null,null,null,null,null,null,null,null,null,null,null,null,null,null,null,null,null,null,null,null,null,{"$f":"STATISTICS!$D$9","v":"08"}]
[]
[]
[]
[]
[]
[]
[]
[]
[]
[null,null,null,null,null,null,null,null,null,null,null,null,null,null,null,null,null,null,null,null,null,null,null,null,null,null,null,null,null,null,null,null,null,null,null,null,null,null,null,null,null,null,null,null,null,null,null,null,null,null,null,null,null,null,null,null,null,null,null,null,{"$f":"STATISTICS!$C$3","v":"いしかい　はるこ"}]
[null,null,null,null,null,null,null,null,null,null,null,null,null,null,null,null,null,null,null,null,null,null,null,null,null,null,null,null,null,null,null,null,null,null,null,null,null,null,null,null,null,null,null,null,null,null,null,null,null,null,null,null,null,null,null,null,null,null,null,null,null,null,null,null,null,null,null,null,null,null,null,null,null,null,null,null,null,null,null,null,null,null,null,null,null,null,null,null,null,null,null,null,null,null,null,null,null,null,null,null,null,null,null,null,null,null,null,null,null,null,null,null,null,null,null,null,null,null,null,null,null,null,null,null,null,null,null,null,null,null,null,null,null,null,null,null,null,null,null,null,null,null,null,null,null,null,null,null,null,null,null,null,null,null,null,null,null,null,null,null,null,null,null,null,null,null,null,null,null,null,null,null,null,null,null,null,{"$f":"STATISTICS!$M$12","v":""}]
[]
[]
[]
[]
[]
[]
[]
[null,null,null,null,null,null,null,null,null,null,null,null,null,null,null,null,null,null,null,null,null,null,null,null,null,null,null,null,null,null,null,null,null,null,null,null,null,null,null,null,null,null,null,null,null,null,null,null,null,null,null,null,null,null,null,null,null,null,null,null,null,null,null,null,null,null,null,null,null,null,null,null,null,null,null,null,null,null,null,null,null,null,null,null,null,null,null,null,null,null,null,null,null,null,null,null,null,null,null,null,null,null,null,null,null,null,null,null,null,null,null,null,null,null,null,null,null,null,null,null,null,null,null,null,null,null,null,null,null,null,null,null,null,null,null,null,null,null,null,null,null,null,null,null,null,null,null,null,null,null,null,null,null,null,null,null,null,null,null,null,null,null,null,null,null,null,null,null,null,null,null,null,null,null,null,null,null,null,null,null,null,null,null,null,null,null,null,null,null,null,null,null,null,null,null,null,null,null,null,null,null,null,null,null,null,{"$f":"STATISTICS!$M$7","v":"35"},null,null,null,null,null,null,null,null,null,null,null,null,null,null,null,null,null,null,null,null,null,null,null,{"$f":"STATISTICS!$M$8","v":"12"},null,null,null,null,null,null,null,null,null,null,null,null,null,null,null,null,null,null,null,null,null,null,null,null,{"$f":"STATISTICS!$M$9","v":"11"}]
[null,null,null,null,null,null,null,null,null,null,null,null,null,null,null,null,null,null,null,null,null,null,null,null,null,null,null,null,null,null,null,null,null,null,null,null,null,null,null,null,null,null,null,null,null,null,null,null,null,null,null,null,null,null,null,null,null,null,null,null,null,null,null,null,null,null,null,null,null,null,null,null,null,null,null,null,null,null,null,null,null,null,null,null,null,null,null,null,null,null,null,null,null,null,null,null,null,null,null,null,null,null,null,null,null,null,null,null,null,null,null,null,null,null,null,null,null,null,null,null,null,null,null,null,null,null,null,null,null,null,null,null,null,null,null,null,null,null,null,null,null,null,null,null,null,null,null,null,null,null,null,null,null,null,null,null,null,null,null,null,null,null,null,null,null,null,null,null,null,null,null,null,null,null,null,null,{"$f":"STATISTICS!$M$13","v":"○"}]
[null,null,null,null,null,null,null,null,null,null,null,null,null,null,null,null,null,null,null,null,null,null,null,null,null,null,null,null,null,null,null,null,null,null,null,null,null,null,null,null,null,null,null,null,null,null,null,null,null,null,null,null,null,null,null,null,null,null,null,{"$f":"STATISTICS!$B$3","v":"医師会　春子"}]
[]
[]
[]
[]
[]
[]
[]
[null,null,null,null,null,null,null,null,null,null,null,null,null,null,null,null,null,null,null,null,null,null,null,null,null,null,null,null,null,null,null,null,null,null,null,null,null,null,null,null,null,null,null,null,null,null,null,null,null,null,null,null,null,null,null,null,null,null,null,null,null,null,null,null,null,null,null,null,null,null,null,null,null,null,null,null,null,null,null,null,null,null,null,null,null,null,null,null,null,null,null,null,null,null,null,null,null,null,null,null,null,null,null,null,null,null,null,null,null,null,null,null,null,null,null,null,null,null,null,null,null,null,null,null,null,null,null,null,null,null,null,null,null,null,null,null,null,null,null,null,null,null,null,null,null,null,null,null,null,null,null,null,null,null,null,null,null,null,null,null,null,null,null,null,null,null,null,null,null,null,null,null,null,null,null,null,null,null,null,null,null,null,null,null,null,null,null,null,null,null,null,null,null,null,null,null,null,null,null,null,null,null,null,null,null,null,null,null,null,null,null,null,null,null,null,null,null,null,null,null,null,null,null,null,null,null,null,null,null,null,null,null,null,null,null,null,null,null,null,null,null,null,null,null,null,null,null,null,null,null,null,{"$f":"STATISTICS!$N$3","v":61}]
[]
[]
[]
[]
[]
[]
[null,null,null,null,null,null,null,null,null,null,null,null,null,null,null,null,null,null,null,null,null,null,null,null,null,null,null,null,null,null,null,null,null,null,null,null,null,null,null,null,null,null,null,null,null,null,null,null,null,null,null,null,null,null,null,null,null,null,null,null,null,null,null,null,null,null,{"$f":"STATISTICS!$F$5&\"-\"&STATISTICS!$F$6","v":"960-8002"},null,null,null,null,null,null,null,null,null,null,null,null,null,null,null,null,null,null,null,null,null,null,null,null,null,null,null,null,null,null,null,null,null,null,null,null,null,null,null,null,null,null,null,null,null,null,null,null,null,null,null,null,null,null,null,null,null,null,null,null,null,null,null,null,null,null,null,null,null,null,null,null,null,null,null,null,null,null,null,null,null,null,null,null,null,null,null,null,null,null,null,null,null,null,null,null,null,null,null,null,null,{"$f":"STATISTICS!$J$3","v":"024-534-2290"}]
[]
[]
[]
[]
[]
[]
[]
[]
[null,null,null,null,null,null,null,null,null,null,null,null,null,null,null,null,null,null,null,null,null,null,null,null,null,null,null,null,null,null,null,null,null,null,null,null,null,null,null,null,null,null,null,null,null,null,null,null,null,null,null,null,null,null,null,null,null,null,null,null,null,null,null,null,null,null,null,null,null,null,null,null,null,null,null,null,null,{"$f":"STATISTICS!$H$3&\"　\"&STATISTICS!$I$3","v":"森合町10番1号　福島市保健福祉センター内"}]
[]
[]
[]
[]
[]
[]
[]
[]
[]
[null,null,null,null,null,null,null,null,null,null,null,null,null,null,null,null,null,null,null,null,null,null,null,null,null,null,null,null,null,null,null,null,null,null,null,null,null,null,null,null,null,null,null,null,null,null,null,null,null,null,null,null,null,null,null,null,null,null,null,null,{"$f":"設定シート!$AA$7","v":"　"},null,null,null,null,null,null,null,null,null,null,null,null,{"$f":"設定シート!$AB$7","v":"　"},null,null,null,null,null,null,null,null,null,null,null,null,{"$f":"設定シート!$AC$7","v":"　"},null,null,null,null,null,null,null,null,null,null,null,null,null,{"$f":"設定シート!$AD$7","v":"　"},null,null,null,null,null,null,null,null,null,null,null,null,null,{"$f":"設定シート!$AE$7","v":"　"},null,null,null,null,null,null,null,null,null,null,null,{"$f":"設定シート!$AF$7","v":"　"},null,null,null,null,null,null,null,null,null,null,null,null,null,null,{"$f":"設定シート!$AG$7","v":"　"}]
[]
[null,null,null,null,null,null,null,null,null,null,null,null,null,null,null,null,null,null,null,null,null,null,null,null,null,null,null,null,null,null,null,null,null,null,null,null,null,null,null,null,null,null,null,null,null,null,null,null,null,null,null,null,null,null,null,null,null,null,null,null,null,null,null,null,null,null,null,null,null,null,null,null,null,null,null,null,null,null,null,null,null,null,null,null,null,null,null,null,null,null,null,null,null,null,null,null,null,null,null,null,null,null,null,null,null,null,null,null,null,null,null,null,null,null,null,null,null,null,null,null,null,null,null,null,null,null,null,null,null,null,null,null,null,null,null,null,null,null,null,null,null,null,null,null,null,null,null,null,null,null,null,null,null,null,null,null,null,null,null,null,null,null,null,null,null,null,null,null,null,null,null,null,null,null,null,null,null,null,null,null,null,null,null,null,null,null,null,null,null,null,null,null,null,null,{"$f":"設定シート!$C$10","v":0}]
[]
[]
[]
[]
[]
[]
[]
[]
[]
[null,null,null,null,null,null,null,null,null,null,null,null,null,null,null,null,null,null,null,null,null,null,null,null,null,null,null,null,null,null,null,null,null,null,null,null,null,null,null,null,null,null,null,null,null,null,null,null,null,null,null,null,null,null,null,null,null,null,null,null,null,null,{"$f":"設定シート!$C$8","v":0}]
[]
[]
[]
[]
[]
[]
[]
[]
[null,null,null,null,null,null,null,null,null,null,null,null,null,null,null,null,null,null,null,null,null,null,null,null,null,null,null,null,null,null,null,null,null,null,null,null,null,null,null,null,null,null,null,null,null,null,null,null,null,null,null,null,null,null,null,null,null,null,null,null,null,null,null,null,null,null,null,null,null,null,null,null,null,null,null,null,{"$f":"設定シート!$C$9","v":0}]

{"sheet":"胃②-3","index":22,"n_rows":392,"n_cols":255,"rows_kept":392,"cut":false,"hidden":false,"merged":[[22,205,28,212],[22,229,28,236],[22,254,28,261],[51,60,58,67],[51,73,58,80],[51,86,58,93],[51,101,58,108],[51,114,58,121],[51,126,58,133],[51,140,58,147],[71,205,77,212],[71,229,77,236],[71,254,77,261],[72,176,76,182],[73,59,82,119],[52,205,58,212],[52,229,58,236],[52,254,58,261],[62,60,67,120],[63,176,67,182],[81,251,85,258],[88,66,94,98],[88,168,94,207],[97,77,104,276],[107,60,114,67],[107,73,114,80],[107,86,114,93],[107,100,114,107],[107,114,114,121],[107,126,114,133],[107,141,114,148],[109,194,116,245],[119,62,126,155],[128,76,135,110],[156,79,162,86],[156,108,162,115],[156,137,162,144],[371,141,378,148],[372,205,378,212],[372,229,378,236],[372,254,378,261],[382,64,390,157],[386,213,394,264],[391,75,398,109],[371,62,378,69],[371,76,378,83],[371,89,378,96],[371,102,378,109],[371,115,378,122],[371,128,378,135]]}
[]
[]
[]
[]
[]
[]
[]
[]
[]
[]
[]
[]
[]
[]
[]
[]
[]
[]
[]
[]
[]
[]
[]
[]
[]
[]
[]
[]
[]
[]
[]
[]
[]
[]
[]
[]
[]
[]
[]
[]
[]
[]
[]
[]
[]
[]
[]
[]
[]
[]
[]
[]
[]
[]
[]
[]
[]
[]
[]
[]
[]
[]
[]
[]
[]
[]
[]
[]
[]
[]
[]
[]
[]
[]
[]
[]
[]
[]
[]
[]
[]
[]
[]
[]
[]
[]
[]
[]
[]
[]
[]
[]
[]
[]
[]
[]
[]
[]
[]
[]
[]
[]
[]
[]
[]
[]
[]
[]
[]
[]
[]
[]
[]
[]
[]
[]
[]
[]
[]
[]
[]
[]
[]
[]
[]
[]
[]
[]
[]
[]
[]
[]
[]
[]
[]
[]
[]
[]
[]
[]
[]
[]
[]
[]
[]
[]
[]
[]
[]
[]
[]
[]
[]
[]
[]
[]
[null,null,null,null,null,null,null,null,null,null,null,null,null,null,null,null,null,null,null,null,null,null,null,null,null,null,null,null,null,null,null,null,null,null,null,null,null,null,null,null,null,null,null,null,null,null,null,null,null,null,null,null,null,null,null,null,null,null,null,null,null,null,null,null,null,null,null,null,null,null,null,null,null,null,null,null,null,null,null,{"$f":"STATISTICS!$W$7","v":"04"},null,null,null,null,null,null,null,null,null,null,null,null,null,null,null,null,null,null,null,null,null,null,null,null,null,null,null,null,{"$f":"STATISTICS!$W$8","v":"11"},null,null,null,null,null,null,null,null,null,null,null,null,null,null,null,null,null,null,null,null,null,null,null,null,null,null,null,null,{"$f":"STATISTICS!$W$9","v":"05"}]
[]
[]
[]
[]
[]
[]
[]
[]
[]
[]
[]
[]
[]
[]
[]
[]
[]
[]
[]
[]
[]
[]
[]
[]
[]
[]
[]
[]
[]
[]
[]
[]
[]
[]
[]
[]
[]
[]
[]
[]
[]
[]
[]
[]
[]
[]
[]
[]
[]
[]
[]
[]
[]
[]
[]
[]
[]
[]
[]
[]
[]
[]
[]
[]
[]
[]
[]
[]
[]
[]
[]
[]
[]
[]
[]
[]
[]
[]
[]
[]
[]
[]
[]
[]
[]
[]
[]
[]
[]
[]
[]
[]
[]
[]
[]
[]
[]
[]
[]
[]
[]
[]
[]
[]
[]
[]
[]
[]
[]
[]
[]
[]
[]
[]
[]
[]
[]
[]
[]
[]
[]
[]
[]
[]
[]
[]
[]
[]
[]
[]
[]
[]
[]
[]
[]
[]
[]
[]
[]
[]
[]
[]
[]
[]
[]
[]
[]
[]
[]
[]
[]
[]
[]
[]
[]
[]
[]
[]
[]
[]
[]
[]
[]
[]
[]
[]
[]
[]
[]
[]
[]
[]
[]
[]
[]
[]
[]
[]
[]
[]
[]
[]
[]
[]
[]
[]
[]
[]
[]
[]
[]
[]
[]
[]
[]
[]
[]
[]
[]
[]
[]
[]
[]
[]
[]
[]
[]
[]
[]
[]
[]
[]
[]
[]
[null,null,null,null,null,null,null,null,null,null,null,null,null,null,null,null,null,null,null,null,null,null,null,null,null,null,null,null,null,null,null,null,null,null,null,null,null,null,null,null,null,null,null,null,null,null,null,null,null,null,null,null,null,null,null,null,null,null,null,null,null,null,{"$f":"設定シート!$AA$7","v":"　"},null,null,null,null,null,null,null,null,null,null,null,null,null,{"$f":"設定シート!$AB$7","v":"　"},null,null,null,null,null,null,null,null,null,null,null,null,{"$f":"設定シート!$AC$7","v":"　"},null,null,null,null,null,null,null,null,null,null,null,null,{"$f":"設定シート!$AD$7","v":"　"},null,null,null,null,null,null,null,null,null,null,null,null,{"$f":"設定シート!$AE$7","v":"　"},null,null,null,null,null,null,null,null,null,null,null,null,{"$f":"設定シート!$AF$7","v":"　"},null,null,null,null,null,null,null,null,null,null,null,null,{"$f":"設定シート!$AG$7","v":"　"}]
[null,null,null,null,null,null,null,null,null,null,null,null,null,null,null,null,null,null,null,null,null,null,null,null,null,null,null,null,null,null,null,null,null,null,null,null,null,null,null,null,null,null,null,null,null,null,null,null,null,null,null,null,null,null,null,null,null,null,null,null,null,null,null,null,null,null,null,null,null,null,null,null,null,null,null,null,null,null,null,null,null,null,null,null,null,null,null,null,null,null,null,null,null,null,null,null,null,null,null,null,null,null,null,null,null,null,null,null,null,null,null,null,null,null,null,null,null,null,null,null,null,null,null,null,null,null,null,null,null,null,null,null,null,null,null,null,null,null,null,null,null,null,null,null,null,null,null,null,null,null,null,null,null,null,null,null,null,null,null,null,null,null,null,null,null,null,null,null,null,null,null,null,null,null,null,null,null,null,null,null,null,null,null,null,null,null,null,null,null,null,null,null,null,null,null,null,null,null,null,null,null,null,null,null,null,{"$f":"STATISTICS!$X$7","v":"05"},null,null,null,null,null,null,null,null,null,null,null,null,null,null,null,null,null,null,null,null,null,null,null,{"$f":"STATISTICS!$X$8","v":"01"},null,null,null,null,null,null,null,null,null,null,null,null,null,null,null,null,null,null,null,null,null,null,null,null,{"$f":"STATISTICS!X9","v":"13"}]
[]
[]
[]
[]
[]
[]
[]
[]
[]
[null,null,null,null,null,null,null,null,null,null,null,null,null,null,null,null,null,null,null,null,null,null,null,null,null,null,null,null,null,null,null,null,null,null,null,null,null,null,null,null,null,null,null,null,null,null,null,null,null,null,null,null,null,null,null,null,null,null,null,null,null,null,null,null,{"$f":"設定シート!$C$8","v":0}]
[]
[]
[]
[null,null,null,null,null,null,null,null,null,null,null,null,null,null,null,null,null,null,null,null,null,null,null,null,null,null,null,null,null,null,null,null,null,null,null,null,null,null,null,null,null,null,null,null,null,null,null,null,null,null,null,null,null,null,null,null,null,null,null,null,null,null,null,null,null,null,null,null,null,null,null,null,null,null,null,null,null,null,null,null,null,null,null,null,null,null,null,null,null,null,null,null,null,null,null,null,null,null,null,null,null,null,null,null,null,null,null,null,null,null,null,null,null,null,null,null,null,null,null,null,null,null,null,null,null,null,null,null,null,null,null,null,null,null,null,null,null,null,null,null,null,null,null,null,null,null,null,null,null,null,null,null,null,null,null,null,null,null,null,null,null,null,null,null,null,null,null,null,null,null,null,null,null,null,null,null,null,null,null,null,null,null,null,null,null,null,null,null,null,null,null,null,null,null,null,null,null,null,null,null,null,null,null,null,null,null,null,null,null,null,null,null,null,{"$f":"設定シート!$C$10","v":0}]
[]
[]
[]
[]
[null,null,null,null,null,null,null,null,null,null,null,null,null,null,null,null,null,null,null,null,null,null,null,null,null,null,null,null,null,null,null,null,null,null,null,null,null,null,null,null,null,null,null,null,null,null,null,null,null,null,null,null,null,null,null,null,null,null,null,null,null,null,null,null,null,null,null,null,null,null,null,null,null,null,null,{"$f":"設定シート!$C$9","v":0}]

{"sheet":"肺②-1","index":23,"n_rows":380,"n_cols":259,"rows_kept":380,"cut":false,"hidden":false,"merged":[[21,205,27,212],[21,229,27,236],[21,254,27,261],[52,60,59,67],[52,73,59,80],[52,86,59,93],[52,100,59,107],[52,113,59,120],[52,126,59,133],[52,140,59,147],[53,258,59,265],[64,60,69,120],[94,61,98,67],[101,90,107,97],[101,118,107,125],[101,144,107,151],[101,61,105,67],[77,59,86,119],[367,64,375,157],[374,213,382,264],[379,72,386,106],[172,185,179,236],[171,100,178,107],[171,113,178,120],[171,126,178,133],[227,79,233,86],[227,108,233,115],[355,60,362,67],[355,74,362,81],[355,87,362,94],[355,100,362,107],[355,113,362,120],[356,207,362,214],[356,231,362,238],[356,255,362,262],[355,126,362,133],[355,139,362,146],[53,218,59,225],[53,239,59,246],[171,140,178,147],[149,110,156,144],[183,62,190,155],[194,72,201,106],[134,66,148,159],[171,60,178,67],[171,73,178,80],[171,86,178,93],[227,137,233,144],[110,141,114,148],[119,67,125,99]]}
[]
[]
[]
[]
[]
[]
[]
[]
[]
[]
[]
[]
[]
[]
[]
[]
[]
[]
[]
[]
[]
[null,null,null,null,null,null,null,null,null,null,null,null,null,null,null,null,null,null,null,null,null,null,null,null,null,null,null,null,null,null,null,null,null,null,null,null,null,null,null,null,null,null,null,null,null,null,null,null,null,null,null,null,null,null,null,null,null,null,null,null,null,null,null,null,null,null,null,null,null,null,null,null,null,null,null,null,null,null,null,null,null,null,null,null,null,null,null,null,null,null,null,null,null,null,null,null,null,null,null,null,null,null,null,null,null,null,null,null,null,null,null,null,null,null,null,null,null,null,null,null,null,null,null,null,null,null,null,null,null,null,null,null,null,null,null,null,null,null,null,null,null,null,null,null,null,null,null,null,null,null,null,null,null,null,null,null,null,null,null,null,null,null,null,null,null,null,null,null,null,null,null,null,null,null,null,null,null,null,null,null,null,null,null,null,null,null,null,null,null,null,null,null,null,null,null,null,null,null,null,null,null,null,null,null,null,{"$f":"STATISTICS!$V$7","v":"04"},null,null,null,null,null,null,null,null,null,null,null,null,null,null,null,null,null,null,null,null,null,null,null,{"$f":"STATISTICS!$V$8","v":"10"},null,null,null,null,null,null,null,null,null,null,null,null,null,null,null,null,null,null,null,null,null,null,null,null,{"$f":"STATISTICS!$V$9","v":"29"}]
[]
[]
[]
[]
[]
[]
[]
[]
[]
[]
[]
[]
[]
[]
[]
[]
[]
[]
[]
[]
[]
[]
[]
[]
[]
[]
[]
[]
[]
[]
[null,null,null,null,null,null,null,null,null,null,null,null,null,null,null,null,null,null,null,null,null,null,null,null,null,null,null,null,null,null,null,null,null,null,null,null,null,null,null,null,null,null,null,null,null,null,null,null,null,null,null,null,null,null,null,null,null,null,null,null,{"$f":"STATISTICS!$E$5","v":"1"},null,null,null,null,null,null,null,null,null,null,null,null,{"$f":"STATISTICS!$E$6","v":"2"},null,null,null,null,null,null,null,null,null,null,null,null,{"$f":"STATISTICS!$E$7","v":"3"},null,null,null,null,null,null,null,null,null,null,null,null,null,{"$f":"STATISTICS!$E$8","v":"4"},null,null,null,null,null,null,null,null,null,null,null,null,{"$f":"STATISTICS!$E$9","v":"5"},null,null,null,null,null,null,null,null,null,null,null,null,{"$f":"STATISTICS!$E$10","v":"6"},null,null,null,null,null,null,null,null,null,null,null,null,null,{"$f":"STATISTICS!$E$11","v":"7"}]
[null,null,null,null,null,null,null,null,null,null,null,null,null,null,null,null,null,null,null,null,null,null,null,null,null,null,null,null,null,null,null,null,null,null,null,null,null,null,null,null,null,null,null,null,null,null,null,null,null,null,null,null,null,null,null,null,null,null,null,null,null,null,null,null,null,null,null,null,null,null,null,null,null,null,null,null,null,null,null,null,null,null,null,null,null,null,null,null,null,null,null,null,null,null,null,null,null,null,null,null,null,null,null,null,null,null,null,null,null,null,null,null,null,null,null,null,null,null,null,null,null,null,null,null,null,null,null,null,null,null,null,null,null,null,null,null,null,null,null,null,null,null,null,null,null,null,null,null,null,null,null,null,null,null,null,null,null,null,null,null,null,null,null,null,null,null,null,null,null,null,null,null,null,null,null,null,null,null,null,null,null,null,null,null,null,null,null,null,null,null,null,null,null,null,null,null,null,null,null,null,null,null,null,null,null,null,null,null,null,null,null,null,null,null,null,null,null,null,{"$f":"STATISTICS!$D$7","v":"04"},null,null,null,null,null,null,null,null,null,null,null,null,null,null,null,null,null,null,null,null,{"$f":"STATISTICS!$D$8","v":"09"},null,null,null,null,null,null,null,null,null,null,null,null,null,null,null,null,null,null,{"$f":"STATISTICS!$D$9","v":"08"}]
[]
[]
[]
[]
[]
[]
[]
[]
[]
[]
[null,null,null,null,null,null,null,null,null,null,null,null,null,null,null,null,null,null,null,null,null,null,null,null,null,null,null,null,null,null,null,null,null,null,null,null,null,null,null,null,null,null,null,null,null,null,null,null,null,null,null,null,null,null,null,null,null,null,null,null,{"$f":"STATISTICS!$C$3","v":"いしかい　はるこ"}]
[]
[]
[]
[]
[]
[]
[]
[]
[]
[]
[]
[]
[null,null,null,null,null,null,null,null,null,null,null,null,null,null,null,null,null,null,null,null,null,null,null,null,null,null,null,null,null,null,null,null,null,null,null,null,null,null,null,null,null,null,null,null,null,null,null,null,null,null,null,null,null,null,null,null,null,null,null,{"$f":"STATISTICS!$B$3","v":"医師会　春子"}]
[]
[]
[]
[]
[]
[]
[]
[]
[]
[]
[]
[]
[]
[]
[]
[]
[null,null,null,null,null,null,null,null,null,null,null,null,null,null,null,null,null,null,null,null,null,null,null,null,null,null,null,null,null,null,null,null,null,null,null,null,null,null,null,null,null,null,null,null,null,null,null,null,null,null,null,null,null,null,null,null,null,null,null,null,null,{"$f":"STATISTICS!$M$12","v":""}]
[]
[]
[]
[]
[]
[]
[null,null,null,null,null,null,null,null,null,null,null,null,null,null,null,null,null,null,null,null,null,null,null,null,null,null,null,null,null,null,null,null,null,null,null,null,null,null,null,null,null,null,null,null,null,null,null,null,null,null,null,null,null,null,null,null,null,null,null,null,null,{"$f":"STATISTICS!$M$13","v":"○"},null,null,null,null,null,null,null,null,null,null,null,null,null,null,null,null,null,null,null,null,null,null,null,null,null,null,null,null,{"$f":"STATISTICS!$M$7","v":"35"},null,null,null,null,null,null,null,null,null,null,null,null,null,null,null,null,null,null,null,null,null,null,null,null,null,null,null,{"$f":"STATISTICS!$M$8","v":"12"},null,null,null,null,null,null,null,null,null,null,null,null,null,null,null,null,null,null,null,null,null,null,null,null,null,{"$f":"STATISTICS!$M$9","v":"11"}]
[]
[]
[]
[]
[]
[]
[]
[]
[null,null,null,null,null,null,null,null,null,null,null,null,null,null,null,null,null,null,null,null,null,null,null,null,null,null,null,null,null,null,null,null,null,null,null,null,null,null,null,null,null,null,null,null,null,null,null,null,null,null,null,null,null,null,null,null,null,null,null,null,null,null,null,null,null,null,null,null,null,null,null,null,null,null,null,null,null,null,null,null,null,null,null,null,null,null,null,null,null,null,null,null,null,null,null,null,null,null,null,null,null,null,null,null,null,null,null,null,null,null,null,null,null,null,null,null,null,null,null,null,null,null,null,null,null,null,null,null,null,null,null,null,null,null,null,null,null,null,null,null,null,{"$f":"STATISTICS!$N$3","v":61}]
[]
[]
[]
[]
[]
[]
[]
[]
[null,null,null,null,null,null,null,null,null,null,null,null,null,null,null,null,null,null,null,null,null,null,null,null,null,null,null,null,null,null,null,null,null,null,null,null,null,null,null,null,null,null,null,null,null,null,null,null,null,null,null,null,null,null,null,null,null,null,null,null,null,null,null,null,null,null,null,{"$f":"STATISTICS!$F$5&\"-\"&STATISTICS!$F$6","v":"960-8002"}]
[]
[]
[]
[]
[]
[]
[]
[]
[]
[]
[]
[]
[]
[]
[null,null,null,null,null,null,null,null,null,null,null,null,null,null,null,null,null,null,null,null,null,null,null,null,null,null,null,null,null,null,null,null,null,null,null,null,null,null,null,null,null,null,null,null,null,null,null,null,null,null,null,null,null,null,null,null,null,null,null,null,null,null,null,null,null,null,{"$f":"STATISTICS!$H$3&\"　\"&STATISTICS!$I$3","v":"森合町10番1号　福島市保健福祉センター内"}]
[]
[]
[]
[]
[]
[]
[]
[]
[]
[]
[]
[]
[]
[]
[null,null,null,null,null,null,null,null,null,null,null,null,null,null,null,null,null,null,null,null,null,null,null,null,null,null,null,null,null,null,null,null,null,null,null,null,null,null,null,null,null,null,null,null,null,null,null,null,null,null,null,null,null,null,null,null,null,null,null,null,null,null,null,null,null,null,null,null,null,null,null,null,null,null,null,null,null,null,null,null,null,null,null,null,null,null,null,null,null,null,null,null,null,null,null,null,null,null,null,null,null,null,null,null,null,null,null,null,null,null,{"$f":"設定シート!$C$9","v":0}]
[]
[]
[]
[]
[]
[]
[]
[]
[]
[]
[]
[]
[]
[]
[]
[]
[]
[]
[]
[]
[]
[null,null,null,null,null,null,null,null,null,null,null,null,null,null,null,null,null,null,null,null,null,null,null,null,null,null,null,null,null,null,null,null,null,null,null,null,null,null,null,null,null,null,null,null,null,null,null,null,null,null,null,null,null,null,null,null,null,null,null,null,{"$f":"設定シート!$AA$7","v":"　"},null,null,null,null,null,null,null,null,null,null,null,null,{"$f":"設定シート!$AB$7","v":"　"},null,null,null,null,null,null,null,null,null,null,null,null,{"$f":"設定シート!$AC$7","v":"　"},null,null,null,null,null,null,null,null,null,null,null,null,null,{"$f":"設定シート!$AD$7","v":"　"},null,null,null,null,null,null,null,null,null,null,null,null,{"$f":"設定シート!$AE$7","v":"　"},null,null,null,null,null,null,null,null,null,null,null,null,{"$f":"設定シート!$AF$7","v":"　"},null,null,null,null,null,null,null,null,null,null,null,null,null,{"$f":"設定シート!$AG$7","v":"　"}]
[null,null,null,null,null,null,null,null,null,null,null,null,null,null,null,null,null,null,null,null,null,null,null,null,null,null,null,null,null,null,null,null,null,null,null,null,null,null,null,null,null,null,null,null,null,null,null,null,null,null,null,null,null,null,null,null,null,null,null,null,null,null,null,null,null,null,null,null,null,null,null,null,null,null,null,null,null,null,null,null,null,null,null,null,null,null,null,null,null,null,null,null,null,null,null,null,null,null,null,null,null,null,null,null,null,null,null,null,null,null,null,null,null,null,null,null,null,null,null,null,null,null,null,null,null,null,null,null,null,null,null,null,null,null,null,null,null,null,null,null,null,null,null,null,null,null,null,null,null,null,null,null,null,null,null,null,null,null,null,null,null,null,null,null,null,null,null,null,null,null,null,null,null,null,null,null,null,null,null,null,null,null,null,null,null,{"$f":"設定シート!$C$10","v":0}]
[]
[]
[]
[]
[]
[]
[]
[]
[]
[]
[null,null,null,null,null,null,null,null,null,null,null,null,null,null,null,null,null,null,null,null,null,null,null,null,null,null,null,null,null,null,null,null,null,null,null,null,null,null,null,null,null,null,null,null,null,null,null,null,null,null,null,null,null,null,null,null,null,null,null,null,null,null,{"$f":"設定シート!$C$8","v":0}]
[]
[]
[]
[]
[]
[]
[]
[]
[]
[]
[null,null,null,null,null,null,null,null,null,null,null,null,null,null,null,null,null,null,null,null,null,null,null,null,null,null,null,null,null,null,null,null,null,null,null,null,null,null,null,null,null,null,null,null,null,null,null,null,null,null,null,null,null,null,null,null,null,null,null,null,null,null,null,null,null,null,null,null,null,null,null,null,{"$f":"設定シート!$C$9","v":0}]
[]
[]
[]
[]
[]
[]
[]
[]
[]
[]
[]
[]
[]
[]
[]
[]
[]
[]
[]
[]
[]
[]
[]
[]
[]
[]
[]
[]
[]
[]
[]
[]
[null,null,null,null,null,null,null,null,null,null,null,null,null,null,null,null,null,null,null,null,null,null,null,null,null,null,null,null,null,null,null,null,null,null,null,null,null,null,null,null,null,null,null,null,null,null,null,null,null,null,null,null,null,null,null,null,null,null,null,null,null,null,null,null,null,null,null,null,null,null,null,null,null,null,null,null,null,null,null,{"$f":"STATISTICS!$W$7","v":"04"},null,null,null,null,null,null,null,null,null,null,null,null,null,null,null,null,null,null,null,null,null,null,null,null,null,null,null,null,{"$f":"STATISTICS!$W$8","v":"11"},null,null,null,null,null,null,null,null,null,null,null,null,null,null,null,null,null,null,null,null,null,null,null,null,null,null,null,null,{"$f":"STATISTICS!$W$9","v":"05"}]
[]
[]
[]
[]
[]
[]
[]
[]
[]
[]
[]
[]
[]
[]
[]
[]
[]
[]
[]
[]
[]
[]
[]
[]
[]
[]
[]
[]
[]
[]
[]
[]
[]
[]
[]
[]
[]
[]
[]
[]
[]
[]
[]
[]
[]
[]
[]
[]
[]
[]
[]
[]
[]
[]
[]
[]
[]
[]
[]
[]
[]
[]
[]
[]
[]
[]
[]
[]
[]
[]
[]
[]
[]
[]
[]
[]
[]
[]
[]
[]
[]
[]
[]
[]
[]
[]
[]
[]
[]
[]
[]
[]
[]
[]
[]
[]
[]
[]
[]
[]
[]
[]
[]
[]
[]
[]
[]
[]
[]
[]
[]
[]
[]
[]
[]
[]
[]
[]
[]
[]
[]
[]
[]
[]
[]
[]
[]
[null,null,null,null,null,null,null,null,null,null,null,null,null,null,null,null,null,null,null,null,null,null,null,null,null,null,null,null,null,null,null,null,null,null,null,null,null,null,null,null,null,null,null,null,null,null,null,null,null,null,null,null,null,null,null,null,null,null,null,null,{"$f":"設定シート!$AA$7","v":"　"},null,null,null,null,null,null,null,null,null,null,null,null,null,{"$f":"設定シート!$AB$7","v":"　"},null,null,null,null,null,null,null,null,null,null,null,null,{"$f":"設定シート!$AC$7","v":"　"},null,null,null,null,null,null,null,null,null,null,null,null,{"$f":"設定シート!$AD$7","v":"　"},null,null,null,null,null,null,null,null,null,null,null,null,{"$f":"設定シート!$AE$7","v":"　"},null,null,null,null,null,null,null,null,null,null,null,null,{"$f":"設定シート!$AF$7","v":"　"},null,null,null,null,null,null,null,null,null,null,null,null,{"$f":"設定シート!$AG$7","v":"　"}]
[null,null,null,null,null,null,null,null,null,null,null,null,null,null,null,null,null,null,null,null,null,null,null,null,null,null,null,null,null,null,null,null,null,null,null,null,null,null,null,null,null,null,null,null,null,null,null,null,null,null,null,null,null,null,null,null,null,null,null,null,null,null,null,null,null,null,null,null,null,null,null,null,null,null,null,null,null,null,null,null,null,null,null,null,null,null,null,null,null,null,null,null,null,null,null,null,null,null,null,null,null,null,null,null,null,null,null,null,null,null,null,null,null,null,null,null,null,null,null,null,null,null,null,null,null,null,null,null,null,null,null,null,null,null,null,null,null,null,null,null,null,null,null,null,null,null,null,null,null,null,null,null,null,null,null,null,null,null,null,null,null,null,null,null,null,null,null,null,null,null,null,null,null,null,null,null,null,null,null,null,null,null,null,null,null,null,null,null,null,null,null,null,null,null,null,null,null,null,null,null,null,null,null,null,null,null,null,{"$f":"STATISTICS!$X$7","v":"05"},null,null,null,null,null,null,null,null,null,null,null,null,null,null,null,null,null,null,null,null,null,null,null,{"$f":"STATISTICS!$X$8","v":"01"},null,null,null,null,null,null,null,null,null,null,null,null,null,null,null,null,null,null,null,null,null,null,null,{"$f":"STATISTICS!$X$9","v":"13"}]
[]
[]
[]
[]
[]
[]
[]
[]
[]
[]
[null,null,null,null,null,null,null,null,null,null,null,null,null,null,null,null,null,null,null,null,null,null,null,null,null,null,null,null,null,null,null,null,null,null,null,null,null,null,null,null,null,null,null,null,null,null,null,null,null,null,null,null,null,null,null,null,null,null,null,null,null,null,null,null,{"$f":"設定シート!$C$8","v":0}]
[]
[]
[]
[]
[]
[]
[null,null,null,null,null,null,null,null,null,null,null,null,null,null,null,null,null,null,null,null,null,null,null,null,null,null,null,null,null,null,null,null,null,null,null,null,null,null,null,null,null,null,null,null,null,null,null,null,null,null,null,null,null,null,null,null,null,null,null,null,null,null,null,null,null,null,null,null,null,null,null,null,null,null,null,null,null,null,null,null,null,null,null,null,null,null,null,null,null,null,null,null,null,null,null,null,null,null,null,null,null,null,null,null,null,null,null,null,null,null,null,null,null,null,null,null,null,null,null,null,null,null,null,null,null,null,null,null,null,null,null,null,null,null,null,null,null,null,null,null,null,null,null,null,null,null,null,null,null,null,null,null,null,null,null,null,null,null,null,null,null,null,null,null,null,null,null,null,null,null,null,null,null,null,null,null,null,null,null,null,null,null,null,null,null,null,null,null,null,null,null,null,null,null,null,null,null,null,null,null,null,null,null,null,null,null,null,null,null,null,null,null,null,{"$f":"設定シート!$C$10","v":0}]
[]
[]
[]
[]
[null,null,null,null,null,null,null,null,null,null,null,null,null,null,null,null,null,null,null,null,null,null,null,null,null,null,null,null,null,null,null,null,null,null,null,null,null,null,null,null,null,null,null,null,null,null,null,null,null,null,null,null,null,null,null,null,null,null,null,null,null,null,null,null,null,null,null,null,null,null,null,null,{"$f":"設定シート!$C$9","v":0}]

{"sheet":"肺②-2","index":24,"n_rows":195,"n_cols":259,"rows_kept":195,"cut":false,"hidden":false,"merged":[[21,205,27,212],[21,229,27,236],[21,254,27,261],[52,60,59,67],[52,73,59,80],[52,86,59,93],[52,100,59,107],[52,113,59,120],[52,126,59,133],[52,140,59,147],[119,67,125,99],[53,218,59,225],[53,239,59,246],[53,258,59,265],[64,60,69,120],[77,59,86,119],[94,61,98,67],[101,61,105,67],[101,90,107,97],[101,118,107,125],[101,144,107,151],[110,141,114,148],[134,66,148,159],[149,110,156,144],[171,60,178,67],[171,73,178,80],[171,86,178,93],[171,100,178,107],[171,113,178,120],[171,126,178,133],[171,140,178,147],[172,185,179,236],[183,62,190,155],[194,72,201,106],[227,79,233,86],[227,108,233,115],[227,137,233,144],[355,139,362,146],[356,207,362,214],[356,231,362,238],[356,255,362,262],[367,64,375,157],[374,213,382,264],[379,72,386,106],[355,60,362,67],[355,74,362,81],[355,87,362,94],[355,100,362,107],[355,113,362,120],[355,126,362,133]]}
[]
[]
[]
[]
[]
[]
[]
[]
[]
[]
[]
[]
[]
[]
[]
[]
[]
[]
[]
[]
[]
[null,null,null,null,null,null,null,null,null,null,null,null,null,null,null,null,null,null,null,null,null,null,null,null,null,null,null,null,null,null,null,null,null,null,null,null,null,null,null,null,null,null,null,null,null,null,null,null,null,null,null,null,null,null,null,null,null,null,null,null,null,null,null,null,null,null,null,null,null,null,null,null,null,null,null,null,null,null,null,null,null,null,null,null,null,null,null,null,null,null,null,null,null,null,null,null,null,null,null,null,null,null,null,null,null,null,null,null,null,null,null,null,null,null,null,null,null,null,null,null,null,null,null,null,null,null,null,null,null,null,null,null,null,null,null,null,null,null,null,null,null,null,null,null,null,null,null,null,null,null,null,null,null,null,null,null,null,null,null,null,null,null,null,null,null,null,null,null,null,null,null,null,null,null,null,null,null,null,null,null,null,null,null,null,null,null,null,null,null,null,null,null,null,null,null,null,null,null,null,null,null,null,null,null,null,{"$f":"STATISTICS!$V$7","v":"04"},null,null,null,null,null,null,null,null,null,null,null,null,null,null,null,null,null,null,null,null,null,null,null,{"$f":"STATISTICS!$V$8","v":"10"},null,null,null,null,null,null,null,null,null,null,null,null,null,null,null,null,null,null,null,null,null,null,null,null,{"$f":"STATISTICS!$V$9","v":"29"}]
[]
[]
[]
[]
[]
[]
[]
[]
[]
[]
[]
[]
[]
[]
[]
[]
[]
[]
[]
[]
[]
[]
[]
[]
[]
[]
[]
[]
[]
[]
[null,null,null,null,null,null,null,null,null,null,null,null,null,null,null,null,null,null,null,null,null,null,null,null,null,null,null,null,null,null,null,null,null,null,null,null,null,null,null,null,null,null,null,null,null,null,null,null,null,null,null,null,null,null,null,null,null,null,null,null,{"$f":"STATISTICS!$E$5","v":"1"},null,null,null,null,null,null,null,null,null,null,null,null,{"$f":"STATISTICS!$E$6","v":"2"},null,null,null,null,null,null,null,null,null,null,null,null,{"$f":"STATISTICS!$E$7","v":"3"},null,null,null,null,null,null,null,null,null,null,null,null,null,{"$f":"STATISTICS!$E$8","v":"4"},null,null,null,null,null,null,null,null,null,null,null,null,{"$f":"STATISTICS!$E$9","v":"5"},null,null,null,null,null,null,null,null,null,null,null,null,{"$f":"STATISTICS!$E$10","v":"6"},null,null,null,null,null,null,null,null,null,null,null,null,null,{"$f":"STATISTICS!$E$11","v":"7"}]
[null,null,null,null,null,null,null,null,null,null,null,null,null,null,null,null,null,null,null,null,null,null,null,null,null,null,null,null,null,null,null,null,null,null,null,null,null,null,null,null,null,null,null,null,null,null,null,null,null,null,null,null,null,null,null,null,null,null,null,null,null,null,null,null,null,null,null,null,null,null,null,null,null,null,null,null,null,null,null,null,null,null,null,null,null,null,null,null,null,null,null,null,null,null,null,null,null,null,null,null,null,null,null,null,null,null,null,null,null,null,null,null,null,null,null,null,null,null,null,null,null,null,null,null,null,null,null,null,null,null,null,null,null,null,null,null,null,null,null,null,null,null,null,null,null,null,null,null,null,null,null,null,null,null,null,null,null,null,null,null,null,null,null,null,null,null,null,null,null,null,null,null,null,null,null,null,null,null,null,null,null,null,null,null,null,null,null,null,null,null,null,null,null,null,null,null,null,null,null,null,null,null,null,null,null,null,null,null,null,null,null,null,null,null,null,null,null,null,{"$f":"STATISTICS!$D$7","v":"04"},null,null,null,null,null,null,null,null,null,null,null,null,null,null,null,null,null,null,null,null,{"$f":"STATISTICS!$D$8","v":"09"},null,null,null,null,null,null,null,null,null,null,null,null,null,null,null,null,null,null,{"$f":"STATISTICS!$D$9","v":"08"}]
[]
[]
[]
[]
[]
[]
[]
[]
[]
[]
[null,null,null,null,null,null,null,null,null,null,null,null,null,null,null,null,null,null,null,null,null,null,null,null,null,null,null,null,null,null,null,null,null,null,null,null,null,null,null,null,null,null,null,null,null,null,null,null,null,null,null,null,null,null,null,null,null,null,null,null,{"$f":"STATISTICS!$C$3","v":"いしかい　はるこ"}]
[]
[]
[]
[]
[]
[]
[]
[]
[]
[]
[]
[]
[null,null,null,null,null,null,null,null,null,null,null,null,null,null,null,null,null,null,null,null,null,null,null,null,null,null,null,null,null,null,null,null,null,null,null,null,null,null,null,null,null,null,null,null,null,null,null,null,null,null,null,null,null,null,null,null,null,null,null,{"$f":"STATISTICS!$B$3","v":"医師会　春子"}]
[]
[]
[]
[]
[]
[]
[]
[]
[]
[]
[]
[]
[]
[]
[]
[]
[null,null,null,null,null,null,null,null,null,null,null,null,null,null,null,null,null,null,null,null,null,null,null,null,null,null,null,null,null,null,null,null,null,null,null,null,null,null,null,null,null,null,null,null,null,null,null,null,null,null,null,null,null,null,null,null,null,null,null,null,null,{"$f":"STATISTICS!$M$12","v":""}]
[]
[]
[]
[]
[]
[]
[null,null,null,null,null,null,null,null,null,null,null,null,null,null,null,null,null,null,null,null,null,null,null,null,null,null,null,null,null,null,null,null,null,null,null,null,null,null,null,null,null,null,null,null,null,null,null,null,null,null,null,null,null,null,null,null,null,null,null,null,null,{"$f":"STATISTICS!$M$13","v":"○"},null,null,null,null,null,null,null,null,null,null,null,null,null,null,null,null,null,null,null,null,null,null,null,null,null,null,null,null,{"$f":"STATISTICS!$M$7","v":"35"},null,null,null,null,null,null,null,null,null,null,null,null,null,null,null,null,null,null,null,null,null,null,null,null,null,null,null,{"$f":"STATISTICS!$M$8","v":"12"},null,null,null,null,null,null,null,null,null,null,null,null,null,null,null,null,null,null,null,null,null,null,null,null,null,{"$f":"STATISTICS!$M$9","v":"11"}]
[]
[]
[]
[]
[]
[]
[]
[]
[null,null,null,null,null,null,null,null,null,null,null,null,null,null,null,null,null,null,null,null,null,null,null,null,null,null,null,null,null,null,null,null,null,null,null,null,null,null,null,null,null,null,null,null,null,null,null,null,null,null,null,null,null,null,null,null,null,null,null,null,null,null,null,null,null,null,null,null,null,null,null,null,null,null,null,null,null,null,null,null,null,null,null,null,null,null,null,null,null,null,null,null,null,null,null,null,null,null,null,null,null,null,null,null,null,null,null,null,null,null,null,null,null,null,null,null,null,null,null,null,null,null,null,null,null,null,null,null,null,null,null,null,null,null,null,null,null,null,null,null,null,{"$f":"STATISTICS!$N$3","v":61}]
[]
[]
[]
[]
[]
[]
[]
[]
[null,null,null,null,null,null,null,null,null,null,null,null,null,null,null,null,null,null,null,null,null,null,null,null,null,null,null,null,null,null,null,null,null,null,null,null,null,null,null,null,null,null,null,null,null,null,null,null,null,null,null,null,null,null,null,null,null,null,null,null,null,null,null,null,null,null,null,{"$f":"STATISTICS!$F$5&\"-\"&STATISTICS!$F$6","v":"960-8002"}]
[]
[]
[]
[]
[]
[]
[]
[]
[]
[]
[]
[]
[]
[]
[null,null,null,null,null,null,null,null,null,null,null,null,null,null,null,null,null,null,null,null,null,null,null,null,null,null,null,null,null,null,null,null,null,null,null,null,null,null,null,null,null,null,null,null,null,null,null,null,null,null,null,null,null,null,null,null,null,null,null,null,null,null,null,null,null,null,{"$f":"STATISTICS!$H$3&\"　\"&STATISTICS!$I$3","v":"森合町10番1号　福島市保健福祉センター内"}]
[]
[]
[]
[]
[]
[]
[]
[]
[]
[]
[]
[]
[]
[]
[null,null,null,null,null,null,null,null,null,null,null,null,null,null,null,null,null,null,null,null,null,null,null,null,null,null,null,null,null,null,null,null,null,null,null,null,null,null,null,null,null,null,null,null,null,null,null,null,null,null,null,null,null,null,null,null,null,null,null,null,null,null,null,null,null,null,null,null,null,null,null,null,null,null,null,null,null,null,null,null,null,null,null,null,null,null,null,null,null,null,null,null,null,null,null,null,null,null,null,null,null,null,null,null,null,null,null,null,null,null,{"$f":"設定シート!$C$9","v":0}]
[]
[]
[]
[]
[]
[]
[]
[]
[]
[]
[]
[]
[]
[]
[]
[]
[]
[]
[]
[]
[]
[null,null,null,null,null,null,null,null,null,null,null,null,null,null,null,null,null,null,null,null,null,null,null,null,null,null,null,null,null,null,null,null,null,null,null,null,null,null,null,null,null,null,null,null,null,null,null,null,null,null,null,null,null,null,null,null,null,null,null,null,{"$f":"設定シート!$AA$7","v":"　"},null,null,null,null,null,null,null,null,null,null,null,null,{"$f":"設定シート!$AB$7","v":"　"},null,null,null,null,null,null,null,null,null,null,null,null,{"$f":"設定シート!$AC$7","v":"　"},null,null,null,null,null,null,null,null,null,null,null,null,null,{"$f":"設定シート!$AD$7","v":"　"},null,null,null,null,null,null,null,null,null,null,null,null,{"$f":"設定シート!$AE$7","v":"　"},null,null,null,null,null,null,null,null,null,null,null,null,{"$f":"設定シート!$AF$7","v":"　"},null,null,null,null,null,null,null,null,null,null,null,null,null,{"$f":"設定シート!$AG$7","v":"　"}]
[null,null,null,null,null,null,null,null,null,null,null,null,null,null,null,null,null,null,null,null,null,null,null,null,null,null,null,null,null,null,null,null,null,null,null,null,null,null,null,null,null,null,null,null,null,null,null,null,null,null,null,null,null,null,null,null,null,null,null,null,null,null,null,null,null,null,null,null,null,null,null,null,null,null,null,null,null,null,null,null,null,null,null,null,null,null,null,null,null,null,null,null,null,null,null,null,null,null,null,null,null,null,null,null,null,null,null,null,null,null,null,null,null,null,null,null,null,null,null,null,null,null,null,null,null,null,null,null,null,null,null,null,null,null,null,null,null,null,null,null,null,null,null,null,null,null,null,null,null,null,null,null,null,null,null,null,null,null,null,null,null,null,null,null,null,null,null,null,null,null,null,null,null,null,null,null,null,null,null,null,null,null,null,null,null,{"$f":"設定シート!$C$10","v":0}]
[]
[]
[]
[]
[]
[]
[]
[]
[]
[]
[null,null,null,null,null,null,null,null,null,null,null,null,null,null,null,null,null,null,null,null,null,null,null,null,null,null,null,null,null,null,null,null,null,null,null,null,null,null,null,null,null,null,null,null,null,null,null,null,null,null,null,null,null,null,null,null,null,null,null,null,null,null,{"$f":"設定シート!$C$8","v":0}]
[]
[]
[]
[]
[]
[]
[]
[]
[]
[]
[null,null,null,null,null,null,null,null,null,null,null,null,null,null,null,null,null,null,null,null,null,null,null,null,null,null,null,null,null,null,null,null,null,null,null,null,null,null,null,null,null,null,null,null,null,null,null,null,null,null,null,null,null,null,null,null,null,null,null,null,null,null,null,null,null,null,null,null,null,null,null,null,{"$f":"設定シート!$C$9","v":0}]

{"sheet":"肺②-3","index":25,"n_rows":380,"n_cols":256,"rows_kept":380,"cut":false,"hidden":false,"merged":[[21,205,27,212],[21,229,27,236],[21,254,27,261],[52,60,59,67],[52,73,59,80],[52,86,59,93],[52,100,59,107],[52,113,59,120],[52,126,59,133],[52,140,59,147],[119,67,125,99],[53,218,59,225],[53,239,59,246],[53,258,59,265],[64,60,69,120],[77,59,86,119],[94,61,98,67],[101,61,105,67],[101,90,107,97],[101,118,107,125],[101,144,107,151],[110,141,114,148],[134,66,148,159],[149,110,156,144],[171,60,178,67],[171,73,178,80],[171,86,178,93],[171,100,178,107],[171,113,178,120],[171,126,178,133],[171,140,178,147],[172,185,179,236],[183,62,190,155],[194,72,201,106],[227,79,233,86],[227,108,233,115],[227,137,233,144],[355,139,362,146],[356,207,362,214],[356,231,362,238],[356,255,362,262],[367,64,375,157],[374,213,382,264],[379,72,386,106],[355,60,362,67],[355,74,362,81],[355,87,362,94],[355,100,362,107],[355,113,362,120],[355,126,362,133]]}
[]
[]
[]
[]
[]
[]
[]
[]
[]
[]
[]
[]
[]
[]
[]
[]
[]
[]
[]
[]
[]
[]
[]
[]
[]
[]
[]
[]
[]
[]
[]
[]
[]
[]
[]
[]
[]
[]
[]
[]
[]
[]
[]
[]
[]
[]
[]
[]
[]
[]
[]
[]
[]
[]
[]
[]
[]
[]
[]
[]
[]
[]
[]
[]
[]
[]
[]
[]
[]
[]
[]
[]
[]
[]
[]
[]
[]
[]
[]
[]
[]
[]
[]
[]
[]
[]
[]
[]
[]
[]
[]
[]
[]
[]
[]
[]
[]
[]
[]
[]
[]
[]
[]
[]
[]
[]
[]
[]
[]
[]
[]
[]
[]
[]
[]
[]
[]
[]
[]
[]
[]
[]
[]
[]
[]
[]
[]
[]
[]
[]
[]
[]
[]
[]
[]
[]
[]
[]
[]
[]
[]
[]
[]
[]
[]
[]
[]
[]
[]
[]
[]
[]
[]
[]
[]
[]
[]
[]
[]
[]
[]
[]
[]
[]
[]
[]
[]
[]
[]
[]
[]
[]
[]
[]
[]
[]
[]
[]
[]
[]
[]
[]
[]
[]
[]
[]
[]
[]
[]
[]
[]
[]
[]
[]
[]
[]
[]
[]
[]
[]
[]
[]
[]
[]
[]
[]
[]
[]
[]
[]
[]
[]
[]
[]
[]
[]
[]
[]
[]
[]
[]
[]
[]
[]
[]
[]
[]
[null,null,null,null,null,null,null,null,null,null,null,null,null,null,null,null,null,null,null,null,null,null,null,null,null,null,null,null,null,null,null,null,null,null,null,null,null,null,null,null,null,null,null,null,null,null,null,null,null,null,null,null,null,null,null,null,null,null,null,null,null,null,null,null,null,null,null,null,null,null,null,null,null,null,null,null,null,null,null,{"$f":"STATISTICS!$W$7","v":"04"},null,null,null,null,null,null,null,null,null,null,null,null,null,null,null,null,null,null,null,null,null,null,null,null,null,null,null,null,{"$f":"STATISTICS!$W$8","v":"11"},null,null,null,null,null,null,null,null,null,null,null,null,null,null,null,null,null,null,null,null,null,null,null,null,null,null,null,null,{"$f":"STATISTICS!$W$9","v":"05"}]
[]
[]
[]
[]
[]
[]
[]
[]
[]
[]
[]
[]
[]
[]
[]
[]
[]
[]
[]
[]
[]
[]
[]
[]
[]
[]
[]
[]
[]
[]
[]
[]
[]
[]
[]
[]
[]
[]
[]
[]
[]
[]
[]
[]
[]
[]
[]
[]
[]
[]
[]
[]
[]
[]
[]
[]
[]
[]
[]
[]
[]
[]
[]
[]
[]
[]
[]
[]
[]
[]
[]
[]
[]
[]
[]
[]
[]
[]
[]
[]
[]
[]
[]
[]
[]
[]
[]
[]
[]
[]
[]
[]
[]
[]
[]
[]
[]
[]
[]
[]
[]
[]
[]
[]
[]
[]
[]
[]
[]
[]
[]
[]
[]
[]
[]
[]
[]
[]
[]
[]
[]
[]
[]
[]
[]
[]
[]
[null,null,null,null,null,null,null,null,null,null,null,null,null,null,null,null,null,null,null,null,null,null,null,null,null,null,null,null,null,null,null,null,null,null,null,null,null,null,null,null,null,null,null,null,null,null,null,null,null,null,null,null,null,null,null,null,null,null,null,null,{"$f":"設定シート!$AA$7","v":"　"},null,null,null,null,null,null,null,null,null,null,null,null,null,{"$f":"設定シート!$AB$7","v":"　"},null,null,null,null,null,null,null,null,null,null,null,null,{"$f":"設定シート!$AC$7","v":"　"},null,null,null,null,null,null,null,null,null,null,null,null,{"$f":"設定シート!$AD$7","v":"　"},null,null,null,null,null,null,null,null,null,null,null,null,{"$f":"設定シート!$AE$7","v":"　"},null,null,null,null,null,null,null,null,null,null,null,null,{"$f":"設定シート!$AF$7","v":"　"},null,null,null,null,null,null,null,null,null,null,null,null,{"$f":"設定シート!$AG$7","v":"　"}]
[null,null,null,null,null,null,null,null,null,null,null,null,null,null,null,null,null,null,null,null,null,null,null,null,null,null,null,null,null,null,null,null,null,null,null,null,null,null,null,null,null,null,null,null,null,null,null,null,null,null,null,null,null,null,null,null,null,null,null,null,null,null,null,null,null,null,null,null,null,null,null,null,null,null,null,null,null,null,null,null,null,null,null,null,null,null,null,null,null,null,null,null,null,null,null,null,null,null,null,null,null,null,null,null,null,null,null,null,null,null,null,null,null,null,null,null,null,null,null,null,null,null,null,null,null,null,null,null,null,null,null,null,null,null,null,null,null,null,null,null,null,null,null,null,null,null,null,null,null,null,null,null,null,null,null,null,null,null,null,null,null,null,null,null,null,null,null,null,null,null,null,null,null,null,null,null,null,null,null,null,null,null,null,null,null,null,null,null,null,null,null,null,null,null,null,null,null,null,null,null,null,null,null,null,null,null,null,{"$f":"STATISTICS!$X$7","v":"05"},null,null,null,null,null,null,null,null,null,null,null,null,null,null,null,null,null,null,null,null,null,null,null,{"$f":"STATISTICS!$X$8","v":"01"},null,null,null,null,null,null,null,null,null,null,null,null,null,null,null,null,null,null,null,null,null,null,null,{"$f":"STATISTICS!$X$9","v":"13"}]
[]
[]
[]
[]
[]
[]
[]
[]
[]
[]
[null,null,null,null,null,null,null,null,null,null,null,null,null,null,null,null,null,null,null,null,null,null,null,null,null,null,null,null,null,null,null,null,null,null,null,null,null,null,null,null,null,null,null,null,null,null,null,null,null,null,null,null,null,null,null,null,null,null,null,null,null,null,null,null,{"$f":"設定シート!$C$8","v":0}]
[]
[]
[]
[]
[]
[]
[null,null,null,null,null,null,null,null,null,null,null,null,null,null,null,null,null,null,null,null,null,null,null,null,null,null,null,null,null,null,null,null,null,null,null,null,null,null,null,null,null,null,null,null,null,null,null,null,null,null,null,null,null,null,null,null,null,null,null,null,null,null,null,null,null,null,null,null,null,null,null,null,null,null,null,null,null,null,null,null,null,null,null,null,null,null,null,null,null,null,null,null,null,null,null,null,null,null,null,null,null,null,null,null,null,null,null,null,null,null,null,null,null,null,null,null,null,null,null,null,null,null,null,null,null,null,null,null,null,null,null,null,null,null,null,null,null,null,null,null,null,null,null,null,null,null,null,null,null,null,null,null,null,null,null,null,null,null,null,null,null,null,null,null,null,null,null,null,null,null,null,null,null,null,null,null,null,null,null,null,null,null,null,null,null,null,null,null,null,null,null,null,null,null,null,null,null,null,null,null,null,null,null,null,null,null,null,null,null,null,null,null,null,{"$f":"設定シート!$C$10","v":0}]
[]
[]
[]
[]
[null,null,null,null,null,null,null,null,null,null,null,null,null,null,null,null,null,null,null,null,null,null,null,null,null,null,null,null,null,null,null,null,null,null,null,null,null,null,null,null,null,null,null,null,null,null,null,null,null,null,null,null,null,null,null,null,null,null,null,null,null,null,null,null,null,null,null,null,null,null,null,null,{"$f":"設定シート!$C$9","v":0}]

{"sheet":"前立腺②-1","index":26,"n_rows":387,"n_cols":255,"rows_kept":387,"cut":false,"hidden":false,"merged":[[22,205,28,212],[22,229,28,236],[22,254,28,261],[57,60,64,67],[57,73,64,80],[57,86,64,93],[57,100,64,107],[57,113,64,120],[57,126,64,133],[57,140,64,147],[57,205,63,212],[57,229,63,236],[57,254,63,261],[70,60,75,120],[84,205,90,212],[84,229,90,236],[84,254,90,261],[85,59,94,119],[95,251,99,258],[85,192,89,198],[103,66,109,98],[102,168,108,207],[115,77,122,276],[127,194,134,245],[365,205,371,212],[365,229,371,236],[365,254,371,261],[127,60,134,67],[127,73,134,80],[127,86,134,93],[127,100,134,107],[127,113,134,120],[178,108,184,115],[178,135,184,142],[178,161,184,168],[127,140,134,147],[141,62,148,155],[150,76,157,110],[127,126,134,133],[376,64,384,157],[380,213,388,264],[386,75,393,109],[365,60,372,67],[365,74,372,81],[365,87,372,94],[365,100,372,107],[365,113,372,120],[365,126,372,133],[365,139,372,146]]}
[]
[]
[]
[]
[]
[]
[]
[]
[]
[]
[]
[]
[]
[]
[]
[]
[]
[]
[]
[]
[]
[]
[null,null,null,null,null,null,null,null,null,null,null,null,null,null,null,null,null,null,null,null,null,null,null,null,null,null,null,null,null,null,null,null,null,null,null,null,null,null,null,null,null,null,null,null,null,null,null,null,null,null,null,null,null,null,null,null,null,null,null,null,null,null,null,null,null,null,null,null,null,null,null,null,null,null,null,null,null,null,null,null,null,null,null,null,null,null,null,null,null,null,null,null,null,null,null,null,null,null,null,null,null,null,null,null,null,null,null,null,null,null,null,null,null,null,null,null,null,null,null,null,null,null,null,null,null,null,null,null,null,null,null,null,null,null,null,null,null,null,null,null,null,null,null,null,null,null,null,null,null,null,null,null,null,null,null,null,null,null,null,null,null,null,null,null,null,null,null,null,null,null,null,null,null,null,null,null,null,null,null,null,null,null,null,null,null,null,null,null,null,null,null,null,null,null,null,null,null,null,null,null,null,null,null,null,null,{"$f":"STATISTICS!$V$7","v":"04"},null,null,null,null,null,null,null,null,null,null,null,null,null,null,null,null,null,null,null,null,null,null,null,{"$f":"STATISTICS!$V$8","v":"10"},null,null,null,null,null,null,null,null,null,null,null,null,null,null,null,null,null,null,null,null,null,null,null,null,{"$f":"STATISTICS!$V$9","v":"29"}]
[]
[]
[]
[]
[]
[]
[]
[]
[]
[]
[]
[]
[]
[]
[]
[]
[]
[]
[]
[]
[]
[]
[]
[]
[]
[]
[]
[]
[]
[]
[]
[]
[]
[]
[null,null,null,null,null,null,null,null,null,null,null,null,null,null,null,null,null,null,null,null,null,null,null,null,null,null,null,null,null,null,null,null,null,null,null,null,null,null,null,null,null,null,null,null,null,null,null,null,null,null,null,null,null,null,null,null,null,null,null,null,{"$f":"STATISTICS!$E$5","v":"1"},null,null,null,null,null,null,null,null,null,null,null,null,{"$f":"STATISTICS!$E$6","v":"2"},null,null,null,null,null,null,null,null,null,null,null,null,{"$f":"STATISTICS!$E$7","v":"3"},null,null,null,null,null,null,null,null,null,null,null,null,null,{"$f":"STATISTICS!$E$8","v":"4"},null,null,null,null,null,null,null,null,null,null,null,null,{"$f":"STATISTICS!$E$9","v":"5"},null,null,null,null,null,null,null,null,null,null,null,null,{"$f":"STATISTICS!$E$10","v":"6"},null,null,null,null,null,null,null,null,null,null,null,null,null,{"$f":"STATISTICS!$E$11","v":"7"},null,null,null,null,null,null,null,null,null,null,null,null,null,null,null,null,null,null,null,null,null,null,null,null,null,null,null,null,null,null,null,null,null,null,null,null,null,null,null,null,null,null,null,null,null,null,null,null,null,null,null,null,null,null,null,null,null,null,null,null,null,null,null,null,{"$f":"STATISTICS!$D$7","v":"04"},null,null,null,null,null,null,null,null,null,null,null,null,null,null,null,null,null,null,null,null,null,null,null,{"$f":"STATISTICS!$D$8","v":"09"},null,null,null,null,null,null,null,null,null,null,null,null,null,null,null,null,null,null,null,null,null,null,null,null,{"$f":"STATISTICS!$D$9","v":"08"}]
[]
[]
[]
[]
[]
[]
[]
[]
[]
[]
[]
[]
[null,null,null,null,null,null,null,null,null,null,null,null,null,null,null,null,null,null,null,null,null,null,null,null,null,null,null,null,null,null,null,null,null,null,null,null,null,null,null,null,null,null,null,null,null,null,null,null,null,null,null,null,null,null,null,null,null,null,null,null,{"$f":"STATISTICS!$C$3","v":"いしかい　はるこ"}]
[]
[]
[]
[]
[]
[]
[]
[]
[]
[]
[]
[]
[]
[null,null,null,null,null,null,null,null,null,null,null,null,null,null,null,null,null,null,null,null,null,null,null,null,null,null,null,null,null,null,null,null,null,null,null,null,null,null,null,null,null,null,null,null,null,null,null,null,null,null,null,null,null,null,null,null,null,null,null,null,null,null,null,null,null,null,null,null,null,null,null,null,null,null,null,null,null,null,null,null,null,null,null,null,null,null,null,null,null,null,null,null,null,null,null,null,null,null,null,null,null,null,null,null,null,null,null,null,null,null,null,null,null,null,null,null,null,null,null,null,null,null,null,null,null,null,null,null,null,null,null,null,null,null,null,null,null,null,null,null,null,null,null,null,null,null,null,null,null,null,null,null,null,null,null,null,null,null,null,null,null,null,null,null,null,null,null,null,null,null,null,null,null,null,null,null,null,null,null,null,null,null,null,null,null,null,null,null,null,null,null,null,null,null,null,null,null,null,null,null,null,null,null,null,null,{"$f":"STATISTICS!$M$7","v":"35"},null,null,null,null,null,null,null,null,null,null,null,null,null,null,null,null,null,null,null,null,null,null,null,{"$f":"STATISTICS!$M$8","v":"12"},null,null,null,null,null,null,null,null,null,null,null,null,null,null,null,null,null,null,null,null,null,null,null,null,{"$f":"STATISTICS!$M$9","v":"11"}]
[null,null,null,null,null,null,null,null,null,null,null,null,null,null,null,null,null,null,null,null,null,null,null,null,null,null,null,null,null,null,null,null,null,null,null,null,null,null,null,null,null,null,null,null,null,null,null,null,null,null,null,null,null,null,null,null,null,null,null,{"$f":"STATISTICS!$B$3","v":"医師会　春子"}]
[]
[]
[]
[]
[]
[]
[]
[]
[]
[null,null,null,null,null,null,null,null,null,null,null,null,null,null,null,null,null,null,null,null,null,null,null,null,null,null,null,null,null,null,null,null,null,null,null,null,null,null,null,null,null,null,null,null,null,null,null,null,null,null,null,null,null,null,null,null,null,null,null,null,null,null,null,null,null,null,null,null,null,null,null,null,null,null,null,null,null,null,null,null,null,null,null,null,null,null,null,null,null,null,null,null,null,null,null,null,null,null,null,null,null,null,null,null,null,null,null,null,null,null,null,null,null,null,null,null,null,null,null,null,null,null,null,null,null,null,null,null,null,null,null,null,null,null,null,null,null,null,null,null,null,null,null,null,null,null,null,null,null,null,null,null,null,null,null,null,null,null,null,null,null,null,null,null,null,null,null,null,null,null,null,null,null,null,null,null,null,null,null,null,null,null,null,null,null,null,null,null,null,null,null,null,null,null,null,null,null,null,null,null,null,null,null,null,null,null,null,null,null,null,null,null,null,null,null,null,null,null,null,null,null,null,null,null,null,null,null,null,null,null,null,null,null,null,null,null,null,null,null,null,null,null,null,null,null,null,null,null,null,null,null,{"$f":"STATISTICS!$N$3","v":61}]
[]
[]
[]
[]
[]
[]
[null,null,null,null,null,null,null,null,null,null,null,null,null,null,null,null,null,null,null,null,null,null,null,null,null,null,null,null,null,null,null,null,null,null,null,null,null,null,null,null,null,null,null,null,null,null,null,null,null,null,null,null,null,null,null,null,null,null,null,null,null,null,null,null,null,null,null,null,null,null,null,null,null,null,null,null,null,null,null,null,null,null,null,null,null,null,null,null,null,null,null,null,null,null,null,null,null,null,null,null,null,null,null,null,null,null,null,null,null,null,null,null,null,null,null,null,null,null,null,null,null,null,null,null,null,null,null,null,null,null,null,null,null,null,null,null,null,null,null,null,null,null,null,null,null,null,null,null,null,null,null,null,null,null,null,null,null,null,null,null,null,null,null,null,null,null,null,null,{"$f":"STATISTICS!$J$3","v":"024-534-2290"}]
[null,null,null,null,null,null,null,null,null,null,null,null,null,null,null,null,null,null,null,null,null,null,null,null,null,null,null,null,null,null,null,null,null,null,null,null,null,null,null,null,null,null,null,null,null,null,null,null,null,null,null,null,null,null,null,null,null,null,null,null,null,null,null,null,null,null,{"$f":"STATISTICS!$F$5&\"-\"&STATISTICS!$F$6","v":"960-8002"}]
[]
[]
[]
[]
[]
[]
[]
[]
[]
[]
[]
[null,null,null,null,null,null,null,null,null,null,null,null,null,null,null,null,null,null,null,null,null,null,null,null,null,null,null,null,null,null,null,null,null,null,null,null,null,null,null,null,null,null,null,null,null,null,null,null,null,null,null,null,null,null,null,null,null,null,null,null,null,null,null,null,null,null,null,null,null,null,null,null,null,null,null,null,null,{"$f":"STATISTICS!$H$3&\"　\"&STATISTICS!$I$3","v":"森合町10番1号　福島市保健福祉センター内"}]
[]
[]
[]
[]
[]
[]
[]
[]
[]
[]
[]
[null,null,null,null,null,null,null,null,null,null,null,null,null,null,null,null,null,null,null,null,null,null,null,null,null,null,null,null,null,null,null,null,null,null,null,null,null,null,null,null,null,null,null,null,null,null,null,null,null,null,null,null,null,null,null,null,null,null,null,null,{"$f":"設定シート!$AA$7","v":"　"},null,null,null,null,null,null,null,null,null,null,null,null,{"$f":"設定シート!$AB$7","v":"　"},null,null,null,null,null,null,null,null,null,null,null,null,{"$f":"設定シート!$AC$7","v":"　"},null,null,null,null,null,null,null,null,null,null,null,null,null,{"$f":"設定シート!$AD$7","v":"　"},null,null,null,null,null,null,null,null,null,null,null,null,{"$f":"設定シート!$AE$7","v":"　"},null,null,null,null,null,null,null,null,null,null,null,null,{"$f":"設定シート!$AF$7","v":"　"},null,null,null,null,null,null,null,null,null,null,null,null,null,{"$f":"設定シート!$AG$7","v":"　"},null,null,null,null,null,null,null,null,null,null,null,null,null,null,null,null,null,null,null,null,null,null,null,null,null,null,null,null,null,null,null,null,null,null,null,null,null,null,null,null,null,null,null,null,null,null,null,null,null,null,null,null,null,{"$f":"設定シート!$C$10","v":0}]
[]
[]
[]
[]
[]
[]
[]
[]
[]
[]
[]
[]
[]
[null,null,null,null,null,null,null,null,null,null,null,null,null,null,null,null,null,null,null,null,null,null,null,null,null,null,null,null,null,null,null,null,null,null,null,null,null,null,null,null,null,null,null,null,null,null,null,null,null,null,null,null,null,null,null,null,null,null,null,null,null,null,{"$f":"設定シート!$C$8","v":0}]
[]
[]
[]
[]
[]
[]
[]
[]
[null,null,null,null,null,null,null,null,null,null,null,null,null,null,null,null,null,null,null,null,null,null,null,null,null,null,null,null,null,null,null,null,null,null,null,null,null,null,null,null,null,null,null,null,null,null,null,null,null,null,null,null,null,null,null,null,null,null,null,null,null,null,null,null,null,null,null,null,null,null,null,null,null,null,null,null,{"$f":"設定シート!$C$9","v":0}]
[]
[]
[]
[]
[]
[]
[]
[]
[]
[]
[]
[]
[]
[]
[]
[]
[]
[]
[]
[]
[]
[]
[]
[]
[]
[]
[]
[null,null,null,null,null,null,null,null,null,null,null,null,null,null,null,null,null,null,null,null,null,null,null,null,null,null,null,null,null,null,null,null,null,null,null,null,null,null,null,null,null,null,null,null,null,null,null,null,null,null,null,null,null,null,null,null,null,null,null,null,null,null,null,null,null,null,null,null,null,null,null,null,null,null,null,null,null,null,null,null,null,null,null,null,null,null,null,null,null,null,null,null,null,null,null,null,null,null,null,null,null,null,null,null,null,null,null,null,{"$f":"STATISTICS!$W$7","v":"04"},null,null,null,null,null,null,null,null,null,null,null,null,null,null,null,null,null,null,null,null,null,null,null,null,null,null,{"$f":"STATISTICS!$W$8","v":"11"},null,null,null,null,null,null,null,null,null,null,null,null,null,null,null,null,null,null,null,null,null,null,null,null,null,{"$f":"STATISTICS!$W$9","v":"05"}]
[]
[]
[]
[]
[]
[]
[]
[]
[]
[]
[]
[]
[]
[]
[]
[]
[]
[]
[]
[]
[]
[]
[]
[]
[]
[]
[]
[]
[]
[]
[]
[]
[]
[]
[]
[]
[]
[]
[]
[]
[]
[]
[]
[]
[]
[]
[]
[]
[]
[]
[]
[]
[]
[]
[]
[]
[]
[]
[]
[]
[]
[]
[]
[]
[]
[]
[]
[]
[]
[]
[]
[]
[]
[]
[]
[]
[]
[]
[]
[]
[]
[]
[]
[]
[]
[]
[]
[]
[]
[]
[]
[]
[]
[]
[]
[]
[]
[]
[]
[]
[]
[]
[]
[]
[]
[]
[]
[]
[]
[]
[]
[]
[]
[]
[]
[]
[]
[]
[]
[]
[]
[]
[]
[]
[]
[]
[]
[]
[]
[]
[]
[]
[]
[]
[]
[]
[]
[]
[]
[]
[]
[]
[]
[]
[]
[]
[]
[]
[]
[]
[]
[]
[]
[]
[]
[]
[]
[]
[]
[]
[]
[]
[]
[]
[]
[]
[]
[]
[]
[]
[]
[]
[]
[]
[]
[]
[]
[]
[]
[]
[]
[]
[]
[]
[]
[]
[null,null,null,null,null,null,null,null,null,null,null,null,null,null,null,null,null,null,null,null,null,null,null,null,null,null,null,null,null,null,null,null,null,null,null,null,null,null,null,null,null,null,null,null,null,null,null,null,null,null,null,null,null,null,null,null,null,null,null,null,{"$f":"設定シート!$AA$7","v":"　"},null,null,null,null,null,null,null,null,null,null,null,null,null,{"$f":"設定シート!$AB$7","v":"　"},null,null,null,null,null,null,null,null,null,null,null,null,{"$f":"設定シート!$AC$7","v":"　"},null,null,null,null,null,null,null,null,null,null,null,null,{"$f":"設定シート!$AD$7","v":"　"},null,null,null,null,null,null,null,null,null,null,null,null,{"$f":"設定シート!$AE$7","v":"　"},null,null,null,null,null,null,null,null,null,null,null,null,{"$f":"設定シート!$AF$7","v":"　"},null,null,null,null,null,null,null,null,null,null,null,null,{"$f":"設定シート!$AG$7","v":"　"},null,null,null,null,null,null,null,null,null,null,null,null,null,null,null,null,null,null,null,null,null,null,null,null,null,null,null,null,null,null,null,null,null,null,null,null,null,null,null,null,null,null,null,null,null,null,null,null,null,null,null,null,null,null,null,null,null,null,null,null,null,null,null,null,null,{"$f":"STATISTICS!$X$7","v":"05"},null,null,null,null,null,null,null,null,null,null,null,null,null,null,null,null,null,null,null,null,null,null,null,{"$f":"STATISTICS!$X$8","v":"01"},null,null,null,null,null,null,null,null,null,null,null,null,null,null,null,null,null,null,null,null,null,null,null,null,{"$f":"STATISTICS!X9","v":"13"}]
[]
[]
[]
[]
[]
[]
[]
[]
[]
[]
[null,null,null,null,null,null,null,null,null,null,null,null,null,null,null,null,null,null,null,null,null,null,null,null,null,null,null,null,null,null,null,null,null,null,null,null,null,null,null,null,null,null,null,null,null,null,null,null,null,null,null,null,null,null,null,null,null,null,null,null,null,null,null,null,{"$f":"設定シート!$C$8","v":0}]
[]
[]
[]
[null,null,null,null,null,null,null,null,null,null,null,null,null,null,null,null,null,null,null,null,null,null,null,null,null,null,null,null,null,null,null,null,null,null,null,null,null,null,null,null,null,null,null,null,null,null,null,null,null,null,null,null,null,null,null,null,null,null,null,null,null,null,null,null,null,null,null,null,null,null,null,null,null,null,null,null,null,null,null,null,null,null,null,null,null,null,null,null,null,null,null,null,null,null,null,null,null,null,null,null,null,null,null,null,null,null,null,null,null,null,null,null,null,null,null,null,null,null,null,null,null,null,null,null,null,null,null,null,null,null,null,null,null,null,null,null,null,null,null,null,null,null,null,null,null,null,null,null,null,null,null,null,null,null,null,null,null,null,null,null,null,null,null,null,null,null,null,null,null,null,null,null,null,null,null,null,null,null,null,null,null,null,null,null,null,null,null,null,null,null,null,null,null,null,null,null,null,null,null,null,null,null,null,null,null,null,null,null,null,null,null,null,null,{"$f":"設定シート!$C$10","v":0}]
[]
[]
[]
[]
[]
[null,null,null,null,null,null,null,null,null,null,null,null,null,null,null,null,null,null,null,null,null,null,null,null,null,null,null,null,null,null,null,null,null,null,null,null,null,null,null,null,null,null,null,null,null,null,null,null,null,null,null,null,null,null,null,null,null,null,null,null,null,null,null,null,null,null,null,null,null,null,null,null,null,null,null,{"$f":"設定シート!$C$9","v":0}]

{"sheet":"前立腺②-2","index":27,"n_rows":151,"n_cols":255,"rows_kept":151,"cut":false,"hidden":false,"merged":[[22,205,28,212],[22,229,28,236],[22,254,28,261],[57,60,64,67],[57,73,64,80],[57,86,64,93],[57,100,64,107],[57,113,64,120],[57,126,64,133],[57,140,64,147],[57,205,63,212],[57,229,63,236],[57,254,63,261],[70,60,75,120],[84,205,90,212],[84,229,90,236],[84,254,90,261],[85,59,94,119],[85,192,89,198],[95,251,99,258],[102,168,108,207],[103,66,109,98],[115,77,122,276],[127,60,134,67],[127,73,134,80],[127,86,134,93],[127,100,134,107],[127,113,134,120],[127,126,134,133],[127,140,134,147],[127,194,134,245],[141,62,148,155],[150,76,157,110],[178,108,184,115],[178,135,184,142],[178,161,184,168],[365,139,372,146],[365,205,371,212],[365,229,371,236],[365,254,371,261],[376,64,384,157],[380,213,388,264],[386,75,393,109],[365,60,372,67],[365,74,372,81],[365,87,372,94],[365,100,372,107],[365,113,372,120],[365,126,372,133]]}
[]
[]
[]
[]
[]
[]
[]
[]
[]
[]
[]
[]
[]
[]
[]
[]
[]
[]
[]
[]
[]
[]
[null,null,null,null,null,null,null,null,null,null,null,null,null,null,null,null,null,null,null,null,null,null,null,null,null,null,null,null,null,null,null,null,null,null,null,null,null,null,null,null,null,null,null,null,null,null,null,null,null,null,null,null,null,null,null,null,null,null,null,null,null,null,null,null,null,null,null,null,null,null,null,null,null,null,null,null,null,null,null,null,null,null,null,null,null,null,null,null,null,null,null,null,null,null,null,null,null,null,null,null,null,null,null,null,null,null,null,null,null,null,null,null,null,null,null,null,null,null,null,null,null,null,null,null,null,null,null,null,null,null,null,null,null,null,null,null,null,null,null,null,null,null,null,null,null,null,null,null,null,null,null,null,null,null,null,null,null,null,null,null,null,null,null,null,null,null,null,null,null,null,null,null,null,null,null,null,null,null,null,null,null,null,null,null,null,null,null,null,null,null,null,null,null,null,null,null,null,null,null,null,null,null,null,null,null,{"$f":"STATISTICS!$V$7","v":"04"},null,null,null,null,null,null,null,null,null,null,null,null,null,null,null,null,null,null,null,null,null,null,null,{"$f":"STATISTICS!$V$8","v":"10"},null,null,null,null,null,null,null,null,null,null,null,null,null,null,null,null,null,null,null,null,null,null,null,null,{"$f":"STATISTICS!$V$9","v":"29"}]
[]
[]
[]
[]
[]
[]
[]
[]
[]
[]
[]
[]
[]
[]
[]
[]
[]
[]
[]
[]
[]
[]
[]
[]
[]
[]
[]
[]
[]
[]
[]
[]
[]
[]
[null,null,null,null,null,null,null,null,null,null,null,null,null,null,null,null,null,null,null,null,null,null,null,null,null,null,null,null,null,null,null,null,null,null,null,null,null,null,null,null,null,null,null,null,null,null,null,null,null,null,null,null,null,null,null,null,null,null,null,null,{"$f":"STATISTICS!$E$5","v":"1"},null,null,null,null,null,null,null,null,null,null,null,null,{"$f":"STATISTICS!$E$6","v":"2"},null,null,null,null,null,null,null,null,null,null,null,null,{"$f":"STATISTICS!$E$7","v":"3"},null,null,null,null,null,null,null,null,null,null,null,null,null,{"$f":"STATISTICS!$E$8","v":"4"},null,null,null,null,null,null,null,null,null,null,null,null,{"$f":"STATISTICS!$E$9","v":"5"},null,null,null,null,null,null,null,null,null,null,null,null,{"$f":"STATISTICS!$E$10","v":"6"},null,null,null,null,null,null,null,null,null,null,null,null,null,{"$f":"STATISTICS!$E$11","v":"7"},null,null,null,null,null,null,null,null,null,null,null,null,null,null,null,null,null,null,null,null,null,null,null,null,null,null,null,null,null,null,null,null,null,null,null,null,null,null,null,null,null,null,null,null,null,null,null,null,null,null,null,null,null,null,null,null,null,null,null,null,null,null,null,null,{"$f":"STATISTICS!$D$7","v":"04"},null,null,null,null,null,null,null,null,null,null,null,null,null,null,null,null,null,null,null,null,null,null,null,{"$f":"STATISTICS!$D$8","v":"09"},null,null,null,null,null,null,null,null,null,null,null,null,null,null,null,null,null,null,null,null,null,null,null,null,{"$f":"STATISTICS!$D$9","v":"08"}]
[]
[]
[]
[]
[]
[]
[]
[]
[]
[]
[]
[]
[null,null,null,null,null,null,null,null,null,null,null,null,null,null,null,null,null,null,null,null,null,null,null,null,null,null,null,null,null,null,null,null,null,null,null,null,null,null,null,null,null,null,null,null,null,null,null,null,null,null,null,null,null,null,null,null,null,null,null,null,{"$f":"STATISTICS!$C$3","v":"いしかい　はるこ"}]
[]
[]
[]
[]
[]
[]
[]
[]
[]
[]
[]
[]
[]
[null,null,null,null,null,null,null,null,null,null,null,null,null,null,null,null,null,null,null,null,null,null,null,null,null,null,null,null,null,null,null,null,null,null,null,null,null,null,null,null,null,null,null,null,null,null,null,null,null,null,null,null,null,null,null,null,null,null,null,null,null,null,null,null,null,null,null,null,null,null,null,null,null,null,null,null,null,null,null,null,null,null,null,null,null,null,null,null,null,null,null,null,null,null,null,null,null,null,null,null,null,null,null,null,null,null,null,null,null,null,null,null,null,null,null,null,null,null,null,null,null,null,null,null,null,null,null,null,null,null,null,null,null,null,null,null,null,null,null,null,null,null,null,null,null,null,null,null,null,null,null,null,null,null,null,null,null,null,null,null,null,null,null,null,null,null,null,null,null,null,null,null,null,null,null,null,null,null,null,null,null,null,null,null,null,null,null,null,null,null,null,null,null,null,null,null,null,null,null,null,null,null,null,null,null,{"$f":"STATISTICS!$M$7","v":"35"},null,null,null,null,null,null,null,null,null,null,null,null,null,null,null,null,null,null,null,null,null,null,null,{"$f":"STATISTICS!$M$8","v":"12"},null,null,null,null,null,null,null,null,null,null,null,null,null,null,null,null,null,null,null,null,null,null,null,null,{"$f":"STATISTICS!$M$9","v":"11"}]
[null,null,null,null,null,null,null,null,null,null,null,null,null,null,null,null,null,null,null,null,null,null,null,null,null,null,null,null,null,null,null,null,null,null,null,null,null,null,null,null,null,null,null,null,null,null,null,null,null,null,null,null,null,null,null,null,null,null,null,{"$f":"STATISTICS!$B$3","v":"医師会　春子"}]
[]
[]
[]
[]
[]
[]
[]
[]
[]
[null,null,null,null,null,null,null,null,null,null,null,null,null,null,null,null,null,null,null,null,null,null,null,null,null,null,null,null,null,null,null,null,null,null,null,null,null,null,null,null,null,null,null,null,null,null,null,null,null,null,null,null,null,null,null,null,null,null,null,null,null,null,null,null,null,null,null,null,null,null,null,null,null,null,null,null,null,null,null,null,null,null,null,null,null,null,null,null,null,null,null,null,null,null,null,null,null,null,null,null,null,null,null,null,null,null,null,null,null,null,null,null,null,null,null,null,null,null,null,null,null,null,null,null,null,null,null,null,null,null,null,null,null,null,null,null,null,null,null,null,null,null,null,null,null,null,null,null,null,null,null,null,null,null,null,null,null,null,null,null,null,null,null,null,null,null,null,null,null,null,null,null,null,null,null,null,null,null,null,null,null,null,null,null,null,null,null,null,null,null,null,null,null,null,null,null,null,null,null,null,null,null,null,null,null,null,null,null,null,null,null,null,null,null,null,null,null,null,null,null,null,null,null,null,null,null,null,null,null,null,null,null,null,null,null,null,null,null,null,null,null,null,null,null,null,null,null,null,null,null,null,{"$f":"STATISTICS!$N$3","v":61}]
[]
[]
[]
[]
[]
[]
[null,null,null,null,null,null,null,null,null,null,null,null,null,null,null,null,null,null,null,null,null,null,null,null,null,null,null,null,null,null,null,null,null,null,null,null,null,null,null,null,null,null,null,null,null,null,null,null,null,null,null,null,null,null,null,null,null,null,null,null,null,null,null,null,null,null,null,null,null,null,null,null,null,null,null,null,null,null,null,null,null,null,null,null,null,null,null,null,null,null,null,null,null,null,null,null,null,null,null,null,null,null,null,null,null,null,null,null,null,null,null,null,null,null,null,null,null,null,null,null,null,null,null,null,null,null,null,null,null,null,null,null,null,null,null,null,null,null,null,null,null,null,null,null,null,null,null,null,null,null,null,null,null,null,null,null,null,null,null,null,null,null,null,null,null,null,null,null,{"$f":"STATISTICS!$J$3","v":"024-534-2290"}]
[null,null,null,null,null,null,null,null,null,null,null,null,null,null,null,null,null,null,null,null,null,null,null,null,null,null,null,null,null,null,null,null,null,null,null,null,null,null,null,null,null,null,null,null,null,null,null,null,null,null,null,null,null,null,null,null,null,null,null,null,null,null,null,null,null,null,{"$f":"STATISTICS!$F$5&\"-\"&STATISTICS!$F$6","v":"960-8002"}]
[]
[]
[]
[]
[]
[]
[]
[]
[]
[]
[]
[null,null,null,null,null,null,null,null,null,null,null,null,null,null,null,null,null,null,null,null,null,null,null,null,null,null,null,null,null,null,null,null,null,null,null,null,null,null,null,null,null,null,null,null,null,null,null,null,null,null,null,null,null,null,null,null,null,null,null,null,null,null,null,null,null,null,null,null,null,null,null,null,null,null,null,null,null,{"$f":"STATISTICS!$H$3&\"　\"&STATISTICS!$I$3","v":"森合町10番1号　福島市保健福祉センター内"}]
[]
[]
[]
[]
[]
[]
[]
[]
[]
[]
[]
[null,null,null,null,null,null,null,null,null,null,null,null,null,null,null,null,null,null,null,null,null,null,null,null,null,null,null,null,null,null,null,null,null,null,null,null,null,null,null,null,null,null,null,null,null,null,null,null,null,null,null,null,null,null,null,null,null,null,null,null,{"$f":"設定シート!$AA$7","v":"　"},null,null,null,null,null,null,null,null,null,null,null,null,{"$f":"設定シート!$AB$7","v":"　"},null,null,null,null,null,null,null,null,null,null,null,null,{"$f":"設定シート!$AC$7","v":"　"},null,null,null,null,null,null,null,null,null,null,null,null,null,{"$f":"設定シート!$AD$7","v":"　"},null,null,null,null,null,null,null,null,null,null,null,null,{"$f":"設定シート!$AE$7","v":"　"},null,null,null,null,null,null,null,null,null,null,null,null,{"$f":"設定シート!$AF$7","v":"　"},null,null,null,null,null,null,null,null,null,null,null,null,null,{"$f":"設定シート!$AG$7","v":"　"},null,null,null,null,null,null,null,null,null,null,null,null,null,null,null,null,null,null,null,null,null,null,null,null,null,null,null,null,null,null,null,null,null,null,null,null,null,null,null,null,null,null,null,null,null,null,null,null,null,null,null,null,null,{"$f":"設定シート!$C$10","v":0}]
[]
[]
[]
[]
[]
[]
[]
[]
[]
[]
[]
[]
[]
[null,null,null,null,null,null,null,null,null,null,null,null,null,null,null,null,null,null,null,null,null,null,null,null,null,null,null,null,null,null,null,null,null,null,null,null,null,null,null,null,null,null,null,null,null,null,null,null,null,null,null,null,null,null,null,null,null,null,null,null,null,null,{"$f":"設定シート!$C$8","v":0}]
[]
[]
[]
[]
[]
[]
[]
[]
[null,null,null,null,null,null,null,null,null,null,null,null,null,null,null,null,null,null,null,null,null,null,null,null,null,null,null,null,null,null,null,null,null,null,null,null,null,null,null,null,null,null,null,null,null,null,null,null,null,null,null,null,null,null,null,null,null,null,null,null,null,null,null,null,null,null,null,null,null,null,null,null,null,null,null,null,{"$f":"設定シート!$C$9","v":0}]

{"sheet":"前立腺②-3","index":28,"n_rows":387,"n_cols":255,"rows_kept":387,"cut":false,"hidden":false,"merged":[[22,205,28,212],[22,229,28,236],[22,254,28,261],[57,60,64,67],[57,73,64,80],[57,86,64,93],[57,100,64,107],[57,113,64,120],[57,126,64,133],[57,140,64,147],[57,205,63,212],[57,229,63,236],[57,254,63,261],[70,60,75,120],[84,205,90,212],[84,229,90,236],[84,254,90,261],[85,59,94,119],[85,192,89,198],[95,251,99,258],[102,168,108,207],[103,66,109,98],[115,77,122,276],[127,60,134,67],[127,73,134,80],[127,86,134,93],[127,100,134,107],[127,113,134,120],[127,126,134,133],[127,140,134,147],[127,194,134,245],[141,62,148,155],[150,76,157,110],[178,108,184,115],[178,135,184,142],[178,161,184,168],[365,139,372,146],[365,205,371,212],[365,229,371,236],[365,254,371,261],[376,64,384,157],[380,213,388,264],[386,75,393,109],[365,60,372,67],[365,74,372,81],[365,87,372,94],[365,100,372,107],[365,113,372,120],[365,126,372,133]]}
[]
[]
[]
[]
[]
[]
[]
[]
[]
[]
[]
[]
[]
[]
[]
[]
[]
[]
[]
[]
[]
[]
[]
[]
[]
[]
[]
[]
[]
[]
[]
[]
[]
[]
[]
[]
[]
[]
[]
[]
[]
[]
[]
[]
[]
[]
[]
[]
[]
[]
[]
[]
[]
[]
[]
[]
[]
[]
[]
[]
[]
[]
[]
[]
[]
[]
[]
[]
[]
[]
[]
[]
[]
[]
[]
[]
[]
[]
[]
[]
[]
[]
[]
[]
[]
[]
[]
[]
[]
[]
[]
[]
[]
[]
[]
[]
[]
[]
[]
[]
[]
[]
[]
[]
[]
[]
[]
[]
[]
[]
[]
[]
[]
[]
[]
[]
[]
[]
[]
[]
[]
[]
[]
[]
[]
[]
[]
[]
[]
[]
[]
[]
[]
[]
[]
[]
[]
[]
[]
[]
[]
[]
[]
[]
[]
[]
[]
[]
[]
[]
[]
[]
[]
[]
[]
[]
[]
[]
[]
[]
[]
[]
[]
[]
[]
[]
[]
[]
[]
[]
[]
[]
[]
[]
[]
[]
[]
[]
[null,null,null,null,null,null,null,null,null,null,null,null,null,null,null,null,null,null,null,null,null,null,null,null,null,null,null,null,null,null,null,null,null,null,null,null,null,null,null,null,null,null,null,null,null,null,null,null,null,null,null,null,null,null,null,null,null,null,null,null,null,null,null,null,null,null,null,null,null,null,null,null,null,null,null,null,null,null,null,null,null,null,null,null,null,null,null,null,null,null,null,null,null,null,null,null,null,null,null,null,null,null,null,null,null,null,null,null,{"$f":"STATISTICS!$W$7","v":"04"},null,null,null,null,null,null,null,null,null,null,null,null,null,null,null,null,null,null,null,null,null,null,null,null,null,null,{"$f":"STATISTICS!$W$8","v":"11"},null,null,null,null,null,null,null,null,null,null,null,null,null,null,null,null,null,null,null,null,null,null,null,null,null,{"$f":"STATISTICS!$W$9","v":"05"}]
[]
[]
[]
[]
[]
[]
[]
[]
[]
[]
[]
[]
[]
[]
[]
[]
[]
[]
[]
[]
[]
[]
[]
[]
[]
[]
[]
[]
[]
[]
[]
[]
[]
[]
[]
[]
[]
[]
[]
[]
[]
[]
[]
[]
[]
[]
[]
[]
[]
[]
[]
[]
[]
[]
[]
[]
[]
[]
[]
[]
[]
[]
[]
[]
[]
[]
[]
[]
[]
[]
[]
[]
[]
[]
[]
[]
[]
[]
[]
[]
[]
[]
[]
[]
[]
[]
[]
[]
[]
[]
[]
[]
[]
[]
[]
[]
[]
[]
[]
[]
[]
[]
[]
[]
[]
[]
[]
[]
[]
[]
[]
[]
[]
[]
[]
[]
[]
[]
[]
[]
[]
[]
[]
[]
[]
[]
[]
[]
[]
[]
[]
[]
[]
[]
[]
[]
[]
[]
[]
[]
[]
[]
[]
[]
[]
[]
[]
[]
[]
[]
[]
[]
[]
[]
[]
[]
[]
[]
[]
[]
[]
[]
[]
[]
[]
[]
[]
[]
[]
[]
[]
[]
[]
[]
[]
[]
[]
[]
[]
[]
[]
[]
[]
[]
[]
[]
[null,null,null,null,null,null,null,null,null,null,null,null,null,null,null,null,null,null,null,null,null,null,null,null,null,null,null,null,null,null,null,null,null,null,null,null,null,null,null,null,null,null,null,null,null,null,null,null,null,null,null,null,null,null,null,null,null,null,null,null,{"$f":"設定シート!$AA$7","v":"　"},null,null,null,null,null,null,null,null,null,null,null,null,null,{"$f":"設定シート!$AB$7","v":"　"},null,null,null,null,null,null,null,null,null,null,null,null,{"$f":"設定シート!$AC$7","v":"　"},null,null,null,null,null,null,null,null,null,null,null,null,{"$f":"設定シート!$AD$7","v":"　"},null,null,null,null,null,null,null,null,null,null,null,null,{"$f":"設定シート!$AE$7","v":"　"},null,null,null,null,null,null,null,null,null,null,null,null,{"$f":"設定シート!$AF$7","v":"　"},null,null,null,null,null,null,null,null,null,null,null,null,{"$f":"設定シート!$AG$7","v":"　"},null,null,null,null,null,null,null,null,null,null,null,null,null,null,null,null,null,null,null,null,null,null,null,null,null,null,null,null,null,null,null,null,null,null,null,null,null,null,null,null,null,null,null,null,null,null,null,null,null,null,null,null,null,null,null,null,null,null,null,null,null,null,null,null,null,{"$f":"STATISTICS!$X$7","v":"05"},null,null,null,null,null,null,null,null,null,null,null,null,null,null,null,null,null,null,null,null,null,null,null,{"$f":"STATISTICS!$X$8","v":"01"},null,null,null,null,null,null,null,null,null,null,null,null,null,null,null,null,null,null,null,null,null,null,null,null,{"$f":"STATISTICS!X9","v":"13"}]
[]
[]
[]
[]
[]
[]
[]
[]
[]
[]
[null,null,null,null,null,null,null,null,null,null,null,null,null,null,null,null,null,null,null,null,null,null,null,null,null,null,null,null,null,null,null,null,null,null,null,null,null,null,null,null,null,null,null,null,null,null,null,null,null,null,null,null,null,null,null,null,null,null,null,null,null,null,null,null,{"$f":"設定シート!$C$8","v":0}]
[]
[]
[]
[null,null,null,null,null,null,null,null,null,null,null,null,null,null,null,null,null,null,null,null,null,null,null,null,null,null,null,null,null,null,null,null,null,null,null,null,null,null,null,null,null,null,null,null,null,null,null,null,null,null,null,null,null,null,null,null,null,null,null,null,null,null,null,null,null,null,null,null,null,null,null,null,null,null,null,null,null,null,null,null,null,null,null,null,null,null,null,null,null,null,null,null,null,null,null,null,null,null,null,null,null,null,null,null,null,null,null,null,null,null,null,null,null,null,null,null,null,null,null,null,null,null,null,null,null,null,null,null,null,null,null,null,null,null,null,null,null,null,null,null,null,null,null,null,null,null,null,null,null,null,null,null,null,null,null,null,null,null,null,null,null,null,null,null,null,null,null,null,null,null,null,null,null,null,null,null,null,null,null,null,null,null,null,null,null,null,null,null,null,null,null,null,null,null,null,null,null,null,null,null,null,null,null,null,null,null,null,null,null,null,null,null,null,{"$f":"設定シート!$C$10","v":0}]
[]
[]
[]
[]
[]
[null,null,null,null,null,null,null,null,null,null,null,null,null,null,null,null,null,null,null,null,null,null,null,null,null,null,null,null,null,null,null,null,null,null,null,null,null,null,null,null,null,null,null,null,null,null,null,null,null,null,null,null,null,null,null,null,null,null,null,null,null,null,null,null,null,null,null,null,null,null,null,null,null,null,null,{"$f":"設定シート!$C$9","v":0}]

{"sheet":"乳②-1","index":29,"n_rows":275,"n_cols":391,"rows_kept":275,"cut":false,"hidden":false,"merged":[[92,319,99,370],[100,319,107,353],[122,72,128,79],[122,100,128,107],[29,244,35,251],[29,269,35,276],[39,217,45,324],[62,295,66,301],[81,144,87,151],[81,162,87,169],[81,179,87,186],[223,64,229,71],[223,81,229,88],[223,98,229,105],[79,319,86,398],[66,378,72,385],[80,268,87,275],[80,200,87,207],[80,211,87,218],[80,223,87,230],[80,234,87,241],[80,245,87,252],[80,256,87,263],[122,129,128,136],[68,295,72,301],[61,305,67,312],[57,295,61,301],[28,380,35,387],[28,390,35,397],[47,347,53,386],[56,203,61,263],[63,203,72,263],[61,326,67,333],[61,348,67,355],[28,358,35,365],[28,369,35,376],[39,375,45,392],[28,326,35,333],[28,337,35,344],[28,347,35,354],[39,352,45,363],[46,217,52,324],[29,220,35,227],[250,69,258,162],[263,69,271,120],[274,92,281,126],[235,71,242,78],[235,83,242,90],[235,95,242,102],[235,106,242,113],[235,117,242,124],[235,128,242,135],[235,139,242,146]]}
[]
[]
[]
[]
[]
[]
[]
[]
[]
[]
[]
[]
[]
[]
[]
[]
[]
[]
[]
[]
[]
[]
[]
[]
[]
[]
[]
[]
[null,null,null,null,null,null,null,null,null,null,null,null,null,null,null,null,null,null,null,null,null,null,null,null,null,null,null,null,null,null,null,null,null,null,null,null,null,null,null,null,null,null,null,null,null,null,null,null,null,null,null,null,null,null,null,null,null,null,null,null,null,null,null,null,null,null,null,null,null,null,null,null,null,null,null,null,null,null,null,null,null,null,null,null,null,null,null,null,null,null,null,null,null,null,null,null,null,null,null,null,null,null,null,null,null,null,null,null,null,null,null,null,null,null,null,null,null,null,null,null,null,null,null,null,null,null,null,null,null,null,null,null,null,null,null,null,null,null,null,null,null,null,null,null,null,null,null,null,null,null,null,null,null,null,null,null,null,null,null,null,null,null,null,null,null,null,null,null,null,null,null,null,null,null,null,null,null,null,null,null,null,null,null,null,null,null,null,null,null,null,null,null,null,null,null,null,null,null,null,null,null,null,null,null,null,null,null,null,null,null,null,null,null,null,null,null,null,null,null,null,null,null,null,null,null,null,null,null,null,null,null,null,null,null,null,null,null,null,null,null,null,null,null,null,null,null,null,null,null,null,null,null,null,null,null,null,null,null,null,null,null,null,null,null,null,null,null,null,null,null,null,null,null,null,null,null,null,null,null,null,null,null,null,null,null,null,null,null,null,null,null,null,null,null,null,null,null,null,null,null,null,null,null,null,null,null,null,null,null,null,null,null,null,null,null,null,null,null,null,null,null,null,null,null,null,null,{"$f":"STATISTICS!$E$5","v":"1"},null,null,null,null,null,null,null,null,null,null,{"$f":"STATISTICS!$E$6","v":"2"},null,null,null,null,null,null,null,null,null,{"$f":"STATISTICS!$E$7","v":"3"},null,null,null,null,null,null,null,null,null,null,{"$f":"STATISTICS!$E$8","v":"4"},null,null,null,null,null,null,null,null,null,null,{"$f":"STATISTICS!$E$9","v":"5"},null,null,null,null,null,null,null,null,null,null,{"$f":"STATISTICS!$E$10","v":"6"},null,null,null,null,null,null,null,null,null,{"$f":"STATISTICS!$E$11","v":"7"}]
[null,null,null,null,null,null,null,null,null,null,null,null,null,null,null,null,null,null,null,null,null,null,null,null,null,null,null,null,null,null,null,null,null,null,null,null,null,null,null,null,null,null,null,null,null,null,null,null,null,null,null,null,null,null,null,null,null,null,null,null,null,null,null,null,null,null,null,null,null,null,null,null,null,null,null,null,null,null,null,null,null,null,null,null,null,null,null,null,null,null,null,null,null,null,null,null,null,null,null,null,null,null,null,null,null,null,null,null,null,null,null,null,null,null,null,null,null,null,null,null,null,null,null,null,null,null,null,null,null,null,null,null,null,null,null,null,null,null,null,null,null,null,null,null,null,null,null,null,null,null,null,null,null,null,null,null,null,null,null,null,null,null,null,null,null,null,null,null,null,null,null,null,null,null,null,null,null,null,null,null,null,null,null,null,null,null,null,null,null,null,null,null,null,null,null,null,null,null,null,null,null,null,null,null,null,null,null,null,null,null,null,null,null,null,null,null,null,null,null,null,{"$f":"STATISTICS!$D$7","v":"04"},null,null,null,null,null,null,null,null,null,null,null,null,null,null,null,null,null,null,null,null,null,null,null,{"$f":"STATISTICS!$D$8","v":"09"},null,null,null,null,null,null,null,null,null,null,null,null,null,null,null,null,null,null,null,null,null,null,null,null,{"$f":"STATISTICS!$D$9","v":"08"}]
[]
[]
[]
[]
[]
[]
[]
[]
[]
[null,null,null,null,null,null,null,null,null,null,null,null,null,null,null,null,null,null,null,null,null,null,null,null,null,null,null,null,null,null,null,null,null,null,null,null,null,null,null,null,null,null,null,null,null,null,null,null,null,null,null,null,null,null,null,null,null,null,null,null,null,null,null,null,null,null,null,null,null,null,null,null,null,null,null,null,null,null,null,null,null,null,null,null,null,null,null,null,null,null,null,null,null,null,null,null,null,null,null,null,null,null,null,null,null,null,null,null,null,null,null,null,null,null,null,null,null,null,null,null,null,null,null,null,null,null,null,null,null,null,null,null,null,null,null,null,null,null,null,null,null,null,null,null,null,null,null,null,null,null,null,null,null,null,null,null,null,null,null,null,null,null,null,null,null,null,null,null,null,null,null,null,null,null,null,null,null,null,null,null,null,null,null,null,null,null,null,null,null,null,null,null,null,null,null,null,null,null,null,null,null,null,null,null,null,null,null,null,null,null,null,null,null,null,null,null,null,{"$f":"STATISTICS!$H$3","v":"森合町10番1号"},null,null,null,null,null,null,null,null,null,null,null,null,null,null,null,null,null,null,null,null,null,null,null,null,null,null,null,null,null,null,null,null,null,null,null,null,null,null,null,null,null,null,null,null,null,null,null,null,null,null,null,null,null,null,null,null,null,null,null,null,null,null,null,null,null,null,null,null,null,null,null,null,null,null,null,null,null,null,null,null,null,null,null,null,null,null,null,null,null,null,null,null,null,null,null,null,null,null,null,null,null,null,null,null,null,null,null,null,null,null,null,null,null,null,null,null,null,null,null,null,null,null,null,null,null,null,null,null,null,null,null,null,null,null,{"$f":"STATISTICS!$F$5","v":"960"},null,null,null,null,null,null,null,null,null,null,null,null,null,null,null,null,null,null,null,null,null,null,{"$f":"STATISTICS!$F$6","v":"8002"}]
[]
[]
[]
[]
[]
[]
[null,null,null,null,null,null,null,null,null,null,null,null,null,null,null,null,null,null,null,null,null,null,null,null,null,null,null,null,null,null,null,null,null,null,null,null,null,null,null,null,null,null,null,null,null,null,null,null,null,null,null,null,null,null,null,null,null,null,null,null,null,null,null,null,null,null,null,null,null,null,null,null,null,null,null,null,null,null,null,null,null,null,null,null,null,null,null,null,null,null,null,null,null,null,null,null,null,null,null,null,null,null,null,null,null,null,null,null,null,null,null,null,null,null,null,null,null,null,null,null,null,null,null,null,null,null,null,null,null,null,null,null,null,null,null,null,null,null,null,null,null,null,null,null,null,null,null,null,null,null,null,null,null,null,null,null,null,null,null,null,null,null,null,null,null,null,null,null,null,null,null,null,null,null,null,null,null,null,null,null,null,null,null,null,null,null,null,null,null,null,null,null,null,null,null,null,null,null,null,null,null,null,null,null,null,null,null,null,null,null,null,null,null,null,null,null,null,{"$f":"STATISTICS!$I$3","v":"福島市保健福祉センター内"}]
[null,null,null,null,null,null,null,null,null,null,null,null,null,null,null,null,null,null,null,null,null,null,null,null,null,null,null,null,null,null,null,null,null,null,null,null,null,null,null,null,null,null,null,null,null,null,null,null,null,null,null,null,null,null,null,null,null,null,null,null,null,null,null,null,null,null,null,null,null,null,null,null,null,null,null,null,null,null,null,null,null,null,null,null,null,null,null,null,null,null,null,null,null,null,null,null,null,null,null,null,null,null,null,null,null,null,null,null,null,null,null,null,null,null,null,null,null,null,null,null,null,null,null,null,null,null,null,null,null,null,null,null,null,null,null,null,null,null,null,null,null,null,null,null,null,null,null,null,null,null,null,null,null,null,null,null,null,null,null,null,null,null,null,null,null,null,null,null,null,null,null,null,null,null,null,null,null,null,null,null,null,null,null,null,null,null,null,null,null,null,null,null,null,null,null,null,null,null,null,null,null,null,null,null,null,null,null,null,null,null,null,null,null,null,null,null,null,null,null,null,null,null,null,null,null,null,null,null,null,null,null,null,null,null,null,null,null,null,null,null,null,null,null,null,null,null,null,null,null,null,null,null,null,null,null,null,null,null,null,null,null,null,null,null,null,null,null,null,null,null,null,null,null,null,null,null,null,null,null,null,null,null,null,null,null,null,null,null,null,null,null,null,null,null,null,null,null,null,null,null,null,null,null,null,null,null,null,null,null,null,null,null,null,null,null,null,null,null,null,null,null,null,null,null,null,null,null,null,null,null,null,null,null,null,null,null,null,null,null,null,null,null,null,null,null,null,null,{"$f":"STATISTICS!$J$3","v":"024-534-2290"}]
[]
[]
[]
[]
[]
[]
[]
[]
[null,null,null,null,null,null,null,null,null,null,null,null,null,null,null,null,null,null,null,null,null,null,null,null,null,null,null,null,null,null,null,null,null,null,null,null,null,null,null,null,null,null,null,null,null,null,null,null,null,null,null,null,null,null,null,null,null,null,null,null,null,null,null,null,null,null,null,null,null,null,null,null,null,null,null,null,null,null,null,null,null,null,null,null,null,null,null,null,null,null,null,null,null,null,null,null,null,null,null,null,null,null,null,null,null,null,null,null,null,null,null,null,null,null,null,null,null,null,null,null,null,null,null,null,null,null,null,null,null,null,null,null,null,null,null,null,null,null,null,null,null,null,null,null,null,null,null,null,null,null,null,null,null,null,null,null,null,null,null,null,null,null,null,null,null,null,null,null,null,null,null,null,null,null,null,null,null,null,null,null,null,null,null,null,null,null,null,null,null,null,null,null,null,null,null,null,null,null,null,null,null,null,null,{"$f":"STATISTICS!$C$3","v":"いしかい　はるこ"}]
[null,null,null,null,null,null,null,null,null,null,null,null,null,null,null,null,null,null,null,null,null,null,null,null,null,null,null,null,null,null,null,null,null,null,null,null,null,null,null,null,null,null,null,null,null,null,null,null,null,null,null,null,null,null,null,null,null,null,null,null,null,null,null,null,null,null,null,null,null,null,null,null,null,null,null,null,null,null,null,null,null,null,null,null,null,null,null,null,null,null,null,null,null,null,null,null,null,null,null,null,null,null,null,null,null,null,null,null,null,null,null,null,null,null,null,null,null,null,null,null,null,null,null,null,null,null,null,null,null,null,null,null,null,null,null,null,null,null,null,null,null,null,null,null,null,null,null,null,null,null,null,null,null,null,null,null,null,null,null,null,null,null,null,null,null,null,null,null,null,null,null,null,null,null,null,null,null,null,null,null,null,null,null,null,null,null,null,null,null,null,null,null,null,null,null,null,null,null,null,null,null,null,null,null,null,null,null,null,null,null,null,null,null,null,null,null,null,null,null,null,null,null,null,null,null,null,null,null,null,null,null,null,null,null,null,null,null,null,null,null,null,null,null,null,null,null,null,null,null,null,null,null,null,null,null,null,null,null,null,null,null,null,null,null,null,null,null,null,null,null,null,null,null,null,null,null,null,null,null,null,null,null,null,null,null,null,null,null,null,null,null,null,null,null,null,{"$f":"STATISTICS!$M$11","v":""}]
[]
[]
[]
[null,null,null,null,null,null,null,null,null,null,null,null,null,null,null,null,null,null,null,null,null,null,null,null,null,null,null,null,null,null,null,null,null,null,null,null,null,null,null,null,null,null,null,null,null,null,null,null,null,null,null,null,null,null,null,null,null,null,null,null,null,null,null,null,null,null,null,null,null,null,null,null,null,null,null,null,null,null,null,null,null,null,null,null,null,null,null,null,null,null,null,null,null,null,null,null,null,null,null,null,null,null,null,null,null,null,null,null,null,null,null,null,null,null,null,null,null,null,null,null,null,null,null,null,null,null,null,null,null,null,null,null,null,null,null,null,null,null,null,null,null,null,null,null,null,null,null,null,null,null,null,null,null,null,null,null,null,null,null,null,null,null,null,null,null,null,null,null,null,null,null,null,null,null,null,null,null,null,null,null,null,null,null,null,null,null,null,null,null,null,null,null,null,null,null,null,null,null,null,null,null,null,null,null,null,null,null,null,null,null,null,null,null,null,null,null,null,null,null,null,null,null,null,null,null,null,null,null,null,null,null,null,null,null,null,null,null,null,null,null,null,null,null,null,null,null,null,null,null,null,null,null,null,null,null,null,null,null,null,null,null,null,null,null,null,null,null,null,null,null,null,null,null,null,null,null,null,null,null,null,null,null,null,null,null,null,null,null,null,null,null,null,null,null,null,null,null,null,null,null,null,null,null,null,null,{"$f":"STATISTICS!$M$7","v":"35"},null,null,null,null,null,null,null,null,null,null,null,null,null,null,null,null,null,null,null,null,{"$f":"STATISTICS!$M$8","v":"12"},null,null,null,null,null,null,null,null,null,null,null,null,null,null,null,null,null,null,null,null,null,{"$f":"STATISTICS!$M$9","v":"11"}]
[null,null,null,null,null,null,null,null,null,null,null,null,null,null,null,null,null,null,null,null,null,null,null,null,null,null,null,null,null,null,null,null,null,null,null,null,null,null,null,null,null,null,null,null,null,null,null,null,null,null,null,null,null,null,null,null,null,null,null,null,null,null,null,null,null,null,null,null,null,null,null,null,null,null,null,null,null,null,null,null,null,null,null,null,null,null,null,null,null,null,null,null,null,null,null,null,null,null,null,null,null,null,null,null,null,null,null,null,null,null,null,null,null,null,null,null,null,null,null,null,null,null,null,null,null,null,null,null,null,null,null,null,null,null,null,null,null,null,null,null,null,null,null,null,null,null,null,null,null,null,null,null,null,null,null,null,null,null,null,null,null,null,null,null,null,null,null,null,null,null,null,null,null,null,null,null,null,null,null,null,null,null,null,null,null,null,null,null,null,null,null,null,null,null,null,null,null,null,null,null,null,null,null,null,null,null,null,null,null,null,null,null,null,null,null,null,null,null,null,null,null,null,null,null,null,null,null,null,null,null,null,null,null,null,null,null,null,null,null,null,null,null,null,null,null,null,null,null,null,null,null,null,null,null,null,null,null,null,null,null,null,null,null,null,null,null,null,null,null,null,null,null,null,null,null,null,null,null,null,null,null,null,null,null,null,null,null,null,null,null,null,null,null,null,null,{"$f":"STATISTICS!$M$12","v":""}]
[null,null,null,null,null,null,null,null,null,null,null,null,null,null,null,null,null,null,null,null,null,null,null,null,null,null,null,null,null,null,null,null,null,null,null,null,null,null,null,null,null,null,null,null,null,null,null,null,null,null,null,null,null,null,null,null,null,null,null,null,null,null,null,null,null,null,null,null,null,null,null,null,null,null,null,null,null,null,null,null,null,null,null,null,null,null,null,null,null,null,null,null,null,null,null,null,null,null,null,null,null,null,null,null,null,null,null,null,null,null,null,null,null,null,null,null,null,null,null,null,null,null,null,null,null,null,null,null,null,null,null,null,null,null,null,null,null,null,null,null,null,null,null,null,null,null,null,null,null,null,null,null,null,null,null,null,null,null,null,null,null,null,null,null,null,null,null,null,null,null,null,null,null,null,null,null,null,null,null,null,null,null,null,null,null,null,null,null,null,null,null,null,null,null,null,null,null,null,null,null,null,null,null,{"$f":"STATISTICS!$B$3","v":"医師会　春子"}]
[]
[]
[null,null,null,null,null,null,null,null,null,null,null,null,null,null,null,null,null,null,null,null,null,null,null,null,null,null,null,null,null,null,null,null,null,null,null,null,null,null,null,null,null,null,null,null,null,null,null,null,null,null,null,null,null,null,null,null,null,null,null,null,null,null,null,null,null,null,null,null,null,null,null,null,null,null,null,null,null,null,null,null,null,null,null,null,null,null,null,null,null,null,null,null,null,null,null,null,null,null,null,null,null,null,null,null,null,null,null,null,null,null,null,null,null,null,null,null,null,null,null,null,null,null,null,null,null,null,null,null,null,null,null,null,null,null,null,null,null,null,null,null,null,null,null,null,null,null,null,null,null,null,null,null,null,null,null,null,null,null,null,null,null,null,null,null,null,null,null,null,null,null,null,null,null,null,null,null,null,null,null,null,null,null,null,null,null,null,null,null,null,null,null,null,null,null,null,null,null,null,null,null,null,null,null,null,null,null,null,null,null,null,null,null,null,null,null,null,null,null,null,null,null,null,null,null,null,null,null,null,null,null,null,null,null,null,null,null,null,null,null,null,null,null,null,null,null,null,null,null,null,null,null,null,null,null,null,null,null,null,null,null,null,null,null,null,null,null,null,null,null,null,null,null,null,null,null,null,null,null,null,null,null,null,null,null,null,null,null,null,null,null,null,null,null,null,null,null,null,null,null,null,null,null,null,null,null,null,null,null,null,null,null,null,null,null,null,null,null,null,null,null,null,null,null,null,null,null,null,null,null,null,null,null,null,null,null,null,null,null,null,null,null,null,null,null,null,null,null,null,null,null,null,null,null,null,null,null,null,null,null,null,null,null,null,null,null,null,null,null,null,null,null,null,null,null,null,null,null,null,{"$f":"STATISTICS!$N$3","v":61}]
[]
[null,null,null,null,null,null,null,null,null,null,null,null,null,null,null,null,null,null,null,null,null,null,null,null,null,null,null,null,null,null,null,null,null,null,null,null,null,null,null,null,null,null,null,null,null,null,null,null,null,null,null,null,null,null,null,null,null,null,null,null,null,null,null,null,null,null,null,null,null,null,null,null,null,null,null,null,null,null,null,null,null,null,null,null,null,null,null,null,null,null,null,null,null,null,null,null,null,null,null,null,null,null,null,null,null,null,null,null,null,null,null,null,null,null,null,null,null,null,null,null,null,null,null,null,null,null,null,null,null,null,null,null,null,null,null,null,null,null,null,null,null,null,null,null,null,null,null,null,null,null,null,null,null,null,null,null,null,null,null,null,null,null,null,null,null,null,null,null,null,null,null,null,null,null,null,null,null,null,null,null,null,null,null,null,null,null,null,null,null,null,null,null,null,null,null,null,null,null,null,null,null,null,null,null,null,null,null,null,null,null,null,null,null,null,null,null,null,null,null,null,null,null,null,null,null,null,null,null,null,null,null,null,null,null,null,null,null,null,null,null,null,null,null,null,null,null,null,null,null,null,null,null,null,null,null,null,null,null,null,null,null,null,null,null,null,null,null,null,null,null,null,null,null,null,null,null,null,null,null,null,null,null,null,null,null,null,null,null,null,null,null,null,null,null,null,{"$f":"STATISTICS!$M$13","v":"○"}]
[]
[]
[]
[]
[]
[]
[]
[]
[]
[]
[null,null,null,null,null,null,null,null,null,null,null,null,null,null,null,null,null,null,null,null,null,null,null,null,null,null,null,null,null,null,null,null,null,null,null,null,null,null,null,null,null,null,null,null,null,null,null,null,null,null,null,null,null,null,null,null,null,null,null,null,null,null,null,null,null,null,null,null,null,null,null,null,null,null,null,null,null,null,null,null,null,null,null,null,null,null,null,null,null,null,null,null,null,null,null,null,null,null,null,null,null,null,null,null,null,null,null,null,null,null,null,null,null,null,null,null,null,null,null,null,null,null,null,null,null,null,null,null,null,null,null,null,null,null,null,null,null,null,null,null,null,null,null,null,null,null,null,null,null,null,null,null,null,null,null,null,null,null,null,null,null,null,null,null,null,null,null,null,null,null,null,null,null,null,null,null,null,null,null,null,null,null,null,null,null,null,null,null,null,null,null,null,null,null,null,null,null,null,null,null,null,null,null,null,null,null,null,null,null,null,null,null,null,null,null,null,null,null,null,null,null,null,null,null,null,null,null,null,null,null,null,null,null,null,null,null,null,null,null,null,null,null,null,null,null,null,null,null,null,null,null,null,null,null,null,null,null,null,null,null,null,null,null,null,null,null,null,null,null,null,null,null,null,null,null,null,null,null,null,null,null,null,null,null,null,null,null,null,null,null,null,null,null,null,null,null,null,null,null,null,null,null,null,null,null,null,null,null,null,null,null,null,null,null,null,null,null,null,null,{"$f":"設定シート!$C$8","v":0}]
[null,null,null,null,null,null,null,null,null,null,null,null,null,null,null,null,null,null,null,null,null,null,null,null,null,null,null,null,null,null,null,null,null,null,null,null,null,null,null,null,null,null,null,null,null,null,null,null,null,null,null,null,null,null,null,null,null,null,null,null,null,null,null,null,null,null,null,null,null,null,null,null,null,null,null,null,null,null,null,null,null,null,null,null,null,null,null,null,null,null,null,null,null,null,null,null,null,null,null,null,null,null,null,null,null,null,null,null,null,null,null,null,null,null,null,null,null,null,null,null,null,null,null,null,null,null,null,null,null,null,null,null,null,null,null,null,null,null,null,null,null,null,null,null,null,null,null,null,null,null,null,null,null,null,null,null,null,null,null,null,null,null,null,null,null,null,null,null,null,null,null,null,null,null,null,null,null,null,null,null,null,null,null,null,null,null,null,null,null,null,null,null,null,null,null,null,null,null,null,null,{"$f":"設定シート!$AA$7","v":"　"},null,null,null,null,null,null,null,null,null,null,{"$f":"設定シート!$AB$7","v":"　"},null,null,null,null,null,null,null,null,null,null,null,{"$f":"設定シート!$AC$7","v":"　"},null,null,null,null,null,null,null,null,null,null,{"$f":"設定シート!$AD$7","v":"　"},null,null,null,null,null,null,null,null,null,null,{"$f":"設定シート!$AE$7","v":"　"},null,null,null,null,null,null,null,null,null,null,{"$f":"設定シート!$AF$7","v":"　"},null,null,null,null,null,null,null,null,null,null,null,{"$f":"設定シート!$AG$7","v":"　"}]
[null,null,null,null,null,null,null,null,null,null,null,null,null,null,null,null,null,null,null,null,null,null,null,null,null,null,null,null,null,null,null,null,null,null,null,null,null,null,null,null,null,null,null,null,null,null,null,null,null,null,null,null,null,null,null,null,null,null,null,null,null,null,null,null,null,null,null,null,null,null,null,null,null,null,null,null,null,null,null,null,null,null,null,null,null,null,null,null,null,null,null,null,null,null,null,null,null,null,null,null,null,null,null,null,null,null,null,null,null,null,null,null,null,null,null,null,null,null,null,null,null,null,null,null,null,null,null,null,null,null,null,null,null,null,null,null,null,null,null,null,null,null,null,null,{"$f":"STATISTICS!$V$7","v":"04"},null,null,null,null,null,null,null,null,null,null,null,null,null,null,null,null,null,{"$f":"STATISTICS!$V$8","v":"10"},null,null,null,null,null,null,null,null,null,null,null,null,null,null,null,null,{"$f":"STATISTICS!$V$9","v":"29"}]
[]
[]
[]
[]
[]
[]
[]
[]
[]
[]
[null,null,null,null,null,null,null,null,null,null,null,null,null,null,null,null,null,null,null,null,null,null,null,null,null,null,null,null,null,null,null,null,null,null,null,null,null,null,null,null,null,null,null,null,null,null,null,null,null,null,null,null,null,null,null,null,null,null,null,null,null,null,null,null,null,null,null,null,null,null,null,null,null,null,null,null,null,null,null,null,null,null,null,null,null,null,null,null,null,null,null,null,null,null,null,null,null,null,null,null,null,null,null,null,null,null,null,null,null,null,null,null,null,null,null,null,null,null,null,null,null,null,null,null,null,null,null,null,null,null,null,null,null,null,null,null,null,null,null,null,null,null,null,null,null,null,null,null,null,null,null,null,null,null,null,null,null,null,null,null,null,null,null,null,null,null,null,null,null,null,null,null,null,null,null,null,null,null,null,null,null,null,null,null,null,null,null,null,null,null,null,null,null,null,null,null,null,null,null,null,null,null,null,null,null,null,null,null,null,null,null,null,null,null,null,null,null,null,null,null,null,null,null,null,null,null,null,null,null,null,null,null,null,null,null,null,null,null,null,null,null,null,null,null,null,null,null,null,null,null,null,null,null,null,null,null,null,null,null,null,null,null,null,null,null,null,null,null,null,null,null,null,null,null,null,null,null,null,null,null,null,null,null,null,null,null,null,null,null,null,null,null,null,null,null,null,null,null,null,null,null,null,null,null,null,null,null,null,null,null,null,null,null,null,null,null,null,null,null,{"$f":"設定シート!$C$10","v":0}]
[]
[]
[]
[]
[]
[]
[]
[null,null,null,null,null,null,null,null,null,null,null,null,null,null,null,null,null,null,null,null,null,null,null,null,null,null,null,null,null,null,null,null,null,null,null,null,null,null,null,null,null,null,null,null,null,null,null,null,null,null,null,null,null,null,null,null,null,null,null,null,null,null,null,null,null,null,null,null,null,null,null,null,null,null,null,null,null,null,null,null,null,null,null,null,null,null,null,null,null,null,null,null,null,null,null,null,null,null,null,null,null,null,null,null,null,null,null,null,null,null,null,null,null,null,null,null,null,null,null,null,null,null,null,null,null,null,null,null,null,null,null,null,null,null,null,null,null,null,null,null,null,null,null,null,null,null,null,null,null,null,null,null,null,null,null,null,null,null,null,null,null,null,null,null,null,null,null,null,null,null,null,null,null,null,null,null,null,null,null,null,null,null,null,null,null,null,null,null,null,null,null,null,null,null,null,null,null,null,null,null,null,null,null,null,null,null,null,null,null,null,null,null,null,null,null,null,null,null,null,null,null,null,null,null,null,null,null,null,null,null,null,null,null,null,null,null,null,null,null,null,null,null,null,null,null,null,null,null,null,null,null,null,null,null,null,null,null,null,null,null,null,null,null,null,null,null,null,null,null,null,null,null,null,null,null,null,null,null,null,null,null,null,null,null,null,null,null,null,null,null,null,null,null,null,null,null,null,null,null,null,null,null,null,null,null,null,null,null,null,null,null,null,null,null,null,null,null,null,null,{"$f":"設定シート!$C$9","v":0}]
[]
[]
[]
[]
[]
[]
[]
[]
[]
[]
[]
[]
[]
[]
[]
[]
[]
[]
[]
[]
[]
[null,null,null,null,null,null,null,null,null,null,null,null,null,null,null,null,null,null,null,null,null,null,null,null,null,null,null,null,null,null,null,null,null,null,null,null,null,null,null,null,null,null,null,null,null,null,null,null,null,null,null,null,null,null,null,null,null,null,null,null,null,null,null,null,null,null,null,null,null,null,null,null,{"$f":"STATISTICS!$W$7","v":"04"},null,null,null,null,null,null,null,null,null,null,null,null,null,null,null,null,null,null,null,null,null,null,null,null,null,null,null,{"$f":"STATISTICS!$W$8","v":"11"},null,null,null,null,null,null,null,null,null,null,null,null,null,null,null,null,null,null,null,null,null,null,null,null,null,null,null,null,{"$f":"STATISTICS!$W$9","v":"05"}]
[]
[]
[]
[]
[]
[]
[]
[]
[]
[]
[]
[]
[]
[]
[]
[]
[]
[]
[]
[]
[]
[]
[]
[]
[]
[]
[]
[]
[]
[]
[]
[]
[]
[]
[]
[]
[]
[]
[]
[]
[]
[]
[]
[]
[]
[]
[]
[]
[]
[]
[]
[]
[]
[]
[]
[]
[]
[]
[]
[]
[]
[]
[]
[]
[]
[]
[]
[]
[]
[]
[]
[]
[]
[]
[]
[]
[]
[]
[]
[]
[]
[]
[]
[]
[]
[]
[]
[]
[]
[]
[]
[]
[]
[]
[]
[]
[]
[]
[]
[]
[null,null,null,null,null,null,null,null,null,null,null,null,null,null,null,null,null,null,null,null,null,null,null,null,null,null,null,null,null,null,null,null,null,null,null,null,null,null,null,null,null,null,null,null,null,null,null,null,null,null,null,null,null,null,null,null,null,null,null,null,null,null,null,null,{"$f":"STATISTICS!$X$7","v":"05"},null,null,null,null,null,null,null,null,null,null,null,null,null,null,null,null,{"$f":"STATISTICS!$X$8","v":"01"},null,null,null,null,null,null,null,null,null,null,null,null,null,null,null,null,{"$f":"STATISTICS!$X$9","v":"13"}]
[]
[]
[]
[]
[]
[]
[]
[]
[]
[]
[]
[null,null,null,null,null,null,null,null,null,null,null,null,null,null,null,null,null,null,null,null,null,null,null,null,null,null,null,null,null,null,null,null,null,null,null,null,null,null,null,null,null,null,null,null,null,null,null,null,null,null,null,null,null,null,null,null,null,null,null,null,null,null,null,null,null,null,null,null,null,null,null,{"$f":"設定シート!$AA$7","v":"　"},null,null,null,null,null,null,null,null,null,null,null,{"$f":"設定シート!$AB$7","v":"　"},null,null,null,null,null,null,null,null,null,null,null,{"$f":"設定シート!$AC$7","v":"　"},null,null,null,null,null,null,null,null,null,null,{"$f":"設定シート!$AD$7","v":"　"},null,null,null,null,null,null,null,null,null,null,{"$f":"設定シート!$AE$7","v":"　"},null,null,null,null,null,null,null,null,null,null,{"$f":"設定シート!$AF$7","v":"　"},null,null,null,null,null,null,null,null,null,null,{"$f":"設定シート!$AG$7","v":"　"}]
[]
[]
[]
[]
[]
[]
[]
[]
[]
[]
[]
[]
[]
[]
[null,null,null,null,null,null,null,null,null,null,null,null,null,null,null,null,null,null,null,null,null,null,null,null,null,null,null,null,null,null,null,null,null,null,null,null,null,null,null,null,null,null,null,null,null,null,null,null,null,null,null,null,null,null,null,null,null,null,null,null,null,null,null,null,null,null,null,null,null,{"$f":"設定シート!$C$8","v":0}]
[]
[]
[]
[]
[]
[]
[]
[]
[]
[]
[]
[]
[null,null,null,null,null,null,null,null,null,null,null,null,null,null,null,null,null,null,null,null,null,null,null,null,null,null,null,null,null,null,null,null,null,null,null,null,null,null,null,null,null,null,null,null,null,null,null,null,null,null,null,null,null,null,null,null,null,null,null,null,null,null,null,null,null,null,null,null,null,{"$f":"設定シート!$C$10","v":0}]
[]
[]
[]
[]
[]
[]
[]
[]
[]
[]
[null,null,null,null,null,null,null,null,null,null,null,null,null,null,null,null,null,null,null,null,null,null,null,null,null,null,null,null,null,null,null,null,null,null,null,null,null,null,null,null,null,null,null,null,null,null,null,null,null,null,null,null,null,null,null,null,null,null,null,null,null,null,null,null,null,null,null,null,null,null,null,null,null,null,null,null,null,null,null,null,null,null,null,null,null,null,null,null,null,null,null,null,{"$f":"設定シート!$C$9","v":0}]

{"sheet":"乳②-2","index":30,"n_rows":101,"n_cols":391,"rows_kept":101,"cut":false,"hidden":false,"merged":[[28,390,35,397],[29,220,35,227],[29,244,35,251],[29,269,35,276],[39,217,45,324],[39,352,45,363],[39,375,45,392],[28,326,35,333],[28,337,35,344],[28,347,35,354],[28,358,35,365],[28,369,35,376],[28,380,35,387],[46,217,52,324],[47,347,53,386],[56,203,61,263],[57,295,61,301],[61,305,67,312],[61,326,67,333],[61,348,67,355],[62,295,66,301],[63,203,72,263],[66,378,72,385],[122,72,128,79],[122,100,128,107],[122,129,128,136],[68,295,72,301],[79,319,86,398],[80,200,87,207],[80,211,87,218],[80,223,87,230],[80,234,87,241],[80,245,87,252],[80,256,87,263],[80,268,87,275],[81,144,87,151],[81,162,87,169],[81,179,87,186],[92,319,99,370],[100,319,107,353],[223,64,229,71],[223,81,229,88],[223,98,229,105],[235,71,242,78],[235,83,242,90],[235,95,242,102],[274,92,281,126],[235,106,242,113],[235,117,242,124],[235,128,242,135],[235,139,242,146],[250,69,258,162],[263,69,271,120]]}
[]
[]
[]
[]
[]
[]
[]
[]
[]
[]
[]
[]
[]
[]
[]
[]
[]
[]
[]
[]
[]
[]
[]
[]
[]
[]
[]
[]
[null,null,null,null,null,null,null,null,null,null,null,null,null,null,null,null,null,null,null,null,null,null,null,null,null,null,null,null,null,null,null,null,null,null,null,null,null,null,null,null,null,null,null,null,null,null,null,null,null,null,null,null,null,null,null,null,null,null,null,null,null,null,null,null,null,null,null,null,null,null,null,null,null,null,null,null,null,null,null,null,null,null,null,null,null,null,null,null,null,null,null,null,null,null,null,null,null,null,null,null,null,null,null,null,null,null,null,null,null,null,null,null,null,null,null,null,null,null,null,null,null,null,null,null,null,null,null,null,null,null,null,null,null,null,null,null,null,null,null,null,null,null,null,null,null,null,null,null,null,null,null,null,null,null,null,null,null,null,null,null,null,null,null,null,null,null,null,null,null,null,null,null,null,null,null,null,null,null,null,null,null,null,null,null,null,null,null,null,null,null,null,null,null,null,null,null,null,null,null,null,null,null,null,null,null,null,null,null,null,null,null,null,null,null,null,null,null,null,null,null,null,null,null,null,null,null,null,null,null,null,null,null,null,null,null,null,null,null,null,null,null,null,null,null,null,null,null,null,null,null,null,null,null,null,null,null,null,null,null,null,null,null,null,null,null,null,null,null,null,null,null,null,null,null,null,null,null,null,null,null,null,null,null,null,null,null,null,null,null,null,null,null,null,null,null,null,null,null,null,null,null,null,null,null,null,null,null,null,null,null,null,null,null,null,null,null,null,null,null,null,null,null,null,null,null,null,{"$f":"STATISTICS!$E$5","v":"1"},null,null,null,null,null,null,null,null,null,null,{"$f":"STATISTICS!$E$6","v":"2"},null,null,null,null,null,null,null,null,null,{"$f":"STATISTICS!$E$7","v":"3"},null,null,null,null,null,null,null,null,null,null,{"$f":"STATISTICS!$E$8","v":"4"},null,null,null,null,null,null,null,null,null,null,{"$f":"STATISTICS!$E$9","v":"5"},null,null,null,null,null,null,null,null,null,null,{"$f":"STATISTICS!$E$10","v":"6"},null,null,null,null,null,null,null,null,null,{"$f":"STATISTICS!$E$11","v":"7"}]
[null,null,null,null,null,null,null,null,null,null,null,null,null,null,null,null,null,null,null,null,null,null,null,null,null,null,null,null,null,null,null,null,null,null,null,null,null,null,null,null,null,null,null,null,null,null,null,null,null,null,null,null,null,null,null,null,null,null,null,null,null,null,null,null,null,null,null,null,null,null,null,null,null,null,null,null,null,null,null,null,null,null,null,null,null,null,null,null,null,null,null,null,null,null,null,null,null,null,null,null,null,null,null,null,null,null,null,null,null,null,null,null,null,null,null,null,null,null,null,null,null,null,null,null,null,null,null,null,null,null,null,null,null,null,null,null,null,null,null,null,null,null,null,null,null,null,null,null,null,null,null,null,null,null,null,null,null,null,null,null,null,null,null,null,null,null,null,null,null,null,null,null,null,null,null,null,null,null,null,null,null,null,null,null,null,null,null,null,null,null,null,null,null,null,null,null,null,null,null,null,null,null,null,null,null,null,null,null,null,null,null,null,null,null,null,null,null,null,null,null,{"$f":"STATISTICS!$D$7","v":"04"},null,null,null,null,null,null,null,null,null,null,null,null,null,null,null,null,null,null,null,null,null,null,null,{"$f":"STATISTICS!$D$8","v":"09"},null,null,null,null,null,null,null,null,null,null,null,null,null,null,null,null,null,null,null,null,null,null,null,null,{"$f":"STATISTICS!$D$9","v":"08"}]
[]
[]
[]
[]
[]
[]
[]
[]
[]
[null,null,null,null,null,null,null,null,null,null,null,null,null,null,null,null,null,null,null,null,null,null,null,null,null,null,null,null,null,null,null,null,null,null,null,null,null,null,null,null,null,null,null,null,null,null,null,null,null,null,null,null,null,null,null,null,null,null,null,null,null,null,null,null,null,null,null,null,null,null,null,null,null,null,null,null,null,null,null,null,null,null,null,null,null,null,null,null,null,null,null,null,null,null,null,null,null,null,null,null,null,null,null,null,null,null,null,null,null,null,null,null,null,null,null,null,null,null,null,null,null,null,null,null,null,null,null,null,null,null,null,null,null,null,null,null,null,null,null,null,null,null,null,null,null,null,null,null,null,null,null,null,null,null,null,null,null,null,null,null,null,null,null,null,null,null,null,null,null,null,null,null,null,null,null,null,null,null,null,null,null,null,null,null,null,null,null,null,null,null,null,null,null,null,null,null,null,null,null,null,null,null,null,null,null,null,null,null,null,null,null,null,null,null,null,null,null,{"$f":"STATISTICS!$H$3","v":"森合町10番1号"},null,null,null,null,null,null,null,null,null,null,null,null,null,null,null,null,null,null,null,null,null,null,null,null,null,null,null,null,null,null,null,null,null,null,null,null,null,null,null,null,null,null,null,null,null,null,null,null,null,null,null,null,null,null,null,null,null,null,null,null,null,null,null,null,null,null,null,null,null,null,null,null,null,null,null,null,null,null,null,null,null,null,null,null,null,null,null,null,null,null,null,null,null,null,null,null,null,null,null,null,null,null,null,null,null,null,null,null,null,null,null,null,null,null,null,null,null,null,null,null,null,null,null,null,null,null,null,null,null,null,null,null,null,null,{"$f":"STATISTICS!$F$5","v":"960"},null,null,null,null,null,null,null,null,null,null,null,null,null,null,null,null,null,null,null,null,null,null,{"$f":"STATISTICS!$F$6","v":"8002"}]
[]
[]
[]
[]
[]
[]
[null,null,null,null,null,null,null,null,null,null,null,null,null,null,null,null,null,null,null,null,null,null,null,null,null,null,null,null,null,null,null,null,null,null,null,null,null,null,null,null,null,null,null,null,null,null,null,null,null,null,null,null,null,null,null,null,null,null,null,null,null,null,null,null,null,null,null,null,null,null,null,null,null,null,null,null,null,null,null,null,null,null,null,null,null,null,null,null,null,null,null,null,null,null,null,null,null,null,null,null,null,null,null,null,null,null,null,null,null,null,null,null,null,null,null,null,null,null,null,null,null,null,null,null,null,null,null,null,null,null,null,null,null,null,null,null,null,null,null,null,null,null,null,null,null,null,null,null,null,null,null,null,null,null,null,null,null,null,null,null,null,null,null,null,null,null,null,null,null,null,null,null,null,null,null,null,null,null,null,null,null,null,null,null,null,null,null,null,null,null,null,null,null,null,null,null,null,null,null,null,null,null,null,null,null,null,null,null,null,null,null,null,null,null,null,null,null,{"$f":"STATISTICS!$I$3","v":"福島市保健福祉センター内"}]
[null,null,null,null,null,null,null,null,null,null,null,null,null,null,null,null,null,null,null,null,null,null,null,null,null,null,null,null,null,null,null,null,null,null,null,null,null,null,null,null,null,null,null,null,null,null,null,null,null,null,null,null,null,null,null,null,null,null,null,null,null,null,null,null,null,null,null,null,null,null,null,null,null,null,null,null,null,null,null,null,null,null,null,null,null,null,null,null,null,null,null,null,null,null,null,null,null,null,null,null,null,null,null,null,null,null,null,null,null,null,null,null,null,null,null,null,null,null,null,null,null,null,null,null,null,null,null,null,null,null,null,null,null,null,null,null,null,null,null,null,null,null,null,null,null,null,null,null,null,null,null,null,null,null,null,null,null,null,null,null,null,null,null,null,null,null,null,null,null,null,null,null,null,null,null,null,null,null,null,null,null,null,null,null,null,null,null,null,null,null,null,null,null,null,null,null,null,null,null,null,null,null,null,null,null,null,null,null,null,null,null,null,null,null,null,null,null,null,null,null,null,null,null,null,null,null,null,null,null,null,null,null,null,null,null,null,null,null,null,null,null,null,null,null,null,null,null,null,null,null,null,null,null,null,null,null,null,null,null,null,null,null,null,null,null,null,null,null,null,null,null,null,null,null,null,null,null,null,null,null,null,null,null,null,null,null,null,null,null,null,null,null,null,null,null,null,null,null,null,null,null,null,null,null,null,null,null,null,null,null,null,null,null,null,null,null,null,null,null,null,null,null,null,null,null,null,null,null,null,null,null,null,null,null,null,null,null,null,null,null,null,null,null,null,null,null,null,{"$f":"STATISTICS!$J$3","v":"024-534-2290"}]
[]
[]
[]
[]
[]
[]
[]
[]
[null,null,null,null,null,null,null,null,null,null,null,null,null,null,null,null,null,null,null,null,null,null,null,null,null,null,null,null,null,null,null,null,null,null,null,null,null,null,null,null,null,null,null,null,null,null,null,null,null,null,null,null,null,null,null,null,null,null,null,null,null,null,null,null,null,null,null,null,null,null,null,null,null,null,null,null,null,null,null,null,null,null,null,null,null,null,null,null,null,null,null,null,null,null,null,null,null,null,null,null,null,null,null,null,null,null,null,null,null,null,null,null,null,null,null,null,null,null,null,null,null,null,null,null,null,null,null,null,null,null,null,null,null,null,null,null,null,null,null,null,null,null,null,null,null,null,null,null,null,null,null,null,null,null,null,null,null,null,null,null,null,null,null,null,null,null,null,null,null,null,null,null,null,null,null,null,null,null,null,null,null,null,null,null,null,null,null,null,null,null,null,null,null,null,null,null,null,null,null,null,null,null,null,{"$f":"STATISTICS!$C$3","v":"いしかい　はるこ"}]
[null,null,null,null,null,null,null,null,null,null,null,null,null,null,null,null,null,null,null,null,null,null,null,null,null,null,null,null,null,null,null,null,null,null,null,null,null,null,null,null,null,null,null,null,null,null,null,null,null,null,null,null,null,null,null,null,null,null,null,null,null,null,null,null,null,null,null,null,null,null,null,null,null,null,null,null,null,null,null,null,null,null,null,null,null,null,null,null,null,null,null,null,null,null,null,null,null,null,null,null,null,null,null,null,null,null,null,null,null,null,null,null,null,null,null,null,null,null,null,null,null,null,null,null,null,null,null,null,null,null,null,null,null,null,null,null,null,null,null,null,null,null,null,null,null,null,null,null,null,null,null,null,null,null,null,null,null,null,null,null,null,null,null,null,null,null,null,null,null,null,null,null,null,null,null,null,null,null,null,null,null,null,null,null,null,null,null,null,null,null,null,null,null,null,null,null,null,null,null,null,null,null,null,null,null,null,null,null,null,null,null,null,null,null,null,null,null,null,null,null,null,null,null,null,null,null,null,null,null,null,null,null,null,null,null,null,null,null,null,null,null,null,null,null,null,null,null,null,null,null,null,null,null,null,null,null,null,null,null,null,null,null,null,null,null,null,null,null,null,null,null,null,null,null,null,null,null,null,null,null,null,null,null,null,null,null,null,null,null,null,null,null,null,null,null,{"$f":"STATISTICS!$M$11","v":""}]
[]
[]
[]
[null,null,null,null,null,null,null,null,null,null,null,null,null,null,null,null,null,null,null,null,null,null,null,null,null,null,null,null,null,null,null,null,null,null,null,null,null,null,null,null,null,null,null,null,null,null,null,null,null,null,null,null,null,null,null,null,null,null,null,null,null,null,null,null,null,null,null,null,null,null,null,null,null,null,null,null,null,null,null,null,null,null,null,null,null,null,null,null,null,null,null,null,null,null,null,null,null,null,null,null,null,null,null,null,null,null,null,null,null,null,null,null,null,null,null,null,null,null,null,null,null,null,null,null,null,null,null,null,null,null,null,null,null,null,null,null,null,null,null,null,null,null,null,null,null,null,null,null,null,null,null,null,null,null,null,null,null,null,null,null,null,null,null,null,null,null,null,null,null,null,null,null,null,null,null,null,null,null,null,null,null,null,null,null,null,null,null,null,null,null,null,null,null,null,null,null,null,null,null,null,null,null,null,null,null,null,null,null,null,null,null,null,null,null,null,null,null,null,null,null,null,null,null,null,null,null,null,null,null,null,null,null,null,null,null,null,null,null,null,null,null,null,null,null,null,null,null,null,null,null,null,null,null,null,null,null,null,null,null,null,null,null,null,null,null,null,null,null,null,null,null,null,null,null,null,null,null,null,null,null,null,null,null,null,null,null,null,null,null,null,null,null,null,null,null,null,null,null,null,null,null,null,null,null,null,{"$f":"STATISTICS!$M$7","v":"35"},null,null,null,null,null,null,null,null,null,null,null,null,null,null,null,null,null,null,null,null,{"$f":"STATISTICS!$M$8","v":"12"},null,null,null,null,null,null,null,null,null,null,null,null,null,null,null,null,null,null,null,null,null,{"$f":"STATISTICS!$M$9","v":"11"}]
[null,null,null,null,null,null,null,null,null,null,null,null,null,null,null,null,null,null,null,null,null,null,null,null,null,null,null,null,null,null,null,null,null,null,null,null,null,null,null,null,null,null,null,null,null,null,null,null,null,null,null,null,null,null,null,null,null,null,null,null,null,null,null,null,null,null,null,null,null,null,null,null,null,null,null,null,null,null,null,null,null,null,null,null,null,null,null,null,null,null,null,null,null,null,null,null,null,null,null,null,null,null,null,null,null,null,null,null,null,null,null,null,null,null,null,null,null,null,null,null,null,null,null,null,null,null,null,null,null,null,null,null,null,null,null,null,null,null,null,null,null,null,null,null,null,null,null,null,null,null,null,null,null,null,null,null,null,null,null,null,null,null,null,null,null,null,null,null,null,null,null,null,null,null,null,null,null,null,null,null,null,null,null,null,null,null,null,null,null,null,null,null,null,null,null,null,null,null,null,null,null,null,null,null,null,null,null,null,null,null,null,null,null,null,null,null,null,null,null,null,null,null,null,null,null,null,null,null,null,null,null,null,null,null,null,null,null,null,null,null,null,null,null,null,null,null,null,null,null,null,null,null,null,null,null,null,null,null,null,null,null,null,null,null,null,null,null,null,null,null,null,null,null,null,null,null,null,null,null,null,null,null,null,null,null,null,null,null,null,null,null,null,null,null,null,{"$f":"STATISTICS!$M$12","v":""}]
[null,null,null,null,null,null,null,null,null,null,null,null,null,null,null,null,null,null,null,null,null,null,null,null,null,null,null,null,null,null,null,null,null,null,null,null,null,null,null,null,null,null,null,null,null,null,null,null,null,null,null,null,null,null,null,null,null,null,null,null,null,null,null,null,null,null,null,null,null,null,null,null,null,null,null,null,null,null,null,null,null,null,null,null,null,null,null,null,null,null,null,null,null,null,null,null,null,null,null,null,null,null,null,null,null,null,null,null,null,null,null,null,null,null,null,null,null,null,null,null,null,null,null,null,null,null,null,null,null,null,null,null,null,null,null,null,null,null,null,null,null,null,null,null,null,null,null,null,null,null,null,null,null,null,null,null,null,null,null,null,null,null,null,null,null,null,null,null,null,null,null,null,null,null,null,null,null,null,null,null,null,null,null,null,null,null,null,null,null,null,null,null,null,null,null,null,null,null,null,null,null,null,null,{"$f":"STATISTICS!$B$3","v":"医師会　春子"}]
[]
[]
[null,null,null,null,null,null,null,null,null,null,null,null,null,null,null,null,null,null,null,null,null,null,null,null,null,null,null,null,null,null,null,null,null,null,null,null,null,null,null,null,null,null,null,null,null,null,null,null,null,null,null,null,null,null,null,null,null,null,null,null,null,null,null,null,null,null,null,null,null,null,null,null,null,null,null,null,null,null,null,null,null,null,null,null,null,null,null,null,null,null,null,null,null,null,null,null,null,null,null,null,null,null,null,null,null,null,null,null,null,null,null,null,null,null,null,null,null,null,null,null,null,null,null,null,null,null,null,null,null,null,null,null,null,null,null,null,null,null,null,null,null,null,null,null,null,null,null,null,null,null,null,null,null,null,null,null,null,null,null,null,null,null,null,null,null,null,null,null,null,null,null,null,null,null,null,null,null,null,null,null,null,null,null,null,null,null,null,null,null,null,null,null,null,null,null,null,null,null,null,null,null,null,null,null,null,null,null,null,null,null,null,null,null,null,null,null,null,null,null,null,null,null,null,null,null,null,null,null,null,null,null,null,null,null,null,null,null,null,null,null,null,null,null,null,null,null,null,null,null,null,null,null,null,null,null,null,null,null,null,null,null,null,null,null,null,null,null,null,null,null,null,null,null,null,null,null,null,null,null,null,null,null,null,null,null,null,null,null,null,null,null,null,null,null,null,null,null,null,null,null,null,null,null,null,null,null,null,null,null,null,null,null,null,null,null,null,null,null,null,null,null,null,null,null,null,null,null,null,null,null,null,null,null,null,null,null,null,null,null,null,null,null,null,null,null,null,null,null,null,null,null,null,null,null,null,null,null,null,null,null,null,null,null,null,null,null,null,null,null,null,null,null,null,null,null,null,null,null,{"$f":"STATISTICS!$N$3","v":61}]
[]
[null,null,null,null,null,null,null,null,null,null,null,null,null,null,null,null,null,null,null,null,null,null,null,null,null,null,null,null,null,null,null,null,null,null,null,null,null,null,null,null,null,null,null,null,null,null,null,null,null,null,null,null,null,null,null,null,null,null,null,null,null,null,null,null,null,null,null,null,null,null,null,null,null,null,null,null,null,null,null,null,null,null,null,null,null,null,null,null,null,null,null,null,null,null,null,null,null,null,null,null,null,null,null,null,null,null,null,null,null,null,null,null,null,null,null,null,null,null,null,null,null,null,null,null,null,null,null,null,null,null,null,null,null,null,null,null,null,null,null,null,null,null,null,null,null,null,null,null,null,null,null,null,null,null,null,null,null,null,null,null,null,null,null,null,null,null,null,null,null,null,null,null,null,null,null,null,null,null,null,null,null,null,null,null,null,null,null,null,null,null,null,null,null,null,null,null,null,null,null,null,null,null,null,null,null,null,null,null,null,null,null,null,null,null,null,null,null,null,null,null,null,null,null,null,null,null,null,null,null,null,null,null,null,null,null,null,null,null,null,null,null,null,null,null,null,null,null,null,null,null,null,null,null,null,null,null,null,null,null,null,null,null,null,null,null,null,null,null,null,null,null,null,null,null,null,null,null,null,null,null,null,null,null,null,null,null,null,null,null,null,null,null,null,null,null,{"$f":"STATISTICS!$M$13","v":"○"}]
[]
[]
[]
[]
[]
[]
[]
[]
[]
[]
[null,null,null,null,null,null,null,null,null,null,null,null,null,null,null,null,null,null,null,null,null,null,null,null,null,null,null,null,null,null,null,null,null,null,null,null,null,null,null,null,null,null,null,null,null,null,null,null,null,null,null,null,null,null,null,null,null,null,null,null,null,null,null,null,null,null,null,null,null,null,null,null,null,null,null,null,null,null,null,null,null,null,null,null,null,null,null,null,null,null,null,null,null,null,null,null,null,null,null,null,null,null,null,null,null,null,null,null,null,null,null,null,null,null,null,null,null,null,null,null,null,null,null,null,null,null,null,null,null,null,null,null,null,null,null,null,null,null,null,null,null,null,null,null,null,null,null,null,null,null,null,null,null,null,null,null,null,null,null,null,null,null,null,null,null,null,null,null,null,null,null,null,null,null,null,null,null,null,null,null,null,null,null,null,null,null,null,null,null,null,null,null,null,null,null,null,null,null,null,null,null,null,null,null,null,null,null,null,null,null,null,null,null,null,null,null,null,null,null,null,null,null,null,null,null,null,null,null,null,null,null,null,null,null,null,null,null,null,null,null,null,null,null,null,null,null,null,null,null,null,null,null,null,null,null,null,null,null,null,null,null,null,null,null,null,null,null,null,null,null,null,null,null,null,null,null,null,null,null,null,null,null,null,null,null,null,null,null,null,null,null,null,null,null,null,null,null,null,null,null,null,null,null,null,null,null,null,null,null,null,null,null,null,null,null,null,null,null,null,{"$f":"設定シート!$C$8","v":0}]
[null,null,null,null,null,null,null,null,null,null,null,null,null,null,null,null,null,null,null,null,null,null,null,null,null,null,null,null,null,null,null,null,null,null,null,null,null,null,null,null,null,null,null,null,null,null,null,null,null,null,null,null,null,null,null,null,null,null,null,null,null,null,null,null,null,null,null,null,null,null,null,null,null,null,null,null,null,null,null,null,null,null,null,null,null,null,null,null,null,null,null,null,null,null,null,null,null,null,null,null,null,null,null,null,null,null,null,null,null,null,null,null,null,null,null,null,null,null,null,null,null,null,null,null,null,null,null,null,null,null,null,null,null,null,null,null,null,null,null,null,null,null,null,null,null,null,null,null,null,null,null,null,null,null,null,null,null,null,null,null,null,null,null,null,null,null,null,null,null,null,null,null,null,null,null,null,null,null,null,null,null,null,null,null,null,null,null,null,null,null,null,null,null,null,null,null,null,null,null,null,{"$f":"設定シート!$AA$7","v":"　"},null,null,null,null,null,null,null,null,null,null,{"$f":"設定シート!$AB$7","v":"　"},null,null,null,null,null,null,null,null,null,null,null,{"$f":"設定シート!$AC$7","v":"　"},null,null,null,null,null,null,null,null,null,null,{"$f":"設定シート!$AD$7","v":"　"},null,null,null,null,null,null,null,null,null,null,{"$f":"設定シート!$AE$7","v":"　"},null,null,null,null,null,null,null,null,null,null,{"$f":"設定シート!$AF$7","v":"　"},null,null,null,null,null,null,null,null,null,null,null,{"$f":"設定シート!$AG$7","v":"　"}]
[null,null,null,null,null,null,null,null,null,null,null,null,null,null,null,null,null,null,null,null,null,null,null,null,null,null,null,null,null,null,null,null,null,null,null,null,null,null,null,null,null,null,null,null,null,null,null,null,null,null,null,null,null,null,null,null,null,null,null,null,null,null,null,null,null,null,null,null,null,null,null,null,null,null,null,null,null,null,null,null,null,null,null,null,null,null,null,null,null,null,null,null,null,null,null,null,null,null,null,null,null,null,null,null,null,null,null,null,null,null,null,null,null,null,null,null,null,null,null,null,null,null,null,null,null,null,null,null,null,null,null,null,null,null,null,null,null,null,null,null,null,null,null,null,{"$f":"STATISTICS!$V$7","v":"04"},null,null,null,null,null,null,null,null,null,null,null,null,null,null,null,null,null,{"$f":"STATISTICS!$V$8","v":"10"},null,null,null,null,null,null,null,null,null,null,null,null,null,null,null,null,{"$f":"STATISTICS!$V$9","v":"29"}]
[]
[]
[]
[]
[]
[]
[]
[]
[]
[]
[null,null,null,null,null,null,null,null,null,null,null,null,null,null,null,null,null,null,null,null,null,null,null,null,null,null,null,null,null,null,null,null,null,null,null,null,null,null,null,null,null,null,null,null,null,null,null,null,null,null,null,null,null,null,null,null,null,null,null,null,null,null,null,null,null,null,null,null,null,null,null,null,null,null,null,null,null,null,null,null,null,null,null,null,null,null,null,null,null,null,null,null,null,null,null,null,null,null,null,null,null,null,null,null,null,null,null,null,null,null,null,null,null,null,null,null,null,null,null,null,null,null,null,null,null,null,null,null,null,null,null,null,null,null,null,null,null,null,null,null,null,null,null,null,null,null,null,null,null,null,null,null,null,null,null,null,null,null,null,null,null,null,null,null,null,null,null,null,null,null,null,null,null,null,null,null,null,null,null,null,null,null,null,null,null,null,null,null,null,null,null,null,null,null,null,null,null,null,null,null,null,null,null,null,null,null,null,null,null,null,null,null,null,null,null,null,null,null,null,null,null,null,null,null,null,null,null,null,null,null,null,null,null,null,null,null,null,null,null,null,null,null,null,null,null,null,null,null,null,null,null,null,null,null,null,null,null,null,null,null,null,null,null,null,null,null,null,null,null,null,null,null,null,null,null,null,null,null,null,null,null,null,null,null,null,null,null,null,null,null,null,null,null,null,null,null,null,null,null,null,null,null,null,null,null,null,null,null,null,null,null,null,null,null,null,null,null,null,null,{"$f":"設定シート!$C$10","v":0}]
[]
[]
[]
[]
[]
[]
[]
[null,null,null,null,null,null,null,null,null,null,null,null,null,null,null,null,null,null,null,null,null,null,null,null,null,null,null,null,null,null,null,null,null,null,null,null,null,null,null,null,null,null,null,null,null,null,null,null,null,null,null,null,null,null,null,null,null,null,null,null,null,null,null,null,null,null,null,null,null,null,null,null,null,null,null,null,null,null,null,null,null,null,null,null,null,null,null,null,null,null,null,null,null,null,null,null,null,null,null,null,null,null,null,null,null,null,null,null,null,null,null,null,null,null,null,null,null,null,null,null,null,null,null,null,null,null,null,null,null,null,null,null,null,null,null,null,null,null,null,null,null,null,null,null,null,null,null,null,null,null,null,null,null,null,null,null,null,null,null,null,null,null,null,null,null,null,null,null,null,null,null,null,null,null,null,null,null,null,null,null,null,null,null,null,null,null,null,null,null,null,null,null,null,null,null,null,null,null,null,null,null,null,null,null,null,null,null,null,null,null,null,null,null,null,null,null,null,null,null,null,null,null,null,null,null,null,null,null,null,null,null,null,null,null,null,null,null,null,null,null,null,null,null,null,null,null,null,null,null,null,null,null,null,null,null,null,null,null,null,null,null,null,null,null,null,null,null,null,null,null,null,null,null,null,null,null,null,null,null,null,null,null,null,null,null,null,null,null,null,null,null,null,null,null,null,null,null,null,null,null,null,null,null,null,null,null,null,null,null,null,null,null,null,null,null,null,null,null,null,{"$f":"設定シート!$C$9","v":0}]

{"sheet":"乳②-3","index":31,"n_rows":275,"n_cols":140,"rows_kept":275,"cut":false,"hidden":false,"merged":[[28,390,35,397],[29,220,35,227],[29,244,35,251],[29,269,35,276],[39,217,45,324],[39,352,45,363],[39,375,45,392],[28,326,35,333],[28,337,35,344],[28,347,35,354],[28,358,35,365],[28,369,35,376],[28,380,35,387],[46,217,52,324],[47,347,53,386],[56,203,61,263],[57,295,61,301],[61,305,67,312],[61,326,67,333],[61,348,67,355],[62,295,66,301],[63,203,72,263],[66,378,72,385],[122,72,128,79],[122,100,128,107],[122,129,128,136],[68,295,72,301],[79,319,86,398],[80,200,87,207],[80,211,87,218],[80,223,87,230],[80,234,87,241],[80,245,87,252],[80,256,87,263],[80,268,87,275],[81,144,87,151],[81,162,87,169],[81,179,87,186],[92,319,99,370],[100,319,107,353],[223,64,229,71],[223,81,229,88],[223,98,229,105],[235,71,242,78],[235,83,242,90],[235,95,242,102],[274,92,281,126],[235,106,242,113],[235,117,242,124],[235,128,242,135],[235,139,242,146],[250,69,258,162],[263,69,271,120]]}
[]
[]
[]
[]
[]
[]
[]
[]
[]
[]
[]
[]
[]
[]
[]
[]
[]
[]
[]
[]
[]
[]
[]
[]
[]
[]
[]
[]
[]
[]
[]
[]
[]
[]
[]
[]
[]
[]
[]
[]
[]
[]
[]
[]
[]
[]
[]
[]
[]
[]
[]
[]
[]
[]
[]
[]
[]
[]
[]
[]
[]
[]
[]
[]
[]
[]
[]
[]
[]
[]
[]
[]
[]
[]
[]
[]
[]
[]
[]
[]
[]
[]
[]
[]
[]
[]
[]
[]
[]
[]
[]
[]
[]
[]
[]
[]
[]
[]
[]
[]
[]
[]
[]
[]
[]
[]
[]
[]
[]
[]
[]
[]
[]
[]
[]
[]
[]
[]
[]
[]
[]
[]
[null,null,null,null,null,null,null,null,null,null,null,null,null,null,null,null,null,null,null,null,null,null,null,null,null,null,null,null,null,null,null,null,null,null,null,null,null,null,null,null,null,null,null,null,null,null,null,null,null,null,null,null,null,null,null,null,null,null,null,null,null,null,null,null,null,null,null,null,null,null,null,null,{"$f":"STATISTICS!$W$7","v":"04"},null,null,null,null,null,null,null,null,null,null,null,null,null,null,null,null,null,null,null,null,null,null,null,null,null,null,null,{"$f":"STATISTICS!$W$8","v":"11"},null,null,null,null,null,null,null,null,null,null,null,null,null,null,null,null,null,null,null,null,null,null,null,null,null,null,null,null,{"$f":"STATISTICS!$W$9","v":"05"}]
[]
[]
[]
[]
[]
[]
[]
[]
[]
[]
[]
[]
[]
[]
[]
[]
[]
[]
[]
[]
[]
[]
[]
[]
[]
[]
[]
[]
[]
[]
[]
[]
[]
[]
[]
[]
[]
[]
[]
[]
[]
[]
[]
[]
[]
[]
[]
[]
[]
[]
[]
[]
[]
[]
[]
[]
[]
[]
[]
[]
[]
[]
[]
[]
[]
[]
[]
[]
[]
[]
[]
[]
[]
[]
[]
[]
[]
[]
[]
[]
[]
[]
[]
[]
[]
[]
[]
[]
[]
[]
[]
[]
[]
[]
[]
[]
[]
[]
[]
[]
[null,null,null,null,null,null,null,null,null,null,null,null,null,null,null,null,null,null,null,null,null,null,null,null,null,null,null,null,null,null,null,null,null,null,null,null,null,null,null,null,null,null,null,null,null,null,null,null,null,null,null,null,null,null,null,null,null,null,null,null,null,null,null,null,{"$f":"STATISTICS!$X$7","v":"05"},null,null,null,null,null,null,null,null,null,null,null,null,null,null,null,null,{"$f":"STATISTICS!$X$8","v":"01"},null,null,null,null,null,null,null,null,null,null,null,null,null,null,null,null,{"$f":"STATISTICS!$X$9","v":"13"}]
[]
[]
[]
[]
[]
[]
[]
[]
[]
[]
[]
[null,null,null,null,null,null,null,null,null,null,null,null,null,null,null,null,null,null,null,null,null,null,null,null,null,null,null,null,null,null,null,null,null,null,null,null,null,null,null,null,null,null,null,null,null,null,null,null,null,null,null,null,null,null,null,null,null,null,null,null,null,null,null,null,null,null,null,null,null,null,null,{"$f":"設定シート!$AA$7","v":"　"},null,null,null,null,null,null,null,null,null,null,null,{"$f":"設定シート!$AB$7","v":"　"},null,null,null,null,null,null,null,null,null,null,null,{"$f":"設定シート!$AC$7","v":"　"},null,null,null,null,null,null,null,null,null,null,{"$f":"設定シート!$AD$7","v":"　"},null,null,null,null,null,null,null,null,null,null,{"$f":"設定シート!$AE$7","v":"　"},null,null,null,null,null,null,null,null,null,null,{"$f":"設定シート!$AF$7","v":"　"},null,null,null,null,null,null,null,null,null,null,{"$f":"設定シート!$AG$7","v":"　"}]
[]
[]
[]
[]
[]
[]
[]
[]
[]
[]
[]
[]
[]
[]
[null,null,null,null,null,null,null,null,null,null,null,null,null,null,null,null,null,null,null,null,null,null,null,null,null,null,null,null,null,null,null,null,null,null,null,null,null,null,null,null,null,null,null,null,null,null,null,null,null,null,null,null,null,null,null,null,null,null,null,null,null,null,null,null,null,null,null,null,null,{"$f":"設定シート!$C$8","v":0}]
[]
[]
[]
[]
[]
[]
[]
[]
[]
[]
[]
[]
[null,null,null,null,null,null,null,null,null,null,null,null,null,null,null,null,null,null,null,null,null,null,null,null,null,null,null,null,null,null,null,null,null,null,null,null,null,null,null,null,null,null,null,null,null,null,null,null,null,null,null,null,null,null,null,null,null,null,null,null,null,null,null,null,null,null,null,null,null,{"$f":"設定シート!$C$10","v":0}]
[]
[]
[]
[]
[]
[]
[]
[]
[]
[]
[null,null,null,null,null,null,null,null,null,null,null,null,null,null,null,null,null,null,null,null,null,null,null,null,null,null,null,null,null,null,null,null,null,null,null,null,null,null,null,null,null,null,null,null,null,null,null,null,null,null,null,null,null,null,null,null,null,null,null,null,null,null,null,null,null,null,null,null,null,null,null,null,null,null,null,null,null,null,null,null,null,null,null,null,null,null,null,null,null,null,null,null,{"$f":"設定シート!$C$9","v":0}]

{"sheet":"大腸②-注腸","index":32,"n_rows":384,"n_cols":255,"rows_kept":384,"cut":false,"hidden":false,"merged":[[360,229,366,236],[360,254,366,261],[374,64,382,157],[379,215,387,266],[383,75,390,109],[360,100,367,107],[360,113,367,120],[360,126,367,133],[360,139,367,146],[360,205,366,212],[360,60,367,67],[360,74,367,81],[360,87,367,94],[101,80,107,87],[101,108,107,115],[101,137,107,144],[25,205,31,212],[25,229,31,236],[36,60,41,120],[50,59,59,119],[46,198,52,204],[56,191,62,198],[56,210,62,217],[56,230,62,237],[46,188,52,194],[25,140,32,147],[25,60,32,67],[25,73,32,80],[25,86,32,93],[25,113,32,120],[25,126,32,133],[67,168,73,207],[67,66,73,98],[83,77,90,276],[25,254,31,261],[56,254,62,261],[25,100,32,107]]}
[]
[]
[]
[]
[]
[]
[]
[]
[]
[]
[]
[]
[]
[]
[]
[]
[]
[]
[]
[]
[]
[]
[]
[]
[]
[null,null,null,null,null,null,null,null,null,null,null,null,null,null,null,null,null,null,null,null,null,null,null,null,null,null,null,null,null,null,null,null,null,null,null,null,null,null,null,null,null,null,null,null,null,null,null,null,null,null,null,null,null,null,null,null,null,null,null,null,{"$f":"STATISTICS!$E$5","v":"1"},null,null,null,null,null,null,null,null,null,null,null,null,{"$f":"STATISTICS!$E$6","v":"2"},null,null,null,null,null,null,null,null,null,null,null,null,{"$f":"STATISTICS!$E$7","v":"3"},null,null,null,null,null,null,null,null,null,null,null,null,null,{"$f":"STATISTICS!$E$8","v":"4"},null,null,null,null,null,null,null,null,null,null,null,null,{"$f":"STATISTICS!$E$9","v":"5"},null,null,null,null,null,null,null,null,null,null,null,null,{"$f":"STATISTICS!$E$10","v":"6"},null,null,null,null,null,null,null,null,null,null,null,null,null,{"$f":"STATISTICS!$E$11","v":"7"},null,null,null,null,null,null,null,null,null,null,null,null,null,null,null,null,null,null,null,null,null,null,null,null,null,null,null,null,null,null,null,null,null,null,null,null,null,null,null,null,null,null,null,null,null,null,null,null,null,null,null,null,null,null,null,null,null,null,null,null,null,null,null,null,{"$f":"STATISTICS!$D$7","v":"04"},null,null,null,null,null,null,null,null,null,null,null,null,null,null,null,null,null,null,null,null,null,null,null,{"$f":"STATISTICS!$D$8","v":"09"},null,null,null,null,null,null,null,null,null,null,null,null,null,null,null,null,null,null,null,null,null,null,null,null,{"$f":"STATISTICS!$D$9","v":"08"}]
[]
[]
[]
[]
[]
[]
[]
[]
[]
[]
[null,null,null,null,null,null,null,null,null,null,null,null,null,null,null,null,null,null,null,null,null,null,null,null,null,null,null,null,null,null,null,null,null,null,null,null,null,null,null,null,null,null,null,null,null,null,null,null,null,null,null,null,null,null,null,null,null,null,null,null,{"$f":"STATISTICS!$C$3","v":"いしかい　はるこ"}]
[]
[]
[]
[]
[]
[]
[]
[]
[]
[null,null,null,null,null,null,null,null,null,null,null,null,null,null,null,null,null,null,null,null,null,null,null,null,null,null,null,null,null,null,null,null,null,null,null,null,null,null,null,null,null,null,null,null,null,null,null,null,null,null,null,null,null,null,null,null,null,null,null,null,null,null,null,null,null,null,null,null,null,null,null,null,null,null,null,null,null,null,null,null,null,null,null,null,null,null,null,null,null,null,null,null,null,null,null,null,null,null,null,null,null,null,null,null,null,null,null,null,null,null,null,null,null,null,null,null,null,null,null,null,null,null,null,null,null,null,null,null,null,null,null,null,null,null,null,null,null,null,null,null,null,null,null,null,null,null,null,null,null,null,null,null,null,null,null,null,null,null,null,null,null,null,null,null,null,null,null,null,null,null,null,null,null,null,null,null,null,null,null,null,null,null,null,null,null,null,null,null,{"$f":"STATISTICS!$M$12","v":""},null,null,null,null,null,null,null,null,null,{"$f":"STATISTICS!$M$13","v":"○"}]
[]
[]
[]
[null,null,null,null,null,null,null,null,null,null,null,null,null,null,null,null,null,null,null,null,null,null,null,null,null,null,null,null,null,null,null,null,null,null,null,null,null,null,null,null,null,null,null,null,null,null,null,null,null,null,null,null,null,null,null,null,null,null,null,{"$f":"STATISTICS!$B$3","v":"医師会　春子"}]
[]
[]
[]
[]
[]
[null,null,null,null,null,null,null,null,null,null,null,null,null,null,null,null,null,null,null,null,null,null,null,null,null,null,null,null,null,null,null,null,null,null,null,null,null,null,null,null,null,null,null,null,null,null,null,null,null,null,null,null,null,null,null,null,null,null,null,null,null,null,null,null,null,null,null,null,null,null,null,null,null,null,null,null,null,null,null,null,null,null,null,null,null,null,null,null,null,null,null,null,null,null,null,null,null,null,null,null,null,null,null,null,null,null,null,null,null,null,null,null,null,null,null,null,null,null,null,null,null,null,null,null,null,null,null,null,null,null,null,null,null,null,null,null,null,null,null,null,null,null,null,null,null,null,null,null,null,null,null,null,null,null,null,null,null,null,null,null,null,null,null,null,null,null,null,null,null,null,null,null,null,null,null,null,null,null,null,null,null,null,null,null,null,null,null,null,null,null,null,{"$f":"STATISTICS!$M$7","v":"35"},null,null,null,null,null,null,null,null,null,null,null,null,null,null,null,null,null,null,{"$f":"STATISTICS!$M$8","v":"12"},null,null,null,null,null,null,null,null,null,null,null,null,null,null,null,null,null,null,null,{"$f":"STATISTICS!$M$9","v":"11"},null,null,null,null,null,null,null,null,null,null,null,null,null,null,null,null,null,null,null,null,null,null,null,{"$f":"STATISTICS!$N$3","v":61}]
[]
[]
[]
[]
[]
[]
[]
[]
[]
[]
[null,null,null,null,null,null,null,null,null,null,null,null,null,null,null,null,null,null,null,null,null,null,null,null,null,null,null,null,null,null,null,null,null,null,null,null,null,null,null,null,null,null,null,null,null,null,null,null,null,null,null,null,null,null,null,null,null,null,null,null,null,null,null,null,null,null,{"$f":"STATISTICS!$F$5&\"-\"&STATISTICS!$F$6","v":"960-8002"},null,null,null,null,null,null,null,null,null,null,null,null,null,null,null,null,null,null,null,null,null,null,null,null,null,null,null,null,null,null,null,null,null,null,null,null,null,null,null,null,null,null,null,null,null,null,null,null,null,null,null,null,null,null,null,null,null,null,null,null,null,null,null,null,null,null,null,null,null,null,null,null,null,null,null,null,null,null,null,null,null,null,null,null,null,null,null,null,null,null,null,null,null,null,null,null,null,null,null,null,null,{"$f":"STATISTICS!$J$3","v":"024-534-2290"}]
[]
[]
[]
[]
[]
[]
[]
[]
[]
[]
[]
[]
[]
[]
[]
[null,null,null,null,null,null,null,null,null,null,null,null,null,null,null,null,null,null,null,null,null,null,null,null,null,null,null,null,null,null,null,null,null,null,null,null,null,null,null,null,null,null,null,null,null,null,null,null,null,null,null,null,null,null,null,null,null,null,null,null,null,null,null,null,null,null,null,null,null,null,null,null,null,null,null,null,null,{"$f":"STATISTICS!$H$3&\"　\"&STATISTICS!$I$3","v":"森合町10番1号　福島市保健福祉センター内"}]
[]
[]
[]
[]
[]
[]
[]
[]
[]
[]
[]
[]
[]
[]
[]
[]
[]
[null,null,null,null,null,null,null,null,null,null,null,null,null,null,null,null,null,null,null,null,null,null,null,null,null,null,null,null,null,null,null,null,null,null,null,null,null,null,null,null,null,null,null,null,null,null,null,null,null,null,null,null,null,null,null,null,null,null,null,null,null,null,null,null,null,null,null,null,null,null,null,null,null,null,null,null,null,null,null,null,{"$f":"STATISTICS!$W$7","v":"04"},null,null,null,null,null,null,null,null,null,null,null,null,null,null,null,null,null,null,null,null,null,null,null,null,null,null,null,{"$f":"STATISTICS!$W$8","v":"11"},null,null,null,null,null,null,null,null,null,null,null,null,null,null,null,null,null,null,null,null,null,null,null,null,null,null,null,null,{"$f":"STATISTICS!$W$9","v":"05"}]
[]
[]
[]
[]
[]
[]
[]
[]
[]
[]
[]
[]
[]
[]
[]
[]
[]
[]
[]
[]
[]
[]
[]
[]
[]
[]
[]
[]
[]
[]
[]
[]
[]
[]
[]
[]
[]
[]
[]
[]
[]
[]
[]
[]
[]
[]
[]
[]
[]
[]
[]
[]
[]
[]
[]
[]
[]
[]
[]
[]
[]
[]
[]
[]
[]
[]
[]
[]
[]
[]
[]
[]
[]
[]
[]
[]
[]
[]
[]
[]
[]
[]
[]
[]
[]
[]
[]
[]
[]
[]
[]
[]
[]
[]
[]
[]
[]
[]
[]
[]
[]
[]
[]
[]
[]
[]
[]
[]
[]
[]
[]
[]
[]
[]
[]
[]
[]
[]
[]
[]
[]
[]
[]
[]
[]
[]
[]
[]
[]
[]
[]
[]
[]
[]
[]
[]
[]
[]
[]
[]
[]
[]
[]
[]
[]
[]
[]
[]
[]
[]
[]
[]
[]
[]
[]
[]
[]
[]
[]
[]
[]
[]
[]
[]
[]
[]
[]
[]
[]
[]
[]
[]
[]
[]
[]
[]
[]
[]
[]
[]
[]
[]
[]
[]
[]
[]
[]
[]
[]
[]
[]
[]
[]
[]
[]
[]
[]
[]
[]
[]
[]
[]
[]
[]
[]
[]
[]
[]
[]
[]
[]
[]
[]
[]
[]
[]
[]
[]
[]
[]
[]
[]
[]
[]
[]
[]
[]
[]
[]
[]
[]
[]
[]
[]
[]
[]
[]
[]
[]
[]
[]
[]
[]
[]
[]
[]
[]
[]
[]
[]
[]
[]
[]
[]
[]
[]
[]
[]
[null,null,null,null,null,null,null,null,null,null,null,null,null,null,null,null,null,null,null,null,null,null,null,null,null,null,null,null,null,null,null,null,null,null,null,null,null,null,null,null,null,null,null,null,null,null,null,null,null,null,null,null,null,null,null,null,null,null,null,null,{"$f":"設定シート!$AA$7","v":"　"},null,null,null,null,null,null,null,null,null,null,null,null,null,{"$f":"設定シート!$AB$7","v":"　"},null,null,null,null,null,null,null,null,null,null,null,null,{"$f":"設定シート!$AC$7","v":"　"},null,null,null,null,null,null,null,null,null,null,null,null,{"$f":"設定シート!$AD$7","v":"　"},null,null,null,null,null,null,null,null,null,null,null,null,{"$f":"設定シート!$AE$7","v":"　"},null,null,null,null,null,null,null,null,null,null,null,null,{"$f":"設定シート!$AF$7","v":"　"},null,null,null,null,null,null,null,null,null,null,null,null,{"$f":"設定シート!$AG$7","v":"　"},null,null,null,null,null,null,null,null,null,null,null,null,null,null,null,null,null,null,null,null,null,null,null,null,null,null,null,null,null,null,null,null,null,null,null,null,null,null,null,null,null,null,null,null,null,null,null,null,null,null,null,null,null,null,null,null,null,null,null,null,null,null,null,null,null,{"$f":"STATISTICS!$X$7","v":"05"},null,null,null,null,null,null,null,null,null,null,null,null,null,null,null,null,null,null,null,null,null,null,null,{"$f":"STATISTICS!$X$8","v":"01"},null,null,null,null,null,null,null,null,null,null,null,null,null,null,null,null,null,null,null,null,null,null,null,null,{"$f":"STATISTICS!X9","v":"13"}]
[]
[]
[]
[]
[]
[]
[]
[]
[]
[]
[]
[]
[]
[null,null,null,null,null,null,null,null,null,null,null,null,null,null,null,null,null,null,null,null,null,null,null,null,null,null,null,null,null,null,null,null,null,null,null,null,null,null,null,null,null,null,null,null,null,null,null,null,null,null,null,null,null,null,null,null,null,null,null,null,null,null,null,null,{"$f":"設定シート!$C$8","v":0}]
[]
[]
[]
[]
[null,null,null,null,null,null,null,null,null,null,null,null,null,null,null,null,null,null,null,null,null,null,null,null,null,null,null,null,null,null,null,null,null,null,null,null,null,null,null,null,null,null,null,null,null,null,null,null,null,null,null,null,null,null,null,null,null,null,null,null,null,null,null,null,null,null,null,null,null,null,null,null,null,null,null,null,null,null,null,null,null,null,null,null,null,null,null,null,null,null,null,null,null,null,null,null,null,null,null,null,null,null,null,null,null,null,null,null,null,null,null,null,null,null,null,null,null,null,null,null,null,null,null,null,null,null,null,null,null,null,null,null,null,null,null,null,null,null,null,null,null,null,null,null,null,null,null,null,null,null,null,null,null,null,null,null,null,null,null,null,null,null,null,null,null,null,null,null,null,null,null,null,null,null,null,null,null,null,null,null,null,null,null,null,null,null,null,null,null,null,null,null,null,null,null,null,null,null,null,null,null,null,null,null,null,null,null,null,null,null,null,null,null,null,null,{"$f":"設定シート!$C$10","v":0}]
[]
[]
[]
[null,null,null,null,null,null,null,null,null,null,null,null,null,null,null,null,null,null,null,null,null,null,null,null,null,null,null,null,null,null,null,null,null,null,null,null,null,null,null,null,null,null,null,null,null,null,null,null,null,null,null,null,null,null,null,null,null,null,null,null,null,null,null,null,null,null,null,null,null,null,null,null,null,null,null,{"$f":"設定シート!$C$9","v":0}]

{"sheet":"大腸②-内視鏡","index":33,"n_rows":384,"n_cols":255,"rows_kept":384,"cut":false,"hidden":false,"merged":[[53,196,59,202],[28,205,34,212],[28,229,34,236],[28,254,34,261],[39,60,44,120],[52,59,61,119],[26,60,33,67],[26,73,33,80],[26,86,33,93],[26,101,33,108],[26,114,33,121],[26,126,33,133],[26,140,33,147],[53,188,59,194],[61,254,67,261],[61,191,67,198],[72,66,78,98],[87,77,94,276],[107,80,113,87],[107,108,113,115],[107,137,113,144],[61,210,67,217],[61,229,67,236],[360,139,367,146],[361,205,367,212],[361,229,367,236],[71,168,77,207],[361,254,367,261],[374,64,382,157],[379,215,387,266],[383,75,390,109],[360,60,367,67],[360,74,367,81],[360,87,367,94],[360,100,367,107],[360,113,367,120],[360,126,367,133]]}
[]
[]
[]
[]
[]
[]
[]
[]
[]
[]
[]
[]
[]
[]
[]
[]
[]
[]
[]
[]
[]
[]
[]
[]
[]
[]
[null,null,null,null,null,null,null,null,null,null,null,null,null,null,null,null,null,null,null,null,null,null,null,null,null,null,null,null,null,null,null,null,null,null,null,null,null,null,null,null,null,null,null,null,null,null,null,null,null,null,null,null,null,null,null,null,null,null,null,null,{"$f":"STATISTICS!$E$5","v":"1"},null,null,null,null,null,null,null,null,null,null,null,null,{"$f":"STATISTICS!$E$6","v":"2"},null,null,null,null,null,null,null,null,null,null,null,null,{"$f":"STATISTICS!$E$7","v":"3"},null,null,null,null,null,null,null,null,null,null,null,null,null,null,{"$f":"STATISTICS!$E$8","v":"4"},null,null,null,null,null,null,null,null,null,null,null,null,{"$f":"STATISTICS!$E$9","v":"5"},null,null,null,null,null,null,null,null,null,null,null,{"$f":"STATISTICS!$E$10","v":"6"},null,null,null,null,null,null,null,null,null,null,null,null,null,{"$f":"STATISTICS!$E$11","v":"7"}]
[]
[null,null,null,null,null,null,null,null,null,null,null,null,null,null,null,null,null,null,null,null,null,null,null,null,null,null,null,null,null,null,null,null,null,null,null,null,null,null,null,null,null,null,null,null,null,null,null,null,null,null,null,null,null,null,null,null,null,null,null,null,null,null,null,null,null,null,null,null,null,null,null,null,null,null,null,null,null,null,null,null,null,null,null,null,null,null,null,null,null,null,null,null,null,null,null,null,null,null,null,null,null,null,null,null,null,null,null,null,null,null,null,null,null,null,null,null,null,null,null,null,null,null,null,null,null,null,null,null,null,null,null,null,null,null,null,null,null,null,null,null,null,null,null,null,null,null,null,null,null,null,null,null,null,null,null,null,null,null,null,null,null,null,null,null,null,null,null,null,null,null,null,null,null,null,null,null,null,null,null,null,null,null,null,null,null,null,null,null,null,null,null,null,null,null,null,null,null,null,null,null,null,null,null,null,null,{"$f":"STATISTICS!$D$7","v":"04"},null,null,null,null,null,null,null,null,null,null,null,null,null,null,null,null,null,null,null,null,null,null,null,{"$f":"STATISTICS!$D$8","v":"09"},null,null,null,null,null,null,null,null,null,null,null,null,null,null,null,null,null,null,null,null,null,null,null,null,{"$f":"STATISTICS!$D$9","v":"08"}]
[]
[]
[]
[]
[]
[]
[]
[]
[]
[]
[null,null,null,null,null,null,null,null,null,null,null,null,null,null,null,null,null,null,null,null,null,null,null,null,null,null,null,null,null,null,null,null,null,null,null,null,null,null,null,null,null,null,null,null,null,null,null,null,null,null,null,null,null,null,null,null,null,null,null,null,{"$f":"STATISTICS!$C$3","v":"いしかい　はるこ"}]
[]
[]
[]
[]
[]
[]
[]
[]
[]
[]
[]
[]
[null,null,null,null,null,null,null,null,null,null,null,null,null,null,null,null,null,null,null,null,null,null,null,null,null,null,null,null,null,null,null,null,null,null,null,null,null,null,null,null,null,null,null,null,null,null,null,null,null,null,null,null,null,null,null,null,null,null,null,{"$f":"STATISTICS!$B$3","v":"医師会　春子"}]
[null,null,null,null,null,null,null,null,null,null,null,null,null,null,null,null,null,null,null,null,null,null,null,null,null,null,null,null,null,null,null,null,null,null,null,null,null,null,null,null,null,null,null,null,null,null,null,null,null,null,null,null,null,null,null,null,null,null,null,null,null,null,null,null,null,null,null,null,null,null,null,null,null,null,null,null,null,null,null,null,null,null,null,null,null,null,null,null,null,null,null,null,null,null,null,null,null,null,null,null,null,null,null,null,null,null,null,null,null,null,null,null,null,null,null,null,null,null,null,null,null,null,null,null,null,null,null,null,null,null,null,null,null,null,null,null,null,null,null,null,null,null,null,null,null,null,null,null,null,null,null,null,null,null,null,null,null,null,null,null,null,null,null,null,null,null,null,null,null,null,null,null,null,null,null,null,null,null,null,null,null,null,null,null,null,null,null,null,{"$f":"STATISTICS!$M$12","v":""},null,null,null,null,null,null,null,{"$f":"STATISTICS!$M$13","v":"○"}]
[]
[]
[]
[]
[]
[]
[]
[null,null,null,null,null,null,null,null,null,null,null,null,null,null,null,null,null,null,null,null,null,null,null,null,null,null,null,null,null,null,null,null,null,null,null,null,null,null,null,null,null,null,null,null,null,null,null,null,null,null,null,null,null,null,null,null,null,null,null,null,null,null,null,null,null,null,null,null,null,null,null,null,null,null,null,null,null,null,null,null,null,null,null,null,null,null,null,null,null,null,null,null,null,null,null,null,null,null,null,null,null,null,null,null,null,null,null,null,null,null,null,null,null,null,null,null,null,null,null,null,null,null,null,null,null,null,null,null,null,null,null,null,null,null,null,null,null,null,null,null,null,null,null,null,null,null,null,null,null,null,null,null,null,null,null,null,null,null,null,null,null,null,null,null,null,null,null,null,null,null,null,null,null,null,null,null,null,null,null,null,null,null,null,null,null,null,null,null,null,null,null,{"$f":"STATISTICS!$M$7","v":"35"},null,null,null,null,null,null,null,null,null,null,null,null,null,null,null,null,null,null,{"$f":"STATISTICS!$M$8","v":"12"},null,null,null,null,null,null,null,null,null,null,null,null,null,null,null,null,null,null,{"$f":"STATISTICS!$M$9","v":"11"},null,null,null,null,null,null,null,null,null,null,null,null,null,null,null,null,null,null,null,null,null,null,null,null,{"$f":"STATISTICS!$N$3","v":61}]
[]
[]
[]
[]
[]
[]
[]
[]
[]
[null,null,null,null,null,null,null,null,null,null,null,null,null,null,null,null,null,null,null,null,null,null,null,null,null,null,null,null,null,null,null,null,null,null,null,null,null,null,null,null,null,null,null,null,null,null,null,null,null,null,null,null,null,null,null,null,null,null,null,null,null,null,null,null,null,null,null,null,null,null,null,null,null,null,null,null,null,null,null,null,null,null,null,null,null,null,null,null,null,null,null,null,null,null,null,null,null,null,null,null,null,null,null,null,null,null,null,null,null,null,null,null,null,null,null,null,null,null,null,null,null,null,null,null,null,null,null,null,null,null,null,null,null,null,null,null,null,null,null,null,null,null,null,null,null,null,null,null,null,null,null,null,null,null,null,null,null,null,null,null,null,null,null,null,null,null,null,null,{"$f":"STATISTICS!$J$3","v":"024-534-2290"}]
[null,null,null,null,null,null,null,null,null,null,null,null,null,null,null,null,null,null,null,null,null,null,null,null,null,null,null,null,null,null,null,null,null,null,null,null,null,null,null,null,null,null,null,null,null,null,null,null,null,null,null,null,null,null,null,null,null,null,null,null,null,null,null,null,null,null,{"$f":"STATISTICS!$F$5&\"-\"&STATISTICS!$F$6","v":"960-8002"}]
[]
[]
[]
[]
[]
[]
[]
[]
[]
[]
[]
[]
[]
[]
[null,null,null,null,null,null,null,null,null,null,null,null,null,null,null,null,null,null,null,null,null,null,null,null,null,null,null,null,null,null,null,null,null,null,null,null,null,null,null,null,null,null,null,null,null,null,null,null,null,null,null,null,null,null,null,null,null,null,null,null,null,null,null,null,null,null,null,null,null,null,null,null,null,null,null,null,null,{"$f":"STATISTICS!$H$3&\"　\"&STATISTICS!$I$3","v":"森合町10番1号　福島市保健福祉センター内"}]
[]
[]
[]
[]
[]
[]
[]
[]
[]
[]
[]
[]
[]
[]
[]
[]
[]
[]
[]
[null,null,null,null,null,null,null,null,null,null,null,null,null,null,null,null,null,null,null,null,null,null,null,null,null,null,null,null,null,null,null,null,null,null,null,null,null,null,null,null,null,null,null,null,null,null,null,null,null,null,null,null,null,null,null,null,null,null,null,null,null,null,null,null,null,null,null,null,null,null,null,null,null,null,null,null,null,null,null,null,{"$f":"STATISTICS!$W$7","v":"04"},null,null,null,null,null,null,null,null,null,null,null,null,null,null,null,null,null,null,null,null,null,null,null,null,null,null,null,{"$f":"STATISTICS!$W$8","v":"11"},null,null,null,null,null,null,null,null,null,null,null,null,null,null,null,null,null,null,null,null,null,null,null,null,null,null,null,null,{"$f":"STATISTICS!$W$9","v":"05"}]
[]
[]
[]
[]
[]
[]
[]
[]
[]
[]
[]
[]
[]
[]
[]
[]
[]
[]
[]
[]
[]
[]
[]
[]
[]
[]
[]
[]
[]
[]
[]
[]
[]
[]
[]
[]
[]
[]
[]
[]
[]
[]
[]
[]
[]
[]
[]
[]
[]
[]
[]
[]
[]
[]
[]
[]
[]
[]
[]
[]
[]
[]
[]
[]
[]
[]
[]
[]
[]
[]
[]
[]
[]
[]
[]
[]
[]
[]
[]
[]
[]
[]
[]
[]
[]
[]
[]
[]
[]
[]
[]
[]
[]
[]
[]
[]
[]
[]
[]
[]
[]
[]
[]
[]
[]
[]
[]
[]
[]
[]
[]
[]
[]
[]
[]
[]
[]
[]
[]
[]
[]
[]
[]
[]
[]
[]
[]
[]
[]
[]
[]
[]
[]
[]
[]
[]
[]
[]
[]
[]
[]
[]
[]
[]
[]
[]
[]
[]
[]
[]
[]
[]
[]
[]
[]
[]
[]
[]
[]
[]
[]
[]
[]
[]
[]
[]
[]
[]
[]
[]
[]
[]
[]
[]
[]
[]
[]
[]
[]
[]
[]
[]
[]
[]
[]
[]
[]
[]
[]
[]
[]
[]
[]
[]
[]
[]
[]
[]
[]
[]
[]
[]
[]
[]
[]
[]
[]
[]
[]
[]
[]
[]
[]
[]
[]
[]
[]
[]
[]
[]
[]
[]
[]
[]
[]
[]
[]
[]
[]
[]
[]
[]
[]
[]
[]
[]
[]
[]
[]
[]
[]
[]
[]
[]
[]
[]
[]
[]
[]
[]
[]
[]
[null,null,null,null,null,null,null,null,null,null,null,null,null,null,null,null,null,null,null,null,null,null,null,null,null,null,null,null,null,null,null,null,null,null,null,null,null,null,null,null,null,null,null,null,null,null,null,null,null,null,null,null,null,null,null,null,null,null,null,null,{"$f":"設定シート!$AA$7","v":"　"},null,null,null,null,null,null,null,null,null,null,null,null,null,{"$f":"設定シート!$AB$7","v":"　"},null,null,null,null,null,null,null,null,null,null,null,null,{"$f":"設定シート!$AC$7","v":"　"},null,null,null,null,null,null,null,null,null,null,null,null,{"$f":"設定シート!$AD$7","v":"　"},null,null,null,null,null,null,null,null,null,null,null,null,{"$f":"設定シート!$AE$7","v":"　"},null,null,null,null,null,null,null,null,null,null,null,null,{"$f":"設定シート!$AF$7","v":"　"},null,null,null,null,null,null,null,null,null,null,null,null,{"$f":"設定シート!$AG$7","v":"　"}]
[null,null,null,null,null,null,null,null,null,null,null,null,null,null,null,null,null,null,null,null,null,null,null,null,null,null,null,null,null,null,null,null,null,null,null,null,null,null,null,null,null,null,null,null,null,null,null,null,null,null,null,null,null,null,null,null,null,null,null,null,null,null,null,null,null,null,null,null,null,null,null,null,null,null,null,null,null,null,null,null,null,null,null,null,null,null,null,null,null,null,null,null,null,null,null,null,null,null,null,null,null,null,null,null,null,null,null,null,null,null,null,null,null,null,null,null,null,null,null,null,null,null,null,null,null,null,null,null,null,null,null,null,null,null,null,null,null,null,null,null,null,null,null,null,null,null,null,null,null,null,null,null,null,null,null,null,null,null,null,null,null,null,null,null,null,null,null,null,null,null,null,null,null,null,null,null,null,null,null,null,null,null,null,null,null,null,null,null,null,null,null,null,null,null,null,null,null,null,null,null,null,null,null,null,null,{"$f":"STATISTICS!$X$7","v":"05"},null,null,null,null,null,null,null,null,null,null,null,null,null,null,null,null,null,null,null,null,null,null,null,{"$f":"STATISTICS!$X$8","v":"01"},null,null,null,null,null,null,null,null,null,null,null,null,null,null,null,null,null,null,null,null,null,null,null,null,{"$f":"STATISTICS!X9","v":"13"}]
[]
[]
[]
[]
[]
[]
[]
[]
[]
[]
[]
[]
[null,null,null,null,null,null,null,null,null,null,null,null,null,null,null,null,null,null,null,null,null,null,null,null,null,null,null,null,null,null,null,null,null,null,null,null,null,null,null,null,null,null,null,null,null,null,null,null,null,null,null,null,null,null,null,null,null,null,null,null,null,null,null,null,{"$f":"設定シート!$C$8","v":0}]
[]
[]
[]
[]
[null,null,null,null,null,null,null,null,null,null,null,null,null,null,null,null,null,null,null,null,null,null,null,null,null,null,null,null,null,null,null,null,null,null,null,null,null,null,null,null,null,null,null,null,null,null,null,null,null,null,null,null,null,null,null,null,null,null,null,null,null,null,null,null,null,null,null,null,null,null,null,null,null,null,null,null,null,null,null,null,null,null,null,null,null,null,null,null,null,null,null,null,null,null,null,null,null,null,null,null,null,null,null,null,null,null,null,null,null,null,null,null,null,null,null,null,null,null,null,null,null,null,null,null,null,null,null,null,null,null,null,null,null,null,null,null,null,null,null,null,null,null,null,null,null,null,null,null,null,null,null,null,null,null,null,null,null,null,null,null,null,null,null,null,null,null,null,null,null,null,null,null,null,null,null,null,null,null,null,null,null,null,null,null,null,null,null,null,null,null,null,null,null,null,null,null,null,null,null,null,null,null,null,null,null,null,null,null,null,null,null,null,null,null,null,{"$f":"設定シート!$C$10","v":0}]
[]
[]
[]
[null,null,null,null,null,null,null,null,null,null,null,null,null,null,null,null,null,null,null,null,null,null,null,null,null,null,null,null,null,null,null,null,null,null,null,null,null,null,null,null,null,null,null,null,null,null,null,null,null,null,null,null,null,null,null,null,null,null,null,null,null,null,null,null,null,null,null,null,null,null,null,null,null,null,null,{"$f":"設定シート!$C$9","v":0}]

{"sheet":"骨②-1","index":34,"n_rows":389,"n_cols":257,"rows_kept":389,"cut":false,"hidden":false,"merged":[[24,205,30,212],[24,229,30,236],[24,254,30,261],[57,60,64,67],[57,73,64,80],[57,86,64,93],[57,101,64,108],[57,114,64,121],[57,126,64,133],[57,140,64,147],[88,205,94,212],[88,229,94,236],[88,254,94,261],[88,59,93,119],[101,59,110,119],[67,160,74,194],[127,60,134,67],[127,73,134,80],[127,86,134,93],[127,100,134,107],[127,114,134,121],[127,126,134,133],[127,140,134,147],[117,79,123,86],[117,95,123,102],[117,111,123,118],[118,68,122,74],[118,128,122,135],[67,67,73,99],[77,75,85,196],[118,59,122,65],[164,63,171,114],[139,62,146,155],[149,72,156,106],[196,82,202,89],[196,111,202,118],[196,140,202,147],[368,139,375,146],[369,208,375,215],[369,232,375,239],[369,256,375,263],[379,64,387,157],[381,213,389,264],[388,73,395,107],[368,60,375,67],[368,74,375,81],[368,87,375,94],[368,100,375,107],[368,113,375,120],[368,126,375,133]]}
[]
[]
[]
[]
[]
[]
[]
[]
[]
[]
[]
[]
[]
[]
[]
[]
[]
[]
[]
[]
[]
[]
[]
[]
[null,null,null,null,null,null,null,null,null,null,null,null,null,null,null,null,null,null,null,null,null,null,null,null,null,null,null,null,null,null,null,null,null,null,null,null,null,null,null,null,null,null,null,null,null,null,null,null,null,null,null,null,null,null,null,null,null,null,null,null,null,null,null,null,null,null,null,null,null,null,null,null,null,null,null,null,null,null,null,null,null,null,null,null,null,null,null,null,null,null,null,null,null,null,null,null,null,null,null,null,null,null,null,null,null,null,null,null,null,null,null,null,null,null,null,null,null,null,null,null,null,null,null,null,null,null,null,null,null,null,null,null,null,null,null,null,null,null,null,null,null,null,null,null,null,null,null,null,null,null,null,null,null,null,null,null,null,null,null,null,null,null,null,null,null,null,null,null,null,null,null,null,null,null,null,null,null,null,null,null,null,null,null,null,null,null,null,null,null,null,null,null,null,null,null,null,null,null,null,null,null,null,null,null,null,{"$f":"STATISTICS!$V$7","v":"04"},null,null,null,null,null,null,null,null,null,null,null,null,null,null,null,null,null,null,null,null,null,null,null,{"$f":"STATISTICS!$V$8","v":"10"},null,null,null,null,null,null,null,null,null,null,null,null,null,null,null,null,null,null,null,null,null,null,null,null,{"$f":"STATISTICS!$V$9","v":"29"}]
[]
[]
[]
[]
[]
[]
[]
[]
[]
[]
[]
[]
[]
[]
[]
[]
[]
[]
[]
[]
[]
[]
[]
[]
[]
[]
[]
[]
[]
[]
[]
[]
[null,null,null,null,null,null,null,null,null,null,null,null,null,null,null,null,null,null,null,null,null,null,null,null,null,null,null,null,null,null,null,null,null,null,null,null,null,null,null,null,null,null,null,null,null,null,null,null,null,null,null,null,null,null,null,null,null,null,null,null,{"$f":"STATISTICS!$E$5","v":"1"},null,null,null,null,null,null,null,null,null,null,null,null,{"$f":"STATISTICS!$E$6","v":"2"},null,null,null,null,null,null,null,null,null,null,null,null,{"$f":"STATISTICS!$E$7","v":"3"},null,null,null,null,null,null,null,null,null,null,null,null,null,null,{"$f":"STATISTICS!$E$8","v":"4"},null,null,null,null,null,null,null,null,null,null,null,null,{"$f":"STATISTICS!$E$9","v":"5"},null,null,null,null,null,null,null,null,null,null,null,{"$f":"STATISTICS!$E$10","v":"6"},null,null,null,null,null,null,null,null,null,null,null,null,null,{"$f":"STATISTICS!$E$11","v":"7"}]
[]
[]
[]
[]
[]
[]
[]
[]
[]
[null,null,null,null,null,null,null,null,null,null,null,null,null,null,null,null,null,null,null,null,null,null,null,null,null,null,null,null,null,null,null,null,null,null,null,null,null,null,null,null,null,null,null,null,null,null,null,null,null,null,null,null,null,null,null,null,null,null,null,null,null,null,null,null,null,null,null,{"$f":"STATISTICS!$F$5&\"-\"&STATISTICS!$F$6","v":"960-8002"},null,null,null,null,null,null,null,null,null,null,null,null,null,null,null,null,null,null,null,null,null,null,null,null,null,null,null,null,null,null,null,null,null,null,null,null,null,null,null,null,null,null,null,null,null,null,null,null,null,null,null,null,null,null,null,null,null,null,null,null,null,null,null,null,null,null,null,null,null,null,null,null,null,null,null,null,null,null,null,null,null,null,null,null,null,null,null,null,null,null,null,null,{"$f":"設定シート!$C$9","v":0}]
[]
[]
[]
[]
[]
[]
[]
[]
[]
[null,null,null,null,null,null,null,null,null,null,null,null,null,null,null,null,null,null,null,null,null,null,null,null,null,null,null,null,null,null,null,null,null,null,null,null,null,null,null,null,null,null,null,null,null,null,null,null,null,null,null,null,null,null,null,null,null,null,null,null,null,null,null,null,null,null,null,null,null,null,null,null,null,null,null,{"$f":"STATISTICS!$H$3&\"　\"&STATISTICS!$I$3","v":"森合町10番1号　福島市保健福祉センター内"}]
[]
[]
[]
[]
[]
[]
[]
[]
[]
[]
[null,null,null,null,null,null,null,null,null,null,null,null,null,null,null,null,null,null,null,null,null,null,null,null,null,null,null,null,null,null,null,null,null,null,null,null,null,null,null,null,null,null,null,null,null,null,null,null,null,null,null,null,null,null,null,null,null,null,null,{"$f":"STATISTICS!$C$3","v":"いしかい　はるこ"},null,null,null,null,null,null,null,null,null,null,null,null,null,null,null,null,null,null,null,null,null,null,null,null,null,null,null,null,null,null,null,null,null,null,null,null,null,null,null,null,null,null,null,null,null,null,null,null,null,null,null,null,null,null,null,null,null,null,null,null,null,null,null,null,null,null,null,null,null,null,null,null,null,null,null,null,null,null,null,null,null,null,null,null,null,null,null,null,null,null,null,null,null,null,null,null,null,null,null,null,null,null,null,null,null,null,null,null,null,null,null,null,null,null,null,null,null,null,null,null,null,null,null,null,null,null,null,null,null,null,null,null,null,null,null,null,null,null,null,null,null,null,null,null,null,{"$f":"STATISTICS!$D$7","v":"04"},null,null,null,null,null,null,null,null,null,null,null,null,null,null,null,null,null,null,null,null,null,null,null,{"$f":"STATISTICS!$D$8","v":"09"},null,null,null,null,null,null,null,null,null,null,null,null,null,null,null,null,null,null,null,null,null,null,null,null,{"$f":"STATISTICS!$D$9","v":"08"}]
[]
[]
[]
[]
[]
[]
[]
[]
[]
[]
[]
[]
[null,null,null,null,null,null,null,null,null,null,null,null,null,null,null,null,null,null,null,null,null,null,null,null,null,null,null,null,null,null,null,null,null,null,null,null,null,null,null,null,null,null,null,null,null,null,null,null,null,null,null,null,null,null,null,null,null,null,null,{"$f":"STATISTICS!$B$3","v":"医師会　春子"}]
[]
[]
[]
[]
[]
[]
[]
[]
[]
[]
[]
[]
[]
[]
[]
[null,null,null,null,null,null,null,null,null,null,null,null,null,null,null,null,null,null,null,null,null,null,null,null,null,null,null,null,null,null,null,null,null,null,null,null,null,null,null,null,null,null,null,null,null,null,null,null,null,null,null,null,null,null,null,null,null,null,null,null,null,null,null,null,null,null,null,null,null,null,null,null,null,null,null,null,null,null,null,{"$f":"STATISTICS!$M$7","v":"35"},null,null,null,null,null,null,null,null,null,null,null,null,null,null,null,{"$f":"STATISTICS!$M$8","v":"12"},null,null,null,null,null,null,null,null,null,null,null,null,null,null,null,{"$f":"STATISTICS!$M$9","v":"11"}]
[null,null,null,null,null,null,null,null,null,null,null,null,null,null,null,null,null,null,null,null,null,null,null,null,null,null,null,null,null,null,null,null,null,null,null,null,null,null,null,null,null,null,null,null,null,null,null,null,null,null,null,null,null,null,null,null,null,null,null,{"$f":"STATISTICS!$M$13","v":"○"},null,null,null,null,null,null,null,null,{"$f":"STATISTICS!$M$14","v":""},null,null,null,null,null,null,null,null,null,null,null,null,null,null,null,null,null,null,null,null,null,null,null,null,null,null,null,null,null,null,null,null,null,null,null,null,null,null,null,null,null,null,null,null,null,null,null,null,null,null,null,null,null,null,null,null,null,null,null,{"$f":"STATISTICS!$N$3","v":61}]
[]
[]
[]
[]
[]
[]
[]
[]
[null,null,null,null,null,null,null,null,null,null,null,null,null,null,null,null,null,null,null,null,null,null,null,null,null,null,null,null,null,null,null,null,null,null,null,null,null,null,null,null,null,null,null,null,null,null,null,null,null,null,null,null,null,null,null,null,null,null,null,null,{"$f":"設定シート!$AA$7","v":"　"},null,null,null,null,null,null,null,null,null,null,null,null,{"$f":"設定シート!$AB$7","v":"　"},null,null,null,null,null,null,null,null,null,null,null,null,{"$f":"設定シート!$AC$7","v":"　"},null,null,null,null,null,null,null,null,null,null,null,null,null,{"$f":"設定シート!$AD$7","v":"　"},null,null,null,null,null,null,null,null,null,null,null,null,null,{"$f":"設定シート!$AE$7","v":"　"},null,null,null,null,null,null,null,null,null,null,null,{"$f":"設定シート!$AF$7","v":"　"},null,null,null,null,null,null,null,null,null,null,null,null,null,{"$f":"設定シート!$AG$7","v":"　"}]
[]
[]
[]
[]
[]
[]
[]
[]
[]
[]
[]
[null,null,null,null,null,null,null,null,null,null,null,null,null,null,null,null,null,null,null,null,null,null,null,null,null,null,null,null,null,null,null,null,null,null,null,null,null,null,null,null,null,null,null,null,null,null,null,null,null,null,null,null,null,null,null,null,null,null,null,null,null,null,{"$f":"設定シート!$C$8","v":0}]
[]
[]
[]
[]
[]
[]
[]
[]
[]
[null,null,null,null,null,null,null,null,null,null,null,null,null,null,null,null,null,null,null,null,null,null,null,null,null,null,null,null,null,null,null,null,null,null,null,null,null,null,null,null,null,null,null,null,null,null,null,null,null,null,null,null,null,null,null,null,null,null,null,null,null,null,null,null,null,null,null,null,null,null,null,null,{"$f":"設定シート!$C$9","v":0}]
[]
[]
[]
[]
[]
[]
[]
[]
[]
[]
[]
[]
[]
[]
[null,null,null,null,null,null,null,null,null,null,null,null,null,null,null,null,null,null,null,null,null,null,null,null,null,null,null,null,null,null,null,null,null,null,null,null,null,null,null,null,null,null,null,null,null,null,null,null,null,null,null,null,null,null,null,null,null,null,null,null,null,null,null,{"$f":"設定シート!$C$10","v":0}]
[]
[]
[]
[]
[]
[]
[]
[]
[]
[]
[]
[]
[]
[]
[]
[]
[]
[]
[]
[]
[]
[]
[]
[]
[]
[]
[]
[]
[]
[]
[]
[null,null,null,null,null,null,null,null,null,null,null,null,null,null,null,null,null,null,null,null,null,null,null,null,null,null,null,null,null,null,null,null,null,null,null,null,null,null,null,null,null,null,null,null,null,null,null,null,null,null,null,null,null,null,null,null,null,null,null,null,null,null,null,null,null,null,null,null,null,null,null,null,null,null,null,null,null,null,null,null,null,null,{"$f":"STATISTICS!$W$7","v":"04"},null,null,null,null,null,null,null,null,null,null,null,null,null,null,null,null,null,null,null,null,null,null,null,null,null,null,null,null,{"$f":"STATISTICS!$W$8","v":"11"},null,null,null,null,null,null,null,null,null,null,null,null,null,null,null,null,null,null,null,null,null,null,null,null,null,null,null,null,{"$f":"STATISTICS!$W$9","v":"05"}]
[]
[]
[]
[]
[]
[]
[]
[]
[]
[]
[]
[]
[]
[]
[]
[]
[]
[]
[]
[]
[]
[]
[]
[]
[]
[]
[]
[]
[]
[]
[]
[]
[]
[]
[]
[]
[]
[]
[]
[]
[]
[]
[]
[]
[]
[]
[]
[]
[]
[]
[]
[]
[]
[]
[]
[]
[]
[]
[]
[]
[]
[]
[]
[]
[]
[]
[]
[]
[]
[]
[]
[]
[]
[]
[]
[]
[]
[]
[]
[]
[]
[]
[]
[]
[]
[]
[]
[]
[]
[]
[]
[]
[]
[]
[]
[]
[]
[]
[]
[]
[]
[]
[]
[]
[]
[]
[]
[]
[]
[]
[]
[]
[]
[]
[]
[]
[]
[]
[]
[]
[]
[]
[]
[]
[]
[]
[]
[]
[]
[]
[]
[]
[]
[]
[]
[]
[]
[]
[]
[]
[]
[]
[]
[]
[]
[]
[]
[]
[]
[]
[]
[]
[]
[]
[]
[]
[]
[]
[]
[]
[]
[]
[]
[]
[]
[]
[]
[]
[]
[]
[]
[null,null,null,null,null,null,null,null,null,null,null,null,null,null,null,null,null,null,null,null,null,null,null,null,null,null,null,null,null,null,null,null,null,null,null,null,null,null,null,null,null,null,null,null,null,null,null,null,null,null,null,null,null,null,null,null,null,null,null,null,{"$f":"設定シート!$AA$7","v":"　"},null,null,null,null,null,null,null,null,null,null,null,null,null,{"$f":"設定シート!$AB$7","v":"　"},null,null,null,null,null,null,null,null,null,null,null,null,{"$f":"設定シート!$AC$7","v":"　"},null,null,null,null,null,null,null,null,null,null,null,null,{"$f":"設定シート!$AD$7","v":"　"},null,null,null,null,null,null,null,null,null,null,null,null,{"$f":"設定シート!$AE$7","v":"　"},null,null,null,null,null,null,null,null,null,null,null,null,{"$f":"設定シート!$AF$7","v":"　"},null,null,null,null,null,null,null,null,null,null,null,null,{"$f":"設定シート!$AG$7","v":"　"}]
[null,null,null,null,null,null,null,null,null,null,null,null,null,null,null,null,null,null,null,null,null,null,null,null,null,null,null,null,null,null,null,null,null,null,null,null,null,null,null,null,null,null,null,null,null,null,null,null,null,null,null,null,null,null,null,null,null,null,null,null,null,null,null,null,null,null,null,null,null,null,null,null,null,null,null,null,null,null,null,null,null,null,null,null,null,null,null,null,null,null,null,null,null,null,null,null,null,null,null,null,null,null,null,null,null,null,null,null,null,null,null,null,null,null,null,null,null,null,null,null,null,null,null,null,null,null,null,null,null,null,null,null,null,null,null,null,null,null,null,null,null,null,null,null,null,null,null,null,null,null,null,null,null,null,null,null,null,null,null,null,null,null,null,null,null,null,null,null,null,null,null,null,null,null,null,null,null,null,null,null,null,null,null,null,null,null,null,null,null,null,null,null,null,null,null,null,null,null,null,null,null,null,null,null,null,null,null,null,{"$f":"STATISTICS!$X$7","v":"05"},null,null,null,null,null,null,null,null,null,null,null,null,null,null,null,null,null,null,null,null,null,null,null,{"$f":"STATISTICS!$X$8","v":"01"},null,null,null,null,null,null,null,null,null,null,null,null,null,null,null,null,null,null,null,null,null,null,null,{"$f":"STATISTICS!$X$9","v":"13"}]
[]
[]
[]
[]
[]
[]
[]
[]
[]
[null,null,null,null,null,null,null,null,null,null,null,null,null,null,null,null,null,null,null,null,null,null,null,null,null,null,null,null,null,null,null,null,null,null,null,null,null,null,null,null,null,null,null,null,null,null,null,null,null,null,null,null,null,null,null,null,null,null,null,null,null,null,null,null,{"$f":"設定シート!$C$8","v":0}]
[]
[null,null,null,null,null,null,null,null,null,null,null,null,null,null,null,null,null,null,null,null,null,null,null,null,null,null,null,null,null,null,null,null,null,null,null,null,null,null,null,null,null,null,null,null,null,null,null,null,null,null,null,null,null,null,null,null,null,null,null,null,null,null,null,null,null,null,null,null,null,null,null,null,null,null,null,null,null,null,null,null,null,null,null,null,null,null,null,null,null,null,null,null,null,null,null,null,null,null,null,null,null,null,null,null,null,null,null,null,null,null,null,null,null,null,null,null,null,null,null,null,null,null,null,null,null,null,null,null,null,null,null,null,null,null,null,null,null,null,null,null,null,null,null,null,null,null,null,null,null,null,null,null,null,null,null,null,null,null,null,null,null,null,null,null,null,null,null,null,null,null,null,null,null,null,null,null,null,null,null,null,null,null,null,null,null,null,null,null,null,null,null,null,null,null,null,null,null,null,null,null,null,null,null,null,null,null,null,null,null,null,null,null,null,{"$f":"設定シート!$C$10","v":0}]
[]
[]
[]
[]
[]
[]
[null,null,null,null,null,null,null,null,null,null,null,null,null,null,null,null,null,null,null,null,null,null,null,null,null,null,null,null,null,null,null,null,null,null,null,null,null,null,null,null,null,null,null,null,null,null,null,null,null,null,null,null,null,null,null,null,null,null,null,null,null,null,null,null,null,null,null,null,null,null,null,null,null,{"$f":"設定シート!$C$9","v":0}]

{"sheet":"骨②-2","index":35,"n_rows":165,"n_cols":255,"rows_kept":165,"cut":false,"hidden":false,"merged":[[24,205,30,212],[24,229,30,236],[24,254,30,261],[57,60,64,67],[57,73,64,80],[57,86,64,93],[57,101,64,108],[57,114,64,121],[57,126,64,133],[57,140,64,147],[67,67,73,99],[67,160,74,194],[77,75,85,196],[88,59,93,119],[88,205,94,212],[88,254,94,261],[101,59,110,119],[117,79,123,86],[117,95,123,102],[117,111,123,118],[118,59,122,65],[118,68,122,74],[118,128,122,135],[88,229,94,236],[127,140,134,147],[139,62,146,155],[149,72,156,106],[164,63,171,114],[196,82,202,89],[196,111,202,118],[196,140,202,147],[127,60,134,67],[127,73,134,80],[127,86,134,93],[127,100,134,107],[127,114,134,121],[127,126,134,133],[368,139,375,146],[369,208,375,215],[369,232,375,239],[369,256,375,263],[379,64,387,157],[381,213,389,264],[388,73,395,107],[368,60,375,67],[368,74,375,81],[368,87,375,94],[368,100,375,107],[368,113,375,120],[368,126,375,133]]}
[]
[]
[]
[]
[]
[]
[]
[]
[]
[]
[]
[]
[]
[]
[]
[]
[]
[]
[]
[]
[]
[]
[]
[]
[null,null,null,null,null,null,null,null,null,null,null,null,null,null,null,null,null,null,null,null,null,null,null,null,null,null,null,null,null,null,null,null,null,null,null,null,null,null,null,null,null,null,null,null,null,null,null,null,null,null,null,null,null,null,null,null,null,null,null,null,null,null,null,null,null,null,null,null,null,null,null,null,null,null,null,null,null,null,null,null,null,null,null,null,null,null,null,null,null,null,null,null,null,null,null,null,null,null,null,null,null,null,null,null,null,null,null,null,null,null,null,null,null,null,null,null,null,null,null,null,null,null,null,null,null,null,null,null,null,null,null,null,null,null,null,null,null,null,null,null,null,null,null,null,null,null,null,null,null,null,null,null,null,null,null,null,null,null,null,null,null,null,null,null,null,null,null,null,null,null,null,null,null,null,null,null,null,null,null,null,null,null,null,null,null,null,null,null,null,null,null,null,null,null,null,null,null,null,null,null,null,null,null,null,null,{"$f":"STATISTICS!$V$7","v":"04"},null,null,null,null,null,null,null,null,null,null,null,null,null,null,null,null,null,null,null,null,null,null,null,{"$f":"STATISTICS!$V$8","v":"10"},null,null,null,null,null,null,null,null,null,null,null,null,null,null,null,null,null,null,null,null,null,null,null,null,{"$f":"STATISTICS!$V$9","v":"29"}]
[]
[]
[]
[]
[]
[]
[]
[]
[]
[]
[]
[]
[]
[]
[]
[]
[]
[]
[]
[]
[]
[]
[]
[]
[]
[]
[]
[]
[]
[]
[]
[]
[null,null,null,null,null,null,null,null,null,null,null,null,null,null,null,null,null,null,null,null,null,null,null,null,null,null,null,null,null,null,null,null,null,null,null,null,null,null,null,null,null,null,null,null,null,null,null,null,null,null,null,null,null,null,null,null,null,null,null,null,{"$f":"STATISTICS!$E$5","v":"1"},null,null,null,null,null,null,null,null,null,null,null,null,{"$f":"STATISTICS!$E$6","v":"2"},null,null,null,null,null,null,null,null,null,null,null,null,{"$f":"STATISTICS!$E$7","v":"3"},null,null,null,null,null,null,null,null,null,null,null,null,null,null,{"$f":"STATISTICS!$E$8","v":"4"},null,null,null,null,null,null,null,null,null,null,null,null,{"$f":"STATISTICS!$E$9","v":"5"},null,null,null,null,null,null,null,null,null,null,null,{"$f":"STATISTICS!$E$10","v":"6"},null,null,null,null,null,null,null,null,null,null,null,null,null,{"$f":"STATISTICS!$E$11","v":"7"}]
[]
[]
[]
[]
[]
[]
[]
[]
[]
[null,null,null,null,null,null,null,null,null,null,null,null,null,null,null,null,null,null,null,null,null,null,null,null,null,null,null,null,null,null,null,null,null,null,null,null,null,null,null,null,null,null,null,null,null,null,null,null,null,null,null,null,null,null,null,null,null,null,null,null,null,null,null,null,null,null,null,{"$f":"STATISTICS!$F$5&\"-\"&STATISTICS!$F$6","v":"960-8002"},null,null,null,null,null,null,null,null,null,null,null,null,null,null,null,null,null,null,null,null,null,null,null,null,null,null,null,null,null,null,null,null,null,null,null,null,null,null,null,null,null,null,null,null,null,null,null,null,null,null,null,null,null,null,null,null,null,null,null,null,null,null,null,null,null,null,null,null,null,null,null,null,null,null,null,null,null,null,null,null,null,null,null,null,null,null,null,null,null,null,null,null,{"$f":"設定シート!$C$9","v":0}]
[]
[]
[]
[]
[]
[]
[]
[]
[]
[null,null,null,null,null,null,null,null,null,null,null,null,null,null,null,null,null,null,null,null,null,null,null,null,null,null,null,null,null,null,null,null,null,null,null,null,null,null,null,null,null,null,null,null,null,null,null,null,null,null,null,null,null,null,null,null,null,null,null,null,null,null,null,null,null,null,null,null,null,null,null,null,null,null,null,{"$f":"STATISTICS!$H$3&\"　\"&STATISTICS!$I$3","v":"森合町10番1号　福島市保健福祉センター内"}]
[]
[]
[]
[]
[]
[]
[]
[]
[]
[]
[null,null,null,null,null,null,null,null,null,null,null,null,null,null,null,null,null,null,null,null,null,null,null,null,null,null,null,null,null,null,null,null,null,null,null,null,null,null,null,null,null,null,null,null,null,null,null,null,null,null,null,null,null,null,null,null,null,null,null,{"$f":"STATISTICS!$C$3","v":"いしかい　はるこ"},null,null,null,null,null,null,null,null,null,null,null,null,null,null,null,null,null,null,null,null,null,null,null,null,null,null,null,null,null,null,null,null,null,null,null,null,null,null,null,null,null,null,null,null,null,null,null,null,null,null,null,null,null,null,null,null,null,null,null,null,null,null,null,null,null,null,null,null,null,null,null,null,null,null,null,null,null,null,null,null,null,null,null,null,null,null,null,null,null,null,null,null,null,null,null,null,null,null,null,null,null,null,null,null,null,null,null,null,null,null,null,null,null,null,null,null,null,null,null,null,null,null,null,null,null,null,null,null,null,null,null,null,null,null,null,null,null,null,null,null,null,null,null,null,null,{"$f":"STATISTICS!$D$7","v":"04"},null,null,null,null,null,null,null,null,null,null,null,null,null,null,null,null,null,null,null,null,null,null,null,{"$f":"STATISTICS!$D$8","v":"09"},null,null,null,null,null,null,null,null,null,null,null,null,null,null,null,null,null,null,null,null,null,null,null,null,{"$f":"STATISTICS!$D$9","v":"08"}]
[]
[]
[]
[]
[]
[]
[]
[]
[]
[]
[]
[]
[null,null,null,null,null,null,null,null,null,null,null,null,null,null,null,null,null,null,null,null,null,null,null,null,null,null,null,null,null,null,null,null,null,null,null,null,null,null,null,null,null,null,null,null,null,null,null,null,null,null,null,null,null,null,null,null,null,null,null,{"$f":"STATISTICS!$B$3","v":"医師会　春子"}]
[]
[]
[]
[]
[]
[]
[]
[]
[]
[]
[]
[]
[]
[]
[]
[null,null,null,null,null,null,null,null,null,null,null,null,null,null,null,null,null,null,null,null,null,null,null,null,null,null,null,null,null,null,null,null,null,null,null,null,null,null,null,null,null,null,null,null,null,null,null,null,null,null,null,null,null,null,null,null,null,null,null,null,null,null,null,null,null,null,null,null,null,null,null,null,null,null,null,null,null,null,null,{"$f":"STATISTICS!$M$7","v":"35"},null,null,null,null,null,null,null,null,null,null,null,null,null,null,null,{"$f":"STATISTICS!$M$8","v":"12"},null,null,null,null,null,null,null,null,null,null,null,null,null,null,null,{"$f":"STATISTICS!$M$9","v":"11"}]
[null,null,null,null,null,null,null,null,null,null,null,null,null,null,null,null,null,null,null,null,null,null,null,null,null,null,null,null,null,null,null,null,null,null,null,null,null,null,null,null,null,null,null,null,null,null,null,null,null,null,null,null,null,null,null,null,null,null,null,{"$f":"STATISTICS!$M$13","v":"○"},null,null,null,null,null,null,null,null,{"$f":"STATISTICS!$M$14","v":""},null,null,null,null,null,null,null,null,null,null,null,null,null,null,null,null,null,null,null,null,null,null,null,null,null,null,null,null,null,null,null,null,null,null,null,null,null,null,null,null,null,null,null,null,null,null,null,null,null,null,null,null,null,null,null,null,null,null,null,{"$f":"STATISTICS!$N$3","v":61}]
[]
[]
[]
[]
[]
[]
[]
[]
[null,null,null,null,null,null,null,null,null,null,null,null,null,null,null,null,null,null,null,null,null,null,null,null,null,null,null,null,null,null,null,null,null,null,null,null,null,null,null,null,null,null,null,null,null,null,null,null,null,null,null,null,null,null,null,null,null,null,null,null,{"$f":"設定シート!$AA$7","v":"　"},null,null,null,null,null,null,null,null,null,null,null,null,{"$f":"設定シート!$AB$7","v":"　"},null,null,null,null,null,null,null,null,null,null,null,null,{"$f":"設定シート!$AC$7","v":"　"},null,null,null,null,null,null,null,null,null,null,null,null,null,{"$f":"設定シート!$AD$7","v":"　"},null,null,null,null,null,null,null,null,null,null,null,null,null,{"$f":"設定シート!$AE$7","v":"　"},null,null,null,null,null,null,null,null,null,null,null,{"$f":"設定シート!$AF$7","v":"　"},null,null,null,null,null,null,null,null,null,null,null,null,null,{"$f":"設定シート!$AG$7","v":"　"}]
[]
[]
[]
[]
[]
[]
[]
[]
[]
[]
[]
[null,null,null,null,null,null,null,null,null,null,null,null,null,null,null,null,null,null,null,null,null,null,null,null,null,null,null,null,null,null,null,null,null,null,null,null,null,null,null,null,null,null,null,null,null,null,null,null,null,null,null,null,null,null,null,null,null,null,null,null,null,null,{"$f":"設定シート!$C$8","v":0}]
[]
[]
[]
[]
[]
[]
[]
[]
[]
[null,null,null,null,null,null,null,null,null,null,null,null,null,null,null,null,null,null,null,null,null,null,null,null,null,null,null,null,null,null,null,null,null,null,null,null,null,null,null,null,null,null,null,null,null,null,null,null,null,null,null,null,null,null,null,null,null,null,null,null,null,null,null,null,null,null,null,null,null,null,null,null,{"$f":"設定シート!$C$9","v":0}]
[]
[]
[]
[]
[]
[]
[]
[]
[]
[]
[]
[]
[]
[]
[null,null,null,null,null,null,null,null,null,null,null,null,null,null,null,null,null,null,null,null,null,null,null,null,null,null,null,null,null,null,null,null,null,null,null,null,null,null,null,null,null,null,null,null,null,null,null,null,null,null,null,null,null,null,null,null,null,null,null,null,null,null,null,{"$f":"設定シート!$C$10","v":0}]

{"sheet":"骨②-3","index":36,"n_rows":389,"n_cols":257,"rows_kept":389,"cut":false,"hidden":false,"merged":[[24,205,30,212],[24,229,30,236],[24,254,30,261],[57,60,64,67],[57,73,64,80],[57,86,64,93],[57,101,64,108],[57,114,64,121],[57,126,64,133],[57,140,64,147],[67,67,73,99],[67,160,74,194],[77,75,85,196],[88,59,93,119],[88,205,94,212],[88,254,94,261],[101,59,110,119],[117,79,123,86],[117,95,123,102],[117,111,123,118],[118,59,122,65],[118,68,122,74],[118,128,122,135],[88,229,94,236],[127,140,134,147],[139,62,146,155],[149,72,156,106],[164,63,171,114],[196,82,202,89],[196,111,202,118],[196,140,202,147],[127,60,134,67],[127,73,134,80],[127,86,134,93],[127,100,134,107],[127,114,134,121],[127,126,134,133],[368,139,375,146],[369,208,375,215],[369,232,375,239],[369,256,375,263],[379,64,387,157],[381,213,389,264],[388,73,395,107],[368,60,375,67],[368,74,375,81],[368,87,375,94],[368,100,375,107],[368,113,375,120],[368,126,375,133]]}
[]
[]
[]
[]
[]
[]
[]
[]
[]
[]
[]
[]
[]
[]
[]
[]
[]
[]
[]
[]
[]
[]
[]
[]
[]
[]
[]
[]
[]
[]
[]
[]
[]
[]
[]
[]
[]
[]
[]
[]
[]
[]
[]
[]
[]
[]
[]
[]
[]
[]
[]
[]
[]
[]
[]
[]
[]
[]
[]
[]
[]
[]
[]
[]
[]
[]
[]
[]
[]
[]
[]
[]
[]
[]
[]
[]
[]
[]
[]
[]
[]
[]
[]
[]
[]
[]
[]
[]
[]
[]
[]
[]
[]
[]
[]
[]
[]
[]
[]
[]
[]
[]
[]
[]
[]
[]
[]
[]
[]
[]
[]
[]
[]
[]
[]
[]
[]
[]
[]
[]
[]
[]
[]
[]
[]
[]
[]
[]
[]
[]
[]
[]
[]
[]
[]
[]
[]
[]
[]
[]
[]
[]
[]
[]
[]
[]
[]
[]
[]
[]
[]
[]
[]
[]
[]
[]
[]
[]
[]
[]
[]
[]
[]
[]
[]
[]
[]
[]
[]
[]
[]
[]
[]
[]
[]
[]
[]
[]
[]
[]
[]
[]
[]
[]
[]
[]
[]
[]
[]
[]
[]
[]
[]
[]
[]
[]
[null,null,null,null,null,null,null,null,null,null,null,null,null,null,null,null,null,null,null,null,null,null,null,null,null,null,null,null,null,null,null,null,null,null,null,null,null,null,null,null,null,null,null,null,null,null,null,null,null,null,null,null,null,null,null,null,null,null,null,null,null,null,null,null,null,null,null,null,null,null,null,null,null,null,null,null,null,null,null,null,null,null,{"$f":"STATISTICS!$W$7","v":"04"},null,null,null,null,null,null,null,null,null,null,null,null,null,null,null,null,null,null,null,null,null,null,null,null,null,null,null,null,{"$f":"STATISTICS!$W$8","v":"11"},null,null,null,null,null,null,null,null,null,null,null,null,null,null,null,null,null,null,null,null,null,null,null,null,null,null,null,null,{"$f":"STATISTICS!$W$9","v":"05"}]
[]
[]
[]
[]
[]
[]
[]
[]
[]
[]
[]
[]
[]
[]
[]
[]
[]
[]
[]
[]
[]
[]
[]
[]
[]
[]
[]
[]
[]
[]
[]
[]
[]
[]
[]
[]
[]
[]
[]
[]
[]
[]
[]
[]
[]
[]
[]
[]
[]
[]
[]
[]
[]
[]
[]
[]
[]
[]
[]
[]
[]
[]
[]
[]
[]
[]
[]
[]
[]
[]
[]
[]
[]
[]
[]
[]
[]
[]
[]
[]
[]
[]
[]
[]
[]
[]
[]
[]
[]
[]
[]
[]
[]
[]
[]
[]
[]
[]
[]
[]
[]
[]
[]
[]
[]
[]
[]
[]
[]
[]
[]
[]
[]
[]
[]
[]
[]
[]
[]
[]
[]
[]
[]
[]
[]
[]
[]
[]
[]
[]
[]
[]
[]
[]
[]
[]
[]
[]
[]
[]
[]
[]
[]
[]
[]
[]
[]
[]
[]
[]
[]
[]
[]
[]
[]
[]
[]
[]
[]
[]
[]
[]
[]
[]
[]
[]
[]
[]
[]
[]
[]
[null,null,null,null,null,null,null,null,null,null,null,null,null,null,null,null,null,null,null,null,null,null,null,null,null,null,null,null,null,null,null,null,null,null,null,null,null,null,null,null,null,null,null,null,null,null,null,null,null,null,null,null,null,null,null,null,null,null,null,null,{"$f":"設定シート!$AA$7","v":"　"},null,null,null,null,null,null,null,null,null,null,null,null,null,{"$f":"設定シート!$AB$7","v":"　"},null,null,null,null,null,null,null,null,null,null,null,null,{"$f":"設定シート!$AC$7","v":"　"},null,null,null,null,null,null,null,null,null,null,null,null,{"$f":"設定シート!$AD$7","v":"　"},null,null,null,null,null,null,null,null,null,null,null,null,{"$f":"設定シート!$AE$7","v":"　"},null,null,null,null,null,null,null,null,null,null,null,null,{"$f":"設定シート!$AF$7","v":"　"},null,null,null,null,null,null,null,null,null,null,null,null,{"$f":"設定シート!$AG$7","v":"　"}]
[null,null,null,null,null,null,null,null,null,null,null,null,null,null,null,null,null,null,null,null,null,null,null,null,null,null,null,null,null,null,null,null,null,null,null,null,null,null,null,null,null,null,null,null,null,null,null,null,null,null,null,null,null,null,null,null,null,null,null,null,null,null,null,null,null,null,null,null,null,null,null,null,null,null,null,null,null,null,null,null,null,null,null,null,null,null,null,null,null,null,null,null,null,null,null,null,null,null,null,null,null,null,null,null,null,null,null,null,null,null,null,null,null,null,null,null,null,null,null,null,null,null,null,null,null,null,null,null,null,null,null,null,null,null,null,null,null,null,null,null,null,null,null,null,null,null,null,null,null,null,null,null,null,null,null,null,null,null,null,null,null,null,null,null,null,null,null,null,null,null,null,null,null,null,null,null,null,null,null,null,null,null,null,null,null,null,null,null,null,null,null,null,null,null,null,null,null,null,null,null,null,null,null,null,null,null,null,null,{"$f":"STATISTICS!$X$7","v":"05"},null,null,null,null,null,null,null,null,null,null,null,null,null,null,null,null,null,null,null,null,null,null,null,{"$f":"STATISTICS!$X$8","v":"01"},null,null,null,null,null,null,null,null,null,null,null,null,null,null,null,null,null,null,null,null,null,null,null,{"$f":"STATISTICS!$X$9","v":"13"}]
[]
[]
[]
[]
[]
[]
[]
[]
[]
[null,null,null,null,null,null,null,null,null,null,null,null,null,null,null,null,null,null,null,null,null,null,null,null,null,null,null,null,null,null,null,null,null,null,null,null,null,null,null,null,null,null,null,null,null,null,null,null,null,null,null,null,null,null,null,null,null,null,null,null,null,null,null,null,{"$f":"設定シート!$C$8","v":0}]
[]
[null,null,null,null,null,null,null,null,null,null,null,null,null,null,null,null,null,null,null,null,null,null,null,null,null,null,null,null,null,null,null,null,null,null,null,null,null,null,null,null,null,null,null,null,null,null,null,null,null,null,null,null,null,null,null,null,null,null,null,null,null,null,null,null,null,null,null,null,null,null,null,null,null,null,null,null,null,null,null,null,null,null,null,null,null,null,null,null,null,null,null,null,null,null,null,null,null,null,null,null,null,null,null,null,null,null,null,null,null,null,null,null,null,null,null,null,null,null,null,null,null,null,null,null,null,null,null,null,null,null,null,null,null,null,null,null,null,null,null,null,null,null,null,null,null,null,null,null,null,null,null,null,null,null,null,null,null,null,null,null,null,null,null,null,null,null,null,null,null,null,null,null,null,null,null,null,null,null,null,null,null,null,null,null,null,null,null,null,null,null,null,null,null,null,null,null,null,null,null,null,null,null,null,null,null,null,null,null,null,null,null,null,null,{"$f":"設定シート!$C$10","v":0}]
[]
[]
[]
[]
[]
[]
[null,null,null,null,null,null,null,null,null,null,null,null,null,null,null,null,null,null,null,null,null,null,null,null,null,null,null,null,null,null,null,null,null,null,null,null,null,null,null,null,null,null,null,null,null,null,null,null,null,null,null,null,null,null,null,null,null,null,null,null,null,null,null,null,null,null,null,null,null,null,null,null,null,{"$f":"設定シート!$C$9","v":0}]

{"sheet":"DATA_PATIENT","index":37,"n_rows":17,"n_cols":3,"rows_kept":17,"cut":false,"hidden":false,"merged":[]}
["受診者情報"]
[null,"氏名",{"$f":"IF(VLOOKUP(操作シート!$B$13,データシート!$B$3:$W$6001,2,0)=0,\"\",VLOOKUP(操作シート!$B$13,データシート!$B$3:$W$6001,2,0))","v":"医師会　春子"}]
[null,"かな氏名",{"$f":"IF(VLOOKUP(操作シート!$B$13,データシート!$B$3:$W$6001,3,0)=0,\"\",VLOOKUP(操作シート!$B$13,データシート!$B$3:$W$6001,3,0))","v":"いしかい　はるこ"}]
[null,"郵便番号",{"$f":"IF(VLOOKUP(操作シート!$B$13,データシート!$B$3:$W$6001,6,0)=0,\"\",VLOOKUP(操作シート!$B$13,データシート!$B$3:$W$6001,6,0))","v":"960-8002"}]
[null,"住所1",{"$f":"IF(VLOOKUP(操作シート!$B$13,データシート!$B$3:$W$6001,8,0)=0,\"\",VLOOKUP(操作シート!$B$13,データシート!$B$3:$W$6001,8,0))","v":"森合町10番1号"}]
[null,"住所2",{"$f":"IF(VLOOKUP(操作シート!$B$13,データシート!$B$3:$W$6001,9,0)=0,\"\",VLOOKUP(操作シート!$B$13,データシート!$B$3:$W$6001,9,0))","v":"福島市保健福祉センター内"}]
[null,"電話番号",{"$f":"IF(VLOOKUP(操作シート!$B$13,データシート!$B$3:$W$6001,10,0)=0,\"\",VLOOKUP(操作シート!$B$13,データシート!$B$3:$W$6001,10,0))","v":"024-534-2290"}]
[null,"性別",{"$f":"IF(VLOOKUP(操作シート!$B$13,データシート!$B$3:$W$6001,11,0)=0,\"\",VLOOKUP(操作シート!$B$13,データシート!$B$3:$W$6001,11,0))","v":2}]
[null,"生年月日",{"$f":"IF(VLOOKUP(操作シート!$B$13,データシート!$B$3:$W$6001,13,0)=0,\"\",VLOOKUP(操作シート!$B$13,データシート!$B$3:$W$6001,13,0))","v":22261}]
[null,"検診月日年齢",{"$f":"IF(VLOOKUP(操作シート!$B$13,データシート!$B$3:$W$6001,14,0)=0,\"\",VLOOKUP(操作シート!$B$13,データシート!$B$3:$W$6001,14,0))","v":61}]
[null,"年度内年齢",{"$f":"IF(VLOOKUP(操作シート!$B$13,データシート!$B$3:$W$6001,15,0)=0,\"\",VLOOKUP(操作シート!$B$13,データシート!$B$3:$W$6001,15,0))","v":62}]
[null,"自己負担金",{"$f":"IF(VLOOKUP(操作シート!$B$13,データシート!$B$3:$W$6001,16,0)=0,\"\",VLOOKUP(操作シート!$B$13,データシート!$B$3:$W$6001,16,0))","v":1}]
[null,"非課税No",{"$f":"IF(VLOOKUP(操作シート!$B$13,データシート!$B$3:$W$6001,18,0)=0,\"\",VLOOKUP(操作シート!$B$13,データシート!$B$3:$W$6001,18,0))","v":1234567}]
[null,"胃検査法",{"$f":"IF(VLOOKUP(操作シート!$B$13,データシート!$B$3:$W$6001,19,0)=0,\"\",VLOOKUP(操作シート!$B$13,データシート!$B$3:$W$6001,19,0))","v":"内視鏡"}]
[null,"乳検査法",{"$f":"IF(VLOOKUP(操作シート!$B$13,データシート!$B$3:$W$6001,20,0)=0,\"\",VLOOKUP(操作シート!$B$13,データシート!$B$3:$W$6001,20,0))","v":"一方向"}]
[null,"骨身長",{"$f":"IF(VLOOKUP(操作シート!$B$13,データシート!$B$3:$W$6001,21,0)=0,\"\",VLOOKUP(操作シート!$B$13,データシート!$B$3:$W$6001,21,0))","v":156.6}]
[null,"骨体重",{"$f":"IF(VLOOKUP(操作シート!$B$13,データシート!$B$3:$W$6001,22,0)=0,\"\",VLOOKUP(操作シート!$B$13,データシート!$B$3:$W$6001,22,0))","v":100.3}]

{"sheet":"STATISTICS","index":38,"n_rows":16,"n_cols":27,"rows_kept":16,"cut":false,"hidden":false,"merged":[]}
["受診券番号","氏名","ふりがな","検診月日","受診券番号","郵便番号","市町村","住所",null,"電話番等","性別",null,"生年月日","年齢",null,"自己負担金",null,null,"胃","乳",null,"精検依頼月日","精検月日","記入月日",null,"骨","骨"]
[null,null,null,null,null,null,null,"住所1","住所2",null,null,null,null,"検診月日","年度内","No","項目","非課税No","検査法","検査法",null,null,null,null,null,"身長","体重"]
[{"$f":"IF(VLOOKUP(操作シート!$B$13,データシート!$B$3:$W$6001,5,0)=0,\"\",VLOOKUP(操作シート!$B$13,データシート!$B$3:$W$6001,5,0))","v":"1234567"},{"$f":"IF(VLOOKUP(操作シート!$B$13,データシート!$B$3:$W$6001,2,0)=0,\"\",VLOOKUP(操作シート!$B$13,データシート!$B$3:$W$6001,2,0))","v":"医師会　春子"},{"$f":"IF(VLOOKUP(操作シート!$B$13,データシート!$B$3:$W$6001,3,0)=0,\"\",VLOOKUP(操作シート!$B$13,データシート!$B$3:$W$6001,3,0))","v":"いしかい　はるこ"},{"$f":"IF(VLOOKUP(操作シート!$B$13,データシート!$B$3:$W$6001,4,0)=0,\"\",VLOOKUP(操作シート!$B$13,データシート!$B$3:$W$6001,4,0))","v":"2022-09-08"},{"$f":"TEXT(A3,\"0000000\")","v":"1234567"},{"$f":"IF(VLOOKUP(操作シート!$B$13,データシート!$B$3:$W$6001,6,0)=0,\"\",VLOOKUP(操作シート!$B$13,データシート!$B$3:$W$6001,6,0))","v":"960-8002"},{"$f":"IF(VLOOKUP(操作シート!$B$13,データシート!$B$3:$W$6001,7,0)=0,\"\",VLOOKUP(操作シート!$B$13,データシート!$B$3:$W$6001,7,0))","v":"福島市"},{"$f":"IF(VLOOKUP(操作シート!$B$13,データシート!$B$3:$W$6001,8,0)=0,\"\",VLOOKUP(操作シート!$B$13,データシート!$B$3:$W$6001,8,0))","v":"森合町10番1号"},{"$f":"IF(VLOOKUP(操作シート!$B$13,データシート!$B$3:$W$6001,9,0)=0,\"\",VLOOKUP(操作シート!$B$13,データシート!$B$3:$W$6001,9,0))","v":"福島市保健福祉センター内"},{"$f":"IF(VLOOKUP(操作シート!$B$13,データシート!$B$3:$W$6001,10,0)=0,\"\",VLOOKUP(操作シート!$B$13,データシート!$B$3:$W$6001,10,0))","v":"024-534-2290"},{"$f":"IF(VLOOKUP(操作シート!$B$13,データシート!$B$3:$W$6001,11,0)=0,\"\",VLOOKUP(操作シート!$B$13,データシート!$B$3:$W$6001,11,0))","v":2},{"$f":"IF(VLOOKUP(操作シート!$B$13,データシート!$B$3:$W$6001,12,0)=0,\"\",VLOOKUP(操作シート!$B$13,データシート!$B$3:$W$6001,12,0))","v":"女"},{"$f":"IF(VLOOKUP(操作シート!$B$13,データシート!$B$3:$W$6001,13,0)=0,\"\",VLOOKUP(操作シート!$B$13,データシート!$B$3:$W$6001,13,0))","v":"1960-12-11"},{"$f":"IF(VLOOKUP(操作シート!$B$13,データシート!$B$3:$W$6001,14,0)=0,\"\",VLOOKUP(操作シート!$B$13,データシート!$B$3:$W$6001,14,0))","v":61},{"$f":"IF(VLOOKUP(操作シート!$B$13,データシート!$B$3:$W$6001,15,0)=0,\"\",VLOOKUP(操作シート!$B$13,データシート!$B$3:$W$6001,15,0))","v":62},{"$f":"IF(VLOOKUP(操作シート!$B$13,データシート!$B$3:$W$6001,16,0)=0,\"\",VLOOKUP(操作シート!$B$13,データシート!$B$3:$W$6001,16,0))","v":1},{"$f":"IF(VLOOKUP(操作シート!$B$13,データシート!$B$3:$W$6001,17,0)=0,\"\",VLOOKUP(操作シート!$B$13,データシート!$B$3:$W$6001,17,0))","v":"有料"},{"$f":"IF(VLOOKUP(操作シート!$B$13,データシート!$B$3:$W$6001,18,0)=0,\"\",VLOOKUP(操作シート!$B$13,データシート!$B$3:$W$6001,18,0))","v":1234567},{"$f":"IF(VLOOKUP(操作シート!$B$13,データシート!$B$3:$W$6001,19,0)=0,\"\",VLOOKUP(操作シート!$B$13,データシート!$B$3:$W$6001,19,0))","v":"内視鏡"},{"$f":"IF(VLOOKUP(操作シート!$B$13,データシート!$B$3:$W$6001,20,0)=0,\"\",VLOOKUP(操作シート!$B$13,データシート!$B$3:$W$6001,20,0))","v":"一方向"},null,{"$f":"操作シート!B52","v":"2022-10-29"},{"$f":"操作シート!C58","v":"2022-11-05"},{"$f":"操作シート!C62","v":"2023-01-13"},null,{"$f":"IF(VLOOKUP(操作シート!$B$13,データシート!$B$3:$W$6001,21,0)=0,\"\",VLOOKUP(操作シート!$B$13,データシート!$B$3:$W$6001,21,0))","v":156.6},{"$f":"IF(VLOOKUP(操作シート!$B$13,データシート!$B$3:$W$6001,22,0)=0,\"\",VLOOKUP(操作シート!$B$13,データシート!$B$3:$W$6001,22,0))","v":100.3}]
[]
[5,null,null,"和暦",{"$f":"MID(REPT(\"　\",8-LEN(E$3)) &E$3,ROW()-3,1)","v":"1"},{"$f":"LEFT(F3,3)","v":"960"},null,{"$f":"H3&\"　\"&I3","v":"森合町10番1号　福島市保健福祉センター内"},null,null,{"$f":"IF(K3=1,\"○\",\"\")","v":""},5,"和暦",null,null,{"$f":"IF(P3=1,\"○\",\"\")","v":"○"},null,null,{"$f":"IF(S3=\"透視\",\"○\",\"\")","v":""},{"$f":"IF(T3=\"一方向\",\"○\",\"\")","v":"○"},5,"和暦","和暦","和暦",null,"数値","数値"]
[6,null,null,{"$f":"IF(D$3=0,\"\",TEXT(D$3,\"ggg\"))","v":"令和"},{"$f":"MID(REPT(\"　\",8-LEN(E$3)) &E$3,ROW()-3,1)","v":"2"},{"$f":"RIGHT(F3,4)","v":"8002"},null,null,null,null,{"$f":"IF(K3=2,\"○\",\"\")","v":"○"},6,{"$f":"IF(M$3=0,\"\",TEXT(M$3,\"ggg\"))","v":"昭和"},null,null,{"$f":"IF(P3=2,\"○\",\"\")","v":""},null,null,{"$f":"IF(S3=\"内視鏡\",\"○\",\"\")","v":"○"},{"$f":"IF(T3=\"二方向\",\"○\",\"\")","v":""},6,{"$f":"IF(V$3=0,\"\",TEXT(V$3,\"ggg\"))","v":"令和"},{"$f":"IF(W$3=0,\"\",TEXT(W$3,\"ggg\"))","v":"令和"},{"$f":"IF(X$3=0,\"\",TEXT(X$3,\"ggg\"))","v":"令和"},null,{"$f":"IFERROR(QUOTIENT(Z3,1),\"\")","v":156},{"$f":"IFERROR(QUOTIENT(AA3,1),\"\")","v":100}]
[7,null,null,{"$f":"IF(D$3=0,\"\",TEXT(D$3,\"ee\"))","v":"04"},"3",null,null,null,null,null,null,7,{"$f":"IF(M$3=0,\"\",TEXT(M$3,\"ee\"))","v":"35"},null,null,{"$f":"IF(P3=3,\"○\",\"\")","v":""},null,null,null,null,7,{"$f":"IF(V$3=0,\"\",TEXT(V$3,\"ee\"))","v":"04"},{"$f":"IF(W$3=0,\"\",TEXT(W$3,\"ee\"))","v":"04"},{"$f":"IF(X$3=0,\"\",TEXT(X$3,\"ee\"))","v":"05"},null,{"$f":"IFERROR(MOD(Z3,1)*10,\"\")","v":5.9999999999999432},{"$f":"IFERROR(MOD(AA3,1)*10,\"\")","v":2.9999999999999716}]
[8,null,null,{"$f":"IF(D$3=0,\"\",TEXT(D$3,\"mm\"))","v":"09"},"4",null,null,null,null,null,null,8,{"$f":"IF(M$3=0,\"\",TEXT(M$3,\"mm\"))","v":"12"},null,null,{"$f":"IF(P3=4,\"○\",\"\")","v":""},null,null,null,null,8,{"$f":"IF(V$3=0,\"\",TEXT(V$3,\"mm\"))","v":"10"},{"$f":"IF(W$3=0,\"\",TEXT(W$3,\"mm\"))","v":"11"},{"$f":"IF(X$3=0,\"\",TEXT(X$3,\"mm\"))","v":"01"}]
[9,null,null,{"$f":"IF(D$3=0,\"\",TEXT(D$3,\"dd\"))","v":"08"},"5",null,null,null,null,null,null,9,{"$f":"IF(M$3=0,\"\",TEXT(M$3,\"dd\"))","v":"11"},null,null,null,null,null,null,null,9,{"$f":"IF(V$3=0,\"\",TEXT(V$3,\"dd\"))","v":"29"},{"$f":"IF(W$3=0,\"\",TEXT(W$3,\"dd\"))","v":"05"},{"$f":"IF(X$3=0,\"\",TEXT(X$3,\"dd\"))","v":"13"}]
[10,null,null,null,"6",null,null,null,null,null,null,10,null,null,null,null,null,null,null,null,10]
[11,null,null,null,"7",null,null,null,null,null,null,11,{"$f":"IF(M6=\"明治\",\"○\",\"\")","v":""},null,null,null,null,null,null,null,11]
[12,null,null,null,null,null,null,null,null,null,null,12,{"$f":"IF(M6=\"大正\",\"○\",\"\")","v":""},null,null,null,null,null,null,null,12]
[13,null,null,null,null,null,null,null,null,null,null,13,{"$f":"IF(M6=\"昭和\",\"○\",\"\")","v":"○"},null,null,null,null,null,null,null,13]
[null,null,null,null,null,null,null,null,null,null,null,14,{"$f":"IF(M6=\"平成\",\"○\",\"\")","v":""},null,null,null,null,null,null,null,14]
[]
["A","B","C","D","E","F","G","H","I","J","K","L","M","N","O","P","Q","R","S","T","U","V","W","X","Y","Z","AA"]

{"sheet":"カナ変換","index":39,"n_rows":2001,"n_cols":11,"rows_kept":2001,"cut":false,"hidden":false,"merged":[]}
["整理","カナ","→","かな",null,"整理","ｶﾅ","→","かな",null,"【変換がうまくいかない場合】"]
[{"$f":"ROW()-1","v":1},null,"→",{"$f":"PHONETIC(B2)","v":""},null,{"$f":"ROW()-1","v":1},null,"→",{"$f":"PHONETIC(G2)","v":""}]
[{"$f":"ROW()-1","v":2},null,"→",{"$f":"PHONETIC(B3)","v":""},null,{"$f":"ROW()-1","v":2},null,"→",{"$f":"PHONETIC(G3)","v":""}]
[3,null,"→","",null,3,null,"→",""]
[4,null,"→","",null,4,null,"→",""]
[5,null,"→","",null,5,null,"→",""]
[6,null,"→","",null,6,null,"→",""]
[7,null,"→","",null,7,null,"→",""]
[8,null,"→","",null,8,null,"→",""]
[9,null,"→","",null,9,null,"→",""]
[10,null,"→","",null,10,null,"→",""]
[11,null,"→","",null,11,null,"→",""]
[12,null,"→","",null,12,null,"→",""]
[13,null,"→","",null,13,null,"→",""]
[14,null,"→","",null,14,null,"→",""]
[15,null,"→","",null,15,null,"→",""]
[16,null,"→","",null,16,null,"→",""]
[17,null,"→","",null,17,null,"→",""]
[18,null,"→","",null,18,null,"→",""]
[19,null,"→","",null,19,null,"→",""]
[20,null,"→","",null,20,null,"→",""]
[21,null,"→","",null,21,null,"→",""]
[22,null,"→","",null,22,null,"→",""]
[23,null,"→","",null,23,null,"→",""]
[24,null,"→","",null,24,null,"→",""]
[25,null,"→","",null,25,null,"→",""]
[26,null,"→","",null,26,null,"→",""]
[27,null,"→","",null,27,null,"→",""]
[28,null,"→","",null,28,null,"→",""]
[29,null,"→","",null,29,null,"→","",null,"タブ「ふりがな」＞種類＞ひらがなに✔を変える＞「OK」をクリック。"]
[30,null,"→","",null,30,null,"→",""]
[31,null,"→","",null,31,null,"→",""]
[32,null,"→","",null,32,null,"→",""]
[33,null,"→","",null,33,null,"→",""]
[34,null,"→","",null,34,null,"→",""]
[35,null,"→","",null,35,null,"→",""]
[36,null,"→","",null,36,null,"→",""]
[37,null,"→","",null,37,null,"→",""]
[38,null,"→","",null,38,null,"→",""]
[39,null,"→","",null,39,null,"→",""]
[40,null,"→","",null,40,null,"→",""]
[41,null,"→","",null,41,null,"→",""]
[42,null,"→","",null,42,null,"→",""]
[43,null,"→","",null,43,null,"→",""]
[44,null,"→","",null,44,null,"→",""]
[45,null,"→","",null,45,null,"→",""]
[46,null,"→","",null,46,null,"→",""]
[47,null,"→","",null,47,null,"→",""]
[48,null,"→","",null,48,null,"→",""]
[49,null,"→","",null,49,null,"→",""]
[50,null,"→","",null,50,null,"→",""]
[51,null,"→","",null,51,null,"→",""]
[52,null,"→","",null,52,null,"→",""]
[53,null,"→","",null,53,null,"→",""]
[54,null,"→","",null,54,null,"→",""]
[55,null,"→","",null,55,null,"→",""]
[56,null,"→","",null,56,null,"→",""]
[57,null,"→","",null,57,null,"→",""]
[58,null,"→","",null,58,null,"→",""]
[59,null,"→","",null,59,null,"→",""]
[60,null,"→","",null,60,null,"→",""]
[61,null,"→","",null,61,null,"→",""]
[62,null,"→","",null,62,null,"→",""]
[63,null,"→","",null,63,null,"→",""]
[64,null,"→","",null,64,null,"→",""]
[65,null,"→","",null,65,null,"→",""]
[{"$f":"ROW()-1","v":66},null,"→",{"$f":"PHONETIC(B67)","v":""},null,{"$f":"ROW()-1","v":66},null,"→",{"$f":"PHONETIC(G67)","v":""}]
[67,null,"→","",null,67,null,"→",""]
[68,null,"→","",null,68,null,"→",""]
[69,null,"→","",null,69,null,"→",""]
[70,null,"→","",null,70,null,"→",""]
[71,null,"→","",null,71,null,"→",""]
[72,null,"→","",null,72,null,"→",""]
[73,null,"→","",null,73,null,"→",""]
[74,null,"→","",null,74,null,"→",""]
[75,null,"→","",null,75,null,"→",""]
[76,null,"→","",null,76,null,"→",""]
[77,null,"→","",null,77,null,"→",""]
[78,null,"→","",null,78,null,"→",""]
[79,null,"→","",null,79,null,"→",""]
[80,null,"→","",null,80,null,"→",""]
[81,null,"→","",null,81,null,"→",""]
[82,null,"→","",null,82,null,"→",""]
[83,null,"→","",null,83,null,"→",""]
[84,null,"→","",null,84,null,"→",""]
[85,null,"→","",null,85,null,"→",""]
[86,null,"→","",null,86,null,"→",""]
[87,null,"→","",null,87,null,"→",""]
[88,null,"→","",null,88,null,"→",""]
[89,null,"→","",null,89,null,"→",""]
[90,null,"→","",null,90,null,"→",""]
[91,null,"→","",null,91,null,"→",""]
[92,null,"→","",null,92,null,"→",""]
[93,null,"→","",null,93,null,"→",""]
[94,null,"→","",null,94,null,"→",""]
[95,null,"→","",null,95,null,"→",""]
[96,null,"→","",null,96,null,"→",""]
[97,null,"→","",null,97,null,"→",""]
[98,null,"→","",null,98,null,"→",""]
[99,null,"→","",null,99,null,"→",""]
[100,null,"→","",null,100,null,"→",""]
[101,null,"→","",null,101,null,"→",""]
[102,null,"→","",null,102,null,"→",""]
[103,null,"→","",null,103,null,"→",""]
[104,null,"→","",null,104,null,"→",""]
[105,null,"→","",null,105,null,"→",""]
[106,null,"→","",null,106,null,"→",""]
[107,null,"→","",null,107,null,"→",""]
[108,null,"→","",null,108,null,"→",""]
[109,null,"→","",null,109,null,"→",""]
[110,null,"→","",null,110,null,"→",""]
[111,null,"→","",null,111,null,"→",""]
[112,null,"→","",null,112,null,"→",""]
[113,null,"→","",null,113,null,"→",""]
[114,null,"→","",null,114,null,"→",""]
[115,null,"→","",null,115,null,"→",""]
[116,null,"→","",null,116,null,"→",""]
[117,null,"→","",null,117,null,"→",""]
[118,null,"→","",null,118,null,"→",""]
[119,null,"→","",null,119,null,"→",""]
[120,null,"→","",null,120,null,"→",""]
[121,null,"→","",null,121,null,"→",""]
[122,null,"→","",null,122,null,"→",""]
[123,null,"→","",null,123,null,"→",""]
[124,null,"→","",null,124,null,"→",""]
[125,null,"→","",null,125,null,"→",""]
[126,null,"→","",null,126,null,"→",""]
[127,null,"→","",null,127,null,"→",""]
[128,null,"→","",null,128,null,"→",""]
[129,null,"→","",null,129,null,"→",""]
[{"$f":"ROW()-1","v":130},null,"→",{"$f":"PHONETIC(B131)","v":""},null,{"$f":"ROW()-1","v":130},null,"→",{"$f":"PHONETIC(G131)","v":""}]
[131,null,"→","",null,131,null,"→",""]
[132,null,"→","",null,132,null,"→",""]
[133,null,"→","",null,133,null,"→",""]
[134,null,"→","",null,134,null,"→",""]
[135,null,"→","",null,135,null,"→",""]
[136,null,"→","",null,136,null,"→",""]
[137,null,"→","",null,137,null,"→",""]
[138,null,"→","",null,138,null,"→",""]
[139,null,"→","",null,139,null,"→",""]
[140,null,"→","",null,140,null,"→",""]
[141,null,"→","",null,141,null,"→",""]
[142,null,"→","",null,142,null,"→",""]
[143,null,"→","",null,143,null,"→",""]
[144,null,"→","",null,144,null,"→",""]
[145,null,"→","",null,145,null,"→",""]
[146,null,"→","",null,146,null,"→",""]
[147,null,"→","",null,147,null,"→",""]
[148,null,"→","",null,148,null,"→",""]
[149,null,"→","",null,149,null,"→",""]
[150,null,"→","",null,150,null,"→",""]
[151,null,"→","",null,151,null,"→",""]
[152,null,"→","",null,152,null,"→",""]
[153,null,"→","",null,153,null,"→",""]
[154,null,"→","",null,154,null,"→",""]
[155,null,"→","",null,155,null,"→",""]
[156,null,"→","",null,156,null,"→",""]
[157,null,"→","",null,157,null,"→",""]
[158,null,"→","",null,158,null,"→",""]
[159,null,"→","",null,159,null,"→",""]
[160,null,"→","",null,160,null,"→",""]
[161,null,"→","",null,161,null,"→",""]
[162,null,"→","",null,162,null,"→",""]
[163,null,"→","",null,163,null,"→",""]
[164,null,"→","",null,164,null,"→",""]
[165,null,"→","",null,165,null,"→",""]
[166,null,"→","",null,166,null,"→",""]
[167,null,"→","",null,167,null,"→",""]
[168,null,"→","",null,168,null,"→",""]
[169,null,"→","",null,169,null,"→",""]
[170,null,"→","",null,170,null,"→",""]
[171,null,"→","",null,171,null,"→",""]
[172,null,"→","",null,172,null,"→",""]
[173,null,"→","",null,173,null,"→",""]
[174,null,"→","",null,174,null,"→",""]
[175,null,"→","",null,175,null,"→",""]
[176,null,"→","",null,176,null,"→",""]
[177,null,"→","",null,177,null,"→",""]
[178,null,"→","",null,178,null,"→",""]
[179,null,"→","",null,179,null,"→",""]
[180,null,"→","",null,180,null,"→",""]
[181,null,"→","",null,181,null,"→",""]
[182,null,"→","",null,182,null,"→",""]
[183,null,"→","",null,183,null,"→",""]
[184,null,"→","",null,184,null,"→",""]
[185,null,"→","",null,185,null,"→",""]
[186,null,"→","",null,186,null,"→",""]
[187,null,"→","",null,187,null,"→",""]
[188,null,"→","",null,188,null,"→",""]
[189,null,"→","",null,189,null,"→",""]
[190,null,"→","",null,190,null,"→",""]
[191,null,"→","",null,191,null,"→",""]
[192,null,"→","",null,192,null,"→",""]
[193,null,"→","",null,193,null,"→",""]
[{"$f":"ROW()-1","v":194},null,"→",{"$f":"PHONETIC(B195)","v":""},null,{"$f":"ROW()-1","v":194},null,"→",{"$f":"PHONETIC(G195)","v":""}]
[195,null,"→","",null,195,null,"→",""]
[196,null,"→","",null,196,null,"→",""]
[197,null,"→","",null,197,null,"→",""]
[198,null,"→","",null,198,null,"→",""]
[199,null,"→","",null,199,null,"→",""]
[200,null,"→","",null,200,null,"→",""]
[201,null,"→","",null,201,null,"→",""]
[202,null,"→","",null,202,null,"→",""]
[203,null,"→","",null,203,null,"→",""]
[204,null,"→","",null,204,null,"→",""]
[205,null,"→","",null,205,null,"→",""]
[206,null,"→","",null,206,null,"→",""]
[207,null,"→","",null,207,null,"→",""]
[208,null,"→","",null,208,null,"→",""]
[209,null,"→","",null,209,null,"→",""]
[210,null,"→","",null,210,null,"→",""]
[211,null,"→","",null,211,null,"→",""]
[212,null,"→","",null,212,null,"→",""]
[213,null,"→","",null,213,null,"→",""]
[214,null,"→","",null,214,null,"→",""]
[215,null,"→","",null,215,null,"→",""]
[216,null,"→","",null,216,null,"→",""]
[217,null,"→","",null,217,null,"→",""]
[218,null,"→","",null,218,null,"→",""]
[219,null,"→","",null,219,null,"→",""]
[220,null,"→","",null,220,null,"→",""]
[221,null,"→","",null,221,null,"→",""]
[222,null,"→","",null,222,null,"→",""]
[223,null,"→","",null,223,null,"→",""]
[224,null,"→","",null,224,null,"→",""]
[225,null,"→","",null,225,null,"→",""]
[226,null,"→","",null,226,null,"→",""]
[227,null,"→","",null,227,null,"→",""]
[228,null,"→","",null,228,null,"→",""]
[229,null,"→","",null,229,null,"→",""]
[230,null,"→","",null,230,null,"→",""]
[231,null,"→","",null,231,null,"→",""]
[232,null,"→","",null,232,null,"→",""]
[233,null,"→","",null,233,null,"→",""]
[234,null,"→","",null,234,null,"→",""]
[235,null,"→","",null,235,null,"→",""]
[236,null,"→","",null,236,null,"→",""]
[237,null,"→","",null,237,null,"→",""]
[238,null,"→","",null,238,null,"→",""]
[239,null,"→","",null,239,null,"→",""]
[240,null,"→","",null,240,null,"→",""]
[241,null,"→","",null,241,null,"→",""]
[242,null,"→","",null,242,null,"→",""]
[243,null,"→","",null,243,null,"→",""]
[244,null,"→","",null,244,null,"→",""]
[245,null,"→","",null,245,null,"→",""]
[246,null,"→","",null,246,null,"→",""]
[247,null,"→","",null,247,null,"→",""]
[248,null,"→","",null,248,null,"→",""]
[249,null,"→","",null,249,null,"→",""]
[250,null,"→","",null,250,null,"→",""]
[251,null,"→","",null,251,null,"→",""]
[252,null,"→","",null,252,null,"→",""]
[253,null,"→","",null,253,null,"→",""]
[254,null,"→","",null,254,null,"→",""]
[255,null,"→","",null,255,null,"→",""]
[256,null,"→","",null,256,null,"→",""]
[257,null,"→","",null,257,null,"→",""]
[{"$f":"ROW()-1","v":258},null,"→",{"$f":"PHONETIC(B259)","v":""},null,{"$f":"ROW()-1","v":258},null,"→",{"$f":"PHONETIC(G259)","v":""}]
[259,null,"→","",null,259,null,"→",""]
[260,null,"→","",null,260,null,"→",""]
[261,null,"→","",null,261,null,"→",""]
[262,null,"→","",null,262,null,"→",""]
[263,null,"→","",null,263,null,"→",""]
[264,null,"→","",null,264,null,"→",""]
[265,null,"→","",null,265,null,"→",""]
[266,null,"→","",null,266,null,"→",""]
[267,null,"→","",null,267,null,"→",""]
[268,null,"→","",null,268,null,"→",""]
[269,null,"→","",null,269,null,"→",""]
[270,null,"→","",null,270,null,"→",""]
[271,null,"→","",null,271,null,"→",""]
[272,null,"→","",null,272,null,"→",""]
[273,null,"→","",null,273,null,"→",""]
[274,null,"→","",null,274,null,"→",""]
[275,null,"→","",null,275,null,"→",""]
[276,null,"→","",null,276,null,"→",""]
[277,null,"→","",null,277,null,"→",""]
[278,null,"→","",null,278,null,"→",""]
[279,null,"→","",null,279,null,"→",""]
[280,null,"→","",null,280,null,"→",""]
[281,null,"→","",null,281,null,"→",""]
[282,null,"→","",null,282,null,"→",""]
[283,null,"→","",null,283,null,"→",""]
[284,null,"→","",null,284,null,"→",""]
[285,null,"→","",null,285,null,"→",""]
[286,null,"→","",null,286,null,"→",""]
[287,null,"→","",null,287,null,"→",""]
[288,null,"→","",null,288,null,"→",""]
[289,null,"→","",null,289,null,"→",""]
[290,null,"→","",null,290,null,"→",""]
[291,null,"→","",null,291,null,"→",""]
[292,null,"→","",null,292,null,"→",""]
[293,null,"→","",null,293,null,"→",""]
[294,null,"→","",null,294,null,"→",""]
[295,null,"→","",null,295,null,"→",""]
[296,null,"→","",null,296,null,"→",""]
[297,null,"→","",null,297,null,"→",""]
[298,null,"→","",null,298,null,"→",""]
[299,null,"→","",null,299,null,"→",""]
[300,null,"→","",null,300,null,"→",""]
[301,null,"→","",null,301,null,"→",""]
[302,null,"→","",null,302,null,"→",""]
[303,null,"→","",null,303,null,"→",""]
[304,null,"→","",null,304,null,"→",""]
[305,null,"→","",null,305,null,"→",""]
[306,null,"→","",null,306,null,"→",""]
[307,null,"→","",null,307,null,"→",""]
[308,null,"→","",null,308,null,"→",""]
[309,null,"→","",null,309,null,"→",""]
[310,null,"→","",null,310,null,"→",""]
[311,null,"→","",null,311,null,"→",""]
[312,null,"→","",null,312,null,"→",""]
[313,null,"→","",null,313,null,"→",""]
[314,null,"→","",null,314,null,"→",""]
[315,null,"→","",null,315,null,"→",""]
[316,null,"→","",null,316,null,"→",""]
[317,null,"→","",null,317,null,"→",""]
[318,null,"→","",null,318,null,"→",""]
[319,null,"→","",null,319,null,"→",""]
[320,null,"→","",null,320,null,"→",""]
[321,null,"→","",null,321,null,"→",""]
[{"$f":"ROW()-1","v":322},null,"→",{"$f":"PHONETIC(B323)","v":""},null,{"$f":"ROW()-1","v":322},null,"→",{"$f":"PHONETIC(G323)","v":""}]
[323,null,"→","",null,323,null,"→",""]
[324,null,"→","",null,324,null,"→",""]
[325,null,"→","",null,325,null,"→",""]
[326,null,"→","",null,326,null,"→",""]
[327,null,"→","",null,327,null,"→",""]
[328,null,"→","",null,328,null,"→",""]
[329,null,"→","",null,329,null,"→",""]
[330,null,"→","",null,330,null,"→",""]
[331,null,"→","",null,331,null,"→",""]
[332,null,"→","",null,332,null,"→",""]
[333,null,"→","",null,333,null,"→",""]
[334,null,"→","",null,334,null,"→",""]
[335,null,"→","",null,335,null,"→",""]
[336,null,"→","",null,336,null,"→",""]
[337,null,"→","",null,337,null,"→",""]
[338,null,"→","",null,338,null,"→",""]
[339,null,"→","",null,339,null,"→",""]
[340,null,"→","",null,340,null,"→",""]
[341,null,"→","",null,341,null,"→",""]
[342,null,"→","",null,342,null,"→",""]
[343,null,"→","",null,343,null,"→",""]
[344,null,"→","",null,344,null,"→",""]
[345,null,"→","",null,345,null,"→",""]
[346,null,"→","",null,346,null,"→",""]
[347,null,"→","",null,347,null,"→",""]
[348,null,"→","",null,348,null,"→",""]
[349,null,"→","",null,349,null,"→",""]
[350,null,"→","",null,350,null,"→",""]
[351,null,"→","",null,351,null,"→",""]
[352,null,"→","",null,352,null,"→",""]
[353,null,"→","",null,353,null,"→",""]
[354,null,"→","",null,354,null,"→",""]
[355,null,"→","",null,355,null,"→",""]
[356,null,"→","",null,356,null,"→",""]
[357,null,"→","",null,357,null,"→",""]
[358,null,"→","",null,358,null,"→",""]
[359,null,"→","",null,359,null,"→",""]
[360,null,"→","",null,360,null,"→",""]
[361,null,"→","",null,361,null,"→",""]
[362,null,"→","",null,362,null,"→",""]
[363,null,"→","",null,363,null,"→",""]
[364,null,"→","",null,364,null,"→",""]
[365,null,"→","",null,365,null,"→",""]
[366,null,"→","",null,366,null,"→",""]
[367,null,"→","",null,367,null,"→",""]
[368,null,"→","",null,368,null,"→",""]
[369,null,"→","",null,369,null,"→",""]
[370,null,"→","",null,370,null,"→",""]
[371,null,"→","",null,371,null,"→",""]
[372,null,"→","",null,372,null,"→",""]
[373,null,"→","",null,373,null,"→",""]
[374,null,"→","",null,374,null,"→",""]
[375,null,"→","",null,375,null,"→",""]
[376,null,"→","",null,376,null,"→",""]
[377,null,"→","",null,377,null,"→",""]
[378,null,"→","",null,378,null,"→",""]
[379,null,"→","",null,379,null,"→",""]
[380,null,"→","",null,380,null,"→",""]
[381,null,"→","",null,381,null,"→",""]
[382,null,"→","",null,382,null,"→",""]
[383,null,"→","",null,383,null,"→",""]
[384,null,"→","",null,384,null,"→",""]
[385,null,"→","",null,385,null,"→",""]
[{"$f":"ROW()-1","v":386},null,"→",{"$f":"PHONETIC(B387)","v":""},null,{"$f":"ROW()-1","v":386},null,"→",{"$f":"PHONETIC(G387)","v":""}]
[387,null,"→","",null,387,null,"→",""]
[388,null,"→","",null,388,null,"→",""]
[389,null,"→","",null,389,null,"→",""]
[390,null,"→","",null,390,null,"→",""]
[391,null,"→","",null,391,null,"→",""]
[392,null,"→","",null,392,null,"→",""]
[393,null,"→","",null,393,null,"→",""]
[394,null,"→","",null,394,null,"→",""]
[395,null,"→","",null,395,null,"→",""]
[396,null,"→","",null,396,null,"→",""]
[397,null,"→","",null,397,null,"→",""]
[398,null,"→","",null,398,null,"→",""]
[399,null,"→","",null,399,null,"→",""]
[400,null,"→","",null,400,null,"→",""]
[401,null,"→","",null,401,null,"→",""]
[402,null,"→","",null,402,null,"→",""]
[403,null,"→","",null,403,null,"→",""]
[404,null,"→","",null,404,null,"→",""]
[405,null,"→","",null,405,null,"→",""]
[406,null,"→","",null,406,null,"→",""]
[407,null,"→","",null,407,null,"→",""]
[408,null,"→","",null,408,null,"→",""]
[409,null,"→","",null,409,null,"→",""]
[410,null,"→","",null,410,null,"→",""]
[411,null,"→","",null,411,null,"→",""]
[412,null,"→","",null,412,null,"→",""]
[413,null,"→","",null,413,null,"→",""]
[414,null,"→","",null,414,null,"→",""]
[415,null,"→","",null,415,null,"→",""]
[416,null,"→","",null,416,null,"→",""]
[417,null,"→","",null,417,null,"→",""]
[418,null,"→","",null,418,null,"→",""]
[419,null,"→","",null,419,null,"→",""]
[420,null,"→","",null,420,null,"→",""]
[421,null,"→","",null,421,null,"→",""]
[422,null,"→","",null,422,null,"→",""]
[423,null,"→","",null,423,null,"→",""]
[424,null,"→","",null,424,null,"→",""]
[425,null,"→","",null,425,null,"→",""]
[426,null,"→","",null,426,null,"→",""]
[427,null,"→","",null,427,null,"→",""]
[428,null,"→","",null,428,null,"→",""]
[429,null,"→","",null,429,null,"→",""]
[430,null,"→","",null,430,null,"→",""]
[431,null,"→","",null,431,null,"→",""]
[432,null,"→","",null,432,null,"→",""]
[433,null,"→","",null,433,null,"→",""]
[434,null,"→","",null,434,null,"→",""]
[435,null,"→","",null,435,null,"→",""]
[436,null,"→","",null,436,null,"→",""]
[437,null,"→","",null,437,null,"→",""]
[438,null,"→","",null,438,null,"→",""]
[439,null,"→","",null,439,null,"→",""]
[440,null,"→","",null,440,null,"→",""]
[441,null,"→","",null,441,null,"→",""]
[442,null,"→","",null,442,null,"→",""]
[443,null,"→","",null,443,null,"→",""]
[444,null,"→","",null,444,null,"→",""]
[445,null,"→","",null,445,null,"→",""]
[446,null,"→","",null,446,null,"→",""]
[447,null,"→","",null,447,null,"→",""]
[448,null,"→","",null,448,null,"→",""]
[449,null,"→","",null,449,null,"→",""]
[{"$f":"ROW()-1","v":450},null,"→",{"$f":"PHONETIC(B451)","v":""},null,{"$f":"ROW()-1","v":450},null,"→",{"$f":"PHONETIC(G451)","v":""}]
[451,null,"→","",null,451,null,"→",""]
[452,null,"→","",null,452,null,"→",""]
[453,null,"→","",null,453,null,"→",""]
[454,null,"→","",null,454,null,"→",""]
[455,null,"→","",null,455,null,"→",""]
[456,null,"→","",null,456,null,"→",""]
[457,null,"→","",null,457,null,"→",""]
[458,null,"→","",null,458,null,"→",""]
[459,null,"→","",null,459,null,"→",""]
[460,null,"→","",null,460,null,"→",""]
[461,null,"→","",null,461,null,"→",""]
[462,null,"→","",null,462,null,"→",""]
[463,null,"→","",null,463,null,"→",""]
[464,null,"→","",null,464,null,"→",""]
[465,null,"→","",null,465,null,"→",""]
[466,null,"→","",null,466,null,"→",""]
[467,null,"→","",null,467,null,"→",""]
[468,null,"→","",null,468,null,"→",""]
[469,null,"→","",null,469,null,"→",""]
[470,null,"→","",null,470,null,"→",""]
[471,null,"→","",null,471,null,"→",""]
[472,null,"→","",null,472,null,"→",""]
[473,null,"→","",null,473,null,"→",""]
[474,null,"→","",null,474,null,"→",""]
[475,null,"→","",null,475,null,"→",""]
[476,null,"→","",null,476,null,"→",""]
[477,null,"→","",null,477,null,"→",""]
[478,null,"→","",null,478,null,"→",""]
[479,null,"→","",null,479,null,"→",""]
[480,null,"→","",null,480,null,"→",""]
[481,null,"→","",null,481,null,"→",""]
[482,null,"→","",null,482,null,"→",""]
[483,null,"→","",null,483,null,"→",""]
[484,null,"→","",null,484,null,"→",""]
[485,null,"→","",null,485,null,"→",""]
[486,null,"→","",null,486,null,"→",""]
[487,null,"→","",null,487,null,"→",""]
[488,null,"→","",null,488,null,"→",""]
[489,null,"→","",null,489,null,"→",""]
[490,null,"→","",null,490,null,"→",""]
[491,null,"→","",null,491,null,"→",""]
[492,null,"→","",null,492,null,"→",""]
[493,null,"→","",null,493,null,"→",""]
[494,null,"→","",null,494,null,"→",""]
[495,null,"→","",null,495,null,"→",""]
[496,null,"→","",null,496,null,"→",""]
[497,null,"→","",null,497,null,"→",""]
[498,null,"→","",null,498,null,"→",""]
[499,null,"→","",null,499,null,"→",""]
[500,null,"→","",null,500,null,"→",""]
[501,null,"→","",null,501,null,"→",""]
[502,null,"→","",null,502,null,"→",""]
[503,null,"→","",null,503,null,"→",""]
[504,null,"→","",null,504,null,"→",""]
[505,null,"→","",null,505,null,"→",""]
[506,null,"→","",null,506,null,"→",""]
[507,null,"→","",null,507,null,"→",""]
[508,null,"→","",null,508,null,"→",""]
[509,null,"→","",null,509,null,"→",""]
[510,null,"→","",null,510,null,"→",""]
[511,null,"→","",null,511,null,"→",""]
[512,null,"→","",null,512,null,"→",""]
[513,null,"→","",null,513,null,"→",""]
[{"$f":"ROW()-1","v":514},null,"→",{"$f":"PHONETIC(B515)","v":""},null,{"$f":"ROW()-1","v":514},null,"→",{"$f":"PHONETIC(G515)","v":""}]
[515,null,"→","",null,515,null,"→",""]
[516,null,"→","",null,516,null,"→",""]
[517,null,"→","",null,517,null,"→",""]
[518,null,"→","",null,518,null,"→",""]
[519,null,"→","",null,519,null,"→",""]
[520,null,"→","",null,520,null,"→",""]
[521,null,"→","",null,521,null,"→",""]
[522,null,"→","",null,522,null,"→",""]
[523,null,"→","",null,523,null,"→",""]
[524,null,"→","",null,524,null,"→",""]
[525,null,"→","",null,525,null,"→",""]
[526,null,"→","",null,526,null,"→",""]
[527,null,"→","",null,527,null,"→",""]
[528,null,"→","",null,528,null,"→",""]
[529,null,"→","",null,529,null,"→",""]
[530,null,"→","",null,530,null,"→",""]
[531,null,"→","",null,531,null,"→",""]
[532,null,"→","",null,532,null,"→",""]
[533,null,"→","",null,533,null,"→",""]
[534,null,"→","",null,534,null,"→",""]
[535,null,"→","",null,535,null,"→",""]
[536,null,"→","",null,536,null,"→",""]
[537,null,"→","",null,537,null,"→",""]
[538,null,"→","",null,538,null,"→",""]
[539,null,"→","",null,539,null,"→",""]
[540,null,"→","",null,540,null,"→",""]
[541,null,"→","",null,541,null,"→",""]
[542,null,"→","",null,542,null,"→",""]
[543,null,"→","",null,543,null,"→",""]
[544,null,"→","",null,544,null,"→",""]
[545,null,"→","",null,545,null,"→",""]
[546,null,"→","",null,546,null,"→",""]
[547,null,"→","",null,547,null,"→",""]
[548,null,"→","",null,548,null,"→",""]
[549,null,"→","",null,549,null,"→",""]
[550,null,"→","",null,550,null,"→",""]
[551,null,"→","",null,551,null,"→",""]
[552,null,"→","",null,552,null,"→",""]
[553,null,"→","",null,553,null,"→",""]
[554,null,"→","",null,554,null,"→",""]
[555,null,"→","",null,555,null,"→",""]
[556,null,"→","",null,556,null,"→",""]
[557,null,"→","",null,557,null,"→",""]
[558,null,"→","",null,558,null,"→",""]
[559,null,"→","",null,559,null,"→",""]
[560,null,"→","",null,560,null,"→",""]
[561,null,"→","",null,561,null,"→",""]
[562,null,"→","",null,562,null,"→",""]
[563,null,"→","",null,563,null,"→",""]
[564,null,"→","",null,564,null,"→",""]
[565,null,"→","",null,565,null,"→",""]
[566,null,"→","",null,566,null,"→",""]
[567,null,"→","",null,567,null,"→",""]
[568,null,"→","",null,568,null,"→",""]
[569,null,"→","",null,569,null,"→",""]
[570,null,"→","",null,570,null,"→",""]
[571,null,"→","",null,571,null,"→",""]
[572,null,"→","",null,572,null,"→",""]
[573,null,"→","",null,573,null,"→",""]
[574,null,"→","",null,574,null,"→",""]
[575,null,"→","",null,575,null,"→",""]
[576,null,"→","",null,576,null,"→",""]
[577,null,"→","",null,577,null,"→",""]
[{"$f":"ROW()-1","v":578},null,"→",{"$f":"PHONETIC(B579)","v":""},null,{"$f":"ROW()-1","v":578},null,"→",{"$f":"PHONETIC(G579)","v":""}]
[579,null,"→","",null,579,null,"→",""]
[580,null,"→","",null,580,null,"→",""]
[581,null,"→","",null,581,null,"→",""]
[582,null,"→","",null,582,null,"→",""]
[583,null,"→","",null,583,null,"→",""]
[584,null,"→","",null,584,null,"→",""]
[585,null,"→","",null,585,null,"→",""]
[586,null,"→","",null,586,null,"→",""]
[587,null,"→","",null,587,null,"→",""]
[588,null,"→","",null,588,null,"→",""]
[589,null,"→","",null,589,null,"→",""]
[590,null,"→","",null,590,null,"→",""]
[591,null,"→","",null,591,null,"→",""]
[592,null,"→","",null,592,null,"→",""]
[593,null,"→","",null,593,null,"→",""]
[594,null,"→","",null,594,null,"→",""]
[595,null,"→","",null,595,null,"→",""]
[596,null,"→","",null,596,null,"→",""]
[597,null,"→","",null,597,null,"→",""]
[598,null,"→","",null,598,null,"→",""]
[599,null,"→","",null,599,null,"→",""]
[600,null,"→","",null,600,null,"→",""]
[601,null,"→","",null,601,null,"→",""]
[602,null,"→","",null,602,null,"→",""]
[603,null,"→","",null,603,null,"→",""]
[604,null,"→","",null,604,null,"→",""]
[605,null,"→","",null,605,null,"→",""]
[606,null,"→","",null,606,null,"→",""]
[607,null,"→","",null,607,null,"→",""]
[608,null,"→","",null,608,null,"→",""]
[609,null,"→","",null,609,null,"→",""]
[610,null,"→","",null,610,null,"→",""]
[611,null,"→","",null,611,null,"→",""]
[612,null,"→","",null,612,null,"→",""]
[613,null,"→","",null,613,null,"→",""]
[614,null,"→","",null,614,null,"→",""]
[615,null,"→","",null,615,null,"→",""]
[616,null,"→","",null,616,null,"→",""]
[617,null,"→","",null,617,null,"→",""]
[618,null,"→","",null,618,null,"→",""]
[619,null,"→","",null,619,null,"→",""]
[620,null,"→","",null,620,null,"→",""]
[621,null,"→","",null,621,null,"→",""]
[622,null,"→","",null,622,null,"→",""]
[623,null,"→","",null,623,null,"→",""]
[624,null,"→","",null,624,null,"→",""]
[625,null,"→","",null,625,null,"→",""]
[626,null,"→","",null,626,null,"→",""]
[627,null,"→","",null,627,null,"→",""]
[628,null,"→","",null,628,null,"→",""]
[629,null,"→","",null,629,null,"→",""]
[630,null,"→","",null,630,null,"→",""]
[631,null,"→","",null,631,null,"→",""]
[632,null,"→","",null,632,null,"→",""]
[633,null,"→","",null,633,null,"→",""]
[634,null,"→","",null,634,null,"→",""]
[635,null,"→","",null,635,null,"→",""]
[636,null,"→","",null,636,null,"→",""]
[637,null,"→","",null,637,null,"→",""]
[638,null,"→","",null,638,null,"→",""]
[639,null,"→","",null,639,null,"→",""]
[640,null,"→","",null,640,null,"→",""]
[641,null,"→","",null,641,null,"→",""]
[{"$f":"ROW()-1","v":642},null,"→",{"$f":"PHONETIC(B643)","v":""},null,{"$f":"ROW()-1","v":642},null,"→",{"$f":"PHONETIC(G643)","v":""}]
[643,null,"→","",null,643,null,"→",""]
[644,null,"→","",null,644,null,"→",""]
[645,null,"→","",null,645,null,"→",""]
[646,null,"→","",null,646,null,"→",""]
[647,null,"→","",null,647,null,"→",""]
[648,null,"→","",null,648,null,"→",""]
[649,null,"→","",null,649,null,"→",""]
[650,null,"→","",null,650,null,"→",""]
[651,null,"→","",null,651,null,"→",""]
[652,null,"→","",null,652,null,"→",""]
[653,null,"→","",null,653,null,"→",""]
[654,null,"→","",null,654,null,"→",""]
[655,null,"→","",null,655,null,"→",""]
[656,null,"→","",null,656,null,"→",""]
[657,null,"→","",null,657,null,"→",""]
[658,null,"→","",null,658,null,"→",""]
[659,null,"→","",null,659,null,"→",""]
[660,null,"→","",null,660,null,"→",""]
[661,null,"→","",null,661,null,"→",""]
[662,null,"→","",null,662,null,"→",""]
[663,null,"→","",null,663,null,"→",""]
[664,null,"→","",null,664,null,"→",""]
[665,null,"→","",null,665,null,"→",""]
[666,null,"→","",null,666,null,"→",""]
[667,null,"→","",null,667,null,"→",""]
[668,null,"→","",null,668,null,"→",""]
[669,null,"→","",null,669,null,"→",""]
[670,null,"→","",null,670,null,"→",""]
[671,null,"→","",null,671,null,"→",""]
[672,null,"→","",null,672,null,"→",""]
[673,null,"→","",null,673,null,"→",""]
[674,null,"→","",null,674,null,"→",""]
[675,null,"→","",null,675,null,"→",""]
[676,null,"→","",null,676,null,"→",""]
[677,null,"→","",null,677,null,"→",""]
[678,null,"→","",null,678,null,"→",""]
[679,null,"→","",null,679,null,"→",""]
[680,null,"→","",null,680,null,"→",""]
[681,null,"→","",null,681,null,"→",""]
[682,null,"→","",null,682,null,"→",""]
[683,null,"→","",null,683,null,"→",""]
[684,null,"→","",null,684,null,"→",""]
[685,null,"→","",null,685,null,"→",""]
[686,null,"→","",null,686,null,"→",""]
[687,null,"→","",null,687,null,"→",""]
[688,null,"→","",null,688,null,"→",""]
[689,null,"→","",null,689,null,"→",""]
[690,null,"→","",null,690,null,"→",""]
[691,null,"→","",null,691,null,"→",""]
[692,null,"→","",null,692,null,"→",""]
[693,null,"→","",null,693,null,"→",""]
[694,null,"→","",null,694,null,"→",""]
[695,null,"→","",null,695,null,"→",""]
[696,null,"→","",null,696,null,"→",""]
[697,null,"→","",null,697,null,"→",""]
[698,null,"→","",null,698,null,"→",""]
[699,null,"→","",null,699,null,"→",""]
[700,null,"→","",null,700,null,"→",""]
[701,null,"→","",null,701,null,"→",""]
[702,null,"→","",null,702,null,"→",""]
[703,null,"→","",null,703,null,"→",""]
[704,null,"→","",null,704,null,"→",""]
[705,null,"→","",null,705,null,"→",""]
[{"$f":"ROW()-1","v":706},null,"→",{"$f":"PHONETIC(B707)","v":""},null,{"$f":"ROW()-1","v":706},null,"→",{"$f":"PHONETIC(G707)","v":""}]
[707,null,"→","",null,707,null,"→",""]
[708,null,"→","",null,708,null,"→",""]
[709,null,"→","",null,709,null,"→",""]
[710,null,"→","",null,710,null,"→",""]
[711,null,"→","",null,711,null,"→",""]
[712,null,"→","",null,712,null,"→",""]
[713,null,"→","",null,713,null,"→",""]
[714,null,"→","",null,714,null,"→",""]
[715,null,"→","",null,715,null,"→",""]
[716,null,"→","",null,716,null,"→",""]
[717,null,"→","",null,717,null,"→",""]
[718,null,"→","",null,718,null,"→",""]
[719,null,"→","",null,719,null,"→",""]
[720,null,"→","",null,720,null,"→",""]
[721,null,"→","",null,721,null,"→",""]
[722,null,"→","",null,722,null,"→",""]
[723,null,"→","",null,723,null,"→",""]
[724,null,"→","",null,724,null,"→",""]
[725,null,"→","",null,725,null,"→",""]
[726,null,"→","",null,726,null,"→",""]
[727,null,"→","",null,727,null,"→",""]
[728,null,"→","",null,728,null,"→",""]
[729,null,"→","",null,729,null,"→",""]
[730,null,"→","",null,730,null,"→",""]
[731,null,"→","",null,731,null,"→",""]
[732,null,"→","",null,732,null,"→",""]
[733,null,"→","",null,733,null,"→",""]
[734,null,"→","",null,734,null,"→",""]
[735,null,"→","",null,735,null,"→",""]
[736,null,"→","",null,736,null,"→",""]
[737,null,"→","",null,737,null,"→",""]
[738,null,"→","",null,738,null,"→",""]
[739,null,"→","",null,739,null,"→",""]
[740,null,"→","",null,740,null,"→",""]
[741,null,"→","",null,741,null,"→",""]
[742,null,"→","",null,742,null,"→",""]
[743,null,"→","",null,743,null,"→",""]
[744,null,"→","",null,744,null,"→",""]
[745,null,"→","",null,745,null,"→",""]
[746,null,"→","",null,746,null,"→",""]
[747,null,"→","",null,747,null,"→",""]
[748,null,"→","",null,748,null,"→",""]
[749,null,"→","",null,749,null,"→",""]
[750,null,"→","",null,750,null,"→",""]
[751,null,"→","",null,751,null,"→",""]
[752,null,"→","",null,752,null,"→",""]
[753,null,"→","",null,753,null,"→",""]
[754,null,"→","",null,754,null,"→",""]
[755,null,"→","",null,755,null,"→",""]
[756,null,"→","",null,756,null,"→",""]
[757,null,"→","",null,757,null,"→",""]
[758,null,"→","",null,758,null,"→",""]
[759,null,"→","",null,759,null,"→",""]
[760,null,"→","",null,760,null,"→",""]
[761,null,"→","",null,761,null,"→",""]
[762,null,"→","",null,762,null,"→",""]
[763,null,"→","",null,763,null,"→",""]
[764,null,"→","",null,764,null,"→",""]
[765,null,"→","",null,765,null,"→",""]
[766,null,"→","",null,766,null,"→",""]
[767,null,"→","",null,767,null,"→",""]
[768,null,"→","",null,768,null,"→",""]
[769,null,"→","",null,769,null,"→",""]
[{"$f":"ROW()-1","v":770},null,"→",{"$f":"PHONETIC(B771)","v":""},null,{"$f":"ROW()-1","v":770},null,"→",{"$f":"PHONETIC(G771)","v":""}]
[771,null,"→","",null,771,null,"→",""]
[772,null,"→","",null,772,null,"→",""]
[773,null,"→","",null,773,null,"→",""]
[774,null,"→","",null,774,null,"→",""]
[775,null,"→","",null,775,null,"→",""]
[776,null,"→","",null,776,null,"→",""]
[777,null,"→","",null,777,null,"→",""]
[778,null,"→","",null,778,null,"→",""]
[779,null,"→","",null,779,null,"→",""]
[780,null,"→","",null,780,null,"→",""]
[781,null,"→","",null,781,null,"→",""]
[782,null,"→","",null,782,null,"→",""]
[783,null,"→","",null,783,null,"→",""]
[784,null,"→","",null,784,null,"→",""]
[785,null,"→","",null,785,null,"→",""]
[786,null,"→","",null,786,null,"→",""]
[787,null,"→","",null,787,null,"→",""]
[788,null,"→","",null,788,null,"→",""]
[789,null,"→","",null,789,null,"→",""]
[790,null,"→","",null,790,null,"→",""]
[791,null,"→","",null,791,null,"→",""]
[792,null,"→","",null,792,null,"→",""]
[793,null,"→","",null,793,null,"→",""]
[794,null,"→","",null,794,null,"→",""]
[795,null,"→","",null,795,null,"→",""]
[796,null,"→","",null,796,null,"→",""]
[797,null,"→","",null,797,null,"→",""]
[798,null,"→","",null,798,null,"→",""]
[799,null,"→","",null,799,null,"→",""]
[800,null,"→","",null,800,null,"→",""]
[801,null,"→","",null,801,null,"→",""]
[802,null,"→","",null,802,null,"→",""]
[803,null,"→","",null,803,null,"→",""]
[804,null,"→","",null,804,null,"→",""]
[805,null,"→","",null,805,null,"→",""]
[806,null,"→","",null,806,null,"→",""]
[807,null,"→","",null,807,null,"→",""]
[808,null,"→","",null,808,null,"→",""]
[809,null,"→","",null,809,null,"→",""]
[810,null,"→","",null,810,null,"→",""]
[811,null,"→","",null,811,null,"→",""]
[812,null,"→","",null,812,null,"→",""]
[813,null,"→","",null,813,null,"→",""]
[814,null,"→","",null,814,null,"→",""]
[815,null,"→","",null,815,null,"→",""]
[816,null,"→","",null,816,null,"→",""]
[817,null,"→","",null,817,null,"→",""]
[818,null,"→","",null,818,null,"→",""]
[819,null,"→","",null,819,null,"→",""]
[820,null,"→","",null,820,null,"→",""]
[821,null,"→","",null,821,null,"→",""]
[822,null,"→","",null,822,null,"→",""]
[823,null,"→","",null,823,null,"→",""]
[824,null,"→","",null,824,null,"→",""]
[825,null,"→","",null,825,null,"→",""]
[826,null,"→","",null,826,null,"→",""]
[827,null,"→","",null,827,null,"→",""]
[828,null,"→","",null,828,null,"→",""]
[829,null,"→","",null,829,null,"→",""]
[830,null,"→","",null,830,null,"→",""]
[831,null,"→","",null,831,null,"→",""]
[832,null,"→","",null,832,null,"→",""]
[833,null,"→","",null,833,null,"→",""]
[{"$f":"ROW()-1","v":834},null,"→",{"$f":"PHONETIC(B835)","v":""},null,{"$f":"ROW()-1","v":834},null,"→",{"$f":"PHONETIC(G835)","v":""}]
[835,null,"→","",null,835,null,"→",""]
[836,null,"→","",null,836,null,"→",""]
[837,null,"→","",null,837,null,"→",""]
[838,null,"→","",null,838,null,"→",""]
[839,null,"→","",null,839,null,"→",""]
[840,null,"→","",null,840,null,"→",""]
[841,null,"→","",null,841,null,"→",""]
[842,null,"→","",null,842,null,"→",""]
[843,null,"→","",null,843,null,"→",""]
[844,null,"→","",null,844,null,"→",""]
[845,null,"→","",null,845,null,"→",""]
[846,null,"→","",null,846,null,"→",""]
[847,null,"→","",null,847,null,"→",""]
[848,null,"→","",null,848,null,"→",""]
[849,null,"→","",null,849,null,"→",""]
[850,null,"→","",null,850,null,"→",""]
[851,null,"→","",null,851,null,"→",""]
[852,null,"→","",null,852,null,"→",""]
[853,null,"→","",null,853,null,"→",""]
[854,null,"→","",null,854,null,"→",""]
[855,null,"→","",null,855,null,"→",""]
[856,null,"→","",null,856,null,"→",""]
[857,null,"→","",null,857,null,"→",""]
[858,null,"→","",null,858,null,"→",""]
[859,null,"→","",null,859,null,"→",""]
[860,null,"→","",null,860,null,"→",""]
[861,null,"→","",null,861,null,"→",""]
[862,null,"→","",null,862,null,"→",""]
[863,null,"→","",null,863,null,"→",""]
[864,null,"→","",null,864,null,"→",""]
[865,null,"→","",null,865,null,"→",""]
[866,null,"→","",null,866,null,"→",""]
[867,null,"→","",null,867,null,"→",""]
[868,null,"→","",null,868,null,"→",""]
[869,null,"→","",null,869,null,"→",""]
[870,null,"→","",null,870,null,"→",""]
[871,null,"→","",null,871,null,"→",""]
[872,null,"→","",null,872,null,"→",""]
[873,null,"→","",null,873,null,"→",""]
[874,null,"→","",null,874,null,"→",""]
[875,null,"→","",null,875,null,"→",""]
[876,null,"→","",null,876,null,"→",""]
[877,null,"→","",null,877,null,"→",""]
[878,null,"→","",null,878,null,"→",""]
[879,null,"→","",null,879,null,"→",""]
[880,null,"→","",null,880,null,"→",""]
[881,null,"→","",null,881,null,"→",""]
[882,null,"→","",null,882,null,"→",""]
[883,null,"→","",null,883,null,"→",""]
[884,null,"→","",null,884,null,"→",""]
[885,null,"→","",null,885,null,"→",""]
[886,null,"→","",null,886,null,"→",""]
[887,null,"→","",null,887,null,"→",""]
[888,null,"→","",null,888,null,"→",""]
[889,null,"→","",null,889,null,"→",""]
[890,null,"→","",null,890,null,"→",""]
[891,null,"→","",null,891,null,"→",""]
[892,null,"→","",null,892,null,"→",""]
[893,null,"→","",null,893,null,"→",""]
[894,null,"→","",null,894,null,"→",""]
[895,null,"→","",null,895,null,"→",""]
[896,null,"→","",null,896,null,"→",""]
[897,null,"→","",null,897,null,"→",""]
[{"$f":"ROW()-1","v":898},null,"→",{"$f":"PHONETIC(B899)","v":""},null,{"$f":"ROW()-1","v":898},null,"→",{"$f":"PHONETIC(G899)","v":""}]
[899,null,"→","",null,899,null,"→",""]
[900,null,"→","",null,900,null,"→",""]
[901,null,"→","",null,901,null,"→",""]
[902,null,"→","",null,902,null,"→",""]
[903,null,"→","",null,903,null,"→",""]
[904,null,"→","",null,904,null,"→",""]
[905,null,"→","",null,905,null,"→",""]
[906,null,"→","",null,906,null,"→",""]
[907,null,"→","",null,907,null,"→",""]
[908,null,"→","",null,908,null,"→",""]
[909,null,"→","",null,909,null,"→",""]
[910,null,"→","",null,910,null,"→",""]
[911,null,"→","",null,911,null,"→",""]
[912,null,"→","",null,912,null,"→",""]
[913,null,"→","",null,913,null,"→",""]
[914,null,"→","",null,914,null,"→",""]
[915,null,"→","",null,915,null,"→",""]
[916,null,"→","",null,916,null,"→",""]
[917,null,"→","",null,917,null,"→",""]
[918,null,"→","",null,918,null,"→",""]
[919,null,"→","",null,919,null,"→",""]
[920,null,"→","",null,920,null,"→",""]
[921,null,"→","",null,921,null,"→",""]
[922,null,"→","",null,922,null,"→",""]
[923,null,"→","",null,923,null,"→",""]
[924,null,"→","",null,924,null,"→",""]
[925,null,"→","",null,925,null,"→",""]
[926,null,"→","",null,926,null,"→",""]
[927,null,"→","",null,927,null,"→",""]
[928,null,"→","",null,928,null,"→",""]
[929,null,"→","",null,929,null,"→",""]
[930,null,"→","",null,930,null,"→",""]
[931,null,"→","",null,931,null,"→",""]
[932,null,"→","",null,932,null,"→",""]
[933,null,"→","",null,933,null,"→",""]
[934,null,"→","",null,934,null,"→",""]
[935,null,"→","",null,935,null,"→",""]
[936,null,"→","",null,936,null,"→",""]
[937,null,"→","",null,937,null,"→",""]
[938,null,"→","",null,938,null,"→",""]
[939,null,"→","",null,939,null,"→",""]
[940,null,"→","",null,940,null,"→",""]
[941,null,"→","",null,941,null,"→",""]
[942,null,"→","",null,942,null,"→",""]
[943,null,"→","",null,943,null,"→",""]
[944,null,"→","",null,944,null,"→",""]
[945,null,"→","",null,945,null,"→",""]
[946,null,"→","",null,946,null,"→",""]
[947,null,"→","",null,947,null,"→",""]
[948,null,"→","",null,948,null,"→",""]
[949,null,"→","",null,949,null,"→",""]
[950,null,"→","",null,950,null,"→",""]
[951,null,"→","",null,951,null,"→",""]
[952,null,"→","",null,952,null,"→",""]
[953,null,"→","",null,953,null,"→",""]
[954,null,"→","",null,954,null,"→",""]
[955,null,"→","",null,955,null,"→",""]
[956,null,"→","",null,956,null,"→",""]
[957,null,"→","",null,957,null,"→",""]
[958,null,"→","",null,958,null,"→",""]
[959,null,"→","",null,959,null,"→",""]
[960,null,"→","",null,960,null,"→",""]
[961,null,"→","",null,961,null,"→",""]
[{"$f":"ROW()-1","v":962},null,"→",{"$f":"PHONETIC(B963)","v":""},null,{"$f":"ROW()-1","v":962},null,"→",{"$f":"PHONETIC(G963)","v":""}]
[963,null,"→","",null,963,null,"→",""]
[964,null,"→","",null,964,null,"→",""]
[965,null,"→","",null,965,null,"→",""]
[966,null,"→","",null,966,null,"→",""]
[967,null,"→","",null,967,null,"→",""]
[968,null,"→","",null,968,null,"→",""]
[969,null,"→","",null,969,null,"→",""]
[970,null,"→","",null,970,null,"→",""]
[971,null,"→","",null,971,null,"→",""]
[972,null,"→","",null,972,null,"→",""]
[973,null,"→","",null,973,null,"→",""]
[974,null,"→","",null,974,null,"→",""]
[975,null,"→","",null,975,null,"→",""]
[976,null,"→","",null,976,null,"→",""]
[977,null,"→","",null,977,null,"→",""]
[978,null,"→","",null,978,null,"→",""]
[979,null,"→","",null,979,null,"→",""]
[980,null,"→","",null,980,null,"→",""]
[981,null,"→","",null,981,null,"→",""]
[982,null,"→","",null,982,null,"→",""]
[983,null,"→","",null,983,null,"→",""]
[984,null,"→","",null,984,null,"→",""]
[985,null,"→","",null,985,null,"→",""]
[986,null,"→","",null,986,null,"→",""]
[987,null,"→","",null,987,null,"→",""]
[988,null,"→","",null,988,null,"→",""]
[989,null,"→","",null,989,null,"→",""]
[990,null,"→","",null,990,null,"→",""]
[991,null,"→","",null,991,null,"→",""]
[992,null,"→","",null,992,null,"→",""]
[993,null,"→","",null,993,null,"→",""]
[994,null,"→","",null,994,null,"→",""]
[995,null,"→","",null,995,null,"→",""]
[996,null,"→","",null,996,null,"→",""]
[997,null,"→","",null,997,null,"→",""]
[998,null,"→","",null,998,null,"→",""]
[999,null,"→","",null,999,null,"→",""]
[1000,null,"→","",null,1000,null,"→",""]
[1001,null,"→","",null,1001,null,"→",""]
[1002,null,"→","",null,1002,null,"→",""]
[1003,null,"→","",null,1003,null,"→",""]
[1004,null,"→","",null,1004,null,"→",""]
[1005,null,"→","",null,1005,null,"→",""]
[1006,null,"→","",null,1006,null,"→",""]
[1007,null,"→","",null,1007,null,"→",""]
[1008,null,"→","",null,1008,null,"→",""]
[1009,null,"→","",null,1009,null,"→",""]
[1010,null,"→","",null,1010,null,"→",""]
[1011,null,"→","",null,1011,null,"→",""]
[1012,null,"→","",null,1012,null,"→",""]
[1013,null,"→","",null,1013,null,"→",""]
[1014,null,"→","",null,1014,null,"→",""]
[1015,null,"→","",null,1015,null,"→",""]
[1016,null,"→","",null,1016,null,"→",""]
[1017,null,"→","",null,1017,null,"→",""]
[1018,null,"→","",null,1018,null,"→",""]
[1019,null,"→","",null,1019,null,"→",""]
[1020,null,"→","",null,1020,null,"→",""]
[1021,null,"→","",null,1021,null,"→",""]
[1022,null,"→","",null,1022,null,"→",""]
[1023,null,"→","",null,1023,null,"→",""]
[1024,null,"→","",null,1024,null,"→",""]
[1025,null,"→","",null,1025,null,"→",""]
[{"$f":"ROW()-1","v":1026},null,"→",{"$f":"PHONETIC(B1027)","v":""},null,{"$f":"ROW()-1","v":1026},null,"→",{"$f":"PHONETIC(G1027)","v":""}]
[1027,null,"→","",null,1027,null,"→",""]
[1028,null,"→","",null,1028,null,"→",""]
[1029,null,"→","",null,1029,null,"→",""]
[1030,null,"→","",null,1030,null,"→",""]
[1031,null,"→","",null,1031,null,"→",""]
[1032,null,"→","",null,1032,null,"→",""]
[1033,null,"→","",null,1033,null,"→",""]
[1034,null,"→","",null,1034,null,"→",""]
[1035,null,"→","",null,1035,null,"→",""]
[1036,null,"→","",null,1036,null,"→",""]
[1037,null,"→","",null,1037,null,"→",""]
[1038,null,"→","",null,1038,null,"→",""]
[1039,null,"→","",null,1039,null,"→",""]
[1040,null,"→","",null,1040,null,"→",""]
[1041,null,"→","",null,1041,null,"→",""]
[1042,null,"→","",null,1042,null,"→",""]
[1043,null,"→","",null,1043,null,"→",""]
[1044,null,"→","",null,1044,null,"→",""]
[1045,null,"→","",null,1045,null,"→",""]
[1046,null,"→","",null,1046,null,"→",""]
[1047,null,"→","",null,1047,null,"→",""]
[1048,null,"→","",null,1048,null,"→",""]
[1049,null,"→","",null,1049,null,"→",""]
[1050,null,"→","",null,1050,null,"→",""]
[1051,null,"→","",null,1051,null,"→",""]
[1052,null,"→","",null,1052,null,"→",""]
[1053,null,"→","",null,1053,null,"→",""]
[1054,null,"→","",null,1054,null,"→",""]
[1055,null,"→","",null,1055,null,"→",""]
[1056,null,"→","",null,1056,null,"→",""]
[1057,null,"→","",null,1057,null,"→",""]
[1058,null,"→","",null,1058,null,"→",""]
[1059,null,"→","",null,1059,null,"→",""]
[1060,null,"→","",null,1060,null,"→",""]
[1061,null,"→","",null,1061,null,"→",""]
[1062,null,"→","",null,1062,null,"→",""]
[1063,null,"→","",null,1063,null,"→",""]
[1064,null,"→","",null,1064,null,"→",""]
[1065,null,"→","",null,1065,null,"→",""]
[1066,null,"→","",null,1066,null,"→",""]
[1067,null,"→","",null,1067,null,"→",""]
[1068,null,"→","",null,1068,null,"→",""]
[1069,null,"→","",null,1069,null,"→",""]
[1070,null,"→","",null,1070,null,"→",""]
[1071,null,"→","",null,1071,null,"→",""]
[1072,null,"→","",null,1072,null,"→",""]
[1073,null,"→","",null,1073,null,"→",""]
[1074,null,"→","",null,1074,null,"→",""]
[1075,null,"→","",null,1075,null,"→",""]
[1076,null,"→","",null,1076,null,"→",""]
[1077,null,"→","",null,1077,null,"→",""]
[1078,null,"→","",null,1078,null,"→",""]
[1079,null,"→","",null,1079,null,"→",""]
[1080,null,"→","",null,1080,null,"→",""]
[1081,null,"→","",null,1081,null,"→",""]
[1082,null,"→","",null,1082,null,"→",""]
[1083,null,"→","",null,1083,null,"→",""]
[1084,null,"→","",null,1084,null,"→",""]
[1085,null,"→","",null,1085,null,"→",""]
[1086,null,"→","",null,1086,null,"→",""]
[1087,null,"→","",null,1087,null,"→",""]
[1088,null,"→","",null,1088,null,"→",""]
[1089,null,"→","",null,1089,null,"→",""]
[{"$f":"ROW()-1","v":1090},null,"→",{"$f":"PHONETIC(B1091)","v":""},null,{"$f":"ROW()-1","v":1090},null,"→",{"$f":"PHONETIC(G1091)","v":""}]
[1091,null,"→","",null,1091,null,"→",""]
[1092,null,"→","",null,1092,null,"→",""]
[1093,null,"→","",null,1093,null,"→",""]
[1094,null,"→","",null,1094,null,"→",""]
[1095,null,"→","",null,1095,null,"→",""]
[1096,null,"→","",null,1096,null,"→",""]
[1097,null,"→","",null,1097,null,"→",""]
[1098,null,"→","",null,1098,null,"→",""]
[1099,null,"→","",null,1099,null,"→",""]
[1100,null,"→","",null,1100,null,"→",""]
[1101,null,"→","",null,1101,null,"→",""]
[1102,null,"→","",null,1102,null,"→",""]
[1103,null,"→","",null,1103,null,"→",""]
[1104,null,"→","",null,1104,null,"→",""]
[1105,null,"→","",null,1105,null,"→",""]
[1106,null,"→","",null,1106,null,"→",""]
[1107,null,"→","",null,1107,null,"→",""]
[1108,null,"→","",null,1108,null,"→",""]
[1109,null,"→","",null,1109,null,"→",""]
[1110,null,"→","",null,1110,null,"→",""]
[1111,null,"→","",null,1111,null,"→",""]
[1112,null,"→","",null,1112,null,"→",""]
[1113,null,"→","",null,1113,null,"→",""]
[1114,null,"→","",null,1114,null,"→",""]
[1115,null,"→","",null,1115,null,"→",""]
[1116,null,"→","",null,1116,null,"→",""]
[1117,null,"→","",null,1117,null,"→",""]
[1118,null,"→","",null,1118,null,"→",""]
[1119,null,"→","",null,1119,null,"→",""]
[1120,null,"→","",null,1120,null,"→",""]
[1121,null,"→","",null,1121,null,"→",""]
[1122,null,"→","",null,1122,null,"→",""]
[1123,null,"→","",null,1123,null,"→",""]
[1124,null,"→","",null,1124,null,"→",""]
[1125,null,"→","",null,1125,null,"→",""]
[1126,null,"→","",null,1126,null,"→",""]
[1127,null,"→","",null,1127,null,"→",""]
[1128,null,"→","",null,1128,null,"→",""]
[1129,null,"→","",null,1129,null,"→",""]
[1130,null,"→","",null,1130,null,"→",""]
[1131,null,"→","",null,1131,null,"→",""]
[1132,null,"→","",null,1132,null,"→",""]
[1133,null,"→","",null,1133,null,"→",""]
[1134,null,"→","",null,1134,null,"→",""]
[1135,null,"→","",null,1135,null,"→",""]
[1136,null,"→","",null,1136,null,"→",""]
[1137,null,"→","",null,1137,null,"→",""]
[1138,null,"→","",null,1138,null,"→",""]
[1139,null,"→","",null,1139,null,"→",""]
[1140,null,"→","",null,1140,null,"→",""]
[1141,null,"→","",null,1141,null,"→",""]
[1142,null,"→","",null,1142,null,"→",""]
[1143,null,"→","",null,1143,null,"→",""]
[1144,null,"→","",null,1144,null,"→",""]
[1145,null,"→","",null,1145,null,"→",""]
[1146,null,"→","",null,1146,null,"→",""]
[1147,null,"→","",null,1147,null,"→",""]
[1148,null,"→","",null,1148,null,"→",""]
[1149,null,"→","",null,1149,null,"→",""]
[1150,null,"→","",null,1150,null,"→",""]
[1151,null,"→","",null,1151,null,"→",""]
[1152,null,"→","",null,1152,null,"→",""]
[1153,null,"→","",null,1153,null,"→",""]
[{"$f":"ROW()-1","v":1154},null,"→",{"$f":"PHONETIC(B1155)","v":""},null,{"$f":"ROW()-1","v":1154},null,"→",{"$f":"PHONETIC(G1155)","v":""}]
[1155,null,"→","",null,1155,null,"→",""]
[1156,null,"→","",null,1156,null,"→",""]
[1157,null,"→","",null,1157,null,"→",""]
[1158,null,"→","",null,1158,null,"→",""]
[1159,null,"→","",null,1159,null,"→",""]
[1160,null,"→","",null,1160,null,"→",""]
[1161,null,"→","",null,1161,null,"→",""]
[1162,null,"→","",null,1162,null,"→",""]
[1163,null,"→","",null,1163,null,"→",""]
[1164,null,"→","",null,1164,null,"→",""]
[1165,null,"→","",null,1165,null,"→",""]
[1166,null,"→","",null,1166,null,"→",""]
[1167,null,"→","",null,1167,null,"→",""]
[1168,null,"→","",null,1168,null,"→",""]
[1169,null,"→","",null,1169,null,"→",""]
[1170,null,"→","",null,1170,null,"→",""]
[1171,null,"→","",null,1171,null,"→",""]
[1172,null,"→","",null,1172,null,"→",""]
[1173,null,"→","",null,1173,null,"→",""]
[1174,null,"→","",null,1174,null,"→",""]
[1175,null,"→","",null,1175,null,"→",""]
[1176,null,"→","",null,1176,null,"→",""]
[1177,null,"→","",null,1177,null,"→",""]
[1178,null,"→","",null,1178,null,"→",""]
[1179,null,"→","",null,1179,null,"→",""]
[1180,null,"→","",null,1180,null,"→",""]
[1181,null,"→","",null,1181,null,"→",""]
[1182,null,"→","",null,1182,null,"→",""]
[1183,null,"→","",null,1183,null,"→",""]
[1184,null,"→","",null,1184,null,"→",""]
[1185,null,"→","",null,1185,null,"→",""]
[1186,null,"→","",null,1186,null,"→",""]
[1187,null,"→","",null,1187,null,"→",""]
[1188,null,"→","",null,1188,null,"→",""]
[1189,null,"→","",null,1189,null,"→",""]
[1190,null,"→","",null,1190,null,"→",""]
[1191,null,"→","",null,1191,null,"→",""]
[1192,null,"→","",null,1192,null,"→",""]
[1193,null,"→","",null,1193,null,"→",""]
[1194,null,"→","",null,1194,null,"→",""]
[1195,null,"→","",null,1195,null,"→",""]
[1196,null,"→","",null,1196,null,"→",""]
[1197,null,"→","",null,1197,null,"→",""]
[1198,null,"→","",null,1198,null,"→",""]
[1199,null,"→","",null,1199,null,"→",""]
[1200,null,"→","",null,1200,null,"→",""]
[1201,null,"→","",null,1201,null,"→",""]
[1202,null,"→","",null,1202,null,"→",""]
[1203,null,"→","",null,1203,null,"→",""]
[1204,null,"→","",null,1204,null,"→",""]
[1205,null,"→","",null,1205,null,"→",""]
[1206,null,"→","",null,1206,null,"→",""]
[1207,null,"→","",null,1207,null,"→",""]
[1208,null,"→","",null,1208,null,"→",""]
[1209,null,"→","",null,1209,null,"→",""]
[1210,null,"→","",null,1210,null,"→",""]
[1211,null,"→","",null,1211,null,"→",""]
[1212,null,"→","",null,1212,null,"→",""]
[1213,null,"→","",null,1213,null,"→",""]
[1214,null,"→","",null,1214,null,"→",""]
[1215,null,"→","",null,1215,null,"→",""]
[1216,null,"→","",null,1216,null,"→",""]
[1217,null,"→","",null,1217,null,"→",""]
[{"$f":"ROW()-1","v":1218},null,"→",{"$f":"PHONETIC(B1219)","v":""},null,{"$f":"ROW()-1","v":1218},null,"→",{"$f":"PHONETIC(G1219)","v":""}]
[1219,null,"→","",null,1219,null,"→",""]
[1220,null,"→","",null,1220,null,"→",""]
[1221,null,"→","",null,1221,null,"→",""]
[1222,null,"→","",null,1222,null,"→",""]
[1223,null,"→","",null,1223,null,"→",""]
[1224,null,"→","",null,1224,null,"→",""]
[1225,null,"→","",null,1225,null,"→",""]
[1226,null,"→","",null,1226,null,"→",""]
[1227,null,"→","",null,1227,null,"→",""]
[1228,null,"→","",null,1228,null,"→",""]
[1229,null,"→","",null,1229,null,"→",""]
[1230,null,"→","",null,1230,null,"→",""]
[1231,null,"→","",null,1231,null,"→",""]
[1232,null,"→","",null,1232,null,"→",""]
[1233,null,"→","",null,1233,null,"→",""]
[1234,null,"→","",null,1234,null,"→",""]
[1235,null,"→","",null,1235,null,"→",""]
[1236,null,"→","",null,1236,null,"→",""]
[1237,null,"→","",null,1237,null,"→",""]
[1238,null,"→","",null,1238,null,"→",""]
[1239,null,"→","",null,1239,null,"→",""]
[1240,null,"→","",null,1240,null,"→",""]
[1241,null,"→","",null,1241,null,"→",""]
[1242,null,"→","",null,1242,null,"→",""]
[1243,null,"→","",null,1243,null,"→",""]
[1244,null,"→","",null,1244,null,"→",""]
[1245,null,"→","",null,1245,null,"→",""]
[1246,null,"→","",null,1246,null,"→",""]
[1247,null,"→","",null,1247,null,"→",""]
[1248,null,"→","",null,1248,null,"→",""]
[1249,null,"→","",null,1249,null,"→",""]
[1250,null,"→","",null,1250,null,"→",""]
[1251,null,"→","",null,1251,null,"→",""]
[1252,null,"→","",null,1252,null,"→",""]
[1253,null,"→","",null,1253,null,"→",""]
[1254,null,"→","",null,1254,null,"→",""]
[1255,null,"→","",null,1255,null,"→",""]
[1256,null,"→","",null,1256,null,"→",""]
[1257,null,"→","",null,1257,null,"→",""]
[1258,null,"→","",null,1258,null,"→",""]
[1259,null,"→","",null,1259,null,"→",""]
[1260,null,"→","",null,1260,null,"→",""]
[1261,null,"→","",null,1261,null,"→",""]
[1262,null,"→","",null,1262,null,"→",""]
[1263,null,"→","",null,1263,null,"→",""]
[1264,null,"→","",null,1264,null,"→",""]
[1265,null,"→","",null,1265,null,"→",""]
[1266,null,"→","",null,1266,null,"→",""]
[1267,null,"→","",null,1267,null,"→",""]
[1268,null,"→","",null,1268,null,"→",""]
[1269,null,"→","",null,1269,null,"→",""]
[1270,null,"→","",null,1270,null,"→",""]
[1271,null,"→","",null,1271,null,"→",""]
[1272,null,"→","",null,1272,null,"→",""]
[1273,null,"→","",null,1273,null,"→",""]
[1274,null,"→","",null,1274,null,"→",""]
[1275,null,"→","",null,1275,null,"→",""]
[1276,null,"→","",null,1276,null,"→",""]
[1277,null,"→","",null,1277,null,"→",""]
[1278,null,"→","",null,1278,null,"→",""]
[1279,null,"→","",null,1279,null,"→",""]
[1280,null,"→","",null,1280,null,"→",""]
[1281,null,"→","",null,1281,null,"→",""]
[{"$f":"ROW()-1","v":1282},null,"→",{"$f":"PHONETIC(B1283)","v":""},null,{"$f":"ROW()-1","v":1282},null,"→",{"$f":"PHONETIC(G1283)","v":""}]
[1283,null,"→","",null,1283,null,"→",""]
[1284,null,"→","",null,1284,null,"→",""]
[1285,null,"→","",null,1285,null,"→",""]
[1286,null,"→","",null,1286,null,"→",""]
[1287,null,"→","",null,1287,null,"→",""]
[1288,null,"→","",null,1288,null,"→",""]
[1289,null,"→","",null,1289,null,"→",""]
[1290,null,"→","",null,1290,null,"→",""]
[1291,null,"→","",null,1291,null,"→",""]
[1292,null,"→","",null,1292,null,"→",""]
[1293,null,"→","",null,1293,null,"→",""]
[1294,null,"→","",null,1294,null,"→",""]
[1295,null,"→","",null,1295,null,"→",""]
[1296,null,"→","",null,1296,null,"→",""]
[1297,null,"→","",null,1297,null,"→",""]
[1298,null,"→","",null,1298,null,"→",""]
[1299,null,"→","",null,1299,null,"→",""]
[1300,null,"→","",null,1300,null,"→",""]
[1301,null,"→","",null,1301,null,"→",""]
[1302,null,"→","",null,1302,null,"→",""]
[1303,null,"→","",null,1303,null,"→",""]
[1304,null,"→","",null,1304,null,"→",""]
[1305,null,"→","",null,1305,null,"→",""]
[1306,null,"→","",null,1306,null,"→",""]
[1307,null,"→","",null,1307,null,"→",""]
[1308,null,"→","",null,1308,null,"→",""]
[1309,null,"→","",null,1309,null,"→",""]
[1310,null,"→","",null,1310,null,"→",""]
[1311,null,"→","",null,1311,null,"→",""]
[1312,null,"→","",null,1312,null,"→",""]
[1313,null,"→","",null,1313,null,"→",""]
[1314,null,"→","",null,1314,null,"→",""]
[1315,null,"→","",null,1315,null,"→",""]
[1316,null,"→","",null,1316,null,"→",""]
[1317,null,"→","",null,1317,null,"→",""]
[1318,null,"→","",null,1318,null,"→",""]
[1319,null,"→","",null,1319,null,"→",""]
[1320,null,"→","",null,1320,null,"→",""]
[1321,null,"→","",null,1321,null,"→",""]
[1322,null,"→","",null,1322,null,"→",""]
[1323,null,"→","",null,1323,null,"→",""]
[1324,null,"→","",null,1324,null,"→",""]
[1325,null,"→","",null,1325,null,"→",""]
[1326,null,"→","",null,1326,null,"→",""]
[1327,null,"→","",null,1327,null,"→",""]
[1328,null,"→","",null,1328,null,"→",""]
[1329,null,"→","",null,1329,null,"→",""]
[1330,null,"→","",null,1330,null,"→",""]
[1331,null,"→","",null,1331,null,"→",""]
[1332,null,"→","",null,1332,null,"→",""]
[1333,null,"→","",null,1333,null,"→",""]
[1334,null,"→","",null,1334,null,"→",""]
[1335,null,"→","",null,1335,null,"→",""]
[1336,null,"→","",null,1336,null,"→",""]
[1337,null,"→","",null,1337,null,"→",""]
[1338,null,"→","",null,1338,null,"→",""]
[1339,null,"→","",null,1339,null,"→",""]
[1340,null,"→","",null,1340,null,"→",""]
[1341,null,"→","",null,1341,null,"→",""]
[1342,null,"→","",null,1342,null,"→",""]
[1343,null,"→","",null,1343,null,"→",""]
[1344,null,"→","",null,1344,null,"→",""]
[1345,null,"→","",null,1345,null,"→",""]
[{"$f":"ROW()-1","v":1346},null,"→",{"$f":"PHONETIC(B1347)","v":""},null,{"$f":"ROW()-1","v":1346},null,"→",{"$f":"PHONETIC(G1347)","v":""}]
[1347,null,"→","",null,1347,null,"→",""]
[1348,null,"→","",null,1348,null,"→",""]
[1349,null,"→","",null,1349,null,"→",""]
[1350,null,"→","",null,1350,null,"→",""]
[1351,null,"→","",null,1351,null,"→",""]
[1352,null,"→","",null,1352,null,"→",""]
[1353,null,"→","",null,1353,null,"→",""]
[1354,null,"→","",null,1354,null,"→",""]
[1355,null,"→","",null,1355,null,"→",""]
[1356,null,"→","",null,1356,null,"→",""]
[1357,null,"→","",null,1357,null,"→",""]
[1358,null,"→","",null,1358,null,"→",""]
[1359,null,"→","",null,1359,null,"→",""]
[1360,null,"→","",null,1360,null,"→",""]
[1361,null,"→","",null,1361,null,"→",""]
[1362,null,"→","",null,1362,null,"→",""]
[1363,null,"→","",null,1363,null,"→",""]
[1364,null,"→","",null,1364,null,"→",""]
[1365,null,"→","",null,1365,null,"→",""]
[1366,null,"→","",null,1366,null,"→",""]
[1367,null,"→","",null,1367,null,"→",""]
[1368,null,"→","",null,1368,null,"→",""]
[1369,null,"→","",null,1369,null,"→",""]
[1370,null,"→","",null,1370,null,"→",""]
[1371,null,"→","",null,1371,null,"→",""]
[1372,null,"→","",null,1372,null,"→",""]
[1373,null,"→","",null,1373,null,"→",""]
[1374,null,"→","",null,1374,null,"→",""]
[1375,null,"→","",null,1375,null,"→",""]
[1376,null,"→","",null,1376,null,"→",""]
[1377,null,"→","",null,1377,null,"→",""]
[1378,null,"→","",null,1378,null,"→",""]
[1379,null,"→","",null,1379,null,"→",""]
[1380,null,"→","",null,1380,null,"→",""]
[1381,null,"→","",null,1381,null,"→",""]
[1382,null,"→","",null,1382,null,"→",""]
[1383,null,"→","",null,1383,null,"→",""]
[1384,null,"→","",null,1384,null,"→",""]
[1385,null,"→","",null,1385,null,"→",""]
[1386,null,"→","",null,1386,null,"→",""]
[1387,null,"→","",null,1387,null,"→",""]
[1388,null,"→","",null,1388,null,"→",""]
[1389,null,"→","",null,1389,null,"→",""]
[1390,null,"→","",null,1390,null,"→",""]
[1391,null,"→","",null,1391,null,"→",""]
[1392,null,"→","",null,1392,null,"→",""]
[1393,null,"→","",null,1393,null,"→",""]
[1394,null,"→","",null,1394,null,"→",""]
[1395,null,"→","",null,1395,null,"→",""]
[1396,null,"→","",null,1396,null,"→",""]
[1397,null,"→","",null,1397,null,"→",""]
[1398,null,"→","",null,1398,null,"→",""]
[1399,null,"→","",null,1399,null,"→",""]
[1400,null,"→","",null,1400,null,"→",""]
[1401,null,"→","",null,1401,null,"→",""]
[1402,null,"→","",null,1402,null,"→",""]
[1403,null,"→","",null,1403,null,"→",""]
[1404,null,"→","",null,1404,null,"→",""]
[1405,null,"→","",null,1405,null,"→",""]
[1406,null,"→","",null,1406,null,"→",""]
[1407,null,"→","",null,1407,null,"→",""]
[1408,null,"→","",null,1408,null,"→",""]
[1409,null,"→","",null,1409,null,"→",""]
[{"$f":"ROW()-1","v":1410},null,"→",{"$f":"PHONETIC(B1411)","v":""},null,{"$f":"ROW()-1","v":1410},null,"→",{"$f":"PHONETIC(G1411)","v":""}]
[1411,null,"→","",null,1411,null,"→",""]
[1412,null,"→","",null,1412,null,"→",""]
[1413,null,"→","",null,1413,null,"→",""]
[1414,null,"→","",null,1414,null,"→",""]
[1415,null,"→","",null,1415,null,"→",""]
[1416,null,"→","",null,1416,null,"→",""]
[1417,null,"→","",null,1417,null,"→",""]
[1418,null,"→","",null,1418,null,"→",""]
[1419,null,"→","",null,1419,null,"→",""]
[1420,null,"→","",null,1420,null,"→",""]
[1421,null,"→","",null,1421,null,"→",""]
[1422,null,"→","",null,1422,null,"→",""]
[1423,null,"→","",null,1423,null,"→",""]
[1424,null,"→","",null,1424,null,"→",""]
[1425,null,"→","",null,1425,null,"→",""]
[1426,null,"→","",null,1426,null,"→",""]
[1427,null,"→","",null,1427,null,"→",""]
[1428,null,"→","",null,1428,null,"→",""]
[1429,null,"→","",null,1429,null,"→",""]
[1430,null,"→","",null,1430,null,"→",""]
[1431,null,"→","",null,1431,null,"→",""]
[1432,null,"→","",null,1432,null,"→",""]
[1433,null,"→","",null,1433,null,"→",""]
[1434,null,"→","",null,1434,null,"→",""]
[1435,null,"→","",null,1435,null,"→",""]
[1436,null,"→","",null,1436,null,"→",""]
[1437,null,"→","",null,1437,null,"→",""]
[1438,null,"→","",null,1438,null,"→",""]
[1439,null,"→","",null,1439,null,"→",""]
[1440,null,"→","",null,1440,null,"→",""]
[1441,null,"→","",null,1441,null,"→",""]
[1442,null,"→","",null,1442,null,"→",""]
[1443,null,"→","",null,1443,null,"→",""]
[1444,null,"→","",null,1444,null,"→",""]
[1445,null,"→","",null,1445,null,"→",""]
[1446,null,"→","",null,1446,null,"→",""]
[1447,null,"→","",null,1447,null,"→",""]
[1448,null,"→","",null,1448,null,"→",""]
[1449,null,"→","",null,1449,null,"→",""]
[1450,null,"→","",null,1450,null,"→",""]
[1451,null,"→","",null,1451,null,"→",""]
[1452,null,"→","",null,1452,null,"→",""]
[1453,null,"→","",null,1453,null,"→",""]
[1454,null,"→","",null,1454,null,"→",""]
[1455,null,"→","",null,1455,null,"→",""]
[1456,null,"→","",null,1456,null,"→",""]
[1457,null,"→","",null,1457,null,"→",""]
[1458,null,"→","",null,1458,null,"→",""]
[1459,null,"→","",null,1459,null,"→",""]
[1460,null,"→","",null,1460,null,"→",""]
[1461,null,"→","",null,1461,null,"→",""]
[1462,null,"→","",null,1462,null,"→",""]
[1463,null,"→","",null,1463,null,"→",""]
[1464,null,"→","",null,1464,null,"→",""]
[1465,null,"→","",null,1465,null,"→",""]
[1466,null,"→","",null,1466,null,"→",""]
[1467,null,"→","",null,1467,null,"→",""]
[1468,null,"→","",null,1468,null,"→",""]
[1469,null,"→","",null,1469,null,"→",""]
[1470,null,"→","",null,1470,null,"→",""]
[1471,null,"→","",null,1471,null,"→",""]
[1472,null,"→","",null,1472,null,"→",""]
[1473,null,"→","",null,1473,null,"→",""]
[{"$f":"ROW()-1","v":1474},null,"→",{"$f":"PHONETIC(B1475)","v":""},null,{"$f":"ROW()-1","v":1474},null,"→",{"$f":"PHONETIC(G1475)","v":""}]
[1475,null,"→","",null,1475,null,"→",""]
[1476,null,"→","",null,1476,null,"→",""]
[1477,null,"→","",null,1477,null,"→",""]
[1478,null,"→","",null,1478,null,"→",""]
[1479,null,"→","",null,1479,null,"→",""]
[1480,null,"→","",null,1480,null,"→",""]
[1481,null,"→","",null,1481,null,"→",""]
[1482,null,"→","",null,1482,null,"→",""]
[1483,null,"→","",null,1483,null,"→",""]
[1484,null,"→","",null,1484,null,"→",""]
[1485,null,"→","",null,1485,null,"→",""]
[1486,null,"→","",null,1486,null,"→",""]
[1487,null,"→","",null,1487,null,"→",""]
[1488,null,"→","",null,1488,null,"→",""]
[1489,null,"→","",null,1489,null,"→",""]
[1490,null,"→","",null,1490,null,"→",""]
[1491,null,"→","",null,1491,null,"→",""]
[1492,null,"→","",null,1492,null,"→",""]
[1493,null,"→","",null,1493,null,"→",""]
[1494,null,"→","",null,1494,null,"→",""]
[1495,null,"→","",null,1495,null,"→",""]
[1496,null,"→","",null,1496,null,"→",""]
[1497,null,"→","",null,1497,null,"→",""]
[1498,null,"→","",null,1498,null,"→",""]
[1499,null,"→","",null,1499,null,"→",""]
[1500,null,"→","",null,1500,null,"→",""]
[1501,null,"→","",null,1501,null,"→",""]
[1502,null,"→","",null,1502,null,"→",""]
[1503,null,"→","",null,1503,null,"→",""]
[1504,null,"→","",null,1504,null,"→",""]
[1505,null,"→","",null,1505,null,"→",""]
[1506,null,"→","",null,1506,null,"→",""]
[1507,null,"→","",null,1507,null,"→",""]
[1508,null,"→","",null,1508,null,"→",""]
[1509,null,"→","",null,1509,null,"→",""]
[1510,null,"→","",null,1510,null,"→",""]
[1511,null,"→","",null,1511,null,"→",""]
[1512,null,"→","",null,1512,null,"→",""]
[1513,null,"→","",null,1513,null,"→",""]
[1514,null,"→","",null,1514,null,"→",""]
[1515,null,"→","",null,1515,null,"→",""]
[1516,null,"→","",null,1516,null,"→",""]
[1517,null,"→","",null,1517,null,"→",""]
[1518,null,"→","",null,1518,null,"→",""]
[1519,null,"→","",null,1519,null,"→",""]
[1520,null,"→","",null,1520,null,"→",""]
[1521,null,"→","",null,1521,null,"→",""]
[1522,null,"→","",null,1522,null,"→",""]
[1523,null,"→","",null,1523,null,"→",""]
[1524,null,"→","",null,1524,null,"→",""]
[1525,null,"→","",null,1525,null,"→",""]
[1526,null,"→","",null,1526,null,"→",""]
[1527,null,"→","",null,1527,null,"→",""]
[1528,null,"→","",null,1528,null,"→",""]
[1529,null,"→","",null,1529,null,"→",""]
[1530,null,"→","",null,1530,null,"→",""]
[1531,null,"→","",null,1531,null,"→",""]
[1532,null,"→","",null,1532,null,"→",""]
[1533,null,"→","",null,1533,null,"→",""]
[1534,null,"→","",null,1534,null,"→",""]
[1535,null,"→","",null,1535,null,"→",""]
[1536,null,"→","",null,1536,null,"→",""]
[1537,null,"→","",null,1537,null,"→",""]
[{"$f":"ROW()-1","v":1538},null,"→",{"$f":"PHONETIC(B1539)","v":""},null,{"$f":"ROW()-1","v":1538},null,"→",{"$f":"PHONETIC(G1539)","v":""}]
[1539,null,"→","",null,1539,null,"→",""]
[1540,null,"→","",null,1540,null,"→",""]
[1541,null,"→","",null,1541,null,"→",""]
[1542,null,"→","",null,1542,null,"→",""]
[1543,null,"→","",null,1543,null,"→",""]
[1544,null,"→","",null,1544,null,"→",""]
[1545,null,"→","",null,1545,null,"→",""]
[1546,null,"→","",null,1546,null,"→",""]
[1547,null,"→","",null,1547,null,"→",""]
[1548,null,"→","",null,1548,null,"→",""]
[1549,null,"→","",null,1549,null,"→",""]
[1550,null,"→","",null,1550,null,"→",""]
[1551,null,"→","",null,1551,null,"→",""]
[1552,null,"→","",null,1552,null,"→",""]
[1553,null,"→","",null,1553,null,"→",""]
[1554,null,"→","",null,1554,null,"→",""]
[1555,null,"→","",null,1555,null,"→",""]
[1556,null,"→","",null,1556,null,"→",""]
[1557,null,"→","",null,1557,null,"→",""]
[1558,null,"→","",null,1558,null,"→",""]
[1559,null,"→","",null,1559,null,"→",""]
[1560,null,"→","",null,1560,null,"→",""]
[1561,null,"→","",null,1561,null,"→",""]
[1562,null,"→","",null,1562,null,"→",""]
[1563,null,"→","",null,1563,null,"→",""]
[1564,null,"→","",null,1564,null,"→",""]
[1565,null,"→","",null,1565,null,"→",""]
[1566,null,"→","",null,1566,null,"→",""]
[1567,null,"→","",null,1567,null,"→",""]
[1568,null,"→","",null,1568,null,"→",""]
[1569,null,"→","",null,1569,null,"→",""]
[1570,null,"→","",null,1570,null,"→",""]
[1571,null,"→","",null,1571,null,"→",""]
[1572,null,"→","",null,1572,null,"→",""]
[1573,null,"→","",null,1573,null,"→",""]
[1574,null,"→","",null,1574,null,"→",""]
[1575,null,"→","",null,1575,null,"→",""]
[1576,null,"→","",null,1576,null,"→",""]
[1577,null,"→","",null,1577,null,"→",""]
[1578,null,"→","",null,1578,null,"→",""]
[1579,null,"→","",null,1579,null,"→",""]
[1580,null,"→","",null,1580,null,"→",""]
[1581,null,"→","",null,1581,null,"→",""]
[1582,null,"→","",null,1582,null,"→",""]
[1583,null,"→","",null,1583,null,"→",""]
[1584,null,"→","",null,1584,null,"→",""]
[1585,null,"→","",null,1585,null,"→",""]
[1586,null,"→","",null,1586,null,"→",""]
[1587,null,"→","",null,1587,null,"→",""]
[1588,null,"→","",null,1588,null,"→",""]
[1589,null,"→","",null,1589,null,"→",""]
[1590,null,"→","",null,1590,null,"→",""]
[1591,null,"→","",null,1591,null,"→",""]
[1592,null,"→","",null,1592,null,"→",""]
[1593,null,"→","",null,1593,null,"→",""]
[1594,null,"→","",null,1594,null,"→",""]
[1595,null,"→","",null,1595,null,"→",""]
[1596,null,"→","",null,1596,null,"→",""]
[1597,null,"→","",null,1597,null,"→",""]
[1598,null,"→","",null,1598,null,"→",""]
[1599,null,"→","",null,1599,null,"→",""]
[1600,null,"→","",null,1600,null,"→",""]
[1601,null,"→","",null,1601,null,"→",""]
[{"$f":"ROW()-1","v":1602},null,"→",{"$f":"PHONETIC(B1603)","v":""},null,{"$f":"ROW()-1","v":1602},null,"→",{"$f":"PHONETIC(G1603)","v":""}]
[1603,null,"→","",null,1603,null,"→",""]
[1604,null,"→","",null,1604,null,"→",""]
[1605,null,"→","",null,1605,null,"→",""]
[1606,null,"→","",null,1606,null,"→",""]
[1607,null,"→","",null,1607,null,"→",""]
[1608,null,"→","",null,1608,null,"→",""]
[1609,null,"→","",null,1609,null,"→",""]
[1610,null,"→","",null,1610,null,"→",""]
[1611,null,"→","",null,1611,null,"→",""]
[1612,null,"→","",null,1612,null,"→",""]
[1613,null,"→","",null,1613,null,"→",""]
[1614,null,"→","",null,1614,null,"→",""]
[1615,null,"→","",null,1615,null,"→",""]
[1616,null,"→","",null,1616,null,"→",""]
[1617,null,"→","",null,1617,null,"→",""]
[1618,null,"→","",null,1618,null,"→",""]
[1619,null,"→","",null,1619,null,"→",""]
[1620,null,"→","",null,1620,null,"→",""]
[1621,null,"→","",null,1621,null,"→",""]
[1622,null,"→","",null,1622,null,"→",""]
[1623,null,"→","",null,1623,null,"→",""]
[1624,null,"→","",null,1624,null,"→",""]
[1625,null,"→","",null,1625,null,"→",""]
[1626,null,"→","",null,1626,null,"→",""]
[1627,null,"→","",null,1627,null,"→",""]
[1628,null,"→","",null,1628,null,"→",""]
[1629,null,"→","",null,1629,null,"→",""]
[1630,null,"→","",null,1630,null,"→",""]
[1631,null,"→","",null,1631,null,"→",""]
[1632,null,"→","",null,1632,null,"→",""]
[1633,null,"→","",null,1633,null,"→",""]
[1634,null,"→","",null,1634,null,"→",""]
[1635,null,"→","",null,1635,null,"→",""]
[1636,null,"→","",null,1636,null,"→",""]
[1637,null,"→","",null,1637,null,"→",""]
[1638,null,"→","",null,1638,null,"→",""]
[1639,null,"→","",null,1639,null,"→",""]
[1640,null,"→","",null,1640,null,"→",""]
[1641,null,"→","",null,1641,null,"→",""]
[1642,null,"→","",null,1642,null,"→",""]
[1643,null,"→","",null,1643,null,"→",""]
[1644,null,"→","",null,1644,null,"→",""]
[1645,null,"→","",null,1645,null,"→",""]
[1646,null,"→","",null,1646,null,"→",""]
[1647,null,"→","",null,1647,null,"→",""]
[1648,null,"→","",null,1648,null,"→",""]
[1649,null,"→","",null,1649,null,"→",""]
[1650,null,"→","",null,1650,null,"→",""]
[1651,null,"→","",null,1651,null,"→",""]
[1652,null,"→","",null,1652,null,"→",""]
[1653,null,"→","",null,1653,null,"→",""]
[1654,null,"→","",null,1654,null,"→",""]
[1655,null,"→","",null,1655,null,"→",""]
[1656,null,"→","",null,1656,null,"→",""]
[1657,null,"→","",null,1657,null,"→",""]
[1658,null,"→","",null,1658,null,"→",""]
[1659,null,"→","",null,1659,null,"→",""]
[1660,null,"→","",null,1660,null,"→",""]
[1661,null,"→","",null,1661,null,"→",""]
[1662,null,"→","",null,1662,null,"→",""]
[1663,null,"→","",null,1663,null,"→",""]
[1664,null,"→","",null,1664,null,"→",""]
[1665,null,"→","",null,1665,null,"→",""]
[{"$f":"ROW()-1","v":1666},null,"→",{"$f":"PHONETIC(B1667)","v":""},null,{"$f":"ROW()-1","v":1666},null,"→",{"$f":"PHONETIC(G1667)","v":""}]
[1667,null,"→","",null,1667,null,"→",""]
[1668,null,"→","",null,1668,null,"→",""]
[1669,null,"→","",null,1669,null,"→",""]
[1670,null,"→","",null,1670,null,"→",""]
[1671,null,"→","",null,1671,null,"→",""]
[1672,null,"→","",null,1672,null,"→",""]
[1673,null,"→","",null,1673,null,"→",""]
[1674,null,"→","",null,1674,null,"→",""]
[1675,null,"→","",null,1675,null,"→",""]
[1676,null,"→","",null,1676,null,"→",""]
[1677,null,"→","",null,1677,null,"→",""]
[1678,null,"→","",null,1678,null,"→",""]
[1679,null,"→","",null,1679,null,"→",""]
[1680,null,"→","",null,1680,null,"→",""]
[1681,null,"→","",null,1681,null,"→",""]
[1682,null,"→","",null,1682,null,"→",""]
[1683,null,"→","",null,1683,null,"→",""]
[1684,null,"→","",null,1684,null,"→",""]
[1685,null,"→","",null,1685,null,"→",""]
[1686,null,"→","",null,1686,null,"→",""]
[1687,null,"→","",null,1687,null,"→",""]
[1688,null,"→","",null,1688,null,"→",""]
[1689,null,"→","",null,1689,null,"→",""]
[1690,null,"→","",null,1690,null,"→",""]
[1691,null,"→","",null,1691,null,"→",""]
[1692,null,"→","",null,1692,null,"→",""]
[1693,null,"→","",null,1693,null,"→",""]
[1694,null,"→","",null,1694,null,"→",""]
[1695,null,"→","",null,1695,null,"→",""]
[1696,null,"→","",null,1696,null,"→",""]
[1697,null,"→","",null,1697,null,"→",""]
[1698,null,"→","",null,1698,null,"→",""]
[1699,null,"→","",null,1699,null,"→",""]
[1700,null,"→","",null,1700,null,"→",""]
[1701,null,"→","",null,1701,null,"→",""]
[1702,null,"→","",null,1702,null,"→",""]
[1703,null,"→","",null,1703,null,"→",""]
[1704,null,"→","",null,1704,null,"→",""]
[1705,null,"→","",null,1705,null,"→",""]
[1706,null,"→","",null,1706,null,"→",""]
[1707,null,"→","",null,1707,null,"→",""]
[1708,null,"→","",null,1708,null,"→",""]
[1709,null,"→","",null,1709,null,"→",""]
[1710,null,"→","",null,1710,null,"→",""]
[1711,null,"→","",null,1711,null,"→",""]
[1712,null,"→","",null,1712,null,"→",""]
[1713,null,"→","",null,1713,null,"→",""]
[1714,null,"→","",null,1714,null,"→",""]
[1715,null,"→","",null,1715,null,"→",""]
[1716,null,"→","",null,1716,null,"→",""]
[1717,null,"→","",null,1717,null,"→",""]
[1718,null,"→","",null,1718,null,"→",""]
[1719,null,"→","",null,1719,null,"→",""]
[1720,null,"→","",null,1720,null,"→",""]
[1721,null,"→","",null,1721,null,"→",""]
[1722,null,"→","",null,1722,null,"→",""]
[1723,null,"→","",null,1723,null,"→",""]
[1724,null,"→","",null,1724,null,"→",""]
[1725,null,"→","",null,1725,null,"→",""]
[1726,null,"→","",null,1726,null,"→",""]
[1727,null,"→","",null,1727,null,"→",""]
[1728,null,"→","",null,1728,null,"→",""]
[1729,null,"→","",null,1729,null,"→",""]
[{"$f":"ROW()-1","v":1730},null,"→",{"$f":"PHONETIC(B1731)","v":""},null,{"$f":"ROW()-1","v":1730},null,"→",{"$f":"PHONETIC(G1731)","v":""}]
[1731,null,"→","",null,1731,null,"→",""]
[1732,null,"→","",null,1732,null,"→",""]
[1733,null,"→","",null,1733,null,"→",""]
[1734,null,"→","",null,1734,null,"→",""]
[1735,null,"→","",null,1735,null,"→",""]
[1736,null,"→","",null,1736,null,"→",""]
[1737,null,"→","",null,1737,null,"→",""]
[1738,null,"→","",null,1738,null,"→",""]
[1739,null,"→","",null,1739,null,"→",""]
[1740,null,"→","",null,1740,null,"→",""]
[1741,null,"→","",null,1741,null,"→",""]
[1742,null,"→","",null,1742,null,"→",""]
[1743,null,"→","",null,1743,null,"→",""]
[1744,null,"→","",null,1744,null,"→",""]
[1745,null,"→","",null,1745,null,"→",""]
[1746,null,"→","",null,1746,null,"→",""]
[1747,null,"→","",null,1747,null,"→",""]
[1748,null,"→","",null,1748,null,"→",""]
[1749,null,"→","",null,1749,null,"→",""]
[1750,null,"→","",null,1750,null,"→",""]
[1751,null,"→","",null,1751,null,"→",""]
[1752,null,"→","",null,1752,null,"→",""]
[1753,null,"→","",null,1753,null,"→",""]
[1754,null,"→","",null,1754,null,"→",""]
[1755,null,"→","",null,1755,null,"→",""]
[1756,null,"→","",null,1756,null,"→",""]
[1757,null,"→","",null,1757,null,"→",""]
[1758,null,"→","",null,1758,null,"→",""]
[1759,null,"→","",null,1759,null,"→",""]
[1760,null,"→","",null,1760,null,"→",""]
[1761,null,"→","",null,1761,null,"→",""]
[1762,null,"→","",null,1762,null,"→",""]
[1763,null,"→","",null,1763,null,"→",""]
[1764,null,"→","",null,1764,null,"→",""]
[1765,null,"→","",null,1765,null,"→",""]
[1766,null,"→","",null,1766,null,"→",""]
[1767,null,"→","",null,1767,null,"→",""]
[1768,null,"→","",null,1768,null,"→",""]
[1769,null,"→","",null,1769,null,"→",""]
[1770,null,"→","",null,1770,null,"→",""]
[1771,null,"→","",null,1771,null,"→",""]
[1772,null,"→","",null,1772,null,"→",""]
[1773,null,"→","",null,1773,null,"→",""]
[1774,null,"→","",null,1774,null,"→",""]
[1775,null,"→","",null,1775,null,"→",""]
[1776,null,"→","",null,1776,null,"→",""]
[1777,null,"→","",null,1777,null,"→",""]
[1778,null,"→","",null,1778,null,"→",""]
[1779,null,"→","",null,1779,null,"→",""]
[1780,null,"→","",null,1780,null,"→",""]
[1781,null,"→","",null,1781,null,"→",""]
[1782,null,"→","",null,1782,null,"→",""]
[1783,null,"→","",null,1783,null,"→",""]
[1784,null,"→","",null,1784,null,"→",""]
[1785,null,"→","",null,1785,null,"→",""]
[1786,null,"→","",null,1786,null,"→",""]
[1787,null,"→","",null,1787,null,"→",""]
[1788,null,"→","",null,1788,null,"→",""]
[1789,null,"→","",null,1789,null,"→",""]
[1790,null,"→","",null,1790,null,"→",""]
[1791,null,"→","",null,1791,null,"→",""]
[1792,null,"→","",null,1792,null,"→",""]
[1793,null,"→","",null,1793,null,"→",""]
[{"$f":"ROW()-1","v":1794},null,"→",{"$f":"PHONETIC(B1795)","v":""},null,{"$f":"ROW()-1","v":1794},null,"→",{"$f":"PHONETIC(G1795)","v":""}]
[1795,null,"→","",null,1795,null,"→",""]
[1796,null,"→","",null,1796,null,"→",""]
[1797,null,"→","",null,1797,null,"→",""]
[1798,null,"→","",null,1798,null,"→",""]
[1799,null,"→","",null,1799,null,"→",""]
[1800,null,"→","",null,1800,null,"→",""]
[1801,null,"→","",null,1801,null,"→",""]
[1802,null,"→","",null,1802,null,"→",""]
[1803,null,"→","",null,1803,null,"→",""]
[1804,null,"→","",null,1804,null,"→",""]
[1805,null,"→","",null,1805,null,"→",""]
[1806,null,"→","",null,1806,null,"→",""]
[1807,null,"→","",null,1807,null,"→",""]
[1808,null,"→","",null,1808,null,"→",""]
[1809,null,"→","",null,1809,null,"→",""]
[1810,null,"→","",null,1810,null,"→",""]
[1811,null,"→","",null,1811,null,"→",""]
[1812,null,"→","",null,1812,null,"→",""]
[1813,null,"→","",null,1813,null,"→",""]
[1814,null,"→","",null,1814,null,"→",""]
[1815,null,"→","",null,1815,null,"→",""]
[1816,null,"→","",null,1816,null,"→",""]
[1817,null,"→","",null,1817,null,"→",""]
[1818,null,"→","",null,1818,null,"→",""]
[1819,null,"→","",null,1819,null,"→",""]
[1820,null,"→","",null,1820,null,"→",""]
[1821,null,"→","",null,1821,null,"→",""]
[1822,null,"→","",null,1822,null,"→",""]
[1823,null,"→","",null,1823,null,"→",""]
[1824,null,"→","",null,1824,null,"→",""]
[1825,null,"→","",null,1825,null,"→",""]
[1826,null,"→","",null,1826,null,"→",""]
[1827,null,"→","",null,1827,null,"→",""]
[1828,null,"→","",null,1828,null,"→",""]
[1829,null,"→","",null,1829,null,"→",""]
[1830,null,"→","",null,1830,null,"→",""]
[1831,null,"→","",null,1831,null,"→",""]
[1832,null,"→","",null,1832,null,"→",""]
[1833,null,"→","",null,1833,null,"→",""]
[1834,null,"→","",null,1834,null,"→",""]
[1835,null,"→","",null,1835,null,"→",""]
[1836,null,"→","",null,1836,null,"→",""]
[1837,null,"→","",null,1837,null,"→",""]
[1838,null,"→","",null,1838,null,"→",""]
[1839,null,"→","",null,1839,null,"→",""]
[1840,null,"→","",null,1840,null,"→",""]
[1841,null,"→","",null,1841,null,"→",""]
[1842,null,"→","",null,1842,null,"→",""]
[1843,null,"→","",null,1843,null,"→",""]
[1844,null,"→","",null,1844,null,"→",""]
[1845,null,"→","",null,1845,null,"→",""]
[1846,null,"→","",null,1846,null,"→",""]
[1847,null,"→","",null,1847,null,"→",""]
[1848,null,"→","",null,1848,null,"→",""]
[1849,null,"→","",null,1849,null,"→",""]
[1850,null,"→","",null,1850,null,"→",""]
[1851,null,"→","",null,1851,null,"→",""]
[1852,null,"→","",null,1852,null,"→",""]
[1853,null,"→","",null,1853,null,"→",""]
[1854,null,"→","",null,1854,null,"→",""]
[1855,null,"→","",null,1855,null,"→",""]
[1856,null,"→","",null,1856,null,"→",""]
[1857,null,"→","",null,1857,null,"→",""]
[{"$f":"ROW()-1","v":1858},null,"→",{"$f":"PHONETIC(B1859)","v":""},null,{"$f":"ROW()-1","v":1858},null,"→",{"$f":"PHONETIC(G1859)","v":""}]
[1859,null,"→","",null,1859,null,"→",""]
[1860,null,"→","",null,1860,null,"→",""]
[1861,null,"→","",null,1861,null,"→",""]
[1862,null,"→","",null,1862,null,"→",""]
[1863,null,"→","",null,1863,null,"→",""]
[1864,null,"→","",null,1864,null,"→",""]
[1865,null,"→","",null,1865,null,"→",""]
[1866,null,"→","",null,1866,null,"→",""]
[1867,null,"→","",null,1867,null,"→",""]
[1868,null,"→","",null,1868,null,"→",""]
[1869,null,"→","",null,1869,null,"→",""]
[1870,null,"→","",null,1870,null,"→",""]
[1871,null,"→","",null,1871,null,"→",""]
[1872,null,"→","",null,1872,null,"→",""]
[1873,null,"→","",null,1873,null,"→",""]
[1874,null,"→","",null,1874,null,"→",""]
[1875,null,"→","",null,1875,null,"→",""]
[1876,null,"→","",null,1876,null,"→",""]
[1877,null,"→","",null,1877,null,"→",""]
[1878,null,"→","",null,1878,null,"→",""]
[1879,null,"→","",null,1879,null,"→",""]
[1880,null,"→","",null,1880,null,"→",""]
[1881,null,"→","",null,1881,null,"→",""]
[1882,null,"→","",null,1882,null,"→",""]
[1883,null,"→","",null,1883,null,"→",""]
[1884,null,"→","",null,1884,null,"→",""]
[1885,null,"→","",null,1885,null,"→",""]
[1886,null,"→","",null,1886,null,"→",""]
[1887,null,"→","",null,1887,null,"→",""]
[1888,null,"→","",null,1888,null,"→",""]
[1889,null,"→","",null,1889,null,"→",""]
[1890,null,"→","",null,1890,null,"→",""]
[1891,null,"→","",null,1891,null,"→",""]
[1892,null,"→","",null,1892,null,"→",""]
[1893,null,"→","",null,1893,null,"→",""]
[1894,null,"→","",null,1894,null,"→",""]
[1895,null,"→","",null,1895,null,"→",""]
[1896,null,"→","",null,1896,null,"→",""]
[1897,null,"→","",null,1897,null,"→",""]
[1898,null,"→","",null,1898,null,"→",""]
[1899,null,"→","",null,1899,null,"→",""]
[1900,null,"→","",null,1900,null,"→",""]
[1901,null,"→","",null,1901,null,"→",""]
[1902,null,"→","",null,1902,null,"→",""]
[1903,null,"→","",null,1903,null,"→",""]
[1904,null,"→","",null,1904,null,"→",""]
[1905,null,"→","",null,1905,null,"→",""]
[1906,null,"→","",null,1906,null,"→",""]
[1907,null,"→","",null,1907,null,"→",""]
[1908,null,"→","",null,1908,null,"→",""]
[1909,null,"→","",null,1909,null,"→",""]
[1910,null,"→","",null,1910,null,"→",""]
[1911,null,"→","",null,1911,null,"→",""]
[1912,null,"→","",null,1912,null,"→",""]
[1913,null,"→","",null,1913,null,"→",""]
[1914,null,"→","",null,1914,null,"→",""]
[1915,null,"→","",null,1915,null,"→",""]
[1916,null,"→","",null,1916,null,"→",""]
[1917,null,"→","",null,1917,null,"→",""]
[1918,null,"→","",null,1918,null,"→",""]
[1919,null,"→","",null,1919,null,"→",""]
[1920,null,"→","",null,1920,null,"→",""]
[1921,null,"→","",null,1921,null,"→",""]
[{"$f":"ROW()-1","v":1922},null,"→",{"$f":"PHONETIC(B1923)","v":""},null,{"$f":"ROW()-1","v":1922},null,"→",{"$f":"PHONETIC(G1923)","v":""}]
[1923,null,"→","",null,1923,null,"→",""]
[1924,null,"→","",null,1924,null,"→",""]
[1925,null,"→","",null,1925,null,"→",""]
[1926,null,"→","",null,1926,null,"→",""]
[1927,null,"→","",null,1927,null,"→",""]
[1928,null,"→","",null,1928,null,"→",""]
[1929,null,"→","",null,1929,null,"→",""]
[1930,null,"→","",null,1930,null,"→",""]
[1931,null,"→","",null,1931,null,"→",""]
[1932,null,"→","",null,1932,null,"→",""]
[1933,null,"→","",null,1933,null,"→",""]
[1934,null,"→","",null,1934,null,"→",""]
[1935,null,"→","",null,1935,null,"→",""]
[1936,null,"→","",null,1936,null,"→",""]
[1937,null,"→","",null,1937,null,"→",""]
[1938,null,"→","",null,1938,null,"→",""]
[1939,null,"→","",null,1939,null,"→",""]
[1940,null,"→","",null,1940,null,"→",""]
[1941,null,"→","",null,1941,null,"→",""]
[1942,null,"→","",null,1942,null,"→",""]
[1943,null,"→","",null,1943,null,"→",""]
[1944,null,"→","",null,1944,null,"→",""]
[1945,null,"→","",null,1945,null,"→",""]
[1946,null,"→","",null,1946,null,"→",""]
[1947,null,"→","",null,1947,null,"→",""]
[1948,null,"→","",null,1948,null,"→",""]
[1949,null,"→","",null,1949,null,"→",""]
[1950,null,"→","",null,1950,null,"→",""]
[1951,null,"→","",null,1951,null,"→",""]
[1952,null,"→","",null,1952,null,"→",""]
[1953,null,"→","",null,1953,null,"→",""]
[1954,null,"→","",null,1954,null,"→",""]
[1955,null,"→","",null,1955,null,"→",""]
[1956,null,"→","",null,1956,null,"→",""]
[1957,null,"→","",null,1957,null,"→",""]
[1958,null,"→","",null,1958,null,"→",""]
[1959,null,"→","",null,1959,null,"→",""]
[1960,null,"→","",null,1960,null,"→",""]
[1961,null,"→","",null,1961,null,"→",""]
[1962,null,"→","",null,1962,null,"→",""]
[1963,null,"→","",null,1963,null,"→",""]
[1964,null,"→","",null,1964,null,"→",""]
[1965,null,"→","",null,1965,null,"→",""]
[1966,null,"→","",null,1966,null,"→",""]
[1967,null,"→","",null,1967,null,"→",""]
[1968,null,"→","",null,1968,null,"→",""]
[1969,null,"→","",null,1969,null,"→",""]
[1970,null,"→","",null,1970,null,"→",""]
[1971,null,"→","",null,1971,null,"→",""]
[1972,null,"→","",null,1972,null,"→",""]
[1973,null,"→","",null,1973,null,"→",""]
[1974,null,"→","",null,1974,null,"→",""]
[1975,null,"→","",null,1975,null,"→",""]
[1976,null,"→","",null,1976,null,"→",""]
[1977,null,"→","",null,1977,null,"→",""]
[1978,null,"→","",null,1978,null,"→",""]
[1979,null,"→","",null,1979,null,"→",""]
[1980,null,"→","",null,1980,null,"→",""]
[1981,null,"→","",null,1981,null,"→",""]
[1982,null,"→","",null,1982,null,"→",""]
[1983,null,"→","",null,1983,null,"→",""]
[1984,null,"→","",null,1984,null,"→",""]
[1985,null,"→","",null,1985,null,"→",""]
[{"$f":"ROW()-1","v":1986},null,"→",{"$f":"PHONETIC(B1987)","v":""},null,{"$f":"ROW()-1","v":1986},null,"→",{"$f":"PHONETIC(G1987)","v":""}]
[1987,null,"→","",null,1987,null,"→",""]
[1988,null,"→","",null,1988,null,"→",""]
[1989,null,"→","",null,1989,null,"→",""]
[1990,null,"→","",null,1990,null,"→",""]
[1991,null,"→","",null,1991,null,"→",""]
[1992,null,"→","",null,1992,null,"→",""]
[1993,null,"→","",null,1993,null,"→",""]
[1994,null,"→","",null,1994,null,"→",""]
[1995,null,"→","",null,1995,null,"→",""]
[1996,null,"→","",null,1996,null,"→",""]
[1997,null,"→","",null,1997,null,"→",""]
[1998,null,"→","",null,1998,null,"→",""]
[1999,null,"→","",null,1999,null,"→",""]
[2000,null,"→","",null,2000,null,"→",""]

{"sheet":"改訂履歴","index":40,"n_rows":31,"n_cols":5,"rows_kept":31,"cut":false,"hidden":false,"merged":[]}
["整理","版数","月日","内容","備考"]
[1,1,"2019-03-14","新規制定","田嶋　直人"]
[2,1,"2019-04-18","登録ボタン・修正ボタン追加およびファイルOpen、Close時の設定追加","千枝　由佳"]
[3,2,"2019-06-03","全面改訂","田嶋、千枝"]
[4,3,"2020-05-18","レイアウト変更に伴う修正、表示年齢を検診日年齢に変更、精密検査（骨粗鬆症検診）を追加","千枝　由佳"]
[5,3.1,"2022-05-01","レイアウト調整","鈴木　綾香"]
[6,3.2,"2022-05-24","関数を調整","千枝　由佳"]
[7]
[8]
[9]
[10]
[11]
[12]
[13]
[14]
[15]
[16]
[17]
[18]
[19]
[20]
[21]
[22]
[23]
[24]
[25]
[26]
[27]
[28]
[29]
[30]